{"text_format":"1","workbook":"xlsx","n_sheets":32,"sheets":["Welcome","INFO","Setup File and Task Panel","Memory","Check Parameter Mapping","Calculating parameters","Pandemic","Earthquake","Drought","Flood","Storm","Fix Sector Parameter","GDP (P)","GDP (E)","Other Macro","REVENUE","EXPENDITURE","DEBT","FISCAL","Labels","Model Adjustment By Sector","What-If Table","   -- RESULTS --   ","Results - Sector By Sector","Policy Responses","Qt","PF - monthly estimates","PF - annual estimates","index_containmenthealth","Production Function --->","Instructions","Annex - conceptual framework"],"not_rendered":{"charts":21,"images":12,"macros":1,"external_links":0,"defined_names":114,"comments":0,"pivot_tables":0},"unopened":[],"bounds":{"document_bytes":16777216,"sheet_cells":100000,"rows_first":2000,"rows_last":500,"rows_between":2000,"halvings":0,"cell_chars":16384,"cell_head_chars":4096},"cells_cut":0,"cells_raw":0,"read":"whole","date_system":"1900"}

{"sheet":"Welcome","index":0,"n_rows":5,"n_cols":9,"rows_kept":5,"cut":false,"hidden":false,"merged":[]}
["English",null,null,null,"COVID-19\nStress Test","Helps users build scenarios to assess the impact of COVID-19 on the economy and the budget. The analysis helps policymakers understand the macro-fiscal implications of the pandemic and different policy response measures.","Get Started","User guide","IMF Fiscal risk management portal"]
["Français",null,null,null,"COVID-19\nStress Test","Helps users build scenarios to assess the impact of COVID-19 on the economy and the budget. The analysis helps policymakers understand the macro-fiscal implications of the pandemic and different policy response measures.","Comenzar","User guide","IMF Fiscal risk management portal"]
["Español",null,null,null,"COVID-19\nStress Test","Helps users build scenarios to assess the impact of COVID-19 on the economy and the budget. The analysis helps policymakers understand the macro-fiscal implications of the pandemic and different policy response measures.","Get Started","User guide","IMF Fiscal risk management portal"]
["Português",null,null,null,"COVID-19\nStress Test","Helps users build scenarios to assess the impact of COVID-19 on the economy and the budget. The analysis helps policymakers understand the macro-fiscal implications of the pandemic and different policy response measures.","Get Started","User guide","IMF Fiscal risk management portal"]
["Русский",null,null,null,"COVID-19\nStress Test","Helps users build scenarios to assess the impact of COVID-19 on the economy and the budget. The analysis helps policymakers understand the macro-fiscal implications of the pandemic and different policy response measures.","Get Started","User guide","IMF Fiscal risk management portal"]

{"sheet":"INFO","index":1,"n_rows":35,"n_cols":3,"rows_kept":35,"cut":false,"hidden":false,"merged":[]}
["Made and tested by: Bryn Battersby, Natalia Salazar, Vince Tang, Sybi Hida, David Bartolini, Camilo Gomez Osorio, Matt Quillinan, Jyoti Rahman, Bryn Welham"]
["Under the guidance of: Richard Hughes and Jason Harris"]
[]
["Language selection",null,"English"]
[]
[]
[]
[]
[]
["Primary contact: Bryn Battersby, bbattersby@imf.org"]
[]
["Last updated"]
["2021-11-03"]
["by Bryn"]
[]
["Changes"]
["Fixed Labels on parameter modelling page"]
["Adjusted disaster parameters"]
["White text for Resuts by Sector constrained by supply side"]
["Fixed disaster names to allow different languages"]
["First year of data drop down all years now there, and this should fix first years in other sheets"]
["Fixed bolding on GDP(E)"]
["GDP(E) Sheet first column was being displayed, should now be fixed"]
["Labelling on the Model Adjustment By Sector Fixed"]
["Changed non-pandemic to be out of 10 in the sliders"]
[]
[]
[{"$f":"Labels!F273","v":"Colour codes"}]
[{"$f":"Labels!F268","v":"Red = links"}]
[{"$f":"Labels!F269","v":"Black = calculations"}]
[{"$f":"Labels!F270","v":"Blue = hard-coded numbers"}]
[{"$f":"Labels!F271","v":"Model values"}]
[{"$f":"Labels!F272","v":"User entry values"}]
[]
[{"$f":"Labels!F274","v":"PLEASE ENABLE MACROS"}]

{"sheet":"Setup File and Task Panel","index":2,"n_rows":32,"n_cols":13,"rows_kept":32,"cut":false,"hidden":false,"merged":[[14,5,14,7]]}
[null,null,{"$f":"Labels!F2","v":"Setup the Framework…"}]
[]
[null,null,{"$f":"Labels!F3","v":"1. Country"},null,null,{"$f":"Labels!F6","v":"5. Production Function Variables"}]
[null,null,"Macrofiscalia",null,null,{"$f":"Labels!F7","v":"Long-run GDP growth"},null,7.8]
[null,null,null,null,null,{"$f":"Labels!F8","v":"Long-run employment growth rate"},null,3.47,"PWT"]
[null,null,{"$f":"Labels!F4","v":"2. First year of data"},null,null,{"$f":"Labels!F9","v":"Investment to GDP ratio"},null,14.24,"WDI",null,null,2013,{"$f":"Labels!F298","v":"Pandemic"}]
[null,null,2013,null,null,{"$f":"Labels!F10","v":"Capital share in output"},null,44.9,"PWT",null,null,2014,{"$f":"Labels!F299","v":"Earthquake"}]
[null,null,null,null,null,{"$f":"Labels!F11","v":"Capital-output ratio"},null,4.03,"PWT",null,null,2015,{"$f":"Labels!F300","v":"Flood"}]
[null,null,"3. Type of Shock",null,null,null,null,null,null,null,null,2016,{"$f":"Labels!F301","v":"Storm"}]
[null,null,"Pandemic",null,null,null,null,null,null,null,null,2017,{"$f":"Labels!F302","v":"Drought"}]
[null,null,null,null,null,null,null,null,null,null,null,2018]
[null,null,{"$f":"Labels!F5","v":"4. National Accounts Sectors"},null,null,null,null,null,null,null,null,2019]
[null,null,"Agriculture, forestry, and fishing",null,null,null,null,null,null,null,null,2020]
[null,null,"Mining & quarrying",null,null,null,null,null,null,null,null,2021]
[null,null,"Manufacturing",null,null,{"$f":"Labels!F12","v":"6. Data Entry and Verification Tasks"},null,null,{"$f":"SUM(H16:H32)","v":882}]
[null,null,"Electricity",null,null,null,{"$f":"Labels!F13","v":"Mapping of GDP (P) parameters"},{"$f":"COUNTBLANK('Check Parameter Mapping'!G30:I49)","v":3}]
[null,null,"Water & waste management"]
[null,null,"Construction",null,null,null,{"$f":"Labels!F14","v":"GDP (P) Data"},{"$f":"COUNTBLANK('GDP (P)'!F9:N28) + COUNTBLANK('GDP (P)'!F33:N52)","v":360}]
[null,null,"Maintenance and repair of motor vehicles"]
[null,null,"Wholesale & retail trade",null,null,null,{"$f":"Labels!F15","v":"GDP (E) Data"},{"$f":"COUNTBLANK('GDP (E)'!F4:N5) + COUNTBLANK('GDP (E)'!F7:N10) + COUNTBLANK('GDP (E)'!F12:N13) + COUNTBLANK('GDP (E)'!F27:N28) + COUNTBLANK('GDP (E)'!F30:N33)","v":126}]
[null,null,"Transport services"]
[null,null,"Hotels & restaurants",null,null,null,{"$f":"Labels!F16","v":"GDP (E) Mapping"},{"$f":"IF(OR('GDP (E)'!C80<>1,'GDP (E)'!D80<>1,'GDP (E)'!E80<>1),1,0)","v":1}]
[null,null,"Information & communication"]
[null,null,"Financial services",null,null,null,{"$f":"Labels!F17","v":"Other Macro"},{"$f":"COUNTBLANK('Other Macro'!F4:O7) + COUNTBLANK('Other Macro'!P5:R7)","v":49}]
[null,null,"Real estate activities"]
[null,null,"Professional, scientific and technical activities",null,null,null,{"$f":"Labels!F18","v":"Revenue data"},{"$f":"COUNTBLANK(REVENUE!O12:R14)+COUNTBLANK(REVENUE!F23:N27)+COUNTBLANK(REVENUE!F29:N30)+COUNTBLANK(REVENUE!F32:N34)+COUNTBLANK(REVENUE!F36:N39)+COUNTBLANK(REVENUE!O39:R39)","v":142}]
[null,null,"Administrative and support service activities"]
[null,null,"Public administration and defence; compulsory social security",null,null,null,{"$f":"Labels!F19","v":"Grants forecast"},{"$f":"COUNTBLANK(REVENUE!O39:R39)","v":4}]
[null,null,"Education"]
[null,null,"Human health and social work activities",null,null,null,{"$f":"Labels!F20","v":"Expenditure data"},{"$f":"COUNTBLANK(EXPENDITURE!F31:R42)+COUNTBLANK(EXPENDITURE!F44:R44)","v":169}]
[null,null,"Cultural, domestic & other services"]
[null,null,"Taxes less subsidies on products",null,null,null,{"$f":"Labels!F21","v":"Debt data"},{"$f":"COUNTBLANK(DEBT!F7:N8) + COUNTBLANK(DEBT!O14:R15) + COUNTBLANK(DEBT!O21:O22)","v":28}]

{"sheet":"Memory","index":3,"n_rows":103,"n_cols":14,"rows_kept":103,"cut":false,"hidden":true,"merged":[]}
["index_containmenthealth!_FilterDatabase"]
["PF - monthly estimates'!_GoBack"]
["_xlfn.IFERROR"]
["BaseRevGDP"]
["BaseRevNonTax"]
["BaseRevNonTaxGDP"]
["BaseRevTax"]
["BaseRevTaxGDP"]
["BaseRevTot"]
["CON"]
["CONS"]
["CONSZ"]
["CONZ"]
["Debt"]
["DebtGDP"]
["domestic"]
["domesticExp"]
["EXP"]
["Expenditure"]
["ExpenditureGDP"]
["Expense"]
["ExpenseGDP"]
["foreign"]
["foreignExp"]
["GDE"]
["GDEZ"]
["GDP",null,null,null,null,null,null,null,null,null,null,28281.623932084123,28196.476683323028,30307.807669608213]
["GDPCHART",null,null,null,null,null,null,null,null,null,null,132169.75639842582,135463.60712686423,140609.98044784158]
["GDPD",null,null,null,null,null,null,null,null,null,null,119739.8190435095,121686.85697407879,143628.88223280644]
["GDPZ",null,null,null,null,null,null,null,null,null,null,113331.09791175644,116011.43759295838,136849.93792394019]
["GDPZD",null,null,null,null,null,null,null,null,null,null,10781.774300921092,25196.061673719578,28376.478183994604]
["IMP",null,null,null,null,null,null,null,null,null,null,102549.32361083534,90815.375919238795,108473.4597399456]
["IntRev",null,null,null,null,null,null,null,null,null,null,6408.7211317530655,5675.4193811204141,6778.944308866242]
["INV",null,null,null,null,null,null,null,null,null,null,280191.19937401946,285346.94078426604,314546.67035025626]
["INVZ",null,null,null,null,null,null,null,null,null,null,92023.301272427881,111283.89645411,142796.92580651815]
["NANA",null,null,null,null,null,null,null,null,null,null,96230.884570880327,111005.77183507144,152453.60526733843]
["NANAGDP",null,null,null,null,null,null,null,null,null,null,275983.61607556703,285625.06540330459,304889.99088943598]
["NewParam"]
["NLB"]
["NLBGDP"]
["Param0"]
["Param1"]
["Param10"]
["Param11"]
["Param12"]
["Param13"]
["Param14"]
["Param15"]
["Param16"]
["Param17"]
["Param2"]
["Param3"]
["Param4"]
["Param5"]
["Param6"]
["Param7"]
["Param8"]
["Param9"]
["ParamOrig"]
["PFGDP"]
["RevNonTax"]
["RevNonTaxGDP"]
["RevTax"]
["RevTaxGDP"]
["RevTotal"]
["RevTotGDP"]
["RNU"]
["RParam0"]
["RParam1"]
["RParam10"]
["RParam11"]
["RParam12"]
["Rparam13"]
["RParam14"]
["RParam15"]
["RParam16"]
["RParam17"]
["RParam2"]
["RParam3"]
["RParam4"]
["RParam5"]
["RParam6"]
["RParam7"]
["RParam8"]
["RParam9"]
["TRENDGDP"]
["ZCONS"]
["ZINV"]
["BaseDebt"]
["BaseDebtGDP"]
["BaseExpenditure"]
["BaseExpenditureGDP"]
["BaseNANA"]
["BaseInterest"]
["BaseNLB"]
["BaseNLBGDP"]
["BaseExpense"]
["BaseExpenseGDP"]
["BaseIntRev"]
["BaseNANAGDP"]
["TRENDGDPZ"]
["Param18"]
["RParam18"]

{"sheet":"Check Parameter Mapping","index":4,"n_rows":49,"n_cols":15,"rows_kept":49,"cut":false,"hidden":false,"merged":[]}
[]
[]
[null,null,null,null,null,null,2021,2022,2023]
[null,{"$f":"Labels!F22","v":"Parameters from the original model"},null,null,null,null,{"$f":"'Calculating parameters'!D307","v":"Year 0"},{"$f":"'Calculating parameters'!E307","v":"Year 1"},{"$f":"'Calculating parameters'!F307","v":"Year 2"}]
[null,{"$f":"Labels!F23","v":"None"}]
[null,{"$f":"Labels!F24","v":"Agriculture and forestry"},null,null,null,null,{"$f":"'Calculating parameters'!D309","v":1},{"$f":"'Calculating parameters'!E309","v":1},{"$f":"'Calculating parameters'!F309","v":1},null,{"$f":"\"Param\"&ROW()-6","v":"Param0"}]
[null,{"$f":"Labels!F25","v":"Fishing and fish processing on board"},null,null,null,null,{"$f":"'Calculating parameters'!D310","v":0.93700000000000017},{"$f":"'Calculating parameters'!E310","v":1},{"$f":"'Calculating parameters'!F310","v":1},null,{"$f":"\"Param\"&ROW()-6","v":"Param1"}]
[null,{"$f":"Labels!F26","v":"Mining and quarrying"},null,null,null,null,{"$f":"'Calculating parameters'!D311","v":0.93999999999999984},{"$f":"'Calculating parameters'!E311","v":1},{"$f":"'Calculating parameters'!F311","v":1},null,"Param2"]
[null,{"$f":"Labels!F27","v":"Manufacturing"},null,null,null,null,{"$f":"'Calculating parameters'!D312","v":0.81000000000000016},{"$f":"'Calculating parameters'!E312","v":1},{"$f":"'Calculating parameters'!F312","v":1},null,"Param3"]
[null,{"$f":"Labels!F28","v":"Electricity and water"},null,null,null,null,{"$f":"'Calculating parameters'!D313","v":0.95499999999999985},{"$f":"'Calculating parameters'!E313","v":1},{"$f":"'Calculating parameters'!F313","v":1},null,"Param4"]
[null,{"$f":"Labels!F29","v":"Construction"},null,null,null,null,{"$f":"'Calculating parameters'!D314","v":0.85},{"$f":"'Calculating parameters'!E314","v":0.9},{"$f":"'Calculating parameters'!F314","v":1},null,"Param5"]
[null,{"$f":"Labels!F30","v":"Wholesale and retail trade, repairs"},null,null,null,null,{"$f":"'Calculating parameters'!D315","v":0.97270090191130754},{"$f":"'Calculating parameters'!E315","v":0.98635045095565377},{"$f":"'Calculating parameters'!F315","v":1},null,"Param6"]
[null,{"$f":"Labels!F31","v":"Hotels and restaurants"},null,null,null,null,{"$f":"'Calculating parameters'!D316","v":0.85},{"$f":"'Calculating parameters'!E316","v":0.95},{"$f":"'Calculating parameters'!F316","v":1},null,"Param7"]
[null,{"$f":"Labels!F32","v":"Transport"},null,null,null,null,{"$f":"'Calculating parameters'!D317","v":0.85},{"$f":"'Calculating parameters'!E317","v":0.95},{"$f":"'Calculating parameters'!F317","v":1},null,"Param8"]
[null,{"$f":"Labels!F33","v":"Communication"},null,null,null,null,{"$f":"'Calculating parameters'!D318","v":0.85},{"$f":"'Calculating parameters'!E318","v":0.95},{"$f":"'Calculating parameters'!F318","v":1},null,"Param9"]
[null,{"$f":"Labels!F34","v":"Financial intermediation"},null,null,null,null,{"$f":"'Calculating parameters'!D319","v":0.85},{"$f":"'Calculating parameters'!E319","v":0.95},{"$f":"'Calculating parameters'!F319","v":1},null,"Param10"]
[null,{"$f":"Labels!F35","v":"Real estate and business services"},null,null,null,null,{"$f":"'Calculating parameters'!D320","v":0.98},{"$f":"'Calculating parameters'!E320","v":1},{"$f":"'Calculating parameters'!F320","v":1},null,"Param11"]
[null,{"$f":"Labels!F36","v":"Community, social and personal service activities"},null,null,null,null,{"$f":"'Calculating parameters'!D321","v":0.9},{"$f":"'Calculating parameters'!E321","v":1},{"$f":"'Calculating parameters'!F321","v":1},null,"Param12"]
[null,{"$f":"Labels!F37","v":"Public administration and defence"},null,null,null,null,{"$f":"'Calculating parameters'!D322","v":0.93750000000000011},{"$f":"'Calculating parameters'!E322","v":1},{"$f":"'Calculating parameters'!F322","v":1},null,"Param13"]
[null,{"$f":"Labels!F38","v":"Education"},null,null,null,null,{"$f":"'Calculating parameters'!D323","v":1},{"$f":"'Calculating parameters'!E323","v":1},{"$f":"'Calculating parameters'!F323","v":1},null,"Param14"]
[null,{"$f":"Labels!F39","v":"Health"},null,null,null,null,{"$f":"'Calculating parameters'!D324","v":1.3},{"$f":"'Calculating parameters'!E324","v":1.1000000000000001},{"$f":"'Calculating parameters'!F324","v":1},null,"Param15"]
[null,{"$f":"Labels!F40","v":"Private household with employed persons"},null,null,null,null,{"$f":"'Calculating parameters'!D325","v":0.9},{"$f":"'Calculating parameters'!E325","v":1},{"$f":"'Calculating parameters'!F325","v":1},null,"Param16"]
[null,{"$f":"Labels!F41","v":"Financial intermediation services indirectly measured"},null,null,null,null,{"$f":"'Calculating parameters'!D326","v":1},{"$f":"'Calculating parameters'!E326","v":1},{"$f":"'Calculating parameters'!F326","v":1},null,"Param17"]
[null,{"$f":"Labels!F42","v":"Less subsidies on products"},null,null,null,null,{"$f":"'Calculating parameters'!D327","v":1},{"$f":"'Calculating parameters'!E327","v":1},{"$f":"'Calculating parameters'!F327","v":1},null,"Param18"]
[]
[]
[]
[]
[null,{"$f":"Labels!F43&'Setup File and Task Panel'!C4&Labels!F44","v":"Parameters Mapped to: Macrofiscalia- Ensure these are checked before running"}]
[null,"Agriculture, forestry, and fishing",null,null,null,null,{"$f":"G6","v":1},{"$f":"H6","v":1},1,null,null,"STRINGENCY"]
[null,"Mining & quarrying",null,null,null,null,{"$f":"G8","v":0.93999999999999984},{"$f":"H8","v":1},1,null,null,{"$f":"Labels!F47","v":"Index=15"},null,null,{"$f":"Labels!F48","v":"Index=100"}]
[null,"Manufacturing",null,null,null,null,{"$f":"G9","v":0.81000000000000016},{"$f":"H9","v":1},1]
[null,"Electricity",null,null,null,null,{"$f":"G10","v":0.95499999999999985},{"$f":"H10","v":1},1]
[null,"Water & waste management",null,null,null,null,{"$f":"G10","v":0.95499999999999985},{"$f":"H10","v":1},1,null,null,null,null,null,{"$f":"'   -- RESULTS --   '!N7","v":15}]
[null,"Construction",null,null,null,null,{"$f":"G11","v":0.85},{"$f":"H11","v":0.9},1,null,null,"LENGTH"]
[null,"Maintenance and repair of motor vehicles",null,null,null,null,null,null,null,null,null,{"$f":"Labels!F47","v":"Index=15"},null,null,{"$f":"Labels!F48","v":"Index=100"}]
[null,"Wholesale & retail trade",null,null,null,null,{"$f":"G12","v":0.97270090191130754},{"$f":"H12","v":0.98635045095565377},1]
[null,"Transport services",null,null,null,null,{"$f":"G14","v":0.85},{"$f":"H14","v":0.95},1]
[null,"Hotels & restaurants",null,null,null,null,{"$f":"G13","v":0.85},{"$f":"H13","v":0.95},1,null,null,null,null,null,{"$f":"'   -- RESULTS --   '!N12","v":3}]
[null,"Information & communication",null,null,null,null,{"$f":"G15","v":0.85},{"$f":"H15","v":0.95},1]
[null,"Financial services",null,null,null,null,{"$f":"G16","v":0.85},{"$f":"H16","v":0.95},1]
[null,"Real estate activities",null,null,null,null,{"$f":"G17","v":0.98},{"$f":"H17","v":1},1]
[null,"Professional, scientific and technical activities",null,null,null,null,{"$f":"G18","v":0.9},{"$f":"H18","v":1},1]
[null,"Administrative and support service activities",null,null,null,null,{"$f":"G18","v":0.9},{"$f":"H18","v":1},1]
[null,"Public administration and defence; compulsory social security",null,null,null,null,{"$f":"G19","v":0.93750000000000011},{"$f":"H19","v":1},1]
[null,"Education",null,null,null,null,{"$f":"G20","v":1},{"$f":"H20","v":1},1]
[null,"Human health and social work activities",null,null,null,null,{"$f":"G21","v":1.3},{"$f":"H21","v":1.1000000000000001},1]
[null,"Cultural, domestic & other services",null,null,null,null,{"$f":"G17","v":0.98},{"$f":"H17","v":1},1]
[null,"Taxes less subsidies on products",null,null,null,null,{"$f":"G24","v":1},{"$f":"H24","v":1},1]

{"sheet":"Calculating parameters","index":5,"n_rows":355,"n_cols":25,"rows_kept":355,"cut":false,"hidden":true,"merged":[]}
["These values can be adjusted in the \"Reviewing Parameters\" Sheet. This sheet will be hidden when used in-country",null,null,null,null,null,null,null,null,"Severity->"]
["light","3 month",0,1,2,null,null,"6 month",0,1,2,null,null,"12 month",0,1,2,null,"Preparedness","Severity"]
[0,{"$f":"Labels!F24","v":"Agriculture and forestry"},1,1,1,null,null,{"$f":"Labels!F24","v":"Agriculture and forestry"},0.97,1,1,null,null,{"$f":"Labels!F24","v":"Agriculture and forestry"},0.91,0.94640000000000002,0.98425600000000002,null,"Stringency","Length"]
[1,{"$f":"Labels!F25","v":"Fishing and fish processing on board"},0.93700000000000006,1,1,null,null,{"$f":"Labels!F25","v":"Fishing and fish processing on board"},0.874,0.90895999999999999,0.97,null,null,{"$f":"Labels!F25","v":"Fishing and fish processing on board"},0.81099999999999994,0.84343999999999997,0.8771776,null,0,0]
[2,{"$f":"Labels!F26","v":"Mining and quarrying"},0.94,1,1,null,null,{"$f":"Labels!F26","v":"Mining and quarrying"},0.8,0.97,1,null,null,{"$f":"Labels!F26","v":"Mining and quarrying"},0.7,0.8,0.94]
[3,{"$f":"Labels!F27","v":"Manufacturing"},0.81,1,1,null,null,{"$f":"Labels!F27","v":"Manufacturing"},0.69,0.95,1,null,null,{"$f":"Labels!F27","v":"Manufacturing"},0.56000000000000005,0.67,0.95]
[4,{"$f":"Labels!F28","v":"Electricity and water"},0.95499999999999996,1,1,null,null,{"$f":"Labels!F28","v":"Electricity and water"},0.91,0.94640000000000002,0.97,null,null,{"$f":"Labels!F28","v":"Electricity and water"},0.82000000000000006,0.85280000000000011,0.88691200000000014]
[5,{"$f":"Labels!F29","v":"Construction"},0.85,0.9,1,null,null,{"$f":"Labels!F29","v":"Construction"},0.8,0.87,0.96,null,null,{"$f":"Labels!F29","v":"Construction"},0.75,0.85,0.95]
[6,{"$f":"Labels!F30","v":"Wholesale and retail trade, repairs"},0.97270090191130743,0.98635045095565377,1,null,null,{"$f":"Labels!F30","v":"Wholesale and retail trade, repairs"},0.94540180382261485,0.97270090191130743,1,null,null,{"$f":"Labels!F30","v":"Wholesale and retail trade, repairs"},0.89080360764522981,0.94540180382261485,1]
[7,{"$f":"Labels!F31","v":"Hotels and restaurants"},0.85,0.95,1,null,null,{"$f":"Labels!F31","v":"Hotels and restaurants"},0.65,0.9,1,null,null,{"$f":"Labels!F31","v":"Hotels and restaurants"},0.5,0.85,0.99]
[8,{"$f":"Labels!F32","v":"Transport"},0.85,0.95,1,null,null,{"$f":"Labels!F32","v":"Transport"},0.75,0.8,0.97,null,null,{"$f":"Labels!F32","v":"Transport"},0.6,0.7,0.95]
[9,{"$f":"Labels!F33","v":"Communication"},0.85,0.95,1,null,null,{"$f":"Labels!F33","v":"Communication"},0.75,0.8,0.97,null,null,{"$f":"Labels!F33","v":"Communication"},0.65,0.7,0.95]
[10,{"$f":"Labels!F34","v":"Financial intermediation"},0.85,0.95,1,null,null,{"$f":"Labels!F34","v":"Financial intermediation"},0.8,0.9,1,null,null,{"$f":"Labels!F34","v":"Financial intermediation"},0.7,0.85,1]
[11,{"$f":"Labels!F35","v":"Real estate and business services"},0.98,1,1,null,null,{"$f":"Labels!F35","v":"Real estate and business services"},0.95,1,1,null,null,{"$f":"Labels!F35","v":"Real estate and business services"},0.9,0.97,1]
[12,{"$f":"Labels!F36","v":"Community, social and personal service activities"},0.9,1,1,null,null,{"$f":"Labels!F36","v":"Community, social and personal service activities"},0.85,0.9,1,null,null,{"$f":"Labels!F36","v":"Community, social and personal service activities"},0.75,0.85,1]
[13,{"$f":"Labels!F37","v":"Public administration and defence"},0.93750000000000011,1,1,null,null,{"$f":"Labels!F37","v":"Public administration and defence"},0.91346153846153866,0.98653846153846148,1,null,null,{"$f":"Labels!F37","v":"Public administration and defence"},0.91346153846153866,0.98653846153846148,1]
[14,{"$f":"Labels!F38","v":"Education"},1,1,1,null,null,"Wholesale and retail trade, repairs",1,1,1,null,null,{"$f":"Labels!F38","v":"Education"},1,1,1]
[15,{"$f":"Labels!F39","v":"Health"},1.3,1.1000000000000001,1,null,null,"Hotels and restaurants",1.5,1.3,1.1000000000000001,null,null,{"$f":"Labels!F39","v":"Health"},1.4,1.2,1.1000000000000001]
[16,{"$f":"Labels!F40","v":"Private household with employed persons"},0.9,1,1,null,null,"Transport",0.7,0.95,1,null,null,{"$f":"Labels!F40","v":"Private household with employed persons"},0.6,0.9,1]
[17,{"$f":"Labels!F41","v":"Financial intermediation services indirectly measured"},1,1,1,null,null,{"$f":"Labels!F41","v":"Financial intermediation services indirectly measured"},1,1,1,null,null,{"$f":"Labels!F41","v":"Financial intermediation services indirectly measured"},1,1,1]
[18,{"$f":"Labels!F42","v":"Less subsidies on products"},1,1,1,null,null,{"$f":"Labels!F42","v":"Less subsidies on products"},1,1,1,null,null,{"$f":"Labels!F42","v":"Less subsidies on products"},1,1,1]
[]
[]
[]
["Medium",null,null,null,null,null,null,null,0,1,2]
[0,{"$f":"Labels!F24","v":"Agriculture and forestry"},0.97,1,1,null,null,{"$f":"Labels!F24","v":"Agriculture and forestry"},0.94,0.97760000000000002,1,null,null,{"$f":"Labels!F24","v":"Agriculture and forestry"},0.82000000000000006,0.86920000000000008,0.92135200000000017]
[1,{"$f":"Labels!F25","v":"Fishing and fish processing on board"},0.90549999999999997,0.94172,1,null,null,{"$f":"Labels!F25","v":"Fishing and fish processing on board"},0.81099999999999994,0.84343999999999997,0.8771776,null,null,{"$f":"Labels!F25","v":"Fishing and fish processing on board"},0.71650000000000003,0.75949000000000011,0.8050594000000002]
[2,{"$f":"Labels!F26","v":"Mining and quarrying"},0.81,1,1,null,null,{"$f":"Labels!F26","v":"Mining and quarrying"},0.7,0.9,1,null,null,{"$f":"Labels!F26","v":"Mining and quarrying"},0.5,0.75,0.9]
[3,{"$f":"Labels!F27","v":"Manufacturing"},0.69,1,1,null,null,{"$f":"Labels!F27","v":"Manufacturing"},0.46,0.91,1,null,null,{"$f":"Labels!F27","v":"Manufacturing"},0.36,0.56999999999999995,0.94]
[4,{"$f":"Labels!F28","v":"Electricity and water"},0.9375,1,1,null,null,{"$f":"Labels!F28","v":"Electricity and water"},0.875,0.91,0.97,null,null,{"$f":"Labels!F28","v":"Electricity and water"},0.75,0.78,0.81120000000000003]
[5,{"$f":"Labels!F29","v":"Construction"},0.8,0.85,0.96,null,null,{"$f":"Labels!F29","v":"Construction"},0.7,0.8,0.95,null,null,{"$f":"Labels!F29","v":"Construction"},0.6,0.75,0.9]
[6,{"$f":"Labels!F30","v":"Wholesale and retail trade, repairs"},0.88568360686269954,0.94284180343134971,1,null,null,{"$f":"Labels!F30","v":"Wholesale and retail trade, repairs"},0.77136721372539907,0.88568360686269954,1,null,null,{"$f":"Labels!F30","v":"Wholesale and retail trade, repairs"},0.54273442745079814,0.77136721372539907,1]
[7,{"$f":"Labels!F31","v":"Hotels and restaurants"},0.75,0.93,1,null,null,{"$f":"Labels!F31","v":"Hotels and restaurants"},0.5,0.85,0.95,null,null,{"$f":"Labels!F31","v":"Hotels and restaurants"},0.2,0.6,0.8]
[8,{"$f":"Labels!F32","v":"Transport"},0.75,0.8,0.97,null,null,{"$f":"Labels!F32","v":"Transport"},0.65,0.75,0.95,null,null,{"$f":"Labels!F32","v":"Transport"},0.55000000000000004,0.7,0.93500000000000005]
[9,{"$f":"Labels!F33","v":"Communication"},0.75,0.8,0.97,null,null,{"$f":"Labels!F33","v":"Communication"},0.65,0.75,0.95,null,null,{"$f":"Labels!F33","v":"Communication"},0.55000000000000004,0.7,0.93500000000000005]
[10,{"$f":"Labels!F34","v":"Financial intermediation"},0.7,0.85,1,null,null,{"$f":"Labels!F34","v":"Financial intermediation"},0.65,0.8,1,null,null,{"$f":"Labels!F34","v":"Financial intermediation"},0.55000000000000004,0.7,1]
[11,{"$f":"Labels!F35","v":"Real estate and business services"},0.95,1,1,null,null,{"$f":"Labels!F35","v":"Real estate and business services"},0.9,0.98,1,null,null,{"$f":"Labels!F35","v":"Real estate and business services"},0.85,0.95,1]
[12,{"$f":"Labels!F36","v":"Community, social and personal service activities"},0.85,1,1,null,null,{"$f":"Labels!F36","v":"Community, social and personal service activities"},0.7,0.95,1,null,null,{"$f":"Labels!F36","v":"Community, social and personal service activities"},0.5,0.8,1]
[13,{"$f":"Labels!F37","v":"Public administration and defence"},0.93750000000000011,1,1,null,null,{"$f":"Labels!F37","v":"Public administration and defence"},0.91346153846153866,0.98653846153846148,1,null,null,{"$f":"Labels!F37","v":"Public administration and defence"},0.91249999999999998,0.9671052631578948,0.99539473684210533]
[14,{"$f":"Labels!F38","v":"Education"},1,1,1,null,null,{"$f":"Labels!F38","v":"Education"},1,1,1,null,null,{"$f":"Labels!F38","v":"Education"},1,1,1]
[15,{"$f":"Labels!F39","v":"Health"},1.27,1.1000000000000001,1.1000000000000001,null,null,{"$f":"Labels!F39","v":"Health"},1.4,1.2,1,null,null,{"$f":"Labels!F39","v":"Health"},1.3,1.2,1.1000000000000001]
[16,{"$f":"Labels!F40","v":"Private household with employed persons"},0.85,1,1,null,null,{"$f":"Labels!F40","v":"Private household with employed persons"},0.6,0.92,1,null,null,{"$f":"Labels!F40","v":"Private household with employed persons"},0.5,0.85,1]
[17,{"$f":"Labels!F41","v":"Financial intermediation services indirectly measured"},1,1,1,null,null,{"$f":"Labels!F41","v":"Financial intermediation services indirectly measured"},1,1,1,null,null,{"$f":"Labels!F41","v":"Financial intermediation services indirectly measured"},1,1,1]
[18,{"$f":"Labels!F42","v":"Less subsidies on products"},1,1,1,null,null,{"$f":"Labels!F42","v":"Less subsidies on products"},1,1,1,null,null,{"$f":"Labels!F42","v":"Less subsidies on products"},1,1,1]
[]
[]
[]
[]
["High",null,null,null,null,null,null,null,0,1,2]
[0,{"$f":"Labels!F24","v":"Agriculture and forestry"},0.94,0.97760000000000002,1,null,null,{"$f":"Labels!F24","v":"Agriculture and forestry"},0.91,0.94640000000000002,0.98425600000000002,null,null,{"$f":"Labels!F24","v":"Agriculture and forestry"},0.77,0.8,0.88]
[1,{"$f":"Labels!F25","v":"Fishing and fish processing on board"},0.55000000000000004,0.75,0.95,null,null,{"$f":"Labels!F25","v":"Fishing and fish processing on board"},0.5,0.7,0.84,null,null,{"$f":"Labels!F25","v":"Fishing and fish processing on board"},0.45,0.64999999999999991,0.71]
[2,{"$f":"Labels!F26","v":"Mining and quarrying"},0.55000000000000004,0.8,0.95,null,null,{"$f":"Labels!F26","v":"Mining and quarrying"},0.35,0.75,0.93,null,null,{"$f":"Labels!F26","v":"Mining and quarrying"},0.2,0.65,0.85]
[3,{"$f":"Labels!F27","v":"Manufacturing"},0.63,1,1,null,null,{"$f":"Labels!F27","v":"Manufacturing"},0.44,0.91,1,null,null,{"$f":"Labels!F27","v":"Manufacturing"},0.31,0.54,0.94]
[4,{"$f":"Labels!F28","v":"Electricity and water"},0.9375,1,1,null,null,{"$f":"Labels!F28","v":"Electricity and water"},0.875,0.91,0.97,null,null,{"$f":"Labels!F28","v":"Electricity and water"},0.73,0.74,0.78]
[5,{"$f":"Labels!F29","v":"Construction"},0.7,0.85,0.96,null,null,{"$f":"Labels!F29","v":"Construction"},0.6,0.8,0.95,null,null,{"$f":"Labels!F29","v":"Construction"},0.5,0.7,0.88]
[6,{"$f":"Labels!F30","v":"Wholesale and retail trade, repairs"},0.8450731976728999,0.92253659883645001,1,null,null,{"$f":"Labels!F30","v":"Wholesale and retail trade, repairs"},0.6901463953457998,0.8450731976728999,1,null,null,{"$f":"Labels!F30","v":"Wholesale and retail trade, repairs"},0.38029279069159955,0.6901463953457998,1]
[7,{"$f":"Labels!F31","v":"Hotels and restaurants"},0.5,0.75,0.95,null,null,{"$f":"Labels!F31","v":"Hotels and restaurants"},0.15,0.65,0.85,null,null,{"$f":"Labels!F31","v":"Hotels and restaurants"},0.05,0.5,0.75]
[8,{"$f":"Labels!F32","v":"Transport"},0.65,0.75,0.95,null,null,{"$f":"Labels!F32","v":"Transport"},0.55000000000000004,0.65,0.93500000000000005,null,null,{"$f":"Labels!F32","v":"Transport"},0.45,0.55000000000000004,0.91]
[9,{"$f":"Labels!F33","v":"Communication"},0.65,0.75,0.95,null,null,{"$f":"Labels!F33","v":"Communication"},0.55000000000000004,0.65,0.93500000000000005,null,null,{"$f":"Labels!F33","v":"Communication"},0.45,0.55000000000000004,0.91]
[10,{"$f":"Labels!F34","v":"Financial intermediation"},0.55000000000000004,0.7,1,null,null,{"$f":"Labels!F34","v":"Financial intermediation"},0.5,0.65,1,null,null,{"$f":"Labels!F34","v":"Financial intermediation"},0.4,0.55000000000000004,0.95]
[11,{"$f":"Labels!F35","v":"Real estate and business services"},0.92500000000000004,0.97499999999999998,1,null,null,{"$f":"Labels!F35","v":"Real estate and business services"},0.85,0.95,1,null,null,{"$f":"Labels!F35","v":"Real estate and business services"},0.8,0.9,1]
[12,{"$f":"Labels!F36","v":"Community, social and personal service activities"},0.75,1,1,null,null,{"$f":"Labels!F36","v":"Community, social and personal service activities"},0.65,0.95,1,null,null,{"$f":"Labels!F36","v":"Community, social and personal service activities"},0.5,0.85,1]
[13,{"$f":"Labels!F37","v":"Public administration and defence"},0.87500000000000011,1,1,null,null,{"$f":"Labels!F37","v":"Public administration and defence"},0.82692307692307698,0.97307692307692284,1,null,null,{"$f":"Labels!F37","v":"Public administration and defence"},0.81249999999999989,0.9013157894736844,0.986184210526316]
[14,{"$f":"Labels!F38","v":"Education"},0.98,0.99,1,null,null,{"$f":"Labels!F38","v":"Education"},0.95,0.97,1,null,null,{"$f":"Labels!F38","v":"Education"},0.9,0.95,1]
[15,{"$f":"Labels!F39","v":"Health"},1.27,1.1000000000000001,1.1000000000000001,null,null,{"$f":"Labels!F39","v":"Health"},1.35,1.1499999999999999,1,null,null,{"$f":"Labels!F39","v":"Health"},1.25,1.1499999999999999,1]
[16,{"$f":"Labels!F40","v":"Private household with employed persons"},0.77500000000000002,1,1,null,null,{"$f":"Labels!F40","v":"Private household with employed persons"},0.55000000000000004,0.9,1,null,null,{"$f":"Labels!F40","v":"Private household with employed persons"},0.35,0.8,1]
[17,{"$f":"Labels!F41","v":"Financial intermediation services indirectly measured"},1,1,1,null,null,{"$f":"Labels!F41","v":"Financial intermediation services indirectly measured"},1,1,1,null,null,{"$f":"Labels!F41","v":"Financial intermediation services indirectly measured"},1,1,1]
[18,{"$f":"Labels!F42","v":"Less subsidies on products"},1,1,1,null,null,{"$f":"Labels!F42","v":"Less subsidies on products"},1,1,1,null,null,{"$f":"Labels!F42","v":"Less subsidies on products"},1,1,1]
[]
[]
[]
[]
[0,{"$f":"B50","v":"Agriculture and forestry"},null,1,5,10,null,null,null,null,null,null,null,null,null,null,1,2,3]
[null,null,1,{"$f":"C$3","v":1},{"$f":"OFFSET(C$3,0,6)","v":0.97},{"$f":"OFFSET(C$3,0,12)","v":0.91},{"$f":"\"\"","v":""},{"$f":"D$3","v":1},{"$f":"OFFSET(D$3,0,6)","v":1},{"$f":"OFFSET(D$3,0,12)","v":0.94640000000000002},{"$f":"\"\"","v":""},{"$f":"E$3","v":1},{"$f":"OFFSET(E$3,0,6)","v":1},{"$f":"OFFSET(E$3,0,12)","v":0.98425600000000002},null,null,{"$f":"BiTerp($S$4,$T$4,D74:F76)","v":1},{"$f":"BiTerp($S$4,$T$4,H74:J76)","v":1},{"$f":"BiTerp($S$4,$T$4,L74:N76)","v":1}]
[null,null,5,{"$f":"OFFSET(C$3,23,0)","v":0.97},{"$f":"OFFSET(C$3,23,6)","v":0.94},{"$f":"OFFSET(C$3,23,12)","v":0.82000000000000006},{"$f":"\"\"","v":""},{"$f":"OFFSET(D$3,23,0)","v":1},{"$f":"OFFSET(D$3,23,6)","v":0.97760000000000002},{"$f":"OFFSET(D$3,23,12)","v":0.86920000000000008},{"$f":"\"\"","v":""},{"$f":"OFFSET(E$3,23,0)","v":1},{"$f":"OFFSET(E$3,23,6)","v":1},{"$f":"OFFSET(E$3,23,12)","v":0.92135200000000017}]
[null,null,10,{"$f":"OFFSET(C$3,47,0)","v":0.94},{"$f":"OFFSET(C$3,47,6)","v":0.91},{"$f":"OFFSET(C$3,47,12)","v":0.77},{"$f":"\"\"","v":""},{"$f":"OFFSET(D$3,47,0)","v":0.97760000000000002},{"$f":"OFFSET(D$3,47,6)","v":0.94640000000000002},{"$f":"OFFSET(D$3,47,12)","v":0.8},{"$f":"\"\"","v":""},{"$f":"OFFSET(E$3,47,0)","v":1},{"$f":"OFFSET(E$3,47,6)","v":0.98425600000000002},{"$f":"OFFSET(E$3,47,12)","v":0.88}]
[null,null,null,null,null,null,{"$f":"\"\"","v":""},null,null,null,{"$f":"\"\"","v":""}]
[null,null,null,null,null,null,{"$f":"\"\"","v":""},null,null,null,{"$f":"\"\"","v":""}]
[1,{"$f":"B51","v":"Fishing and fish processing on board"},null,1,5,10,{"$f":"\"\"","v":""},null,null,null,{"$f":"\"\"","v":""},null,null,null,null,null,1,2,3]
[null,null,1,{"$f":"OFFSET($C$3,$A79,0)","v":0.93700000000000006},{"$f":"OFFSET(OFFSET($C$3,$A79,0),0,6)","v":0.874},{"$f":"OFFSET(OFFSET($C$3,$A79,0),0,12)","v":0.81099999999999994},{"$f":"\"\"","v":""},{"$f":"OFFSET($C$3,$A79,1)","v":1},{"$f":"OFFSET(OFFSET($C$3,$A79,1),0,6)","v":0.90895999999999999},{"$f":"OFFSET(OFFSET($C$3,$A79,1),0,12)","v":0.84343999999999997},{"$f":"\"\"","v":""},{"$f":"OFFSET($C$3,$A79,2)","v":1},{"$f":"OFFSET(OFFSET($C$3,$A79,2),0,6)","v":0.97},{"$f":"OFFSET(OFFSET($C$3,$A79,2),0,12)","v":0.8771776},null,null,{"$f":"BiTerp($S$4,$T$4,D80:F82)","v":0.93700000000000017},{"$f":"BiTerp($S$4,$T$4,H80:J82)","v":1},{"$f":"BiTerp($S$4,$T$4,L80:N82)","v":1}]
[null,null,5,{"$f":"OFFSET(OFFSET($C$3,$A79,0),23,0)","v":0.90549999999999997},{"$f":"OFFSET(OFFSET($C$3,$A79,0),23,6)","v":0.81099999999999994},{"$f":"OFFSET(OFFSET($C$3,$A79,0),23,12)","v":0.71650000000000003},{"$f":"\"\"","v":""},{"$f":"OFFSET(OFFSET($C$3,$A79,1),23,0)","v":0.94172},{"$f":"OFFSET(OFFSET($C$3,$A79,1),23,6)","v":0.84343999999999997},{"$f":"OFFSET(OFFSET($C$3,$A79,1),23,12)","v":0.75949000000000011},{"$f":"\"\"","v":""},{"$f":"OFFSET(OFFSET($C$3,$A79,2),23,0)","v":1},{"$f":"OFFSET(OFFSET($C$3,$A79,2),23,6)","v":0.8771776},{"$f":"OFFSET(OFFSET($C$3,$A79,2),23,12)","v":0.8050594000000002}]
[null,null,10,{"$f":"OFFSET(OFFSET($C$3,$A79,0),47,0)","v":0.55000000000000004},{"$f":"OFFSET(OFFSET($C$3,$A79,0),47,6)","v":0.5},{"$f":"OFFSET(OFFSET($C$3,$A79,0),47,12)","v":0.45},{"$f":"\"\"","v":""},{"$f":"OFFSET(OFFSET($C$3,$A79,1),47,0)","v":0.75},{"$f":"OFFSET(OFFSET($C$3,$A79,1),47,6)","v":0.7},{"$f":"OFFSET(OFFSET($C$3,$A79,1),47,12)","v":0.64999999999999991},{"$f":"\"\"","v":""},{"$f":"OFFSET(OFFSET($C$3,$A79,2),47,0)","v":0.95},{"$f":"OFFSET(OFFSET($C$3,$A79,2),47,6)","v":0.84},{"$f":"OFFSET(OFFSET($C$3,$A79,2),47,12)","v":0.71}]
[null,null,null,null,null,null,{"$f":"\"\"","v":""},null,null,null,{"$f":"\"\"","v":""}]
[null,null,null,null,null,null,{"$f":"\"\"","v":""},null,null,null,{"$f":"\"\"","v":""}]
[2,{"$f":"B52","v":"Mining and quarrying"},null,1,5,10,{"$f":"\"\"","v":""},null,null,null,{"$f":"\"\"","v":""},null,null,null,null,null,1,2,3]
[null,null,1,{"$f":"OFFSET($C$3,$A85,0)","v":0.94},{"$f":"OFFSET(OFFSET($C$3,$A85,0),0,6)","v":0.8},{"$f":"OFFSET(OFFSET($C$3,$A85,0),0,12)","v":0.7},null,{"$f":"OFFSET($C$3,$A85,1)","v":1},{"$f":"OFFSET(OFFSET($C$3,$A85,1),0,6)","v":0.97},{"$f":"OFFSET(OFFSET($C$3,$A85,1),0,12)","v":0.8},null,{"$f":"OFFSET($C$3,$A85,2)","v":1},{"$f":"OFFSET(OFFSET($C$3,$A85,2),0,6)","v":1},{"$f":"OFFSET(OFFSET($C$3,$A85,2),0,12)","v":0.94},null,null,{"$f":"BiTerp($S$4,$T$4,D86:F88)","v":0.93999999999999984},{"$f":"BiTerp($S$4,$T$4,H86:J88)","v":1},{"$f":"BiTerp($S$4,$T$4,L86:N88)","v":1}]
[null,null,5,{"$f":"OFFSET(OFFSET($C$3,$A85,0),23,0)","v":0.81},{"$f":"OFFSET(OFFSET($C$3,$A85,0),23,6)","v":0.7},{"$f":"OFFSET(OFFSET($C$3,$A85,0),23,12)","v":0.5},null,{"$f":"OFFSET(OFFSET($C$3,$A85,1),23,0)","v":1},{"$f":"OFFSET(OFFSET($C$3,$A85,1),23,6)","v":0.9},{"$f":"OFFSET(OFFSET($C$3,$A85,1),23,12)","v":0.75},null,{"$f":"OFFSET(OFFSET($C$3,$A85,2),23,0)","v":1},{"$f":"OFFSET(OFFSET($C$3,$A85,2),23,6)","v":1},{"$f":"OFFSET(OFFSET($C$3,$A85,2),23,12)","v":0.9}]
[null,null,10,{"$f":"OFFSET(OFFSET($C$3,$A85,0),47,0)","v":0.55000000000000004},{"$f":"OFFSET(OFFSET($C$3,$A85,0),47,6)","v":0.35},{"$f":"OFFSET(OFFSET($C$3,$A85,0),47,12)","v":0.2},null,{"$f":"OFFSET(OFFSET($C$3,$A85,1),47,0)","v":0.8},{"$f":"OFFSET(OFFSET($C$3,$A85,1),47,6)","v":0.75},{"$f":"OFFSET(OFFSET($C$3,$A85,1),47,12)","v":0.65},null,{"$f":"OFFSET(OFFSET($C$3,$A85,2),47,0)","v":0.95},{"$f":"OFFSET(OFFSET($C$3,$A85,2),47,6)","v":0.93},{"$f":"OFFSET(OFFSET($C$3,$A85,2),47,12)","v":0.85}]
[null,null,null,null,null,null,{"$f":"\"\"","v":""},null,null,null,{"$f":"\"\"","v":""}]
[null,null,null,null,null,null,{"$f":"\"\"","v":""},null,null,null,{"$f":"\"\"","v":""}]
[3,{"$f":"B53","v":"Manufacturing"},null,1,5,10,{"$f":"\"\"","v":""},null,null,null,{"$f":"\"\"","v":""},null,null,null,null,null,1,2,3]
[null,null,1,{"$f":"OFFSET($C$3,$A91,0)","v":0.81},{"$f":"OFFSET(OFFSET($C$3,$A91,0),0,6)","v":0.69},{"$f":"OFFSET(OFFSET($C$3,$A91,0),0,12)","v":0.56000000000000005},{"$f":"\"\"","v":""},{"$f":"OFFSET($C$3,$A91,1)","v":1},{"$f":"OFFSET(OFFSET($C$3,$A91,1),0,6)","v":0.95},{"$f":"OFFSET(OFFSET($C$3,$A91,1),0,12)","v":0.67},{"$f":"\"\"","v":""},{"$f":"OFFSET($C$3,$A91,2)","v":1},{"$f":"OFFSET(OFFSET($C$3,$A91,2),0,6)","v":1},{"$f":"OFFSET(OFFSET($C$3,$A91,2),0,12)","v":0.95},null,null,{"$f":"BiTerp($S$4,$T$4,D92:F94)","v":0.81000000000000016},{"$f":"BiTerp($S$4,$T$4,H92:J94)","v":1},{"$f":"BiTerp($S$4,$T$4,L92:N94)","v":1}]
[null,null,5,{"$f":"OFFSET(OFFSET($C$3,$A91,0),23,0)","v":0.69},{"$f":"OFFSET(OFFSET($C$3,$A91,0),23,6)","v":0.46},{"$f":"OFFSET(OFFSET($C$3,$A91,0),23,12)","v":0.36},{"$f":"\"\"","v":""},{"$f":"OFFSET(OFFSET($C$3,$A91,1),23,0)","v":1},{"$f":"OFFSET(OFFSET($C$3,$A91,1),23,6)","v":0.91},{"$f":"OFFSET(OFFSET($C$3,$A91,1),23,12)","v":0.56999999999999995},{"$f":"\"\"","v":""},{"$f":"OFFSET(OFFSET($C$3,$A91,2),23,0)","v":1},{"$f":"OFFSET(OFFSET($C$3,$A91,2),23,6)","v":1},{"$f":"OFFSET(OFFSET($C$3,$A91,2),23,12)","v":0.94}]
[null,null,10,{"$f":"OFFSET(OFFSET($C$3,$A91,0),47,0)","v":0.63},{"$f":"OFFSET(OFFSET($C$3,$A91,0),47,6)","v":0.44},{"$f":"OFFSET(OFFSET($C$3,$A91,0),47,12)","v":0.31},{"$f":"\"\"","v":""},{"$f":"OFFSET(OFFSET($C$3,$A91,1),47,0)","v":1},{"$f":"OFFSET(OFFSET($C$3,$A91,1),47,6)","v":0.91},{"$f":"OFFSET(OFFSET($C$3,$A91,1),47,12)","v":0.54},{"$f":"\"\"","v":""},{"$f":"OFFSET(OFFSET($C$3,$A91,2),47,0)","v":1},{"$f":"OFFSET(OFFSET($C$3,$A91,2),47,6)","v":1},{"$f":"OFFSET(OFFSET($C$3,$A91,2),47,12)","v":0.94}]
[null,null,null,null,null,null,{"$f":"\"\"","v":""},null,null,null,{"$f":"\"\"","v":""}]
[null,null,null,null,null,null,{"$f":"\"\"","v":""},null,null,null,{"$f":"\"\"","v":""}]
[4,{"$f":"B54","v":"Electricity and water"},0,1,5,10,{"$f":"\"\"","v":""},null,null,null,{"$f":"\"\"","v":""},null,null,null,null,null,1,2,3]
[null,null,1,{"$f":"OFFSET($C$3,$A97,0)","v":0.95499999999999996},{"$f":"OFFSET(OFFSET($C$3,$A97,0),0,6)","v":0.91},{"$f":"OFFSET(OFFSET($C$3,$A97,0),0,12)","v":0.82000000000000006},{"$f":"\"\"","v":""},{"$f":"OFFSET($C$3,$A97,1)","v":1},{"$f":"OFFSET(OFFSET($C$3,$A97,1),0,6)","v":0.94640000000000002},{"$f":"OFFSET(OFFSET($C$3,$A97,1),0,12)","v":0.85280000000000011},{"$f":"\"\"","v":""},{"$f":"OFFSET($C$3,$A97,2)","v":1},{"$f":"OFFSET(OFFSET($C$3,$A97,2),0,6)","v":0.97},{"$f":"OFFSET(OFFSET($C$3,$A97,2),0,12)","v":0.88691200000000014},null,null,{"$f":"BiTerp($S$4,$T$4,D98:F100)","v":0.95499999999999985},{"$f":"BiTerp($S$4,$T$4,H98:J100)","v":1},{"$f":"BiTerp($S$4,$T$4,L98:N100)","v":1}]
[null,null,5,{"$f":"OFFSET(OFFSET($C$3,$A97,0),23,0)","v":0.9375},{"$f":"OFFSET(OFFSET($C$3,$A97,0),23,6)","v":0.875},{"$f":"OFFSET(OFFSET($C$3,$A97,0),23,12)","v":0.75},{"$f":"\"\"","v":""},{"$f":"OFFSET(OFFSET($C$3,$A97,1),23,0)","v":1},{"$f":"OFFSET(OFFSET($C$3,$A97,1),23,6)","v":0.91},{"$f":"OFFSET(OFFSET($C$3,$A97,1),23,12)","v":0.78},{"$f":"\"\"","v":""},{"$f":"OFFSET(OFFSET($C$3,$A97,2),23,0)","v":1},{"$f":"OFFSET(OFFSET($C$3,$A97,2),23,6)","v":0.97},{"$f":"OFFSET(OFFSET($C$3,$A97,2),23,12)","v":0.81120000000000003}]
[null,null,10,{"$f":"OFFSET(OFFSET($C$3,$A97,0),47,0)","v":0.9375},{"$f":"OFFSET(OFFSET($C$3,$A97,0),47,6)","v":0.875},{"$f":"OFFSET(OFFSET($C$3,$A97,0),47,12)","v":0.73},{"$f":"\"\"","v":""},{"$f":"OFFSET(OFFSET($C$3,$A97,1),47,0)","v":1},{"$f":"OFFSET(OFFSET($C$3,$A97,1),47,6)","v":0.91},{"$f":"OFFSET(OFFSET($C$3,$A97,1),47,12)","v":0.74},{"$f":"\"\"","v":""},{"$f":"OFFSET(OFFSET($C$3,$A97,2),47,0)","v":1},{"$f":"OFFSET(OFFSET($C$3,$A97,2),47,6)","v":0.97},{"$f":"OFFSET(OFFSET($C$3,$A97,2),47,12)","v":0.78}]
[null,null,null,null,null,null,{"$f":"\"\"","v":""},null,null,null,{"$f":"\"\"","v":""}]
[null,null,null,null,null,null,{"$f":"\"\"","v":""},null,null,null,{"$f":"\"\"","v":""}]
[5,{"$f":"B55","v":"Construction"},null,1,5,10,{"$f":"\"\"","v":""},null,null,null,{"$f":"\"\"","v":""},null,null,null,null,null,1,2,3]
[null,null,1,{"$f":"OFFSET($C$3,$A103,0)","v":0.85},{"$f":"OFFSET(OFFSET($C$3,$A103,0),0,6)","v":0.8},{"$f":"OFFSET(OFFSET($C$3,$A103,0),0,12)","v":0.75},{"$f":"\"\"","v":""},{"$f":"OFFSET($C$3,$A103,1)","v":0.9},{"$f":"OFFSET(OFFSET($C$3,$A103,1),0,6)","v":0.87},{"$f":"OFFSET(OFFSET($C$3,$A103,1),0,12)","v":0.85},{"$f":"\"\"","v":""},{"$f":"OFFSET($C$3,$A103,2)","v":1},{"$f":"OFFSET(OFFSET($C$3,$A103,2),0,6)","v":0.96},{"$f":"OFFSET(OFFSET($C$3,$A103,2),0,12)","v":0.95},null,null,{"$f":"BiTerp($S$4,$T$4,D104:F106)","v":0.85},{"$f":"BiTerp($S$4,$T$4,H104:J106)","v":0.9},{"$f":"BiTerp($S$4,$T$4,L104:N106)","v":1}]
[null,null,5,{"$f":"OFFSET(OFFSET($C$3,$A103,0),23,0)","v":0.8},{"$f":"OFFSET(OFFSET($C$3,$A103,0),23,6)","v":0.7},{"$f":"OFFSET(OFFSET($C$3,$A103,0),23,12)","v":0.6},{"$f":"\"\"","v":""},{"$f":"OFFSET(OFFSET($C$3,$A103,1),23,0)","v":0.85},{"$f":"OFFSET(OFFSET($C$3,$A103,1),23,6)","v":0.8},{"$f":"OFFSET(OFFSET($C$3,$A103,1),23,12)","v":0.75},{"$f":"\"\"","v":""},{"$f":"OFFSET(OFFSET($C$3,$A103,2),23,0)","v":0.96},{"$f":"OFFSET(OFFSET($C$3,$A103,2),23,6)","v":0.95},{"$f":"OFFSET(OFFSET($C$3,$A103,2),23,12)","v":0.9}]
[null,null,10,{"$f":"OFFSET(OFFSET($C$3,$A103,0),47,0)","v":0.7},{"$f":"OFFSET(OFFSET($C$3,$A103,0),47,6)","v":0.6},{"$f":"OFFSET(OFFSET($C$3,$A103,0),47,12)","v":0.5},{"$f":"\"\"","v":""},{"$f":"OFFSET(OFFSET($C$3,$A103,1),47,0)","v":0.85},{"$f":"OFFSET(OFFSET($C$3,$A103,1),47,6)","v":0.8},{"$f":"OFFSET(OFFSET($C$3,$A103,1),47,12)","v":0.7},{"$f":"\"\"","v":""},{"$f":"OFFSET(OFFSET($C$3,$A103,2),47,0)","v":0.96},{"$f":"OFFSET(OFFSET($C$3,$A103,2),47,6)","v":0.95},{"$f":"OFFSET(OFFSET($C$3,$A103,2),47,12)","v":0.88}]
[null,null,null,null,null,null,{"$f":"\"\"","v":""},null,null,null,{"$f":"\"\"","v":""}]
[null,null,null,null,null,null,{"$f":"\"\"","v":""},null,null,null,{"$f":"\"\"","v":""}]
[6,{"$f":"B56","v":"Wholesale and retail trade, repairs"},null,1,5,10,{"$f":"\"\"","v":""},null,null,null,{"$f":"\"\"","v":""},null,null,null,null,null,1,2,3]
[null,null,1,{"$f":"OFFSET($C$3,$A109,0)","v":0.97270090191130743},{"$f":"OFFSET(OFFSET($C$3,$A109,0),0,6)","v":0.94540180382261485},{"$f":"OFFSET(OFFSET($C$3,$A109,0),0,12)","v":0.89080360764522981},{"$f":"\"\"","v":""},{"$f":"OFFSET($C$3,$A109,1)","v":0.98635045095565377},{"$f":"OFFSET(OFFSET($C$3,$A109,1),0,6)","v":0.97270090191130743},{"$f":"OFFSET(OFFSET($C$3,$A109,1),0,12)","v":0.94540180382261485},{"$f":"\"\"","v":""},{"$f":"OFFSET($C$3,$A109,2)","v":1},{"$f":"OFFSET(OFFSET($C$3,$A109,2),0,6)","v":1},{"$f":"OFFSET(OFFSET($C$3,$A109,2),0,12)","v":1},null,null,{"$f":"BiTerp($S$4,$T$4,D110:F112)","v":0.97270090191130754},{"$f":"BiTerp($S$4,$T$4,H110:J112)","v":0.98635045095565377},{"$f":"BiTerp($S$4,$T$4,L110:N112)","v":1}]
[null,null,5,{"$f":"OFFSET(OFFSET($C$3,$A109,0),23,0)","v":0.88568360686269954},{"$f":"OFFSET(OFFSET($C$3,$A109,0),23,6)","v":0.77136721372539907},{"$f":"OFFSET(OFFSET($C$3,$A109,0),23,12)","v":0.54273442745079814},{"$f":"\"\"","v":""},{"$f":"OFFSET(OFFSET($C$3,$A109,1),23,0)","v":0.94284180343134971},{"$f":"OFFSET(OFFSET($C$3,$A109,1),23,6)","v":0.88568360686269954},{"$f":"OFFSET(OFFSET($C$3,$A109,1),23,12)","v":0.77136721372539907},{"$f":"\"\"","v":""},{"$f":"OFFSET(OFFSET($C$3,$A109,2),23,0)","v":1},{"$f":"OFFSET(OFFSET($C$3,$A109,2),23,6)","v":1},{"$f":"OFFSET(OFFSET($C$3,$A109,2),23,12)","v":1}]
[null,null,10,{"$f":"OFFSET(OFFSET($C$3,$A109,0),47,0)","v":0.8450731976728999},{"$f":"OFFSET(OFFSET($C$3,$A109,0),47,6)","v":0.6901463953457998},{"$f":"OFFSET(OFFSET($C$3,$A109,0),47,12)","v":0.38029279069159955},{"$f":"\"\"","v":""},{"$f":"OFFSET(OFFSET($C$3,$A109,1),47,0)","v":0.92253659883645001},{"$f":"OFFSET(OFFSET($C$3,$A109,1),47,6)","v":0.8450731976728999},{"$f":"OFFSET(OFFSET($C$3,$A109,1),47,12)","v":0.6901463953457998},{"$f":"\"\"","v":""},{"$f":"OFFSET(OFFSET($C$3,$A109,2),47,0)","v":1},{"$f":"OFFSET(OFFSET($C$3,$A109,2),47,6)","v":1},{"$f":"OFFSET(OFFSET($C$3,$A109,2),47,12)","v":1}]
[null,null,null,null,null,null,{"$f":"\"\"","v":""},null,null,null,{"$f":"\"\"","v":""}]
[null,null,null,null,null,null,{"$f":"\"\"","v":""},null,null,null,{"$f":"\"\"","v":""}]
[7,{"$f":"B57","v":"Hotels and restaurants"},null,1,5,10,{"$f":"\"\"","v":""},null,null,null,{"$f":"\"\"","v":""},null,null,null,null,null,1,2,3]
[null,null,1,{"$f":"OFFSET($C$3,$A115,0)","v":0.85},{"$f":"OFFSET(OFFSET($C$3,$A115,0),0,6)","v":0.65},{"$f":"OFFSET(OFFSET($C$3,$A115,0),0,12)","v":0.5},{"$f":"\"\"","v":""},{"$f":"OFFSET($C$3,$A115,1)","v":0.95},{"$f":"OFFSET(OFFSET($C$3,$A115,1),0,6)","v":0.9},{"$f":"OFFSET(OFFSET($C$3,$A115,1),0,12)","v":0.85},{"$f":"\"\"","v":""},{"$f":"OFFSET($C$3,$A115,2)","v":1},{"$f":"OFFSET(OFFSET($C$3,$A115,2),0,6)","v":1},{"$f":"OFFSET(OFFSET($C$3,$A115,2),0,12)","v":0.99},null,null,{"$f":"BiTerp($S$4,$T$4,D116:F118)","v":0.85},{"$f":"BiTerp($S$4,$T$4,H116:J118)","v":0.95},{"$f":"BiTerp($S$4,$T$4,L116:N118)","v":1}]
[null,null,5,{"$f":"OFFSET(OFFSET($C$3,$A115,0),23,0)","v":0.75},{"$f":"OFFSET(OFFSET($C$3,$A115,0),23,6)","v":0.5},{"$f":"OFFSET(OFFSET($C$3,$A115,0),23,12)","v":0.2},{"$f":"\"\"","v":""},{"$f":"OFFSET(OFFSET($C$3,$A115,1),23,0)","v":0.93},{"$f":"OFFSET(OFFSET($C$3,$A115,1),23,6)","v":0.85},{"$f":"OFFSET(OFFSET($C$3,$A115,1),23,12)","v":0.6},{"$f":"\"\"","v":""},{"$f":"OFFSET(OFFSET($C$3,$A115,2),23,0)","v":1},{"$f":"OFFSET(OFFSET($C$3,$A115,2),23,6)","v":0.95},{"$f":"OFFSET(OFFSET($C$3,$A115,2),23,12)","v":0.8}]
[null,null,10,{"$f":"OFFSET(OFFSET($C$3,$A115,0),47,0)","v":0.5},{"$f":"OFFSET(OFFSET($C$3,$A115,0),47,6)","v":0.15},{"$f":"OFFSET(OFFSET($C$3,$A115,0),47,12)","v":0.05},{"$f":"\"\"","v":""},{"$f":"OFFSET(OFFSET($C$3,$A115,1),47,0)","v":0.75},{"$f":"OFFSET(OFFSET($C$3,$A115,1),47,6)","v":0.65},{"$f":"OFFSET(OFFSET($C$3,$A115,1),47,12)","v":0.5},{"$f":"\"\"","v":""},{"$f":"OFFSET(OFFSET($C$3,$A115,2),47,0)","v":0.95},{"$f":"OFFSET(OFFSET($C$3,$A115,2),47,6)","v":0.85},{"$f":"OFFSET(OFFSET($C$3,$A115,2),47,12)","v":0.75}]
[]
[null,null,null,null,null,null,{"$f":"\"\"","v":""},null,null,null,{"$f":"\"\"","v":""}]
[8,{"$f":"B58","v":"Transport"},null,1,5,10,{"$f":"\"\"","v":""},null,null,null,{"$f":"\"\"","v":""},null,null,null,null,null,1,2,3]
[null,null,1,{"$f":"OFFSET($C$3,$A121,0)","v":0.85},{"$f":"OFFSET(OFFSET($C$3,$A121,0),0,6)","v":0.75},{"$f":"OFFSET(OFFSET($C$3,$A121,0),0,12)","v":0.6},{"$f":"\"\"","v":""},{"$f":"OFFSET($C$3,$A121,1)","v":0.95},{"$f":"OFFSET(OFFSET($C$3,$A121,1),0,6)","v":0.8},{"$f":"OFFSET(OFFSET($C$3,$A121,1),0,12)","v":0.7},{"$f":"\"\"","v":""},{"$f":"OFFSET($C$3,$A121,2)","v":1},{"$f":"OFFSET(OFFSET($C$3,$A121,2),0,6)","v":0.97},{"$f":"OFFSET(OFFSET($C$3,$A121,2),0,12)","v":0.95},null,null,{"$f":"BiTerp($S$4,$T$4,D122:F124)","v":0.85},{"$f":"BiTerp($S$4,$T$4,H122:J124)","v":0.95},{"$f":"BiTerp($S$4,$T$4,L122:N124)","v":1}]
[null,null,5,{"$f":"OFFSET(OFFSET($C$3,$A121,0),23,0)","v":0.75},{"$f":"OFFSET(OFFSET($C$3,$A121,0),23,6)","v":0.65},{"$f":"OFFSET(OFFSET($C$3,$A121,0),23,12)","v":0.55000000000000004},{"$f":"\"\"","v":""},{"$f":"OFFSET(OFFSET($C$3,$A121,1),23,0)","v":0.8},{"$f":"OFFSET(OFFSET($C$3,$A121,1),23,6)","v":0.75},{"$f":"OFFSET(OFFSET($C$3,$A121,1),23,12)","v":0.7},{"$f":"\"\"","v":""},{"$f":"OFFSET(OFFSET($C$3,$A121,2),23,0)","v":0.97},{"$f":"OFFSET(OFFSET($C$3,$A121,2),23,6)","v":0.95},{"$f":"OFFSET(OFFSET($C$3,$A121,2),23,12)","v":0.93500000000000005}]
[null,null,10,{"$f":"OFFSET(OFFSET($C$3,$A121,0),47,0)","v":0.65},{"$f":"OFFSET(OFFSET($C$3,$A121,0),47,6)","v":0.55000000000000004},{"$f":"OFFSET(OFFSET($C$3,$A121,0),47,12)","v":0.45},{"$f":"\"\"","v":""},{"$f":"OFFSET(OFFSET($C$3,$A121,1),47,0)","v":0.75},{"$f":"OFFSET(OFFSET($C$3,$A121,1),47,6)","v":0.65},{"$f":"OFFSET(OFFSET($C$3,$A121,1),47,12)","v":0.55000000000000004},{"$f":"\"\"","v":""},{"$f":"OFFSET(OFFSET($C$3,$A121,2),47,0)","v":0.95},{"$f":"OFFSET(OFFSET($C$3,$A121,2),47,6)","v":0.93500000000000005},{"$f":"OFFSET(OFFSET($C$3,$A121,2),47,12)","v":0.91}]
[]
[]
[9,{"$f":"B59","v":"Communication"},null,1,5,10,{"$f":"\"\"","v":""},null,null,null,{"$f":"\"\"","v":""},null,null,null,null,null,1,2,3]
[null,null,1,{"$f":"OFFSET($C$3,$A127,0)","v":0.85},{"$f":"OFFSET(OFFSET($C$3,$A127,0),0,6)","v":0.75},{"$f":"OFFSET(OFFSET($C$3,$A127,0),0,12)","v":0.65},{"$f":"\"\"","v":""},{"$f":"OFFSET($C$3,$A127,1)","v":0.95},{"$f":"OFFSET(OFFSET($C$3,$A127,1),0,6)","v":0.8},{"$f":"OFFSET(OFFSET($C$3,$A127,1),0,12)","v":0.7},{"$f":"\"\"","v":""},{"$f":"OFFSET($C$3,$A127,2)","v":1},{"$f":"OFFSET(OFFSET($C$3,$A127,2),0,6)","v":0.97},{"$f":"OFFSET(OFFSET($C$3,$A127,2),0,12)","v":0.95},null,null,{"$f":"BiTerp($S$4,$T$4,D128:F130)","v":0.85},{"$f":"BiTerp($S$4,$T$4,H128:J130)","v":0.95},{"$f":"BiTerp($S$4,$T$4,L128:N130)","v":1}]
[null,null,5,{"$f":"OFFSET(OFFSET($C$3,$A127,0),23,0)","v":0.75},{"$f":"OFFSET(OFFSET($C$3,$A127,0),23,6)","v":0.65},{"$f":"OFFSET(OFFSET($C$3,$A127,0),23,12)","v":0.55000000000000004},{"$f":"\"\"","v":""},{"$f":"OFFSET(OFFSET($C$3,$A127,1),23,0)","v":0.8},{"$f":"OFFSET(OFFSET($C$3,$A127,1),23,6)","v":0.75},{"$f":"OFFSET(OFFSET($C$3,$A127,1),23,12)","v":0.7},{"$f":"\"\"","v":""},{"$f":"OFFSET(OFFSET($C$3,$A127,2),23,0)","v":0.97},{"$f":"OFFSET(OFFSET($C$3,$A127,2),23,6)","v":0.95},{"$f":"OFFSET(OFFSET($C$3,$A127,2),23,12)","v":0.93500000000000005}]
[null,null,10,{"$f":"OFFSET(OFFSET($C$3,$A127,0),47,0)","v":0.65},{"$f":"OFFSET(OFFSET($C$3,$A127,0),47,6)","v":0.55000000000000004},{"$f":"OFFSET(OFFSET($C$3,$A127,0),47,12)","v":0.45},{"$f":"\"\"","v":""},{"$f":"OFFSET(OFFSET($C$3,$A127,1),47,0)","v":0.75},{"$f":"OFFSET(OFFSET($C$3,$A127,1),47,6)","v":0.65},{"$f":"OFFSET(OFFSET($C$3,$A127,1),47,12)","v":0.55000000000000004},{"$f":"\"\"","v":""},{"$f":"OFFSET(OFFSET($C$3,$A127,2),47,0)","v":0.95},{"$f":"OFFSET(OFFSET($C$3,$A127,2),47,6)","v":0.93500000000000005},{"$f":"OFFSET(OFFSET($C$3,$A127,2),47,12)","v":0.91}]
[null,null,null,null,null,null,{"$f":"\"\"","v":""},null,null,null,{"$f":"\"\"","v":""}]
[null,null,null,null,null,null,{"$f":"\"\"","v":""},null,null,null,{"$f":"\"\"","v":""}]
[10,{"$f":"B60","v":"Financial intermediation"},null,1,5,10,{"$f":"\"\"","v":""},null,null,null,{"$f":"\"\"","v":""},null,null,null,null,null,1,2,3]
[null,null,1,{"$f":"OFFSET($C$3,$A133,0)","v":0.85},{"$f":"OFFSET(OFFSET($C$3,$A133,0),0,6)","v":0.8},{"$f":"OFFSET(OFFSET($C$3,$A133,0),0,12)","v":0.7},{"$f":"\"\"","v":""},{"$f":"OFFSET($C$3,$A133,1)","v":0.95},{"$f":"OFFSET(OFFSET($C$3,$A133,1),0,6)","v":0.9},{"$f":"OFFSET(OFFSET($C$3,$A133,1),0,12)","v":0.85},{"$f":"\"\"","v":""},{"$f":"OFFSET($C$3,$A133,2)","v":1},{"$f":"OFFSET(OFFSET($C$3,$A133,2),0,6)","v":1},{"$f":"OFFSET(OFFSET($C$3,$A133,2),0,12)","v":1},null,null,{"$f":"BiTerp($S$4,$T$4,D134:F136)","v":0.85},{"$f":"BiTerp($S$4,$T$4,H134:J136)","v":0.95},{"$f":"BiTerp($S$4,$T$4,L134:N136)","v":1}]
[null,null,5,{"$f":"OFFSET(OFFSET($C$3,$A133,0),23,0)","v":0.7},{"$f":"OFFSET(OFFSET($C$3,$A133,0),23,6)","v":0.65},{"$f":"OFFSET(OFFSET($C$3,$A133,0),23,12)","v":0.55000000000000004},{"$f":"\"\"","v":""},{"$f":"OFFSET(OFFSET($C$3,$A133,1),23,0)","v":0.85},{"$f":"OFFSET(OFFSET($C$3,$A133,1),23,6)","v":0.8},{"$f":"OFFSET(OFFSET($C$3,$A133,1),23,12)","v":0.7},{"$f":"\"\"","v":""},{"$f":"OFFSET(OFFSET($C$3,$A133,2),23,0)","v":1},{"$f":"OFFSET(OFFSET($C$3,$A133,2),23,6)","v":1},{"$f":"OFFSET(OFFSET($C$3,$A133,2),23,12)","v":1}]
[null,null,10,{"$f":"OFFSET(OFFSET($C$3,$A133,0),47,0)","v":0.55000000000000004},{"$f":"OFFSET(OFFSET($C$3,$A133,0),47,6)","v":0.5},{"$f":"OFFSET(OFFSET($C$3,$A133,0),47,12)","v":0.4},{"$f":"\"\"","v":""},{"$f":"OFFSET(OFFSET($C$3,$A133,1),47,0)","v":0.7},{"$f":"OFFSET(OFFSET($C$3,$A133,1),47,6)","v":0.65},{"$f":"OFFSET(OFFSET($C$3,$A133,1),47,12)","v":0.55000000000000004},{"$f":"\"\"","v":""},{"$f":"OFFSET(OFFSET($C$3,$A133,2),47,0)","v":1},{"$f":"OFFSET(OFFSET($C$3,$A133,2),47,6)","v":1},{"$f":"OFFSET(OFFSET($C$3,$A133,2),47,12)","v":0.95}]
[null,null,null,null,null,null,{"$f":"\"\"","v":""},null,null,null,{"$f":"\"\"","v":""}]
[null,null,null,null,null,null,{"$f":"\"\"","v":""},null,null,null,{"$f":"\"\"","v":""}]
[11,{"$f":"B61","v":"Real estate and business services"},null,1,5,10,{"$f":"\"\"","v":""},null,null,null,{"$f":"\"\"","v":""},null,null,null,null,null,1,2,3]
[null,null,1,{"$f":"OFFSET($C$3,$A139,0)","v":0.98},{"$f":"OFFSET(OFFSET($C$3,$A139,0),0,6)","v":0.95},{"$f":"OFFSET(OFFSET($C$3,$A139,0),0,12)","v":0.9},{"$f":"\"\"","v":""},{"$f":"OFFSET($C$3,$A139,1)","v":1},{"$f":"OFFSET(OFFSET($C$3,$A139,1),0,6)","v":1},{"$f":"OFFSET(OFFSET($C$3,$A139,1),0,12)","v":0.97},{"$f":"\"\"","v":""},{"$f":"OFFSET($C$3,$A139,2)","v":1},{"$f":"OFFSET(OFFSET($C$3,$A139,2),0,6)","v":1},{"$f":"OFFSET(OFFSET($C$3,$A139,2),0,12)","v":1},null,null,{"$f":"BiTerp($S$4,$T$4,D140:F142)","v":0.98},{"$f":"BiTerp($S$4,$T$4,H140:J142)","v":1},{"$f":"BiTerp($S$4,$T$4,L140:N142)","v":1}]
[null,null,5,{"$f":"OFFSET(OFFSET($C$3,$A139,0),23,0)","v":0.95},{"$f":"OFFSET(OFFSET($C$3,$A139,0),23,6)","v":0.9},{"$f":"OFFSET(OFFSET($C$3,$A139,0),23,12)","v":0.85},{"$f":"\"\"","v":""},{"$f":"OFFSET(OFFSET($C$3,$A139,1),23,0)","v":1},{"$f":"OFFSET(OFFSET($C$3,$A139,1),23,6)","v":0.98},{"$f":"OFFSET(OFFSET($C$3,$A139,1),23,12)","v":0.95},{"$f":"\"\"","v":""},{"$f":"OFFSET(OFFSET($C$3,$A139,2),23,0)","v":1},{"$f":"OFFSET(OFFSET($C$3,$A139,2),23,6)","v":1},{"$f":"OFFSET(OFFSET($C$3,$A139,2),23,12)","v":1}]
[null,null,10,{"$f":"OFFSET(OFFSET($C$3,$A139,0),47,0)","v":0.92500000000000004},{"$f":"OFFSET(OFFSET($C$3,$A139,0),47,6)","v":0.85},{"$f":"OFFSET(OFFSET($C$3,$A139,0),47,12)","v":0.8},{"$f":"\"\"","v":""},{"$f":"OFFSET(OFFSET($C$3,$A139,1),47,0)","v":0.97499999999999998},{"$f":"OFFSET(OFFSET($C$3,$A139,1),47,6)","v":0.95},{"$f":"OFFSET(OFFSET($C$3,$A139,1),47,12)","v":0.9},{"$f":"\"\"","v":""},{"$f":"OFFSET(OFFSET($C$3,$A139,2),47,0)","v":1},{"$f":"OFFSET(OFFSET($C$3,$A139,2),47,6)","v":1},{"$f":"OFFSET(OFFSET($C$3,$A139,2),47,12)","v":1}]
[null,null,null,null,null,null,{"$f":"\"\"","v":""},null,null,null,{"$f":"\"\"","v":""}]
[null,null,null,null,null,null,{"$f":"\"\"","v":""},null,null,null,{"$f":"\"\"","v":""}]
[12,{"$f":"B62","v":"Community, social and personal service activities"},null,1,5,10,{"$f":"\"\"","v":""},null,null,null,{"$f":"\"\"","v":""},null,null,null,null,null,1,2,3]
[null,null,1,{"$f":"OFFSET($C$3,$A145,0)","v":0.9},{"$f":"OFFSET(OFFSET($C$3,$A145,0),0,6)","v":0.85},{"$f":"OFFSET(OFFSET($C$3,$A145,0),0,12)","v":0.75},{"$f":"\"\"","v":""},{"$f":"OFFSET($C$3,$A145,1)","v":1},{"$f":"OFFSET(OFFSET($C$3,$A145,1),0,6)","v":0.9},{"$f":"OFFSET(OFFSET($C$3,$A145,1),0,12)","v":0.85},{"$f":"\"\"","v":""},{"$f":"OFFSET($C$3,$A145,2)","v":1},{"$f":"OFFSET(OFFSET($C$3,$A145,2),0,6)","v":1},{"$f":"OFFSET(OFFSET($C$3,$A145,2),0,12)","v":1},null,null,{"$f":"BiTerp($S$4,$T$4,D146:F148)","v":0.9},{"$f":"BiTerp($S$4,$T$4,H146:J148)","v":1},{"$f":"BiTerp($S$4,$T$4,L146:N148)","v":1}]
[null,null,5,{"$f":"OFFSET(OFFSET($C$3,$A145,0),23,0)","v":0.85},{"$f":"OFFSET(OFFSET($C$3,$A145,0),23,6)","v":0.7},{"$f":"OFFSET(OFFSET($C$3,$A145,0),23,12)","v":0.5},{"$f":"\"\"","v":""},{"$f":"OFFSET(OFFSET($C$3,$A145,1),23,0)","v":1},{"$f":"OFFSET(OFFSET($C$3,$A145,1),23,6)","v":0.95},{"$f":"OFFSET(OFFSET($C$3,$A145,1),23,12)","v":0.8},{"$f":"\"\"","v":""},{"$f":"OFFSET(OFFSET($C$3,$A145,2),23,0)","v":1},{"$f":"OFFSET(OFFSET($C$3,$A145,2),23,6)","v":1},{"$f":"OFFSET(OFFSET($C$3,$A145,2),23,12)","v":1}]
[null,null,10,{"$f":"OFFSET(OFFSET($C$3,$A145,0),47,0)","v":0.75},{"$f":"OFFSET(OFFSET($C$3,$A145,0),47,6)","v":0.65},{"$f":"OFFSET(OFFSET($C$3,$A145,0),47,12)","v":0.5},{"$f":"\"\"","v":""},{"$f":"OFFSET(OFFSET($C$3,$A145,1),47,0)","v":1},{"$f":"OFFSET(OFFSET($C$3,$A145,1),47,6)","v":0.95},{"$f":"OFFSET(OFFSET($C$3,$A145,1),47,12)","v":0.85},{"$f":"\"\"","v":""},{"$f":"OFFSET(OFFSET($C$3,$A145,2),47,0)","v":1},{"$f":"OFFSET(OFFSET($C$3,$A145,2),47,6)","v":1},{"$f":"OFFSET(OFFSET($C$3,$A145,2),47,12)","v":1}]
[null,null,null,null,null,null,{"$f":"\"\"","v":""},null,null,null,{"$f":"\"\"","v":""}]
[null,null,null,null,null,null,{"$f":"\"\"","v":""},null,null,null,{"$f":"\"\"","v":""}]
[13,{"$f":"B63","v":"Public administration and defence"},null,1,5,10,{"$f":"\"\"","v":""},null,null,null,{"$f":"\"\"","v":""},null,null,null,null,null,1,2,3]
[null,null,1,{"$f":"OFFSET($C$3,$A151,0)","v":0.93750000000000011},{"$f":"OFFSET(OFFSET($C$3,$A151,0),0,6)","v":0.91346153846153866},{"$f":"OFFSET(OFFSET($C$3,$A151,0),0,12)","v":0.91346153846153866},{"$f":"\"\"","v":""},{"$f":"OFFSET($C$3,$A151,1)","v":1},{"$f":"OFFSET(OFFSET($C$3,$A151,1),0,6)","v":0.98653846153846148},{"$f":"OFFSET(OFFSET($C$3,$A151,1),0,12)","v":0.98653846153846148},{"$f":"\"\"","v":""},{"$f":"OFFSET($C$3,$A151,2)","v":1},{"$f":"OFFSET(OFFSET($C$3,$A151,2),0,6)","v":1},{"$f":"OFFSET(OFFSET($C$3,$A151,2),0,12)","v":1},null,null,{"$f":"BiTerp($S$4,$T$4,D152:F154)","v":0.93750000000000011},{"$f":"BiTerp($S$4,$T$4,H152:J154)","v":1},{"$f":"BiTerp($S$4,$T$4,L152:N154)","v":1}]
[null,null,5,{"$f":"OFFSET(OFFSET($C$3,$A151,0),23,0)","v":0.93750000000000011},{"$f":"OFFSET(OFFSET($C$3,$A151,0),23,6)","v":0.91346153846153866},{"$f":"OFFSET(OFFSET($C$3,$A151,0),23,12)","v":0.91249999999999998},{"$f":"\"\"","v":""},{"$f":"OFFSET(OFFSET($C$3,$A151,1),23,0)","v":1},{"$f":"OFFSET(OFFSET($C$3,$A151,1),23,6)","v":0.98653846153846148},{"$f":"OFFSET(OFFSET($C$3,$A151,1),23,12)","v":0.9671052631578948},{"$f":"\"\"","v":""},{"$f":"OFFSET(OFFSET($C$3,$A151,2),23,0)","v":1},{"$f":"OFFSET(OFFSET($C$3,$A151,2),23,6)","v":1},{"$f":"OFFSET(OFFSET($C$3,$A151,2),23,12)","v":0.99539473684210533}]
[null,null,10,{"$f":"OFFSET(OFFSET($C$3,$A151,0),47,0)","v":0.87500000000000011},{"$f":"OFFSET(OFFSET($C$3,$A151,0),47,6)","v":0.82692307692307698},{"$f":"OFFSET(OFFSET($C$3,$A151,0),47,12)","v":0.81249999999999989},{"$f":"\"\"","v":""},{"$f":"OFFSET(OFFSET($C$3,$A151,1),47,0)","v":1},{"$f":"OFFSET(OFFSET($C$3,$A151,1),47,6)","v":0.97307692307692284},{"$f":"OFFSET(OFFSET($C$3,$A151,1),47,12)","v":0.9013157894736844},{"$f":"\"\"","v":""},{"$f":"OFFSET(OFFSET($C$3,$A151,2),47,0)","v":1},{"$f":"OFFSET(OFFSET($C$3,$A151,2),47,6)","v":1},{"$f":"OFFSET(OFFSET($C$3,$A151,2),47,12)","v":0.986184210526316}]
[null,null,null,null,null,null,{"$f":"\"\"","v":""},null,null,null,{"$f":"\"\"","v":""}]
[null,null,null,null,null,null,{"$f":"\"\"","v":""},null,null,null,{"$f":"\"\"","v":""}]
[14,{"$f":"B64","v":"Education"},null,1,5,10,{"$f":"\"\"","v":""},null,null,null,{"$f":"\"\"","v":""},null,null,null,null,null,1,2,3]
[null,null,1,{"$f":"OFFSET($C$3,$A157,0)","v":1},{"$f":"OFFSET(OFFSET($C$3,$A157,0),0,6)","v":1},{"$f":"OFFSET(OFFSET($C$3,$A157,0),0,12)","v":1},{"$f":"\"\"","v":""},{"$f":"OFFSET($C$3,$A157,1)","v":1},{"$f":"OFFSET(OFFSET($C$3,$A157,1),0,6)","v":1},{"$f":"OFFSET(OFFSET($C$3,$A157,1),0,12)","v":1},{"$f":"\"\"","v":""},{"$f":"OFFSET($C$3,$A157,2)","v":1},{"$f":"OFFSET(OFFSET($C$3,$A157,2),0,6)","v":1},{"$f":"OFFSET(OFFSET($C$3,$A157,2),0,12)","v":1},null,null,{"$f":"BiTerp($S$4,$T$4,D158:F160)","v":1},{"$f":"BiTerp($S$4,$T$4,H158:J160)","v":1},{"$f":"BiTerp($S$4,$T$4,L158:N160)","v":1}]
[null,null,5,{"$f":"OFFSET(OFFSET($C$3,$A157,0),23,0)","v":1},{"$f":"OFFSET(OFFSET($C$3,$A157,0),23,6)","v":1},{"$f":"OFFSET(OFFSET($C$3,$A157,0),23,12)","v":1},{"$f":"\"\"","v":""},{"$f":"OFFSET(OFFSET($C$3,$A157,1),23,0)","v":1},{"$f":"OFFSET(OFFSET($C$3,$A157,1),23,6)","v":1},{"$f":"OFFSET(OFFSET($C$3,$A157,1),23,12)","v":1},{"$f":"\"\"","v":""},{"$f":"OFFSET(OFFSET($C$3,$A157,2),23,0)","v":1},{"$f":"OFFSET(OFFSET($C$3,$A157,2),23,6)","v":1},{"$f":"OFFSET(OFFSET($C$3,$A157,2),23,12)","v":1}]
[null,null,10,{"$f":"OFFSET(OFFSET($C$3,$A157,0),47,0)","v":0.98},{"$f":"OFFSET(OFFSET($C$3,$A157,0),47,6)","v":0.95},{"$f":"OFFSET(OFFSET($C$3,$A157,0),47,12)","v":0.9},{"$f":"\"\"","v":""},{"$f":"OFFSET(OFFSET($C$3,$A157,1),47,0)","v":0.99},{"$f":"OFFSET(OFFSET($C$3,$A157,1),47,6)","v":0.97},{"$f":"OFFSET(OFFSET($C$3,$A157,1),47,12)","v":0.95},{"$f":"\"\"","v":""},{"$f":"OFFSET(OFFSET($C$3,$A157,2),47,0)","v":1},{"$f":"OFFSET(OFFSET($C$3,$A157,2),47,6)","v":1},{"$f":"OFFSET(OFFSET($C$3,$A157,2),47,12)","v":1}]
[null,null,null,null,null,null,{"$f":"\"\"","v":""},null,null,null,{"$f":"\"\"","v":""}]
[null,null,null,null,null,null,{"$f":"\"\"","v":""},null,null,null,{"$f":"\"\"","v":""}]
[15,{"$f":"B65","v":"Health"},null,1,5,10,{"$f":"\"\"","v":""},null,null,null,{"$f":"\"\"","v":""},null,null,null,null,null,1,2,3]
[null,null,1,{"$f":"OFFSET($C$3,$A163,0)","v":1.3},{"$f":"OFFSET(OFFSET($C$3,$A163,0),0,6)","v":1.5},{"$f":"OFFSET(OFFSET($C$3,$A163,0),0,12)","v":1.4},{"$f":"\"\"","v":""},{"$f":"OFFSET($C$3,$A163,1)","v":1.1000000000000001},{"$f":"OFFSET(OFFSET($C$3,$A163,1),0,6)","v":1.3},{"$f":"OFFSET(OFFSET($C$3,$A163,1),0,12)","v":1.2},{"$f":"\"\"","v":""},{"$f":"OFFSET($C$3,$A163,2)","v":1},{"$f":"OFFSET(OFFSET($C$3,$A163,2),0,6)","v":1.1000000000000001},{"$f":"OFFSET(OFFSET($C$3,$A163,2),0,12)","v":1.1000000000000001},null,null,{"$f":"BiTerp($S$4,$T$4,D164:F166)","v":1.3},{"$f":"BiTerp($S$4,$T$4,H164:J166)","v":1.1000000000000001},{"$f":"BiTerp($S$4,$T$4,L164:N166)","v":1}]
[null,null,5,{"$f":"OFFSET(OFFSET($C$3,$A163,0),23,0)","v":1.27},{"$f":"OFFSET(OFFSET($C$3,$A163,0),23,6)","v":1.4},{"$f":"OFFSET(OFFSET($C$3,$A163,0),23,12)","v":1.3},{"$f":"\"\"","v":""},{"$f":"OFFSET(OFFSET($C$3,$A163,1),23,0)","v":1.1000000000000001},{"$f":"OFFSET(OFFSET($C$3,$A163,1),23,6)","v":1.2},{"$f":"OFFSET(OFFSET($C$3,$A163,1),23,12)","v":1.2},{"$f":"\"\"","v":""},{"$f":"OFFSET(OFFSET($C$3,$A163,2),23,0)","v":1.1000000000000001},{"$f":"OFFSET(OFFSET($C$3,$A163,2),23,6)","v":1},{"$f":"OFFSET(OFFSET($C$3,$A163,2),23,12)","v":1.1000000000000001}]
[null,null,10,{"$f":"OFFSET(OFFSET($C$3,$A163,0),47,0)","v":1.27},{"$f":"OFFSET(OFFSET($C$3,$A163,0),47,6)","v":1.35},{"$f":"OFFSET(OFFSET($C$3,$A163,0),47,12)","v":1.25},{"$f":"\"\"","v":""},{"$f":"OFFSET(OFFSET($C$3,$A163,1),47,0)","v":1.1000000000000001},{"$f":"OFFSET(OFFSET($C$3,$A163,1),47,6)","v":1.1499999999999999},{"$f":"OFFSET(OFFSET($C$3,$A163,1),47,12)","v":1.1499999999999999},{"$f":"\"\"","v":""},{"$f":"OFFSET(OFFSET($C$3,$A163,2),47,0)","v":1.1000000000000001},{"$f":"OFFSET(OFFSET($C$3,$A163,2),47,6)","v":1},{"$f":"OFFSET(OFFSET($C$3,$A163,2),47,12)","v":1}]
[null,null,null,null,null,null,{"$f":"\"\"","v":""},null,null,null,{"$f":"\"\"","v":""}]
[null,null,null,null,null,null,{"$f":"\"\"","v":""},null,null,null,{"$f":"\"\"","v":""}]
[16,{"$f":"B66","v":"Private household with employed persons"},null,1,5,10,{"$f":"\"\"","v":""},null,null,null,{"$f":"\"\"","v":""},null,null,null,null,null,1,2,3]
[null,null,1,{"$f":"OFFSET($C$3,$A169,0)","v":0.9},{"$f":"OFFSET(OFFSET($C$3,$A169,0),0,6)","v":0.7},{"$f":"OFFSET(OFFSET($C$3,$A169,0),0,12)","v":0.6},{"$f":"\"\"","v":""},{"$f":"OFFSET($C$3,$A169,1)","v":1},{"$f":"OFFSET(OFFSET($C$3,$A169,1),0,6)","v":0.95},{"$f":"OFFSET(OFFSET($C$3,$A169,1),0,12)","v":0.9},{"$f":"\"\"","v":""},{"$f":"OFFSET($C$3,$A169,2)","v":1},{"$f":"OFFSET(OFFSET($C$3,$A169,2),0,6)","v":1},{"$f":"OFFSET(OFFSET($C$3,$A169,2),0,12)","v":1},null,null,{"$f":"BiTerp($S$4,$T$4,D170:F172)","v":0.9},{"$f":"BiTerp($S$4,$T$4,H170:J172)","v":1},{"$f":"BiTerp($S$4,$T$4,L170:N172)","v":1}]
[null,null,5,{"$f":"OFFSET(OFFSET($C$3,$A169,0),23,0)","v":0.85},{"$f":"OFFSET(OFFSET($C$3,$A169,0),23,6)","v":0.6},{"$f":"OFFSET(OFFSET($C$3,$A169,0),23,12)","v":0.5},{"$f":"\"\"","v":""},{"$f":"OFFSET(OFFSET($C$3,$A169,1),23,0)","v":1},{"$f":"OFFSET(OFFSET($C$3,$A169,1),23,6)","v":0.92},{"$f":"OFFSET(OFFSET($C$3,$A169,1),23,12)","v":0.85},{"$f":"\"\"","v":""},{"$f":"OFFSET(OFFSET($C$3,$A169,2),23,0)","v":1},{"$f":"OFFSET(OFFSET($C$3,$A169,2),23,6)","v":1},{"$f":"OFFSET(OFFSET($C$3,$A169,2),23,12)","v":1}]
[null,null,10,{"$f":"OFFSET(OFFSET($C$3,$A169,0),47,0)","v":0.77500000000000002},{"$f":"OFFSET(OFFSET($C$3,$A169,0),47,6)","v":0.55000000000000004},{"$f":"OFFSET(OFFSET($C$3,$A169,0),47,12)","v":0.35},{"$f":"\"\"","v":""},{"$f":"OFFSET(OFFSET($C$3,$A169,1),47,0)","v":1},{"$f":"OFFSET(OFFSET($C$3,$A169,1),47,6)","v":0.9},{"$f":"OFFSET(OFFSET($C$3,$A169,1),47,12)","v":0.8},{"$f":"\"\"","v":""},{"$f":"OFFSET(OFFSET($C$3,$A169,2),47,0)","v":1},{"$f":"OFFSET(OFFSET($C$3,$A169,2),47,6)","v":1},{"$f":"OFFSET(OFFSET($C$3,$A169,2),47,12)","v":1}]
[null,null,null,null,null,null,{"$f":"\"\"","v":""},null,null,null,{"$f":"\"\"","v":""}]
[null,null,null,null,null,null,{"$f":"\"\"","v":""},null,null,null,{"$f":"\"\"","v":""}]
[17,{"$f":"B67","v":"Financial intermediation services indirectly measured"},null,1,5,10,{"$f":"\"\"","v":""},null,null,null,{"$f":"\"\"","v":""},null,null,null,null,null,1,2,3]
[null,null,1,{"$f":"OFFSET($C$3,$A175,0)","v":1},{"$f":"OFFSET(OFFSET($C$3,$A175,0),0,6)","v":1},{"$f":"OFFSET(OFFSET($C$3,$A175,0),0,12)","v":1},{"$f":"\"\"","v":""},{"$f":"OFFSET($C$3,$A175,1)","v":1},{"$f":"OFFSET(OFFSET($C$3,$A175,1),0,6)","v":1},{"$f":"OFFSET(OFFSET($C$3,$A175,1),0,12)","v":1},{"$f":"\"\"","v":""},{"$f":"OFFSET($C$3,$A175,2)","v":1},{"$f":"OFFSET(OFFSET($C$3,$A175,2),0,6)","v":1},{"$f":"OFFSET(OFFSET($C$3,$A175,2),0,12)","v":1},null,null,{"$f":"BiTerp($S$4,$T$4,D176:F178)","v":1},{"$f":"BiTerp($S$4,$T$4,H176:J178)","v":1},{"$f":"BiTerp($S$4,$T$4,L176:N178)","v":1}]
[null,null,5,{"$f":"OFFSET(OFFSET($C$3,$A175,0),23,0)","v":1},{"$f":"OFFSET(OFFSET($C$3,$A175,0),23,6)","v":1},{"$f":"OFFSET(OFFSET($C$3,$A175,0),23,12)","v":1},{"$f":"\"\"","v":""},{"$f":"OFFSET(OFFSET($C$3,$A175,1),23,0)","v":1},{"$f":"OFFSET(OFFSET($C$3,$A175,1),23,6)","v":1},{"$f":"OFFSET(OFFSET($C$3,$A175,1),23,12)","v":1},{"$f":"\"\"","v":""},{"$f":"OFFSET(OFFSET($C$3,$A175,2),23,0)","v":1},{"$f":"OFFSET(OFFSET($C$3,$A175,2),23,6)","v":1},{"$f":"OFFSET(OFFSET($C$3,$A175,2),23,12)","v":1}]
[null,null,10,{"$f":"OFFSET(OFFSET($C$3,$A175,0),47,0)","v":1},{"$f":"OFFSET(OFFSET($C$3,$A175,0),47,6)","v":1},{"$f":"OFFSET(OFFSET($C$3,$A175,0),47,12)","v":1},{"$f":"\"\"","v":""},{"$f":"OFFSET(OFFSET($C$3,$A175,1),47,0)","v":1},{"$f":"OFFSET(OFFSET($C$3,$A175,1),47,6)","v":1},{"$f":"OFFSET(OFFSET($C$3,$A175,1),47,12)","v":1},{"$f":"\"\"","v":""},{"$f":"OFFSET(OFFSET($C$3,$A175,2),47,0)","v":1},{"$f":"OFFSET(OFFSET($C$3,$A175,2),47,6)","v":1},{"$f":"OFFSET(OFFSET($C$3,$A175,2),47,12)","v":1}]
[null,null,null,null,null,null,{"$f":"\"\"","v":""},null,null,null,{"$f":"\"\"","v":""}]
[null,null,null,null,null,null,{"$f":"\"\"","v":""},null,null,null,{"$f":"\"\"","v":""}]
[18,{"$f":"B68","v":"Less subsidies on products"},null,1,5,10,{"$f":"\"\"","v":""},null,null,null,{"$f":"\"\"","v":""},null,null,null,null,null,1,2,3]
[null,null,1,{"$f":"OFFSET($C$3,$A181,0)","v":1},{"$f":"OFFSET(OFFSET($C$3,$A181,0),0,6)","v":1},{"$f":"OFFSET(OFFSET($C$3,$A181,0),0,12)","v":1},{"$f":"\"\"","v":""},{"$f":"OFFSET($C$3,$A181,1)","v":1},{"$f":"OFFSET(OFFSET($C$3,$A181,1),0,6)","v":1},{"$f":"OFFSET(OFFSET($C$3,$A181,1),0,12)","v":1},{"$f":"\"\"","v":""},{"$f":"OFFSET($C$3,$A181,2)","v":1},{"$f":"OFFSET(OFFSET($C$3,$A181,2),0,6)","v":1},{"$f":"OFFSET(OFFSET($C$3,$A181,2),0,12)","v":1},null,null,{"$f":"BiTerp($S$4,$T$4,D182:F184)","v":1},{"$f":"BiTerp($S$4,$T$4,H182:J184)","v":1},{"$f":"BiTerp($S$4,$T$4,L182:N184)","v":1}]
[null,null,5,{"$f":"OFFSET(OFFSET($C$3,$A181,0),23,0)","v":1},{"$f":"OFFSET(OFFSET($C$3,$A181,0),23,6)","v":1},{"$f":"OFFSET(OFFSET($C$3,$A181,0),23,12)","v":1},{"$f":"\"\"","v":""},{"$f":"OFFSET(OFFSET($C$3,$A181,1),23,0)","v":1},{"$f":"OFFSET(OFFSET($C$3,$A181,1),23,6)","v":1},{"$f":"OFFSET(OFFSET($C$3,$A181,1),23,12)","v":1},{"$f":"\"\"","v":""},{"$f":"OFFSET(OFFSET($C$3,$A181,2),23,0)","v":1},{"$f":"OFFSET(OFFSET($C$3,$A181,2),23,6)","v":1},{"$f":"OFFSET(OFFSET($C$3,$A181,2),23,12)","v":1}]
[null,null,10,{"$f":"OFFSET(OFFSET($C$3,$A181,0),47,0)","v":1},{"$f":"OFFSET(OFFSET($C$3,$A181,0),47,6)","v":1},{"$f":"OFFSET(OFFSET($C$3,$A181,0),47,12)","v":1},{"$f":"\"\"","v":""},{"$f":"OFFSET(OFFSET($C$3,$A181,1),47,0)","v":1},{"$f":"OFFSET(OFFSET($C$3,$A181,1),47,6)","v":1},{"$f":"OFFSET(OFFSET($C$3,$A181,1),47,12)","v":1},{"$f":"\"\"","v":""},{"$f":"OFFSET(OFFSET($C$3,$A181,2),47,0)","v":1},{"$f":"OFFSET(OFFSET($C$3,$A181,2),47,6)","v":1},{"$f":"OFFSET(OFFSET($C$3,$A181,2),47,12)","v":1}]
[]
[]
[]
[]
[]
[0,{"$f":"B73","v":"Agriculture and forestry"},null,1,5,10,null,null,null,null,null,null,null,null,null,null,1,2,3]
[null,null,1,1,0.97,0.91,null,1,1,0.94640000000000002,null,1,1,0.98425600000000002,null,null,{"$f":"BiTerp($S$4,$T$4,D191:F193)","v":1},{"$f":"BiTerp($S$4,$T$4,H191:J193)","v":1},{"$f":"BiTerp($S$4,$T$4,L191:N193)","v":1}]
[null,null,5,0.97,0.94,0.82000000000000006,null,1,0.97760000000000002,0.86920000000000008,null,1,1,0.92135200000000017]
[null,null,10,0.94,0.91,0.77,null,0.97760000000000002,0.94640000000000002,0.8,null,1,0.98425600000000002,0.88]
[]
[]
[1,{"$f":"B79","v":"Fishing and fish processing on board"},null,1,5,10,null,null,null,null,null,null,null,null,null,null,1,2,3]
[null,null,1,0.93700000000000006,0.874,0.81099999999999994,null,1,0.90895999999999999,0.84343999999999997,null,1,0.97,0.8771776,null,null,{"$f":"BiTerp($S$4,$T$4,D197:F199)","v":0.93700000000000017},{"$f":"BiTerp($S$4,$T$4,H197:J199)","v":1},{"$f":"BiTerp($S$4,$T$4,L197:N199)","v":1}]
[null,null,5,0.90549999999999997,0.81099999999999994,0.71650000000000003,null,0.94172,0.84343999999999997,0.75949000000000011,null,1,0.8771776,0.8050594000000002]
[null,null,10,0.55000000000000004,0.5,0.45,null,0.75,0.7,0.64999999999999991,null,0.95,0.84,0.71]
[]
[]
[2,{"$f":"B85","v":"Mining and quarrying"},null,1,5,10,null,null,null,null,null,null,null,null,null,null,1,2,3]
[null,null,1,0.94,0.8,0.7,null,1,0.97,0.8,null,1,1,0.94,null,null,{"$f":"BiTerp($S$4,$T$4,D203:F205)","v":0.93999999999999984},{"$f":"BiTerp($S$4,$T$4,H203:J205)","v":1},{"$f":"BiTerp($S$4,$T$4,L203:N205)","v":1}]
[null,null,5,0.81,0.7,0.5,null,1,0.9,0.75,null,1,1,0.9]
[null,null,10,0.55000000000000004,0.35,0.2,null,0.8,0.75,0.65,null,0.95,0.93,0.85]
[]
[]
[3,{"$f":"B91","v":"Manufacturing"},null,1,5,10,null,null,null,null,null,null,null,null,null,null,1,2,3]
[null,null,1,0.81,0.69,0.56000000000000005,null,1,0.95,0.67,null,1,1,0.95,null,null,{"$f":"BiTerp($S$4,$T$4,D209:F211)","v":0.81000000000000016},{"$f":"BiTerp($S$4,$T$4,H209:J211)","v":1},{"$f":"BiTerp($S$4,$T$4,L209:N211)","v":1}]
[null,null,5,0.69,0.46,0.36,null,1,0.91,0.56999999999999995,null,1,1,0.94]
[null,null,10,0.63,0.44,0.31,null,1,0.91,0.54,null,1,1,0.94]
[]
[]
[4,{"$f":"B97","v":"Electricity and water"},null,1,5,10,null,null,null,null,null,null,null,null,null,null,1,2,3]
[null,null,1,0.95499999999999996,0.91,0.82000000000000006,null,1,0.94640000000000002,0.85280000000000011,null,1,0.97,0.88691200000000014,null,null,{"$f":"BiTerp($S$4,$T$4,D215:F217)","v":0.95499999999999985},{"$f":"BiTerp($S$4,$T$4,H215:J217)","v":1},{"$f":"BiTerp($S$4,$T$4,L215:N217)","v":1}]
[null,null,5,0.9375,0.875,0.75,null,1,0.91,0.78,null,1,0.97,0.81120000000000003]
[null,null,10,0.9375,0.875,0.73,null,1,0.91,0.74,null,1,0.97,0.78]
[]
[]
[5,{"$f":"B103","v":"Construction"},null,1,5,10,null,null,null,null,null,null,null,null,null,null,1,2,3]
[null,null,1,0.85,0.8,0.75,null,0.9,0.87,0.85,null,1,0.96,0.95,null,null,{"$f":"BiTerp($S$4,$T$4,D221:F223)","v":0.85},{"$f":"BiTerp($S$4,$T$4,H221:J223)","v":0.9},{"$f":"BiTerp($S$4,$T$4,L221:N223)","v":1}]
[null,null,5,0.8,0.7,0.6,null,0.85,0.8,0.75,null,0.96,0.95,0.9]
[null,null,10,0.7,0.6,0.5,null,0.85,0.8,0.7,null,0.96,0.95,0.88]
[]
[]
[6,{"$f":"B109","v":"Wholesale and retail trade, repairs"},null,1,5,10,null,null,null,null,null,null,null,null,null,null,1,2,3]
[null,null,1,0.97270090191130743,0.94540180382261485,0.89080360764522981,null,0.98635045095565377,0.97270090191130743,0.94540180382261485,null,1,1,1,null,null,{"$f":"BiTerp($S$4,$T$4,D227:F229)","v":0.97270090191130754},{"$f":"BiTerp($S$4,$T$4,H227:J229)","v":0.98635045095565377},{"$f":"BiTerp($S$4,$T$4,L227:N229)","v":1}]
[null,null,5,0.88568360686269954,0.77136721372539907,0.54273442745079814,null,0.94284180343134971,0.88568360686269954,0.77136721372539907,null,1,1,1]
[null,null,10,0.8450731976728999,0.6901463953457998,0.38029279069159955,null,0.92253659883645001,0.8450731976728999,0.6901463953457998,null,1,1,1]
[]
[]
[7,{"$f":"B115","v":"Hotels and restaurants"},null,1,5,10,null,null,null,null,null,null,null,null,null,null,1,2,3]
[null,null,1,0.85,0.65,0.5,null,0.95,0.9,0.85,null,1,1,0.99,null,null,{"$f":"BiTerp($S$4,$T$4,D233:F235)","v":0.85},{"$f":"BiTerp($S$4,$T$4,H233:J235)","v":0.95},{"$f":"BiTerp($S$4,$T$4,L233:N235)","v":1}]
[null,null,5,0.75,0.5,0.2,null,0.93,0.85,0.6,null,1,0.95,0.8]
[null,null,10,0.5,0.15,0.05,null,0.75,0.65,0.5,null,0.95,0.85,0.75]
[]
[]
[8,{"$f":"B121","v":"Transport"},null,1,5,10,null,null,null,null,null,null,null,null,null,null,1,2,3]
[null,null,1,0.85,0.75,0.6,null,0.95,0.8,0.7,null,1,0.97,0.95,null,null,{"$f":"BiTerp($S$4,$T$4,D239:F241)","v":0.85},{"$f":"BiTerp($S$4,$T$4,H239:J241)","v":0.95},{"$f":"BiTerp($S$4,$T$4,L239:N241)","v":1}]
[null,null,5,0.75,0.65,0.55000000000000004,null,0.8,0.75,0.7,null,0.97,0.95,0.93500000000000005]
[null,null,10,0.65,0.55000000000000004,0.45,null,0.75,0.65,0.55000000000000004,null,0.95,0.93500000000000005,0.91]
[]
[]
[9,{"$f":"B127","v":"Communication"},null,1,5,10,null,null,null,null,null,null,null,null,null,null,1,2,3]
[null,null,1,0.85,0.75,0.65,null,0.95,0.8,0.7,null,1,0.97,0.95,null,null,{"$f":"BiTerp($S$4,$T$4,D245:F247)","v":0.85},{"$f":"BiTerp($S$4,$T$4,H245:J247)","v":0.95},{"$f":"BiTerp($S$4,$T$4,L245:N247)","v":1}]
[null,null,5,0.75,0.65,0.55000000000000004,null,0.8,0.75,0.7,null,0.97,0.95,0.93500000000000005]
[null,null,10,0.65,0.55000000000000004,0.45,null,0.75,0.65,0.55000000000000004,null,0.95,0.93500000000000005,0.91]
[]
[]
[10,{"$f":"B133","v":"Financial intermediation"},null,1,5,10,null,null,null,null,null,null,null,null,null,null,1,2,3]
[null,null,1,0.85,0.8,0.7,null,0.95,0.9,0.85,null,1,1,1,null,null,{"$f":"BiTerp($S$4,$T$4,D251:F253)","v":0.85},{"$f":"BiTerp($S$4,$T$4,H251:J253)","v":0.95},{"$f":"BiTerp($S$4,$T$4,L251:N253)","v":1}]
[null,null,5,0.7,0.65,0.55000000000000004,null,0.85,0.8,0.7,null,1,1,1]
[null,null,10,0.55000000000000004,0.5,0.4,null,0.7,0.65,0.55000000000000004,null,1,1,0.95]
[]
[]
[11,{"$f":"B139","v":"Real estate and business services"},null,1,5,10,null,null,null,null,null,null,null,null,null,null,1,2,3]
[null,null,1,0.98,0.95,0.9,null,1,1,0.97,null,1,1,1,null,null,{"$f":"BiTerp($S$4,$T$4,D257:F259)","v":0.98},{"$f":"BiTerp($S$4,$T$4,H257:J259)","v":1},{"$f":"BiTerp($S$4,$T$4,L257:N259)","v":1}]
[null,null,5,0.95,0.9,0.85,null,1,0.98,0.95,null,1,1,1]
[null,null,10,0.92500000000000004,0.85,0.8,null,0.97499999999999998,0.95,0.9,null,1,1,1]
[]
[]
[12,{"$f":"B145","v":"Community, social and personal service activities"},null,1,5,10,null,null,null,null,null,null,null,null,null,null,1,2,3]
[null,null,1,0.9,0.85,0.75,null,1,0.9,0.85,null,1,1,1,null,null,{"$f":"BiTerp($S$4,$T$4,D263:F265)","v":0.9},{"$f":"BiTerp($S$4,$T$4,H263:J265)","v":1},{"$f":"BiTerp($S$4,$T$4,L263:N265)","v":1}]
[null,null,5,0.85,0.7,0.5,null,1,0.95,0.8,null,1,1,1]
[null,null,10,0.75,0.65,0.5,null,1,0.95,0.85,null,1,1,1]
[]
[]
[13,{"$f":"B151","v":"Public administration and defence"},null,1,5,10,null,null,null,null,null,null,null,null,null,null,1,2,3]
[null,null,1,0.93750000000000011,0.91346153846153866,0.91346153846153866,null,1,0.98653846153846148,0.98653846153846148,null,1,1,1,null,null,{"$f":"BiTerp($S$4,$T$4,D269:F271)","v":0.93750000000000011},{"$f":"BiTerp($S$4,$T$4,H269:J271)","v":1},{"$f":"BiTerp($S$4,$T$4,L269:N271)","v":1}]
[null,null,5,0.93750000000000011,0.91346153846153866,0.91249999999999998,null,1,0.98653846153846148,0.9671052631578948,null,1,1,0.99539473684210533]
[null,null,10,0.87500000000000011,0.82692307692307698,0.81249999999999989,null,1,0.97307692307692284,0.9013157894736844,null,1,1,0.986184210526316]
[]
[]
[14,{"$f":"B157","v":"Education"},null,1,5,10,null,null,null,null,null,null,null,null,null,null,1,2,3]
[null,null,1,1,1,1,null,1,1,1,null,1,1,1,null,null,{"$f":"BiTerp($S$4,$T$4,D275:F277)","v":1},{"$f":"BiTerp($S$4,$T$4,H275:J277)","v":1},{"$f":"BiTerp($S$4,$T$4,L275:N277)","v":1}]
[null,null,5,1,1,1,null,1,1,1,null,1,1,1]
[null,null,10,0.98,0.95,0.9,null,0.99,0.97,0.95,null,1,1,1]
[]
[]
[15,{"$f":"B163","v":"Health"},null,1,5,10,null,null,null,null,null,null,null,null,null,null,1,2,3]
[null,null,1,1.3,1.5,1.4,null,1.1000000000000001,1.3,1.2,null,1,1.1000000000000001,1.1000000000000001,null,null,{"$f":"BiTerp($S$4,$T$4,D281:F283)","v":1.3},{"$f":"BiTerp($S$4,$T$4,H281:J283)","v":1.1000000000000001},{"$f":"BiTerp($S$4,$T$4,L281:N283)","v":1}]
[null,null,5,1.27,1.4,1.3,null,1.1000000000000001,1.2,1.2,null,1.1000000000000001,1,1.1000000000000001]
[null,null,10,1.27,1.35,1.25,null,1.1000000000000001,1.1499999999999999,1.1499999999999999,null,1.1000000000000001,1,1]
[]
[]
[16,{"$f":"B169","v":"Private household with employed persons"},null,1,5,10,null,null,null,null,null,null,null,null,null,null,1,2,3]
[null,null,1,0.9,0.7,0.6,null,1,0.95,0.9,null,1,1,1,null,null,{"$f":"BiTerp($S$4,$T$4,D287:F289)","v":0.9},{"$f":"BiTerp($S$4,$T$4,H287:J289)","v":1},{"$f":"BiTerp($S$4,$T$4,L287:N289)","v":1}]
[null,null,5,0.85,0.6,0.5,null,1,0.92,0.85,null,1,1,1]
[null,null,10,0.77500000000000002,0.55000000000000004,0.35,null,1,0.9,0.8,null,1,1,1]
[]
[]
[17,{"$f":"B175","v":"Financial intermediation services indirectly measured"},null,1,5,10,null,null,null,null,null,null,null,null,null,null,1,2,3]
[null,null,1,1,1,1,null,1,1,1,null,1,1,1,null,null,{"$f":"BiTerp($S$4,$T$4,D293:F295)","v":1},{"$f":"BiTerp($S$4,$T$4,H293:J295)","v":1},{"$f":"BiTerp($S$4,$T$4,L293:N295)","v":1}]
[null,null,5,1,1,1,null,1,1,1,null,1,1,1]
[null,null,10,1,1,1,null,1,1,1,null,1,1,1]
[]
[]
[18,{"$f":"B181","v":"Less subsidies on products"},null,1,5,10,null,null,null,null,null,null,null,null,null,null,1,2,3]
[null,null,1,1,1,1,null,1,1,1,null,1,1,1,null,null,{"$f":"BiTerp($S$4,$T$4,D299:F301)","v":1},{"$f":"BiTerp($S$4,$T$4,H299:J301)","v":1},{"$f":"BiTerp($S$4,$T$4,L299:N301)","v":1}]
[null,null,5,1,1,1,null,1,1,1,null,1,1,1]
[null,null,10,1,1,1,null,1,1,1,null,1,1,1]
[]
[]
[]
[]
[]
[null,null,null,"Year 0","Year 1","Year 2"]
[null,"Parameters",null,0,1,2,null,null,null,2,3,4,null,null,"Stringency",{"$f":"IF('Model Adjustment By Sector'!D22=U317,3,IF('Model Adjustment By Sector'!D22=U316,2,IF('Model Adjustment By Sector'!D22=U315,1)))","v":1},null,null,null,null,"Length",{"$f":"IF('Model Adjustment By Sector'!J22=N320,1,IF('Model Adjustment By Sector'!J22=N321,2,IF('Model Adjustment By Sector'!J22=N322,3)))","v":1}]
[null,{"$f":"Labels!F24","v":"Agriculture and forestry"},0,{"$f":"Q191","v":1},{"$f":"R191","v":1},{"$f":"S191","v":1},null,1,1,{"$f":"'Model Adjustment By Sector'!C9","v":1},{"$f":"'Model Adjustment By Sector'!D9","v":1},{"$f":"'Model Adjustment By Sector'!E9","v":1},null,null,null,{"$f":"IF(ISNA(Q309),\"\",$O$320)","v":"3 month lockdown"},{"$f":"IF($I309=$P$308,J309,NA())","v":1},{"$f":"IF($I309=$P$308,K309,NA())","v":1},{"$f":"IF($I309=$P$308,L309,NA())","v":1},null,null,{"$f":"IF(ISNA(W309),\"\",$U$320)","v":"Low Stringency"},{"$f":"IF($H309=$V$308,J309,NA())","v":1},{"$f":"IF($H309=$V$308,K309,NA())","v":1},{"$f":"IF($H309=$V$308,L309,NA())","v":1}]
[null,{"$f":"Labels!F25","v":"Fishing and fish processing on board"},1,{"$f":"OFFSET($Q$191,6*$C310,D$308)","v":0.93700000000000017},1,1,null,1,2,{"$f":"'Model Adjustment By Sector'!C10","v":0.97},{"$f":"'Model Adjustment By Sector'!D10","v":1},{"$f":"'Model Adjustment By Sector'!E10","v":1},null,null,null,{"$f":"IF(ISNA(Q310),\"\",$O$320)","v":""},{"$error":"#N/A"},{"$error":"#N/A"},{"$error":"#N/A"},null,null,{"$f":"IF(ISNA(W310),\"\",$U$321)","v":"Medium Stringency"},0.97,1,1]
[null,{"$f":"Labels!F26","v":"Mining and quarrying"},2,0.93999999999999984,1,1,null,1,3,{"$f":"'Model Adjustment By Sector'!C11","v":0.94},{"$f":"'Model Adjustment By Sector'!D11","v":0.97760000000000002},{"$f":"'Model Adjustment By Sector'!E11","v":1},null,null,null,{"$f":"J320","v":"3 month lockdown"},{"$error":"#N/A"},{"$error":"#N/A"},{"$error":"#N/A"},null,null,{"$f":"IF(ISNA(W311),\"\",$U$322)","v":"High Stringency"},0.94,0.97760000000000002,1]
[null,{"$f":"Labels!F27","v":"Manufacturing"},3,0.81000000000000016,1,1,null,2,1,{"$f":"'Model Adjustment By Sector'!G9","v":0.97},{"$f":"'Model Adjustment By Sector'!H9","v":1},{"$f":"'Model Adjustment By Sector'!I9","v":1},null,null,null,{"$f":"IF(ISNA(Q312),\"\",$O$321)","v":"6 month lockdown"},0.97,1,1,null,null,{"$f":"IF(ISNA(W312),\"\",$U$320)","v":""},{"$error":"#N/A"},{"$error":"#N/A"},{"$error":"#N/A"}]
[null,{"$f":"Labels!F28","v":"Electricity and water"},4,0.95499999999999985,1,1,null,2,2,{"$f":"'Model Adjustment By Sector'!G10","v":0.94},{"$f":"'Model Adjustment By Sector'!H10","v":0.97760000000000002},{"$f":"'Model Adjustment By Sector'!I10","v":1},null,null,null,{"$f":"IF(ISNA(Q313),\"\",$O$321)","v":""},{"$error":"#N/A"},{"$error":"#N/A"},{"$error":"#N/A"},null,null,{"$f":"IF(ISNA(W313),\"\",$U$321)","v":""},{"$error":"#N/A"},{"$error":"#N/A"},{"$error":"#N/A"}]
[null,{"$f":"Labels!F29","v":"Construction"},5,0.85,0.9,1,null,2,3,{"$f":"'Model Adjustment By Sector'!G11","v":0.91},{"$f":"'Model Adjustment By Sector'!H11","v":0.94640000000000002},{"$f":"'Model Adjustment By Sector'!I11","v":0.98425600000000002},null,null,null,{"$f":"J321","v":"6 month lockdown"},{"$error":"#N/A"},{"$error":"#N/A"},{"$error":"#N/A"},null,null,{"$f":"IF(ISNA(W314),\"\",$U$322)","v":""},{"$error":"#N/A"},{"$error":"#N/A"},{"$error":"#N/A"}]
[null,{"$f":"Labels!F30","v":"Wholesale and retail trade, repairs"},6,0.97270090191130754,0.98635045095565377,1,null,3,1,{"$f":"'Model Adjustment By Sector'!K9","v":0.91},{"$f":"'Model Adjustment By Sector'!L9","v":0.94640000000000002},{"$f":"'Model Adjustment By Sector'!M9","v":0.98425600000000002},null,null,null,{"$f":"IF(ISNA(Q315),\"\",$O$322)","v":"12 month lockdown"},0.91,0.94640000000000002,0.98425600000000002,null,{"$f":"'Model Adjustment By Sector'!R8","v":"Low"},{"$f":"I320","v":"Low Stringency"},{"$error":"#N/A"},{"$error":"#N/A"},{"$error":"#N/A"}]
[null,{"$f":"Labels!F31","v":"Hotels and restaurants"},7,0.85,0.95,1,null,3,2,{"$f":"'Model Adjustment By Sector'!K10","v":0.82000000000000006},{"$f":"'Model Adjustment By Sector'!L10","v":0.86920000000000008},{"$f":"'Model Adjustment By Sector'!M10","v":0.92135200000000017},null,null,null,{"$f":"IF(ISNA(Q316),\"\",$O$322)","v":""},{"$error":"#N/A"},{"$error":"#N/A"},{"$error":"#N/A"},null,{"$f":"'Model Adjustment By Sector'!R9","v":"Medium"},{"$f":"I321","v":"Medium Stringency"},{"$error":"#N/A"},{"$error":"#N/A"},{"$error":"#N/A"}]
[null,{"$f":"Labels!F32","v":"Transport"},8,0.85,0.95,1,null,3,3,{"$f":"'Model Adjustment By Sector'!K11","v":0.77},{"$f":"'Model Adjustment By Sector'!L11","v":0.8},{"$f":"'Model Adjustment By Sector'!M11","v":0.88},null,null,null,{"$f":"J322","v":"12 month lockdown"},{"$error":"#N/A"},{"$error":"#N/A"},{"$error":"#N/A"},null,{"$f":"'Model Adjustment By Sector'!R10","v":"High"},"High Stringency",{"$error":"#N/A"},{"$error":"#N/A"},{"$error":"#N/A"}]
[null,{"$f":"Labels!F33","v":"Communication"},9,0.85,0.95,1]
[null,{"$f":"Labels!F34","v":"Financial intermediation"},10,0.85,0.95,1]
[null,{"$f":"Labels!F35","v":"Real estate and business services"},11,0.98,1,1,null,1,{"$f":"Labels!F189","v":"Low Stringency"},{"$f":"'Model Adjustment By Sector'!R12","v":"3 month lockdown"},null,null,null,{"$f":"'Model Adjustment By Sector'!$R$16","v":"3 months"},{"$f":"J320","v":"3 month lockdown"},1,{"$f":"VLOOKUP($O320,$P$309:$S$317,2,FALSE)","v":1},{"$f":"VLOOKUP($O320,$P$309:$S$317,3,FALSE)","v":1},{"$f":"VLOOKUP($O320,$P$309:$S$317,4,FALSE)","v":1},null,{"$f":"V315","v":"Low Stringency"},1,{"$f":"VLOOKUP($U320,$V$309:$Y$317,2,FALSE)","v":1},{"$f":"VLOOKUP($U320,$V$309:$Y$317,3,FALSE)","v":1},{"$f":"VLOOKUP($U320,$V$309:$Y$317,4,FALSE)","v":1}]
[null,{"$f":"Labels!F36","v":"Community, social and personal service activities"},12,0.9,1,1,null,2,{"$f":"Labels!F190","v":"Medium Stringency"},{"$f":"'Model Adjustment By Sector'!R13","v":"6 month lockdown"},null,null,null,{"$f":"'Model Adjustment By Sector'!$R$17","v":"6 months"},{"$f":"J321","v":"6 month lockdown"},1,{"$f":"VLOOKUP($O321,$P$309:$S$317,2,FALSE)","v":0.97},{"$f":"VLOOKUP($O321,$P$309:$S$317,3,FALSE)","v":1},{"$f":"VLOOKUP($O321,$P$309:$S$317,4,FALSE)","v":1},null,{"$f":"V316","v":"Medium Stringency"},1,{"$f":"VLOOKUP($U321,$V$309:$Y$317,2,FALSE)","v":0.97},{"$f":"VLOOKUP($U321,$V$309:$Y$317,3,FALSE)","v":1},{"$f":"VLOOKUP($U321,$V$309:$Y$317,4,FALSE)","v":1}]
[null,{"$f":"Labels!F37","v":"Public administration and defence"},13,0.93750000000000011,1,1,null,3,{"$f":"Labels!F191","v":"High Stringency"},{"$f":"'Model Adjustment By Sector'!R14","v":"12 month lockdown"},null,null,null,{"$f":"'Model Adjustment By Sector'!$R$18","v":"12 months"},{"$f":"J322","v":"12 month lockdown"},1,{"$f":"VLOOKUP($O322,$P$309:$S$317,2,FALSE)","v":0.91},{"$f":"VLOOKUP($O322,$P$309:$S$317,3,FALSE)","v":0.94640000000000002},{"$f":"VLOOKUP($O322,$P$309:$S$317,4,FALSE)","v":0.98425600000000002},null,{"$f":"V317","v":"High Stringency"},1,{"$f":"VLOOKUP($U322,$V$309:$Y$317,2,FALSE)","v":0.94},{"$f":"VLOOKUP($U322,$V$309:$Y$317,3,FALSE)","v":0.97760000000000002},{"$f":"VLOOKUP($U322,$V$309:$Y$317,4,FALSE)","v":1}]
[null,{"$f":"Labels!F38","v":"Education"},14,1,1,1,null,null,null,null,null,null,null,null,null,1,1,1,1,null,null,1,1,1,1]
[null,{"$f":"Labels!F39","v":"Health"},15,1.3,1.1000000000000001,1,null,null,{"$f":"'Model Adjustment By Sector'!C3&\" (\"&VLOOKUP(P308,H320:I322,2,FALSE)&\")\"","v":"Agriculture and forestry (Low Stringency)"},null,null,null,null,null,null,0,1,2,3]
[null,{"$f":"Labels!F40","v":"Private household with employed persons"},16,0.9,1,1,null,null,{"$f":"'Model Adjustment By Sector'!C3&\" (\"&VLOOKUP(V308,H320:J322,3,FALSE)&\")\"","v":"Agriculture and forestry (3 month lockdown)"}]
[null,{"$f":"Labels!F41","v":"Financial intermediation services indirectly measured"},17,1,1,1]
[null,{"$f":"Labels!F42","v":"Less subsidies on products"},18,1,1,1,null,null,{"$f":"\"=\"&VLOOKUP('Model Adjustment By Sector'!C3,'Check Parameter Mapping'!B6:K24,10,FALSE)","v":"=Param0"}]
[null,null,null,null,null,null,null,null,{"$f":"\"R\"&VLOOKUP('Model Adjustment By Sector'!C3,'Check Parameter Mapping'!B6:K24,10,FALSE)","v":"RParam0"}]
[null,null,null,null,null,null,null,null,{"$f":"VLOOKUP('Model Adjustment By Sector'!C3,'Check Parameter Mapping'!B6:K24,10,FALSE)","v":"Param0"}]
[]
[]
[]
[]
[]
[]
[]
[]
[]
[]
[]
[]
[]
[]
[]
[]
[]
[]
[]
[]
[]
[]
[]
[]
[]
[null,null,null,null,null,null,null,null,null,null,null,"\\"]

{"sheet":"Pandemic","index":6,"n_rows":68,"n_cols":17,"rows_kept":68,"cut":false,"hidden":true,"merged":[]}
[]
[null,"3 month",0,1,2,null,null,"6 month",0,1,2,null,null,"12 month",0,1,2]
[null,{"$f":"Labels!E23","v":0},1,1,1,null,null,{"$f":"Labels!E23","v":0},0.97,1,1,null,null,{"$f":"Labels!E23","v":0},0.91,0.94640000000000002,0.98425600000000002]
[null,{"$f":"Labels!E24","v":0},0.93700000000000006,1,1,null,null,{"$f":"Labels!E24","v":0},0.874,0.90895999999999999,0.97,null,null,{"$f":"Labels!E24","v":0},0.81099999999999994,0.84343999999999997,0.8771776]
[null,{"$f":"Labels!E25","v":0},0.94,1,1,null,null,{"$f":"Labels!E25","v":0},0.8,0.97,1,null,null,{"$f":"Labels!E25","v":0},0.7,0.8,0.94]
[null,{"$f":"Labels!E26","v":0},0.81,1,1,null,null,{"$f":"Labels!E26","v":0},0.69,0.95,1,null,null,{"$f":"Labels!E26","v":0},0.56000000000000005,0.67,0.95]
[null,{"$f":"Labels!E27","v":0},0.95499999999999996,1,1,null,null,{"$f":"Labels!E27","v":0},0.91,0.94640000000000002,0.97,null,null,{"$f":"Labels!E27","v":0},0.82000000000000006,0.85280000000000011,0.88691200000000014]
[null,{"$f":"Labels!E28","v":0},0.85,0.9,1,null,null,{"$f":"Labels!E28","v":0},0.8,0.87,0.96,null,null,{"$f":"Labels!E28","v":0},0.75,0.85,0.95]
[null,{"$f":"Labels!E29","v":0},0.97270090191130743,0.98635045095565377,1,null,null,{"$f":"Labels!E29","v":0},0.94540180382261485,0.97270090191130743,1,null,null,{"$f":"Labels!E29","v":0},0.89080360764522981,0.94540180382261485,1]
[null,{"$f":"Labels!E30","v":0},0.85,0.95,1,null,null,{"$f":"Labels!E30","v":0},0.65,0.9,1,null,null,{"$f":"Labels!E30","v":0},0.5,0.85,0.99]
[null,{"$f":"Labels!E31","v":0},0.85,0.95,1,null,null,{"$f":"Labels!E31","v":0},0.75,0.8,0.97,null,null,{"$f":"Labels!E31","v":0},0.6,0.7,0.95]
[null,{"$f":"Labels!E32","v":0},0.85,0.95,1,null,null,{"$f":"Labels!E32","v":0},0.75,0.8,0.97,null,null,{"$f":"Labels!E32","v":0},0.65,0.7,0.95]
[null,{"$f":"Labels!E33","v":0},0.85,0.95,1,null,null,{"$f":"Labels!E33","v":0},0.8,0.9,1,null,null,{"$f":"Labels!E33","v":0},0.7,0.85,1]
[null,{"$f":"Labels!E34","v":0},0.98,1,1,null,null,{"$f":"Labels!E34","v":0},0.95,1,1,null,null,{"$f":"Labels!E34","v":0},0.9,0.97,1]
[null,{"$f":"Labels!E35","v":0},0.9,1,1,null,null,{"$f":"Labels!E35","v":0},0.85,0.9,1,null,null,{"$f":"Labels!E35","v":0},0.75,0.85,1]
[null,{"$f":"Labels!E36","v":0},0.93750000000000011,1,1,null,null,{"$f":"Labels!E36","v":0},0.91346153846153866,0.98653846153846148,1,null,null,{"$f":"Labels!E36","v":0},0.91346153846153866,0.98653846153846148,1]
[null,{"$f":"Labels!E37","v":0},1,1,1,null,null,{"$f":"Labels!E37","v":0},1,1,1,null,null,{"$f":"Labels!E37","v":0},1,1,1]
[null,{"$f":"Labels!E38","v":0},1.3,1.1000000000000001,1,null,null,{"$f":"Labels!E38","v":0},1.5,1.3,1.1000000000000001,null,null,{"$f":"Labels!E38","v":0},1.4,1.2,1.1000000000000001]
[null,{"$f":"Labels!E39","v":0},0.9,1,1,null,null,{"$f":"Labels!E39","v":0},0.7,0.95,1,null,null,{"$f":"Labels!E39","v":0},0.6,0.9,1]
[null,{"$f":"Labels!E40","v":0},1,1,1,null,null,{"$f":"Labels!E40","v":0},1,1,1,null,null,{"$f":"Labels!E40","v":0},1,1,1]
[null,{"$f":"Labels!E41","v":0},1,1,1,null,null,{"$f":"Labels!E41","v":0},1,1,1,null,null,{"$f":"Labels!E41","v":0},1,1,1]
[]
[]
[]
[null,null,null,null,null,null,null,null,0,1,2,null,null,null,0,1,2]
[null,{"$f":"Labels!E23","v":0},0.97,1,1,null,null,{"$f":"Labels!E23","v":0},0.94,0.97760000000000002,1,null,null,{"$f":"Labels!E23","v":0},0.82000000000000006,0.86920000000000008,0.92135200000000017]
[null,{"$f":"Labels!E24","v":0},0.90549999999999997,0.94172,1,null,null,{"$f":"Labels!E24","v":0},0.81099999999999994,0.84343999999999997,0.8771776,null,null,{"$f":"Labels!E24","v":0},0.71650000000000003,0.75949000000000011,0.8050594000000002]
[null,{"$f":"Labels!E25","v":0},0.81,1,1,null,null,{"$f":"Labels!E25","v":0},0.7,0.9,1,null,null,{"$f":"Labels!E25","v":0},0.5,0.75,0.9]
[null,{"$f":"Labels!E26","v":0},0.69,1,1,null,null,{"$f":"Labels!E26","v":0},0.46,0.91,1,null,null,{"$f":"Labels!E26","v":0},0.36,0.56999999999999995,0.94]
[null,{"$f":"Labels!E27","v":0},0.9375,1,1,null,null,{"$f":"Labels!E27","v":0},0.875,0.91,0.97,null,null,{"$f":"Labels!E27","v":0},0.75,0.78,0.81120000000000003]
[null,{"$f":"Labels!E28","v":0},0.8,0.85,0.96,null,null,{"$f":"Labels!E28","v":0},0.7,0.8,0.95,null,null,{"$f":"Labels!E28","v":0},0.6,0.75,0.9]
[null,{"$f":"Labels!E29","v":0},0.88568360686269954,0.94284180343134971,1,null,null,{"$f":"Labels!E29","v":0},0.77136721372539907,0.88568360686269954,1,null,null,{"$f":"Labels!E29","v":0},0.54273442745079814,0.77136721372539907,1]
[null,{"$f":"Labels!E30","v":0},0.75,0.93,1,null,null,{"$f":"Labels!E30","v":0},0.5,0.85,0.95,null,null,{"$f":"Labels!E30","v":0},0.2,0.6,0.8]
[null,{"$f":"Labels!E31","v":0},0.75,0.8,0.97,null,null,{"$f":"Labels!E31","v":0},0.65,0.75,0.95,null,null,{"$f":"Labels!E31","v":0},0.55000000000000004,0.7,0.93500000000000005]
[null,{"$f":"Labels!E32","v":0},0.75,0.8,0.97,null,null,{"$f":"Labels!E32","v":0},0.65,0.75,0.95,null,null,{"$f":"Labels!E32","v":0},0.55000000000000004,0.7,0.93500000000000005]
[null,{"$f":"Labels!E33","v":0},0.7,0.85,1,null,null,{"$f":"Labels!E33","v":0},0.65,0.8,1,null,null,{"$f":"Labels!E33","v":0},0.55000000000000004,0.7,1]
[null,{"$f":"Labels!E34","v":0},0.95,1,1,null,null,{"$f":"Labels!E34","v":0},0.9,0.98,1,null,null,{"$f":"Labels!E34","v":0},0.85,0.95,1]
[null,{"$f":"Labels!E35","v":0},0.85,1,1,null,null,{"$f":"Labels!E35","v":0},0.7,0.95,1,null,null,{"$f":"Labels!E35","v":0},0.5,0.8,1]
[null,{"$f":"Labels!E36","v":0},0.93750000000000011,1,1,null,null,{"$f":"Labels!E36","v":0},0.91346153846153866,0.98653846153846148,1,null,null,{"$f":"Labels!E36","v":0},0.91249999999999998,0.9671052631578948,0.99539473684210533]
[null,{"$f":"Labels!E37","v":0},1,1,1,null,null,{"$f":"Labels!E37","v":0},1,1,1,null,null,{"$f":"Labels!E37","v":0},1,1,1]
[null,{"$f":"Labels!E38","v":0},1.27,1.1000000000000001,1.1000000000000001,null,null,{"$f":"Labels!E38","v":0},1.4,1.2,1,null,null,{"$f":"Labels!E38","v":0},1.3,1.2,1.1000000000000001]
[null,{"$f":"Labels!E39","v":0},0.85,1,1,null,null,{"$f":"Labels!E39","v":0},0.6,0.92,1,null,null,{"$f":"Labels!E39","v":0},0.5,0.85,1]
[null,{"$f":"Labels!E40","v":0},1,1,1,null,null,{"$f":"Labels!E40","v":0},1,1,1,null,null,{"$f":"Labels!E40","v":0},1,1,1]
[null,{"$f":"Labels!E41","v":0},1,1,1,null,null,{"$f":"Labels!E41","v":0},1,1,1,null,null,{"$f":"Labels!E41","v":0},1,1,1]
[]
[]
[]
[]
[null,null,null,null,null,null,null,null,0,1,2,null,null,null,0,1,2]
[null,{"$f":"Labels!E23","v":0},0.94,0.97760000000000002,1,null,null,{"$f":"Labels!E23","v":0},0.91,0.94640000000000002,0.98425600000000002,null,null,{"$f":"Labels!E23","v":0},0.77,0.8,0.88]
[null,{"$f":"Labels!E24","v":0},0.55000000000000004,0.75,0.95,null,null,{"$f":"Labels!E24","v":0},0.5,0.7,0.84,null,null,{"$f":"Labels!E24","v":0},0.45,0.64999999999999991,0.71]
[null,{"$f":"Labels!E25","v":0},0.55000000000000004,0.8,0.95,null,null,{"$f":"Labels!E25","v":0},0.35,0.75,0.93,null,null,{"$f":"Labels!E25","v":0},0.2,0.65,0.85]
[null,{"$f":"Labels!E26","v":0},0.63,1,1,null,null,{"$f":"Labels!E26","v":0},0.44,0.91,1,null,null,{"$f":"Labels!E26","v":0},0.31,0.54,0.94]
[null,{"$f":"Labels!E27","v":0},0.9375,1,1,null,null,{"$f":"Labels!E27","v":0},0.875,0.91,0.97,null,null,{"$f":"Labels!E27","v":0},0.73,0.74,0.78]
[null,{"$f":"Labels!E28","v":0},0.7,0.85,0.96,null,null,{"$f":"Labels!E28","v":0},0.6,0.8,0.95,null,null,{"$f":"Labels!E28","v":0},0.5,0.7,0.88]
[null,{"$f":"Labels!E29","v":0},0.8450731976728999,0.92253659883645001,1,null,null,{"$f":"Labels!E29","v":0},0.6901463953457998,0.8450731976728999,1,null,null,{"$f":"Labels!E29","v":0},0.38029279069159955,0.6901463953457998,1]
[null,{"$f":"Labels!E30","v":0},0.5,0.75,0.95,null,null,{"$f":"Labels!E30","v":0},0.15,0.65,0.85,null,null,{"$f":"Labels!E30","v":0},0.05,0.5,0.75]
[null,{"$f":"Labels!E31","v":0},0.65,0.75,0.95,null,null,{"$f":"Labels!E31","v":0},0.55000000000000004,0.65,0.93500000000000005,null,null,{"$f":"Labels!E31","v":0},0.45,0.55000000000000004,0.91]
[null,{"$f":"Labels!E32","v":0},0.65,0.75,0.95,null,null,{"$f":"Labels!E32","v":0},0.55000000000000004,0.65,0.93500000000000005,null,null,{"$f":"Labels!E32","v":0},0.45,0.55000000000000004,0.91]
[null,{"$f":"Labels!E33","v":0},0.55000000000000004,0.7,1,null,null,{"$f":"Labels!E33","v":0},0.5,0.65,1,null,null,{"$f":"Labels!E33","v":0},0.4,0.55000000000000004,0.95]
[null,{"$f":"Labels!E34","v":0},0.92500000000000004,0.97499999999999998,1,null,null,{"$f":"Labels!E34","v":0},0.85,0.95,1,null,null,{"$f":"Labels!E34","v":0},0.8,0.9,1]
[null,{"$f":"Labels!E35","v":0},0.75,1,1,null,null,{"$f":"Labels!E35","v":0},0.65,0.95,1,null,null,{"$f":"Labels!E35","v":0},0.5,0.85,1]
[null,{"$f":"Labels!E36","v":0},0.87500000000000011,1,1,null,null,{"$f":"Labels!E36","v":0},0.82692307692307698,0.97307692307692284,1,null,null,{"$f":"Labels!E36","v":0},0.81249999999999989,0.9013157894736844,0.986184210526316]
[null,{"$f":"Labels!E37","v":0},0.98,0.99,1,null,null,{"$f":"Labels!E37","v":0},0.95,0.97,1,null,null,{"$f":"Labels!E37","v":0},0.9,0.95,1]
[null,{"$f":"Labels!E38","v":0},1.27,1.1000000000000001,1.1000000000000001,null,null,{"$f":"Labels!E38","v":0},1.35,1.1499999999999999,1,null,null,{"$f":"Labels!E38","v":0},1.25,1.1499999999999999,1]
[null,{"$f":"Labels!E39","v":0},0.77500000000000002,1,1,null,null,{"$f":"Labels!E39","v":0},0.55000000000000004,0.9,1,null,null,{"$f":"Labels!E39","v":0},0.35,0.8,1]
[null,{"$f":"Labels!E40","v":0},1,1,1,null,null,{"$f":"Labels!E40","v":0},1,1,1,null,null,{"$f":"Labels!E40","v":0},1,1,1]
[null,{"$f":"Labels!E41","v":0},1,1,1,null,null,{"$f":"Labels!E41","v":0},1,1,1,null,null,{"$f":"Labels!E41","v":0},1,1,1]

{"sheet":"Earthquake","index":7,"n_rows":68,"n_cols":28,"rows_kept":68,"cut":false,"hidden":true,"merged":[]}
[]
["light","3 month",null,null,null,null,null,"6 month",null,null,null,null,null,"12 month"]
[0,"Agriculture and forestry",0.99250000000000005,0.99239999999999995,0.98480000000000001,null,null,"Agriculture and forestry",0.95799999999999996,0.93659999999999999,0.9425,null,null,"Agriculture and forestry",0.66400000000000015,0.4927999999999999,0.54,null,null,null,{"$f":"O3-(1-O3)*3","v":-0.34399999999999942},{"$f":"P3-(1-P3)*3","v":-1.0288000000000004},{"$f":"Q3-(1-Q3)*3","v":-0.83999999999999986},null,null,0.91600000000000004,0.87319999999999998,0.88500000000000001]
[1,"Fishing and fish processing on board",0.99250000000000005,0.99239999999999995,0.98480000000000001,null,null,"Fishing and fish processing on board",0.95799999999999996,0.93659999999999999,0.9425,null,null,"Fishing and fish processing on board",0.66400000000000015,0.4927999999999999,0.54,null,null,null,{"$f":"O4-(1-O4)*3","v":-0.34399999999999942},-1.0288000000000004,-0.83999999999999986,null,null,0.91600000000000004,0.87319999999999998,0.88500000000000001]
[2,"Mining and quarrying",0.94450000000000001,0.94969999999999999,0.93309999999999993,null,null,"Mining and quarrying",0.91660000000000008,0.9113,0.91920000000000002,null,null,"Mining and quarrying",0.53279999999999994,0.49040000000000017,0.55359999999999987,null,null,null,-0.86880000000000024,-1.0383999999999993,-0.78560000000000052,null,null,0.88319999999999999,0.87260000000000004,0.88839999999999997]
[3,"Manufacturing",0.99450000000000005,0.99970000000000003,0.98309999999999997,null,null,"Manufacturing",0.99160000000000004,0.98629999999999995,0.99419999999999997,null,null,"Manufacturing",0.93279999999999985,0.89040000000000008,0.95359999999999978,null,null,null,0.73119999999999941,0.56160000000000032,0.81439999999999912,null,null,0.98319999999999996,0.97260000000000002,0.98839999999999995]
[4,"Electricity and water",0.99450000000000005,0.99970000000000003,0.98309999999999997,null,null,"Electricity and water",0.99160000000000004,0.98629999999999995,0.99419999999999997,null,null,"Electricity and water",0.85,0.89040000000000008,0.95359999999999978,null,null,null,0.39999999999999991,0.56160000000000032,0.81439999999999912,null,null,0.98319999999999996,0.97260000000000002,0.98839999999999995]
[5,"Construction",0.99450000000000005,0.99970000000000003,0.98309999999999997,null,null,"Construction",0.99160000000000004,0.98629999999999995,0.99419999999999997,null,null,"Construction",0.93279999999999985,0.89040000000000008,0.95359999999999978,null,null,null,0.73119999999999941,0.56160000000000032,0.81439999999999912,null,null,0.98319999999999996,0.97260000000000002,0.98839999999999995]
[6,"Wholesale and retail trade, repairs",0.99450000000000005,0.99970000000000003,0.98309999999999997,null,null,"Wholesale and retail trade, repairs",0.99160000000000004,0.98629999999999995,0.99419999999999997,null,null,"Wholesale and retail trade, repairs",0.93279999999999985,0.89040000000000008,0.95359999999999978,null,null,null,0.73119999999999941,0.56160000000000032,0.81439999999999912,null,null,0.98319999999999996,0.97260000000000002,0.98839999999999995]
[7,"Hotels and restaurants",0.99450000000000005,0.99970000000000003,0.98309999999999997,null,null,"Hotels and restaurants",0.99160000000000004,0.98629999999999995,0.99419999999999997,null,null,"Hotels and restaurants",0.8,0.7,0.95359999999999978,null,null,null,0.8,0.7,0.81439999999999912,null,null,0.98319999999999996,0.97260000000000002,0.98839999999999995]
[8,"Transport",0.99450000000000005,0.99970000000000003,0.98309999999999997,null,null,"Transport",0.99160000000000004,0.98629999999999995,0.99419999999999997,null,null,"Transport",0.75,0.85,1,null,null,null,0.75,0.85,1,null,null,0.98319999999999996,0.97260000000000002,0.98839999999999995]
[9,"Communication",0.99450000000000005,0.99970000000000003,0.98309999999999997,null,null,"Communication",0.99160000000000004,0.98629999999999995,0.99419999999999997,null,null,"Communication",0.93279999999999985,0.89040000000000008,1,null,null,null,{"$f":"O12-(1-O12)*3","v":0.73119999999999941},{"$f":"P12-(1-P12)*3","v":0.56160000000000032},1,null,null,0.98319999999999996,0.97260000000000002,0.98839999999999995]
[10,"Financial intermediation",0.99450000000000005,0.99970000000000003,0.98309999999999997,null,null,"Financial intermediation",0.99160000000000004,0.98629999999999995,0.99419999999999997,null,null,"Financial intermediation",0.93279999999999985,0.89040000000000008,1,null,null,null,0.73119999999999941,0.56160000000000032,1,null,null,0.98319999999999996,0.97260000000000002,0.98839999999999995]
[11,"Real estate and business services",0.99450000000000005,0.99970000000000003,0.98309999999999997,null,null,"Real estate and business services",0.99160000000000004,0.98629999999999995,0.99419999999999997,null,null,"Real estate and business services",0.93279999999999985,0.89040000000000008,1,null,null,null,0.73119999999999941,0.56160000000000032,1,null,null,0.98319999999999996,0.97260000000000002,0.98839999999999995]
[12,"Community, social and personal service activities",0.99450000000000005,0.99970000000000003,0.98309999999999997,null,null,"Community, social and personal service activities",0.99160000000000004,0.98629999999999995,0.99419999999999997,null,null,"Community, social and personal service activities",0.93279999999999985,0.89040000000000008,1,null,null,null,0.73119999999999941,0.56160000000000032,1,null,null,0.98319999999999996,0.97260000000000002,0.98839999999999995]
[13,"Public administration and defence",0.98450000000000004,0.98970000000000002,0.97309999999999997,null,null,"Public administration and defence",0.97160000000000002,0.96629999999999994,0.97419999999999995,null,null,"Public administration and defence",0.81279999999999974,0.77039999999999997,0.83359999999999967,null,null,null,0.25119999999999898,8.1599999999999895E-2,{"$f":"Q16-(1-Q16)*3","v":0.3343999999999987},null,null,0.95319999999999994,0.94259999999999999,0.95839999999999992]
[14,"Education",0.99450000000000005,0.99970000000000003,0.98309999999999997,null,null,"Education",0.99160000000000004,0.98629999999999995,0.99419999999999997,null,null,"Education",0.93279999999999985,0.89040000000000008,0.95359999999999978,null,null,null,0.73119999999999941,0.56160000000000032,0.81439999999999912,null,null,0.98319999999999996,0.97260000000000002,0.98839999999999995]
[15,"Health",0.98450000000000004,0.98970000000000002,0.97309999999999997,null,null,"Health",0.97160000000000002,0.96629999999999994,0.97419999999999995,null,null,"Health",0.81279999999999974,0.77039999999999997,0.83359999999999967,null,null,null,0.25119999999999898,8.1599999999999895E-2,0.3343999999999987,null,null,0.95319999999999994,0.94259999999999999,0.95839999999999992]
[16,"Private household with employed persons",0.98450000000000004,0.98970000000000002,0.97309999999999997,null,null,"Private household with employed persons",0.97160000000000002,0.96629999999999994,0.97419999999999995,null,null,"Private household with employed persons",0.81279999999999974,0.77039999999999997,0.83359999999999967,null,null,null,0.25119999999999898,8.1599999999999895E-2,0.3343999999999987,null,null,0.95319999999999994,0.94259999999999999,0.95839999999999992]
[17,"Financial intermediation services indirectly measured",1,1,1,null,null,"Financial intermediation services indirectly measured",1,1,1,null,null,"Financial intermediation services indirectly measured",1,1,1,null,null,null,1,1,1,null,null,1,1,1]
[18,"Less subsidies on products",1,1,1,null,null,"Less subsidies on products",1,1,1,null,null,"Less subsidies on products",1,1,1,null,null,null,1,1,1,null,null,1,1,1]
[]
[]
[]
["Medium"]
[0,"Agriculture and forestry",1.0024999999999999,1.0024,0.99480000000000002,null,null,"Agriculture and forestry",0.98799999999999999,0.96660000000000001,0.97250000000000003,null,null,"Agriculture and forestry",0.78399999999999981,0.61280000000000001,0.66000000000000014,null,null,null,{"$f":"O26-(1-O26)*3","v":0.13599999999999923},{"$f":"P26-(1-P26)*3","v":-0.54879999999999995},{"$f":"Q26-(1-Q26)*3","v":-0.35999999999999943},null,null,0.94599999999999995,0.9032,0.91500000000000004]
[1,"Fishing and fish processing on board",1.0024999999999999,1.0024,0.99480000000000002,null,null,"Fishing and fish processing on board",0.98799999999999999,0.96660000000000001,0.97250000000000003,null,null,"Fishing and fish processing on board",0.78399999999999981,0.61280000000000001,0.66000000000000014,null,null,null,{"$f":"O27-(1-O27)*3","v":0.13599999999999923},-0.54879999999999995,-0.35999999999999943,null,null,0.94599999999999995,0.9032,0.91500000000000004]
[2,"Mining and quarrying",0.9544999999999999,0.9597,0.94309999999999994,null,null,"Mining and quarrying",0.92660000000000009,0.92130000000000001,0.92920000000000003,null,null,"Mining and quarrying",0.57279999999999998,0.5304000000000002,0.59359999999999991,null,null,null,-0.7088000000000001,-0.87839999999999918,-0.62560000000000038,null,null,0.89319999999999999,0.88260000000000005,0.89839999999999998]
[3,"Manufacturing",1.0044999999999999,1.0097,0.99309999999999998,null,null,"Manufacturing",1.0016,0.99629999999999996,1.0042,null,null,"Manufacturing",0.97279999999999989,0.93040000000000012,0.99359999999999982,null,null,null,0.89119999999999955,0.72160000000000046,0.97439999999999927,null,null,0.99319999999999997,0.98260000000000003,0.99839999999999995]
[4,"Electricity and water",1.0044999999999999,1.0097,0.99309999999999998,null,null,"Electricity and water",1.0016,0.99629999999999996,1.0042,null,null,"Electricity and water",0.97279999999999989,0.93040000000000012,0.99359999999999982,null,null,null,0.89119999999999955,0.72160000000000046,0.97439999999999927,null,null,0.99319999999999997,0.98260000000000003,0.99839999999999995]
[5,"Construction",1.0044999999999999,1.0097,0.99309999999999998,null,null,"Construction",1.0016,0.99629999999999996,1.0042,null,null,"Construction",0.97279999999999989,0.93040000000000012,0.99359999999999982,null,null,null,0.89119999999999955,0.72160000000000046,0.97439999999999927,null,null,0.99319999999999997,0.98260000000000003,0.99839999999999995]
[6,"Wholesale and retail trade, repairs",1.0044999999999999,1.0097,0.99309999999999998,null,null,"Wholesale and retail trade, repairs",1.0016,0.99629999999999996,1.0042,null,null,"Wholesale and retail trade, repairs",0.97279999999999989,0.93040000000000012,0.99359999999999982,null,null,null,0.89119999999999955,0.72160000000000046,0.97439999999999927,null,null,0.99319999999999997,0.98260000000000003,0.99839999999999995]
[7,"Hotels and restaurants",1.0044999999999999,1.0097,0.99309999999999998,null,null,"Hotels and restaurants",1.0016,0.99629999999999996,1.0042,null,null,"Hotels and restaurants",0.85,0.75,0.99359999999999982,null,null,null,0.85,0.75,0.97439999999999927,null,null,0.99319999999999997,0.98260000000000003,0.99839999999999995]
[8,"Transport",1.0044999999999999,1.0097,0.99309999999999998,null,null,"Transport",1.0016,0.99629999999999996,1.0042,null,null,"Transport",0.8,0.85,1,null,null,null,0.8,0.85,1,null,null,0.99319999999999997,0.98260000000000003,0.99839999999999995]
[9,"Communication",1.0044999999999999,1.0097,0.99309999999999998,null,null,"Communication",1.0016,0.99629999999999996,1.0042,null,null,"Communication",0.97279999999999989,0.93040000000000012,1,null,null,null,{"$f":"O35-(1-O35)*3","v":0.89119999999999955},{"$f":"P35-(1-P35)*3","v":0.72160000000000046},1,null,null,0.99319999999999997,0.98260000000000003,0.99839999999999995]
[10,"Financial intermediation",1.0044999999999999,1.0097,0.99309999999999998,null,null,"Financial intermediation",1.0016,0.99629999999999996,1.0042,null,null,"Financial intermediation",0.97279999999999989,0.93040000000000012,1,null,null,null,0.89119999999999955,0.72160000000000046,1,null,null,0.99319999999999997,0.98260000000000003,0.99839999999999995]
[11,"Real estate and business services",1.0044999999999999,1.0097,0.99309999999999998,null,null,"Real estate and business services",1.0016,0.99629999999999996,1.0042,null,null,"Real estate and business services",0.97279999999999989,0.93040000000000012,1,null,null,null,0.89119999999999955,0.72160000000000046,1,null,null,0.99319999999999997,0.98260000000000003,0.99839999999999995]
[12,"Community, social and personal service activities",1.0044999999999999,1.0097,0.99309999999999998,null,null,"Community, social and personal service activities",1.0016,0.99629999999999996,1.0042,null,null,"Community, social and personal service activities",0.97279999999999989,0.93040000000000012,1,null,null,null,0.89119999999999955,0.72160000000000046,1,null,null,0.99319999999999997,0.98260000000000003,0.99839999999999995]
[13,"Public administration and defence",0.99449999999999994,0.99970000000000003,0.98309999999999997,null,null,"Public administration and defence",0.98160000000000003,0.97629999999999995,0.98419999999999996,null,null,"Public administration and defence",0.85279999999999978,0.81040000000000001,0.87359999999999971,null,null,null,0.41119999999999912,0.24160000000000004,{"$f":"Q39-(1-Q39)*3","v":0.49439999999999884},null,null,0.96319999999999995,0.9526,0.96839999999999993]
[14,"Education",1.0044999999999999,1.0097,0.99309999999999998,null,null,"Education",1.0016,0.99629999999999996,1.0042,null,null,"Education",0.97279999999999989,0.93040000000000012,0.99359999999999982,null,null,null,0.89119999999999955,0.72160000000000046,0.97439999999999927,null,null,0.99319999999999997,0.98260000000000003,0.99839999999999995]
[15,"Health",0.99449999999999994,0.99970000000000003,0.98309999999999997,null,null,"Health",0.98160000000000003,0.97629999999999995,0.98419999999999996,null,null,"Health",0.85279999999999978,0.81040000000000001,0.87359999999999971,null,null,null,0.41119999999999912,0.24160000000000004,0.49439999999999884,null,null,0.96319999999999995,0.9526,0.96839999999999993]
[16,"Private household with employed persons",0.99449999999999994,0.99970000000000003,0.98309999999999997,null,null,"Private household with employed persons",0.98160000000000003,0.97629999999999995,0.98419999999999996,null,null,"Private household with employed persons",0.85279999999999978,0.81040000000000001,0.87359999999999971,null,null,null,0.41119999999999912,0.24160000000000004,0.49439999999999884,null,null,0.96319999999999995,0.9526,0.96839999999999993]
[17,"Financial intermediation services indirectly measured",1,1,1,null,null,"Financial intermediation services indirectly measured",1,1,1,null,null,"Financial intermediation services indirectly measured",1,1,1,null,null,null,1,1,1,null,null,1,1,1]
[18,"Less subsidies on products",1,1,1,null,null,"Less subsidies on products",1,1,1,null,null,"Less subsidies on products",1,1,1,null,null,null,1,1,1,null,null,1,1,1]
[]
[]
[]
[]
["High"]
[0,"Agriculture and forestry",1.00091,1.00081,0.99321000000000004,null,null,"Agriculture and forestry",0.98641000000000001,0.96501000000000003,0.97091000000000005,null,null,"Agriculture and forestry",0.87763999999999998,0.70643999999999996,0.85363999999999995,null,null,null,{"$f":"O50-(1-O50)*3","v":0.5105599999999999},{"$f":"P50-(1-P50)*3","v":-0.17424000000000017},0.41455999999999982,null,null,0.94440999999999997,0.90161000000000002,0.91341000000000006]
[1,"Fishing and fish processing on board",1.00091,1.00081,0.99321000000000004,null,null,"Fishing and fish processing on board",0.98641000000000001,0.96501000000000003,0.97091000000000005,null,null,"Fishing and fish processing on board",0.87763999999999998,0.70643999999999996,0.85363999999999995,null,null,null,{"$f":"O51-(1-O51)*3","v":0.5105599999999999},-0.17424000000000017,0.41455999999999982,null,null,0.94440999999999997,0.90161000000000002,0.91341000000000006]
[2,"Mining and quarrying",0.9593799999999999,0.96457999999999999,0.94797999999999993,null,null,"Mining and quarrying",0.93148000000000009,0.92618,0.93408000000000002,null,null,"Mining and quarrying",0.69232000000000005,0.59992000000000001,0.71311999999999998,null,null,null,-0.23071999999999981,-0.60031999999999996,-0.1475200000000001,null,null,0.89807999999999999,0.88748000000000005,0.90327999999999997]
[3,"Manufacturing",1.0093799999999999,1.01458,0.99797999999999998,null,null,"Manufacturing",1.00648,1.00118,1.00908,null,null,"Manufacturing",0.99231999999999987,0.9499200000000001,1.0131199999999998,null,null,null,0.96927999999999948,0.79968000000000039,1.0524799999999992,null,null,0.99807999999999997,0.98748000000000002,1.0032799999999999]
[4,"Electricity and water",1.0093799999999999,1.01458,0.99797999999999998,null,null,"Electricity and water",1.00648,1.00118,1.00908,null,null,"Electricity and water",0.99231999999999987,0.9499200000000001,1.0131199999999998,null,null,null,0.96927999999999948,0.79968000000000039,1.0524799999999992,null,null,0.99807999999999997,0.98748000000000002,1.0032799999999999]
[5,"Construction",1.0093799999999999,1.01458,0.99797999999999998,null,null,"Construction",1.00648,1.00118,1.00908,null,null,"Construction",0.99231999999999987,0.9499200000000001,1.0131199999999998,null,null,null,0.96927999999999948,0.79968000000000039,1.0524799999999992,null,null,0.99807999999999997,0.98748000000000002,1.0032799999999999]
[6,"Wholesale and retail trade, repairs",1.0093799999999999,1.01458,0.99797999999999998,null,null,"Wholesale and retail trade, repairs",1.00648,1.00118,1.00908,null,null,"Wholesale and retail trade, repairs",0.99231999999999987,0.9499200000000001,1.0131199999999998,null,null,null,0.96927999999999948,0.79968000000000039,1.0524799999999992,null,null,0.99807999999999997,0.98748000000000002,1.0032799999999999]
[7,"Hotels and restaurants",1.0093799999999999,1.01458,0.99797999999999998,null,null,"Hotels and restaurants",1.00648,1.00118,1.00908,null,null,"Hotels and restaurants",0.9,0.8,1.0131199999999998,null,null,null,0.9,0.8,1.0524799999999992,null,null,0.99807999999999997,0.98748000000000002,1.0032799999999999]
[8,"Transport",1.0093799999999999,1.01458,0.99797999999999998,null,null,"Transport",1.00648,1.00118,1.00908,null,null,"Transport",0.85,0.9,1,null,null,null,0.85,0.9,1,null,null,0.99807999999999997,0.98748000000000002,1.0032799999999999]
[9,"Communication",1.0093799999999999,1.01458,0.99797999999999998,null,null,"Communication",1.00648,1.00118,1.00908,null,null,"Communication",0.99231999999999987,0.9499200000000001,1,null,null,null,0.96927999999999948,0.79968000000000039,1,null,null,0.99807999999999997,0.98748000000000002,1.0032799999999999]
[10,"Financial intermediation",1.0093799999999999,1.01458,0.99797999999999998,null,null,"Financial intermediation",1.00648,1.00118,1.00908,null,null,"Financial intermediation",0.99231999999999987,0.9499200000000001,1,null,null,null,0.96927999999999948,0.79968000000000039,1,null,null,0.99807999999999997,0.98748000000000002,1.0032799999999999]
[11,"Real estate and business services",1.0093799999999999,1.01458,0.99797999999999998,null,null,"Real estate and business services",1.00648,1.00118,1.00908,null,null,"Real estate and business services",0.99231999999999987,0.9499200000000001,1,null,null,null,0.96927999999999948,0.79968000000000039,1,null,null,0.99807999999999997,0.98748000000000002,1.0032799999999999]
[12,"Community, social and personal service activities",1.0093799999999999,1.01458,0.99797999999999998,null,null,"Community, social and personal service activities",1.00648,1.00118,1.00908,null,null,"Community, social and personal service activities",0.99231999999999987,0.9499200000000001,1,null,null,null,0.96927999999999948,0.79968000000000039,1,null,null,0.99807999999999997,0.98748000000000002,1.0032799999999999]
[13,"Public administration and defence",0.98929,0.9944900000000001,0.97789000000000004,null,null,"Public administration and defence",0.97638999999999998,0.97109000000000001,0.97899000000000003,null,null,"Public administration and defence",0.83196000000000003,0.78955999999999982,0.85275999999999996,null,null,null,0.32784000000000013,0.15823999999999927,0.41103999999999985,null,null,0.95799000000000001,0.94738999999999995,0.96318999999999999]
[14,"Education",0.99929000000000001,1.0044900000000001,0.98789000000000005,null,null,"Education",0.99639,0.99109000000000003,0.99899000000000004,null,null,"Education",0.95196000000000014,0.90955999999999992,0.97276000000000007,null,null,null,0.80784000000000056,0.6382399999999997,0.89104000000000028,null,null,0.98799000000000003,0.97738999999999998,0.99319000000000002]
[15,"Health",0.98929,0.9944900000000001,0.97789000000000004,null,null,"Health",0.97638999999999998,0.97109000000000001,0.97899000000000003,null,null,"Health",0.83196000000000003,0.78955999999999982,0.85275999999999996,null,null,null,0.32784000000000013,0.15823999999999927,0.41103999999999985,null,null,0.95799000000000001,0.94738999999999995,0.96318999999999999]
[16,"Private household with employed persons",0.98929,0.9944900000000001,0.97789000000000004,null,null,"Private household with employed persons",0.97638999999999998,0.97109000000000001,0.97899000000000003,null,null,"Private household with employed persons",0.83196000000000003,0.78955999999999982,0.85275999999999996,null,null,null,0.32784000000000013,{"$f":"P66-(1-P66)*3","v":0.15823999999999927},{"$f":"Q66-(1-Q66)*3","v":0.41103999999999985},null,null,0.95799000000000001,0.94738999999999995,0.96318999999999999]
[17,"Financial intermediation services indirectly measured",1,1,1,null,null,"Financial intermediation services indirectly measured",1,1,1,null,null,"Financial intermediation services indirectly measured",1,1,1,null,null,null,1,1,1,null,null,1,1,1]
[18,"Less subsidies on products",1,1,1,null,null,"Less subsidies on products",1,1,1,null,null,"Less subsidies on products",1,1,1,null,null,null,1,1,1,null,null,1,1,1]

{"sheet":"Drought","index":8,"n_rows":68,"n_cols":27,"rows_kept":68,"cut":false,"hidden":true,"merged":[]}
[]
["light","3 month",null,null,null,null,null,"6 month",null,null,null,null,null,"12 month"]
[0,"Agriculture and forestry",0.97409999999999997,0.98970000000000002,0.9909,null,null,"Agriculture and forestry",0.93620000000000003,1.0315000000000001,0.98199999999999998,null,null,"Agriculture and forestry",0.48960000000000026,1.2519999999999998,0.85599999999999987,null,null,{"$f":"O3-(1-O3)*3","v":-1.041599999999999},{"$f":"P3-(1-P3)*3","v":2.0079999999999991},{"$f":"Q3-(1-Q3)*3","v":0.42399999999999949},null,null,0.87240000000000006,1.0629999999999999,0.96399999999999997]
[1,"Fishing and fish processing on board",0.97409999999999997,0.98970000000000002,0.9909,null,null,"Fishing and fish processing on board",0.93620000000000003,1.0315000000000001,0.98199999999999998,null,null,"Fishing and fish processing on board",0.48960000000000026,1.2519999999999998,0.85599999999999987,null,null,{"$f":"O4-(1-O4)*3","v":-1.041599999999999},2.0079999999999991,0.42399999999999949,null,null,0.87240000000000006,1.0629999999999999,0.96399999999999997]
[2,"Mining and quarrying",0.97489999999999999,0.97209999999999996,0.9738,null,null,"Mining and quarrying",0.95940000000000003,0.97129999999999994,0.96560000000000001,null,null,"Mining and quarrying",0.78639999999999988,0.85780000000000001,0.82359999999999978,null,null,{"$f":"O5-(1-O5)*2","v":0.35919999999999963},{"$f":"P5-(1-P5)*2","v":0.57340000000000002},{"$f":"Q5-(1-Q5)*2","v":0.47079999999999933},null,null,0.92879999999999996,0.9526,0.94119999999999993]
[3,"Manufacturing",0.9849,0.98209999999999997,0.98380000000000001,null,null,"Manufacturing",0.97940000000000005,0.99129999999999996,0.98560000000000003,null,null,"Manufacturing",0.83519999999999994,0.93040000000000012,0.88479999999999981,null,null,{"$f":"O6-(1-O6)*3","v":0.34079999999999977},{"$f":"P6-(1-P6)*3","v":0.72160000000000046},{"$f":"Q6-(1-Q6)*3","v":0.53919999999999924},null,null,0.95879999999999999,0.98260000000000003,0.97119999999999995]
[4,"Electricity and water",0.9849,0.98209999999999997,0.98380000000000001,null,null,"Electricity and water",0.97940000000000005,0.99129999999999996,0.98560000000000003,null,null,"Electricity and water",0.83519999999999994,0.93040000000000012,0.88479999999999981,null,null,0.34079999999999977,0.72160000000000046,0.53919999999999924,null,null,0.95879999999999999,0.98260000000000003,0.97119999999999995]
[5,"Construction",0.96489999999999998,0.96209999999999996,0.96379999999999999,null,null,"Construction",0.94940000000000002,0.96129999999999993,0.9556,null,null,"Construction",0.6751999999999998,0.77039999999999997,0.72479999999999967,null,null,-0.2992000000000008,8.1599999999999895E-2,-0.10080000000000133,null,null,0.91879999999999995,0.94259999999999999,0.93119999999999992]
[6,"Wholesale and retail trade, repairs",0.96489999999999998,0.96209999999999996,0.96379999999999999,null,null,"Wholesale and retail trade, repairs",0.94940000000000002,0.96129999999999993,0.9556,null,null,"Wholesale and retail trade, repairs",0.6751999999999998,0.77039999999999997,0.72479999999999967,null,null,-0.2992000000000008,8.1599999999999895E-2,-0.10080000000000133,null,null,0.91879999999999995,0.94259999999999999,0.93119999999999992]
[7,"Hotels and restaurants",0.9849,0.98209999999999997,0.98380000000000001,null,null,"Hotels and restaurants",0.97940000000000005,0.99129999999999996,0.98560000000000003,null,null,"Hotels and restaurants",0.83519999999999994,0.93040000000000012,0.88479999999999981,null,null,0.34079999999999977,0.72160000000000046,0.53919999999999924,null,null,0.95879999999999999,0.98260000000000003,0.97119999999999995]
[8,"Transport",0.9849,0.98209999999999997,0.98380000000000001,null,null,"Transport",0.97940000000000005,0.99129999999999996,0.98560000000000003,null,null,"Transport",0.83519999999999994,0.93040000000000012,0.88479999999999981,null,null,0.34079999999999977,0.72160000000000046,0.53919999999999924,null,null,0.95879999999999999,0.98260000000000003,0.97119999999999995]
[9,"Communication",0.9849,0.98209999999999997,0.98380000000000001,null,null,"Communication",0.97940000000000005,0.99129999999999996,0.98560000000000003,null,null,"Communication",0.83519999999999994,0.93040000000000012,0.88479999999999981,null,null,0.34079999999999977,0.72160000000000046,0.53919999999999924,null,null,0.95879999999999999,0.98260000000000003,0.97119999999999995]
[10,"Financial intermediation",0.9849,0.98209999999999997,0.98380000000000001,null,null,"Financial intermediation",0.97940000000000005,0.99129999999999996,0.98560000000000003,null,null,"Financial intermediation",0.83519999999999994,0.93040000000000012,0.88479999999999981,null,null,0.34079999999999977,0.72160000000000046,0.53919999999999924,null,null,0.95879999999999999,0.98260000000000003,0.97119999999999995]
[11,"Real estate and business services",0.96489999999999998,0.96209999999999996,0.96379999999999999,null,null,"Real estate and business services",0.94940000000000002,0.96129999999999993,0.9556,null,null,"Real estate and business services",0.6751999999999998,0.77039999999999997,0.72479999999999967,null,null,-0.2992000000000008,8.1599999999999895E-2,-0.10080000000000133,null,null,0.91879999999999995,0.94259999999999999,0.93119999999999992]
[12,"Community, social and personal service activities",0.9849,0.98209999999999997,0.98380000000000001,null,null,"Community, social and personal service activities",0.97940000000000005,0.99129999999999996,0.98560000000000003,null,null,"Community, social and personal service activities",0.83519999999999994,0.93040000000000012,0.88479999999999981,null,null,0.34079999999999977,0.72160000000000046,0.53919999999999924,null,null,0.95879999999999999,0.98260000000000003,0.97119999999999995]
[13,"Public administration and defence",0.9849,0.98209999999999997,0.98380000000000001,null,null,"Public administration and defence",0.97940000000000005,0.99129999999999996,0.98560000000000003,null,null,"Public administration and defence",0.83519999999999994,0.93040000000000012,0.88479999999999981,null,null,0.34079999999999977,0.72160000000000046,0.53919999999999924,null,null,0.95879999999999999,0.98260000000000003,0.97119999999999995]
[14,"Education",0.99490000000000001,0.99209999999999998,0.99380000000000002,null,null,"Education",0.98940000000000006,1.0012999999999999,0.99560000000000004,null,null,"Education",0.87519999999999998,0.97040000000000015,0.92479999999999984,null,null,0.50079999999999991,0.88160000000000061,0.69919999999999938,null,null,0.96879999999999999,0.99260000000000004,0.98119999999999996]
[15,"Health",0.96489999999999998,0.96209999999999996,0.96379999999999999,null,null,"Health",0.94940000000000002,0.96129999999999993,0.9556,null,null,"Health",0.6751999999999998,0.77039999999999997,0.72479999999999967,null,null,-0.2992000000000008,8.1599999999999895E-2,-0.10080000000000133,null,null,0.91879999999999995,0.94259999999999999,0.93119999999999992]
[16,"Private household with employed persons",0.9849,0.98209999999999997,0.98380000000000001,null,null,"Private household with employed persons",0.97940000000000005,0.99129999999999996,0.98560000000000003,null,null,"Private household with employed persons",0.83519999999999994,0.93040000000000012,0.88479999999999981,null,null,0.34079999999999977,0.72160000000000046,0.53919999999999924,null,null,0.95879999999999999,0.98260000000000003,0.97119999999999995]
[17,"Financial intermediation services indirectly measured",1,1,1,null,null,"Financial intermediation services indirectly measured",1,1,1,null,null,"Financial intermediation services indirectly measured",1,1,1,null,null,1,1,1,null,null,1,1,1]
[18,"Less subsidies on products",1,1,1,null,null,"Less subsidies on products",1,1,1,null,null,"Less subsidies on products",1,1,1,null,null,1,1,1,null,null,1,1,1]
[]
[]
[]
["Medium"]
[0,"Agriculture and forestry",0.98409999999999997,0.99970000000000003,1.0008999999999999,null,null,"Agriculture and forestry",0.94620000000000004,1.0415000000000001,0.99199999999999999,null,null,"Agriculture and forestry",0.52959999999999985,1.2919999999999998,0.89599999999999991,null,null,{"$f":"O26-(1-O26)*3","v":-0.88160000000000061},{"$f":"P26-(1-P26)*3","v":2.1679999999999993},{"$f":"Q26-(1-Q26)*3","v":0.58399999999999963},null,null,0.88239999999999996,1.073,0.97399999999999998]
[1,"Fishing and fish processing on board",0.98409999999999997,0.99970000000000003,1.0008999999999999,null,null,"Fishing and fish processing on board",0.94620000000000004,1.0415000000000001,0.99199999999999999,null,null,"Fishing and fish processing on board",0.52959999999999985,1.2919999999999998,0.89599999999999991,null,null,{"$f":"O27-(1-O27)*3","v":-0.88160000000000061},2.1679999999999993,0.58399999999999963,null,null,0.88239999999999996,1.073,0.97399999999999998]
[2,"Mining and quarrying",0.9849,0.98209999999999997,0.98380000000000001,null,null,"Mining and quarrying",0.96939999999999993,0.98130000000000006,0.97560000000000002,null,null,"Mining and quarrying",0.8163999999999999,0.88780000000000003,0.8535999999999998,null,null,{"$f":"O28-(1-O28)*2","v":0.44919999999999971},{"$f":"P28-(1-P28)*2","v":0.6634000000000001},0.56079999999999941,null,null,0.93879999999999997,0.96260000000000001,0.95119999999999993]
[3,"Manufacturing",0.99490000000000001,0.99209999999999998,0.99380000000000002,null,null,"Manufacturing",0.98939999999999995,1.0013000000000001,0.99560000000000004,null,null,"Manufacturing",0.87519999999999998,0.97040000000000015,0.92479999999999984,null,null,0.50079999999999991,0.88160000000000061,0.69919999999999938,null,null,0.96879999999999999,0.99260000000000004,0.98119999999999996]
[4,"Electricity and water",0.99490000000000001,0.99209999999999998,0.99380000000000002,null,null,"Electricity and water",0.98939999999999995,1.0013000000000001,0.99560000000000004,null,null,"Electricity and water",0.87519999999999998,0.97040000000000015,0.92479999999999984,null,null,0.50079999999999991,0.88160000000000061,0.69919999999999938,null,null,0.96879999999999999,0.99260000000000004,0.98119999999999996]
[5,"Construction",1.0048999999999999,1.0021,1.0038,null,null,"Construction",0.99939999999999996,1.0113000000000001,1.0056,null,null,"Construction",0.91520000000000001,1.0103999999999997,0.96479999999999988,null,null,0.66080000000000005,1.041599999999999,0.85919999999999952,null,null,0.9788,1.0025999999999999,0.99119999999999997]
[6,"Wholesale and retail trade, repairs",0.99490000000000001,0.99209999999999998,0.99380000000000002,null,null,"Wholesale and retail trade, repairs",0.98939999999999995,1.0013000000000001,0.99560000000000004,null,null,"Wholesale and retail trade, repairs",0.87519999999999998,0.97040000000000015,0.92479999999999984,null,null,0.50079999999999991,0.88160000000000061,0.69919999999999938,null,null,0.96879999999999999,0.99260000000000004,0.98119999999999996]
[7,"Hotels and restaurants",0.9849,0.98209999999999997,0.98380000000000001,null,null,"Hotels and restaurants",0.96939999999999993,0.98130000000000006,0.97560000000000002,null,null,"Hotels and restaurants",0.75519999999999987,0.85040000000000004,0.80479999999999974,null,null,2.0799999999999486E-2,0.40160000000000018,0.21919999999999895,null,null,0.93879999999999997,0.96260000000000001,0.95119999999999993]
[8,"Transport",0.9849,0.98209999999999997,0.98380000000000001,null,null,"Transport",0.96939999999999993,0.98130000000000006,0.97560000000000002,null,null,"Transport",0.75519999999999987,0.85040000000000004,0.80479999999999974,null,null,2.0799999999999486E-2,0.40160000000000018,0.21919999999999895,null,null,0.93879999999999997,0.96260000000000001,0.95119999999999993]
[9,"Communication",0.9849,0.98209999999999997,0.98380000000000001,null,null,"Communication",0.96939999999999993,0.98130000000000006,0.97560000000000002,null,null,"Communication",0.75519999999999987,0.85040000000000004,0.80479999999999974,null,null,2.0799999999999486E-2,0.40160000000000018,0.21919999999999895,null,null,0.93879999999999997,0.96260000000000001,0.95119999999999993]
[10,"Financial intermediation",0.9849,0.98209999999999997,0.98380000000000001,null,null,"Financial intermediation",0.96939999999999993,0.98130000000000006,0.97560000000000002,null,null,"Financial intermediation",0.75519999999999987,0.85040000000000004,0.80479999999999974,null,null,2.0799999999999486E-2,0.40160000000000018,0.21919999999999895,null,null,0.93879999999999997,0.96260000000000001,0.95119999999999993]
[11,"Real estate and business services",0.99490000000000001,0.99209999999999998,0.99380000000000002,null,null,"Real estate and business services",0.98939999999999995,1.0013000000000001,0.99560000000000004,null,null,"Real estate and business services",0.87519999999999998,0.97040000000000015,0.92479999999999984,null,null,0.50079999999999991,0.88160000000000061,0.69919999999999938,null,null,0.96879999999999999,0.99260000000000004,0.98119999999999996]
[12,"Community, social and personal service activities",0.99490000000000001,0.99209999999999998,0.99380000000000002,null,null,"Community, social and personal service activities",0.98939999999999995,1.0013000000000001,0.99560000000000004,null,null,"Community, social and personal service activities",0.87519999999999998,0.97040000000000015,0.92479999999999984,null,null,0.50079999999999991,0.88160000000000061,0.69919999999999938,null,null,0.96879999999999999,0.99260000000000004,0.98119999999999996]
[13,"Public administration and defence",1.0048999999999999,1.0021,1.0038,null,null,"Public administration and defence",0.99939999999999996,1.0113000000000001,1.0056,null,null,"Public administration and defence",0.91520000000000001,1.0103999999999997,0.96479999999999988,null,null,0.66080000000000005,1.041599999999999,0.85919999999999952,null,null,0.9788,1.0025999999999999,0.99119999999999997]
[14,"Education",1.0048999999999999,1.0021,1.0038,null,null,"Education",0.99939999999999996,1.0113000000000001,1.0056,null,null,"Education",0.91520000000000001,1.0103999999999997,0.96479999999999988,null,null,0.66080000000000005,1.041599999999999,0.85919999999999952,null,null,0.9788,1.0025999999999999,0.99119999999999997]
[15,"Health",0.99490000000000001,0.99209999999999998,0.99380000000000002,null,null,"Health",0.98939999999999995,1.0013000000000001,0.99560000000000004,null,null,"Health",0.87519999999999998,0.97040000000000015,0.92479999999999984,null,null,0.50079999999999991,0.88160000000000061,0.69919999999999938,null,null,0.96879999999999999,0.99260000000000004,0.98119999999999996]
[16,"Private household with employed persons",0.99490000000000001,0.99209999999999998,0.99380000000000002,null,null,"Private household with employed persons",0.98939999999999995,1.0013000000000001,0.99560000000000004,null,null,"Private household with employed persons",0.87519999999999998,0.97040000000000015,0.92479999999999984,null,null,0.50079999999999991,0.88160000000000061,0.69919999999999938,null,null,0.96879999999999999,0.99260000000000004,0.98119999999999996]
[17,"Financial intermediation services indirectly measured",1,1,1,null,null,"Financial intermediation services indirectly measured",1,1,1,null,null,"Financial intermediation services indirectly measured",1,1,1,null,null,1,1,1,null,null,1,1,1]
[18,"Less subsidies on products",1,1,1,null,null,"Less subsidies on products",1,1,1,null,null,"Less subsidies on products",1,1,1,null,null,1,1,1,null,null,1,1,1]
[]
[]
[]
[]
["High"]
[0,"Agriculture and forestry",0.98929,1.0048900000000001,1.0060899999999999,null,null,"Agriculture and forestry",0.95138999999999996,1.0466899999999999,0.99719000000000002,null,null,"Agriculture and forestry",0.55035999999999996,1.3127599999999999,0.91676000000000002,null,null,{"$f":"O50-(1-O50)*3","v":-0.79856000000000016},{"$f":"P50-(1-P50)*3","v":2.2510399999999997},0.66704000000000008,-3,null,0.88758999999999999,1.07819,0.97919]
[1,"Fishing and fish processing on board",0.98929,1.0048900000000001,1.0060899999999999,null,null,"Fishing and fish processing on board",0.95138999999999996,1.0466899999999999,0.99719000000000002,null,null,"Fishing and fish processing on board",0.55035999999999996,1.3127599999999999,0.91676000000000002,null,null,{"$f":"O51-(1-O51)*3","v":-0.79856000000000016},2.2510399999999997,0.66704000000000008,-3,null,0.88758999999999999,1.07819,0.97919]
[2,"Mining and quarrying",0.97970999999999997,0.97690999999999995,0.97860999999999998,null,null,"Mining and quarrying",0.96421000000000001,0.97611000000000003,0.97040999999999999,null,null,"Mining and quarrying",0.73443999999999976,0.82963999999999993,0.78404000000000007,null,null,-6.2240000000000961E-2,0.31855999999999973,0.13616000000000028,-3,null,0.93360999999999994,0.95740999999999998,0.94601000000000002]
[3,"Manufacturing",0.98970999999999998,0.98690999999999995,0.98860999999999999,null,null,"Manufacturing",0.98421000000000003,0.99611000000000005,0.99041000000000001,null,null,"Manufacturing",0.85443999999999987,0.94964000000000004,0.90404000000000018,null,null,0.41775999999999947,0.79856000000000016,0.61616000000000071,-3,null,0.96360999999999997,0.98741000000000001,0.97601000000000004]
[4,"Electricity and water",0.98970999999999998,0.98690999999999995,0.98860999999999999,null,null,"Electricity and water",0.98421000000000003,0.99611000000000005,0.99041000000000001,null,null,"Electricity and water",0.85443999999999987,0.94964000000000004,0.90404000000000018,null,null,0.41775999999999947,0.79856000000000016,0.61616000000000071,-3,null,0.96360999999999997,0.98741000000000001,0.97601000000000004]
[5,"Construction",0.99970999999999999,0.99690999999999996,0.99861,null,null,"Construction",0.99421000000000004,1.0061100000000001,1.00041,null,null,"Construction",0.8944399999999999,0.98964000000000008,0.94404000000000021,null,null,0.57775999999999961,0.9585600000000003,0.77616000000000085,-3,null,0.97360999999999998,0.99741000000000002,0.98601000000000005]
[6,"Wholesale and retail trade, repairs",0.99873000000000001,0.99592999999999998,0.99763000000000002,null,null,"Wholesale and retail trade, repairs",0.99322999999999995,1.0051300000000001,0.99943000000000004,null,null,"Wholesale and retail trade, repairs",0.89051999999999998,0.98572000000000015,0.94011999999999984,null,null,0.56207999999999991,0.94288000000000061,0.76047999999999938,-3,null,0.97262999999999999,0.99643000000000004,0.98502999999999996]
[7,"Hotels and restaurants",0.98873,0.98592999999999997,0.98763000000000001,null,null,"Hotels and restaurants",0.97322999999999993,0.98513000000000006,0.97943000000000002,null,null,"Hotels and restaurants",0.77051999999999987,0.86572000000000005,0.82011999999999974,null,null,8.2079999999999487E-2,0.46288000000000018,0.28047999999999895,-3,null,0.94262999999999997,0.96643000000000001,0.95502999999999993]
[8,"Transport",0.98873,0.98592999999999997,0.98763000000000001,null,null,"Transport",0.97322999999999993,0.98513000000000006,0.97943000000000002,null,null,"Transport",0.77051999999999987,0.86572000000000005,0.82011999999999974,null,null,8.2079999999999487E-2,0.46288000000000018,0.28047999999999895,-3,null,0.94262999999999997,0.96643000000000001,0.95502999999999993]
[9,"Communication",0.98873,0.98592999999999997,0.98763000000000001,null,null,"Communication",0.97322999999999993,0.98513000000000006,0.97943000000000002,null,null,"Communication",0.77051999999999987,0.86572000000000005,0.82011999999999974,null,null,8.2079999999999487E-2,0.46288000000000018,0.28047999999999895,-3,null,0.94262999999999997,0.96643000000000001,0.95502999999999993]
[10,"Financial intermediation",0.98873,0.98592999999999997,0.98763000000000001,null,null,"Financial intermediation",0.97322999999999993,0.98513000000000006,0.97943000000000002,null,null,"Financial intermediation",0.77051999999999987,0.86572000000000005,0.82011999999999974,null,null,8.2079999999999487E-2,0.46288000000000018,0.28047999999999895,-3,null,0.94262999999999997,0.96643000000000001,0.95502999999999993]
[11,"Real estate and business services",0.99873000000000001,0.99592999999999998,0.99763000000000002,null,null,"Real estate and business services",0.99322999999999995,1.0051300000000001,0.99943000000000004,null,null,"Real estate and business services",0.89051999999999998,0.98572000000000015,0.94011999999999984,null,null,0.56207999999999991,0.94288000000000061,0.76047999999999938,-3,null,0.97262999999999999,0.99643000000000004,0.98502999999999996]
[12,"Community, social and personal service activities",0.99873000000000001,0.99592999999999998,0.99763000000000002,null,null,"Community, social and personal service activities",0.99322999999999995,1.0051300000000001,0.99943000000000004,null,null,"Community, social and personal service activities",0.89051999999999998,0.98572000000000015,0.94011999999999984,null,null,0.56207999999999991,0.94288000000000061,0.76047999999999938,-3,null,0.97262999999999999,0.99643000000000004,0.98502999999999996]
[13,"Public administration and defence",1.0087299999999999,1.00593,1.00763,null,null,"Public administration and defence",1.0032299999999998,1.0151300000000001,1.00943,null,null,"Public administration and defence",0.93052000000000001,1.0257199999999997,0.98011999999999988,null,null,0.72208000000000006,1.102879999999999,0.92047999999999952,-3,null,0.98263,1.0064299999999999,0.99502999999999997]
[14,"Education",1.0087299999999999,1.00593,1.00763,null,null,"Education",1.0032299999999998,1.0151300000000001,1.00943,null,null,"Education",0.93052000000000001,1.0257199999999997,0.98011999999999988,null,null,0.72208000000000006,1.102879999999999,0.92047999999999952,-3,null,0.98263,1.0064299999999999,0.99502999999999997]
[15,"Health",0.99873000000000001,0.99592999999999998,0.99763000000000002,null,null,"Health",0.99322999999999995,1.0051300000000001,0.99943000000000004,null,null,"Health",0.89051999999999998,0.98572000000000015,0.94011999999999984,null,null,0.56207999999999991,0.94288000000000061,0.76047999999999938,-3,null,0.97262999999999999,0.99643000000000004,0.98502999999999996]
[16,"Private household with employed persons",0.99873000000000001,0.99592999999999998,0.99763000000000002,null,null,"Private household with employed persons",0.99322999999999995,1.0051300000000001,0.99943000000000004,null,null,"Private household with employed persons",0.89051999999999998,0.98572000000000015,0.94011999999999984,null,null,0.56207999999999991,{"$f":"P66-(1-P66)*3","v":0.94288000000000061},{"$f":"Q66-(1-Q66)*3","v":0.76047999999999938},{"$f":"R66-(1-R66)*3","v":-3},null,0.97262999999999999,0.99643000000000004,0.98502999999999996]
[17,"Financial intermediation services indirectly measured",1,1,1,null,null,"Financial intermediation services indirectly measured",1,1,1,null,null,"Financial intermediation services indirectly measured",1,1,1,null,null,1,1,1,-3,null,1,1,1]
[18,"Less subsidies on products",1,1,1,null,null,"Less subsidies on products",1,1,1,null,null,"Less subsidies on products",1,1,1,null,null,1,1,1,-3,null,1,1,1]

{"sheet":"Flood","index":9,"n_rows":68,"n_cols":25,"rows_kept":68,"cut":false,"hidden":true,"merged":[]}
[]
["light","3 month",null,null,null,null,null,"6 month",null,null,null,null,null,"12 month"]
[0,"Agriculture and forestry",0.99309999999999998,0.99639999999999995,0.98909999999999998,null,null,"Agriculture and forestry",0.99450000000000005,0.99550000000000005,0.998,null,null,"Agriculture and forestry",0.8,0.99099999999999999,0.99099999999999999,null,0.8,{"$f":"P3","v":0.99099999999999999},{"$f":"P3","v":0.99099999999999999},null,0.98899999999999999,0.99099999999999999,0.996]
[1,"Fishing and fish processing on board",0.99309999999999998,0.99639999999999995,0.98909999999999998,null,null,"Fishing and fish processing on board",0.99450000000000005,0.99550000000000005,0.998,null,null,"Fishing and fish processing on board",0.8,0.99099999999999999,0.99099999999999999,null,0.8,{"$f":"P4","v":0.99099999999999999},{"$f":"P4","v":0.99099999999999999},null,0.98899999999999999,0.99099999999999999,0.996]
[2,"Mining and quarrying",0.9909,0.99029999999999996,0.99419999999999997,null,null,"Mining and quarrying",0.98809999999999998,0.98860000000000003,0.99219999999999997,null,null,"Mining and quarrying",0.5,0.75,0.9,null,0.5,0.75,0.9,null,0.97619999999999996,0.97719999999999996,0.98440000000000005]
[3,"Manufacturing",0.9909,0.99029999999999996,0.99419999999999997,null,null,"Manufacturing",0.98809999999999998,0.98860000000000003,0.99219999999999997,null,null,"Manufacturing",0.5,0.75,0.9,null,0.5,0.75,0.9,null,0.97619999999999996,0.97719999999999996,0.98440000000000005]
[4,"Electricity and water",1.0008999999999999,1.0003,1.0042,null,null,"Electricity and water",0.99809999999999999,0.99860000000000004,1.0022,null,null,"Electricity and water",0.5,7.4999999999999997E-2,0.9,null,0.5,7.4999999999999997E-2,0.9,null,0.98619999999999997,0.98719999999999997,0.99440000000000006]
[5,"Construction",0.9909,0.99029999999999996,0.99419999999999997,null,null,"Construction",0.98809999999999998,0.98860000000000003,0.99219999999999997,null,null,"Construction",0.5,0.95,1.006,null,0.5,0.95,1.006,null,0.97619999999999996,0.97719999999999996,0.98440000000000005]
[6,"Wholesale and retail trade, repairs",1.0008999999999999,1.0003,1.0042,null,null,"Wholesale and retail trade, repairs",0.99809999999999999,0.99860000000000004,1.0022,null,null,"Wholesale and retail trade, repairs",0.9585999999999999,0.9615999999999999,0.98320000000000018,null,{"$f":"1-(1-O9)*3","v":0.87579999999999969},{"$f":"1-(1-P9)*3","v":0.8847999999999997},{"$f":"1-(1-Q9)*3","v":0.94960000000000055},null,0.98619999999999997,0.98719999999999997,0.99440000000000006]
[7,"Hotels and restaurants",0.98089999999999999,0.98029999999999995,0.98419999999999996,null,null,"Hotels and restaurants",0.96809999999999996,0.96860000000000002,0.97219999999999995,null,null,"Hotels and restaurants",0.83859999999999979,0.84159999999999979,0.86320000000000008,null,{"$f":"1-(1-O10)*3","v":0.51579999999999937},0.52479999999999938,0.58960000000000024,null,0.94619999999999993,0.94719999999999993,0.95440000000000003]
[8,"Transport",0.98089999999999999,0.98029999999999995,0.98419999999999996,null,null,"Transport",0.97809999999999997,0.97860000000000003,0.98219999999999996,null,null,"Transport",0.89859999999999984,0.90159999999999985,0.92320000000000013,null,0.69579999999999953,0.70479999999999954,0.76960000000000039,null,0.96619999999999995,0.96719999999999995,0.97440000000000004]
[9,"Communication",0.98089999999999999,0.98029999999999995,0.98419999999999996,null,null,"Communication",0.97809999999999997,0.97860000000000003,0.98219999999999996,null,null,"Communication",0.89859999999999984,0.90159999999999985,0.92320000000000013,null,0.69579999999999953,0.70479999999999954,0.76960000000000039,null,0.96619999999999995,0.96719999999999995,0.97440000000000004]
[10,"Financial intermediation",0.97089999999999999,0.97029999999999994,0.97419999999999995,null,null,"Financial intermediation",0.95809999999999995,0.95860000000000001,0.96219999999999994,null,null,"Financial intermediation",0.80859999999999976,0.81159999999999977,0.83320000000000005,null,0.42579999999999929,0.4347999999999993,0.49960000000000016,null,0.93619999999999992,0.93719999999999992,0.94440000000000002]
[11,"Real estate and business services",0.9909,0.99029999999999996,0.99419999999999997,null,null,"Real estate and business services",0.98809999999999998,0.98860000000000003,0.99219999999999997,null,null,"Real estate and business services",0.92859999999999987,0.93159999999999987,0.95320000000000016,null,0.78579999999999961,0.79479999999999962,0.85960000000000047,null,0.97619999999999996,0.97719999999999996,0.98440000000000005]
[12,"Community, social and personal service activities",0.98089999999999999,0.98029999999999995,0.98419999999999996,null,null,"Community, social and personal service activities",0.97809999999999997,0.97860000000000003,0.98219999999999996,null,null,"Community, social and personal service activities",0.89859999999999984,0.90159999999999985,0.92320000000000013,null,0.69579999999999953,0.70479999999999954,0.76960000000000039,null,0.96619999999999995,0.96719999999999995,0.97440000000000004]
[13,"Public administration and defence",0.96089999999999998,0.96029999999999993,0.96419999999999995,null,null,"Public administration and defence",0.94809999999999994,0.9486,0.95219999999999994,null,null,"Public administration and defence",0.77859999999999974,0.78159999999999974,0.80320000000000003,null,0.33579999999999921,0.34479999999999922,0.40960000000000008,null,0.92619999999999991,0.92719999999999991,0.93440000000000001]
[14,"Education",0.98089999999999999,0.98029999999999995,0.98419999999999996,null,null,"Education",0.97809999999999997,0.97860000000000003,0.98219999999999996,null,null,"Education",0.89859999999999984,0.90159999999999985,0.92320000000000013,null,0.69579999999999953,0.70479999999999954,0.76960000000000039,null,0.96619999999999995,0.96719999999999995,0.97440000000000004]
[15,"Health",0.98089999999999999,0.98029999999999995,0.98419999999999996,null,null,"Health",0.97809999999999997,0.97860000000000003,0.98219999999999996,null,null,"Health",0.89859999999999984,0.90159999999999985,0.92320000000000013,null,0.69579999999999953,0.70479999999999954,0.76960000000000039,null,0.96619999999999995,0.96719999999999995,0.97440000000000004]
[16,"Private household with employed persons",0.98089999999999999,0.98029999999999995,0.98419999999999996,null,null,"Private household with employed persons",0.97809999999999997,0.97860000000000003,0.98219999999999996,null,null,"Private household with employed persons",0.89859999999999984,0.90159999999999985,0.92320000000000013,null,0.69579999999999953,0.70479999999999954,0.76960000000000039,null,0.96619999999999995,0.96719999999999995,0.97440000000000004]
[17,"Financial intermediation services indirectly measured",1,1,1,null,null,"Financial intermediation services indirectly measured",1,1,1,null,null,"Financial intermediation services indirectly measured",1,1,1,null,1,1,1,null,1,1,1]
[18,"Less subsidies on products",1,1,1,null,null,"Less subsidies on products",1,1,1,null,null,"Less subsidies on products",1,1,1,null,1,1,1,null,1,1,1]
[]
[]
[]
["Medium"]
[0,"Agriculture and forestry",1.0031000000000001,1.0064,0.99909999999999999,null,null,"Agriculture and forestry",1.0044999999999999,1.0055000000000001,1.008,null,null,"Agriculture and forestry",0.85,1.0009999999999999,1.0009999999999999,null,0.85,{"$f":"P26","v":1.0009999999999999},{"$f":"P26","v":1.0009999999999999},null,0.999,1.0009999999999999,1.006]
[1,"Fishing and fish processing on board",1.0031000000000001,1.0064,0.99909999999999999,null,null,"Fishing and fish processing on board",1.0044999999999999,1.0055000000000001,1.008,null,null,"Fishing and fish processing on board",0.85,1.0009999999999999,1.0009999999999999,null,0.85,{"$f":"P27","v":1.0009999999999999},{"$f":"P27","v":1.0009999999999999},null,0.999,1.0009999999999999,1.006]
[2,"Mining and quarrying",1.0008999999999999,1.0003,1.0042,null,null,"Mining and quarrying",0.99809999999999999,0.99860000000000004,1.0022,null,null,"Mining and quarrying",0.6,0.8,0.9,null,0.6,0.8,0.9,null,0.98619999999999997,0.98719999999999997,0.99439999999999995]
[3,"Manufacturing",1.0008999999999999,1.0003,1.0042,null,null,"Manufacturing",0.99809999999999999,0.99860000000000004,1.0022,null,null,"Manufacturing",0.6,0.8,0.9,null,0.6,0.8,0.9,null,0.98619999999999997,0.98719999999999997,0.99439999999999995]
[4,"Electricity and water",1.0108999999999999,1.0103,1.0142,null,null,"Electricity and water",1.0181,1.0185999999999999,1.0222,null,null,"Electricity and water",0.6,0.8,0.9,null,0.6,0.8,0.9,null,1.0162,1.0171999999999999,1.0244]
[5,"Construction",1.0008999999999999,1.0003,1.0042,null,null,"Construction",0.99809999999999999,0.99860000000000004,1.0022,null,null,"Construction",0.6,1.004,1.006,null,0.6,1.004,1.006,null,0.98619999999999997,0.98719999999999997,0.99439999999999995]
[6,"Wholesale and retail trade, repairs",1.0108999999999999,1.0103,1.0142,null,null,"Wholesale and retail trade, repairs",1.0081,1.0085999999999999,1.0122,null,null,"Wholesale and retail trade, repairs",0.98859999999999992,0.99159999999999993,1.0131999999999999,null,{"$f":"1-(1-O32)*3","v":0.96579999999999977},{"$f":"1-(1-P32)*3","v":0.97479999999999978},{"$f":"1-(1-Q32)*3","v":1.0395999999999996},null,0.99619999999999997,0.99719999999999998,1.0044]
[7,"Hotels and restaurants",0.99089999999999989,0.99029999999999996,0.99419999999999997,null,null,"Hotels and restaurants",0.97809999999999997,0.97860000000000003,0.98219999999999996,null,null,"Hotels and restaurants",0.86859999999999982,0.87159999999999982,0.89319999999999977,null,{"$f":"1-(1-O33)*3","v":0.60579999999999945},0.61479999999999946,0.67959999999999932,null,0.95619999999999994,0.95719999999999994,0.96439999999999992]
[8,"Transport",0.99089999999999989,0.99029999999999996,0.99419999999999997,null,null,"Transport",0.98809999999999998,0.98860000000000003,0.99219999999999997,null,null,"Transport",0.92859999999999987,0.93159999999999987,0.95319999999999983,null,0.78579999999999961,0.79479999999999962,0.85959999999999948,null,0.97619999999999996,0.97719999999999996,0.98439999999999994]
[9,"Communication",0.99089999999999989,0.99029999999999996,0.99419999999999997,null,null,"Communication",0.98809999999999998,0.98860000000000003,0.99219999999999997,null,null,"Communication",0.92859999999999987,0.93159999999999987,0.95319999999999983,null,0.78579999999999961,0.79479999999999962,0.85959999999999948,null,0.97619999999999996,0.97719999999999996,0.98439999999999994]
[10,"Financial intermediation",0.98089999999999988,0.98029999999999995,0.98419999999999996,null,null,"Financial intermediation",0.96809999999999996,0.96860000000000002,0.97219999999999995,null,null,"Financial intermediation",0.83859999999999979,0.84159999999999979,0.86319999999999975,null,0.51579999999999937,0.52479999999999938,0.58959999999999924,null,0.94619999999999993,0.94719999999999993,0.95439999999999992]
[11,"Real estate and business services",1.0008999999999999,1.0003,1.0042,null,null,"Real estate and business services",0.99809999999999999,0.99860000000000004,1.0022,null,null,"Real estate and business services",0.9585999999999999,0.9615999999999999,0.98319999999999985,null,0.87579999999999969,0.8847999999999997,0.94959999999999956,null,0.98619999999999997,0.98719999999999997,0.99439999999999995]
[12,"Community, social and personal service activities",0.99089999999999989,0.99029999999999996,0.99419999999999997,null,null,"Community, social and personal service activities",0.98809999999999998,0.98860000000000003,0.99219999999999997,null,null,"Community, social and personal service activities",0.92859999999999987,0.93159999999999987,0.95319999999999983,null,0.78579999999999961,0.79479999999999962,0.85959999999999948,null,0.97619999999999996,0.97719999999999996,0.98439999999999994]
[13,"Public administration and defence",0.97089999999999987,0.97029999999999994,0.97419999999999995,null,null,"Public administration and defence",0.95809999999999995,0.95860000000000001,0.96219999999999994,null,null,"Public administration and defence",0.80859999999999976,0.81159999999999977,0.83319999999999972,null,0.42579999999999929,0.4347999999999993,0.49959999999999916,null,0.93619999999999992,0.93719999999999992,0.94439999999999991]
[14,"Education",0.99089999999999989,0.99029999999999996,0.99419999999999997,null,null,"Education",0.98809999999999998,0.98860000000000003,0.99219999999999997,null,null,"Education",0.92859999999999987,0.93159999999999987,0.95319999999999983,null,0.78579999999999961,0.79479999999999962,0.85959999999999948,null,0.97619999999999996,0.97719999999999996,0.98439999999999994]
[15,"Health",0.99089999999999989,0.99029999999999996,0.99419999999999997,null,null,"Health",0.98809999999999998,0.98860000000000003,0.99219999999999997,null,null,"Health",0.92859999999999987,0.93159999999999987,0.95319999999999983,null,0.78579999999999961,0.79479999999999962,0.85959999999999948,null,0.97619999999999996,0.97719999999999996,0.98439999999999994]
[16,"Private household with employed persons",0.99089999999999989,0.99029999999999996,0.99419999999999997,null,null,"Private household with employed persons",0.98809999999999998,0.98860000000000003,0.99219999999999997,null,null,"Private household with employed persons",0.92859999999999987,0.93159999999999987,0.95319999999999983,null,0.78579999999999961,0.79479999999999962,0.85959999999999948,null,0.97619999999999996,0.97719999999999996,0.98439999999999994]
[17,"Financial intermediation services indirectly measured",1,1,1,null,null,"Financial intermediation services indirectly measured",1,1,1,null,null,"Financial intermediation services indirectly measured",1,1,1,null,1,1,1,null,1,1,1]
[18,"Less subsidies on products",1,1,1,null,null,"Less subsidies on products",1,1,1,null,null,"Less subsidies on products",1,1,1,null,1,1,1,null,1,1,1]
[]
[]
[]
[]
["High"]
[0,"Agriculture and forestry",1.0080199999999999,1.01132,1.0040199999999999,null,null,"Agriculture and forestry",1.00942,1.0104200000000001,1.01292,null,null,"Agriculture and forestry",0.9,1.0059199999999999,1.0059199999999999,null,0.9,{"$f":"P50","v":1.0059199999999999},{"$f":"P50","v":1.0059199999999999},null,1.0039199999999999,1.0059199999999999,1.01092]
[1,"Fishing and fish processing on board",1.0080199999999999,1.01132,1.0040199999999999,null,null,"Fishing and fish processing on board",1.00942,1.0104200000000001,1.01292,null,null,"Fishing and fish processing on board",0.96,1.0059199999999999,1.0059199999999999,null,0.96,{"$f":"P51","v":1.0059199999999999},{"$f":"P51","v":1.0059199999999999},null,1.0039199999999999,1.0059199999999999,1.01092]
[2,"Mining and quarrying",0.95934999999999993,0.95874999999999999,0.96265000000000001,null,null,"Mining and quarrying",0.9315500000000001,0.93205000000000005,0.93565000000000009,null,null,"Mining and quarrying",0.7,0.89,0.9,null,0.7,0.89,0.9,null,0.89465000000000006,0.89565000000000006,0.90285000000000004]
[3,"Manufacturing",0.98934999999999995,0.98875000000000002,0.99265000000000003,null,null,"Manufacturing",0.97655000000000003,0.97704999999999997,0.98065000000000002,null,null,"Manufacturing",0.7,0.89,0.9,null,0.7,0.89,0.9,null,0.95465,0.95565,0.96284999999999998]
[4,"Electricity and water",0.99934999999999996,0.99875000000000003,1.00265,null,null,"Electricity and water",0.98655000000000004,0.98704999999999998,0.99065000000000003,null,null,"Electricity and water",0.7,0.89,0.9,null,0.7,0.89,0.9,null,0.96465000000000001,0.96565000000000001,0.97284999999999999]
[5,"Construction",1.01935,1.01875,1.0226500000000001,null,null,"Construction",1.0165500000000001,1.01705,1.0206500000000001,null,null,"Construction",0.7,1.004,1.006,null,0.7,1.004,1.006,null,1.00465,1.0056499999999999,1.01285]
[6,"Wholesale and retail trade, repairs",0.99910999999999994,0.99851000000000001,1.00241,null,null,"Wholesale and retail trade, repairs",0.98631000000000002,0.98680999999999996,0.99041000000000001,null,null,"Wholesale and retail trade, repairs",0.89322999999999997,0.89622999999999997,0.91782999999999992,null,{"$f":"1-(1-O56)*3","v":0.67968999999999991},{"$f":"1-(1-P56)*3","v":0.68868999999999991},0.75348999999999977,null,0.96440999999999999,0.96540999999999999,0.97260999999999997]
[7,"Hotels and restaurants",1.00911,1.00851,1.01241,null,null,"Hotels and restaurants",1.00631,1.00681,1.01041,null,null,"Hotels and restaurants",0.98323000000000005,0.98623000000000005,1.00783,null,{"$f":"1-(1-O57)*3","v":0.94969000000000015},{"$f":"1-(1-P57)*3","v":0.95869000000000015},{"$f":"1-(1-Q57)*3","v":1.02349},null,0.99441000000000002,0.99541000000000002,1.00261]
[8,"Transport",1.00911,1.00851,1.01241,null,null,"Transport",1.00631,1.00681,1.01041,null,null,"Transport",0.98323000000000005,0.98623000000000005,1.00783,null,0.94969000000000015,0.95869000000000015,1.02349,null,0.99441000000000002,0.99541000000000002,1.00261]
[9,"Communication",1.00911,1.00851,1.01241,null,null,"Communication",1.00631,1.00681,1.01041,null,null,"Communication",0.98323000000000005,0.98623000000000005,1.00783,null,0.94969000000000015,0.95869000000000015,1.02349,null,0.99441000000000002,0.99541000000000002,1.00261]
[10,"Financial intermediation",1.00911,1.00851,1.01241,null,null,"Financial intermediation",1.00631,1.00681,1.01041,null,null,"Financial intermediation",0.98323000000000005,0.98623000000000005,1.00783,null,0.94969000000000015,0.95869000000000015,1.02349,null,0.99441000000000002,0.99541000000000002,1.00261]
[11,"Real estate and business services",1.00911,1.00851,1.01241,null,null,"Real estate and business services",1.00631,1.00681,1.01041,null,null,"Real estate and business services",0.98323000000000005,0.98623000000000005,1.00783,null,0.94969000000000015,0.95869000000000015,1.02349,null,0.99441000000000002,0.99541000000000002,1.00261]
[12,"Community, social and personal service activities",1.00911,1.00851,1.01241,null,null,"Community, social and personal service activities",1.00631,1.00681,1.01041,null,null,"Community, social and personal service activities",0.98323000000000005,0.98623000000000005,1.00783,null,0.94969000000000015,0.95869000000000015,1.02349,null,0.99441000000000002,0.99541000000000002,1.00261]
[13,"Public administration and defence",1.00911,1.00851,1.01241,null,null,"Public administration and defence",1.00631,1.00681,1.01041,null,null,"Public administration and defence",0.98323000000000005,0.98623000000000005,1.00783,null,0.94969000000000015,0.95869000000000015,1.02349,null,0.99441000000000002,0.99541000000000002,1.00261]
[14,"Education",1.00911,1.00851,1.01241,null,null,"Education",1.00631,1.00681,1.01041,null,null,"Education",0.98323000000000005,0.98623000000000005,1.00783,null,0.94969000000000015,0.95869000000000015,1.02349,null,0.99441000000000002,0.99541000000000002,1.00261]
[15,"Health",1.00911,1.00851,1.01241,null,null,"Health",1.00631,1.00681,1.01041,null,null,"Health",0.98323000000000005,0.98623000000000005,1.00783,null,0.94969000000000015,0.95869000000000015,1.02349,null,0.99441000000000002,0.99541000000000002,1.00261]
[16,"Private household with employed persons",1.00911,1.00851,1.01241,null,null,"Private household with employed persons",1.00631,1.00681,1.01041,null,null,"Private household with employed persons",0.98323000000000005,0.98623000000000005,1.00783,null,0.94969000000000015,0.95869000000000015,1.02349,null,0.99441000000000002,0.99541000000000002,1.00261]
[17,"Financial intermediation services indirectly measured",1,1,1,null,null,"Financial intermediation services indirectly measured",1,1,1,null,null,"Financial intermediation services indirectly measured",1,1,1,null,{"$f":"1-(1-O67)*3","v":1},{"$f":"1-(1-P67)*3","v":1},{"$f":"1-(1-Q67)*3","v":1},null,1,1,1]
[18,"Less subsidies on products",1,1,1,null,null,"Less subsidies on products",1,1,1,null,null,"Less subsidies on products",1,1,1,null,1,1,1,null,1,1,1]

{"sheet":"Storm","index":10,"n_rows":68,"n_cols":21,"rows_kept":68,"cut":false,"hidden":true,"merged":[]}
[]
["light","3 month",null,null,null,null,null,"6 month",null,null,null,null,null,"12 month"]
[0,"Agriculture and forestry",0.98409999999999997,0.99729999999999996,0.98899999999999999,null,null,"Agriculture and forestry",0.97150000000000003,0.96450000000000002,0.97219999999999995,null,null,"Agriculture and forestry",0.94299999999999995,0.92900000000000005,0.94440000000000002,null,0.75,{"$f":"1-(1-P3)*3","v":0.78700000000000014},0.83320000000000005]
[1,"Fishing and fish processing on board",0.98409999999999997,0.99729999999999996,0.98899999999999999,null,null,"Fishing and fish processing on board",0.97150000000000003,0.96450000000000002,0.97219999999999995,null,null,"Fishing and fish processing on board",0.94299999999999995,0.92900000000000005,0.94440000000000002,null,0.75,0.78700000000000014,0.83320000000000005]
[2,"Mining and quarrying",0.9728,0.97139999999999993,0.97109999999999996,null,null,"Mining and quarrying",0.91499999999999992,0.91009999999999991,0.91809999999999992,null,null,"Mining and quarrying",0.83,0.82020000000000004,0.83620000000000005,null,{"$f":"1-(1-O5)*3","v":0.48999999999999988},0.46060000000000012,0.50860000000000016]
[3,"Manufacturing",0.99280000000000002,0.99139999999999995,0.99109999999999998,null,null,"Manufacturing",0.96499999999999997,0.96009999999999995,0.96809999999999996,null,null,"Manufacturing",0.92999999999999994,0.92020000000000002,0.93620000000000003,null,0.78999999999999981,0.76060000000000005,0.8086000000000001]
[4,"Electricity and water",0.9728,0.97139999999999993,0.97109999999999996,null,null,"Electricity and water",0.93499999999999994,0.93009999999999993,0.93809999999999993,null,null,"Electricity and water",0.8899999999999999,0.88019999999999998,0.8962,null,0.66999999999999971,0.64059999999999995,0.68859999999999999]
[5,"Construction",0.98280000000000001,0.98139999999999994,0.98109999999999997,null,null,"Construction",0.94499999999999995,0.94009999999999994,0.94809999999999994,null,null,"Construction",0.89999999999999991,0.89019999999999999,0.90620000000000001,null,0.69999999999999973,0.67059999999999997,0.71860000000000002]
[6,"Wholesale and retail trade, repairs",0.99280000000000002,0.99139999999999995,0.99109999999999998,null,null,"Wholesale and retail trade, repairs",0.96499999999999997,0.96009999999999995,0.96809999999999996,null,null,"Wholesale and retail trade, repairs",0.92999999999999994,0.92020000000000002,0.93620000000000003,null,0.78999999999999981,0.76060000000000005,0.8086000000000001]
[7,"Hotels and restaurants",0.99280000000000002,0.99139999999999995,0.99109999999999998,null,null,"Hotels and restaurants",0.96499999999999997,0.96009999999999995,0.96809999999999996,null,null,"Hotels and restaurants",0.92999999999999994,0.92020000000000002,0.93620000000000003,null,0.78999999999999981,0.76060000000000005,0.8086000000000001]
[8,"Transport",0.99280000000000002,0.99139999999999995,0.99109999999999998,null,null,"Transport",0.96499999999999997,0.96009999999999995,0.96809999999999996,null,null,"Transport",0.92999999999999994,0.92020000000000002,0.93620000000000003,null,0.78999999999999981,0.76060000000000005,0.8086000000000001]
[9,"Communication",0.9728,0.97139999999999993,0.97109999999999996,null,null,"Communication",0.91499999999999992,0.91009999999999991,0.91809999999999992,null,null,"Communication",0.83,0.82020000000000004,0.83620000000000005,null,0.48999999999999988,0.46060000000000012,0.50860000000000016]
[10,"Financial intermediation",0.9728,0.97139999999999993,0.97109999999999996,null,null,"Financial intermediation",0.91499999999999992,0.91009999999999991,0.91809999999999992,null,null,"Financial intermediation",0.85,0.84020000000000006,0.85620000000000007,null,0.54999999999999993,0.52060000000000017,0.56860000000000022]
[11,"Real estate and business services",0.99280000000000002,0.99139999999999995,0.99109999999999998,null,null,"Real estate and business services",0.96499999999999997,0.96009999999999995,0.96809999999999996,null,null,"Real estate and business services",0.92999999999999994,0.92020000000000002,0.93620000000000003,null,0.78999999999999981,0.76060000000000005,0.8086000000000001]
[12,"Community, social and personal service activities",0.99280000000000002,0.99139999999999995,0.99109999999999998,null,null,"Community, social and personal service activities",0.96499999999999997,0.96009999999999995,0.96809999999999996,null,null,"Community, social and personal service activities",0.92999999999999994,0.92020000000000002,0.93620000000000003,null,0.78999999999999981,0.76060000000000005,0.8086000000000001]
[13,"Public administration and defence",0.9728,0.97139999999999993,0.97109999999999996,null,null,"Public administration and defence",0.91499999999999992,0.91009999999999991,0.91809999999999992,null,null,"Public administration and defence",0.85,0.84020000000000006,0.85620000000000007,null,0.54999999999999993,0.52060000000000017,0.56860000000000022]
[14,"Education",0.9728,0.97139999999999993,0.97109999999999996,null,null,"Education",0.91499999999999992,0.91009999999999991,0.91809999999999992,null,null,"Education",0.85,0.84020000000000006,0.85620000000000007,null,0.54999999999999993,0.52060000000000017,0.56860000000000022]
[15,"Health",0.9728,0.97139999999999993,0.97109999999999996,null,null,"Health",0.91499999999999992,0.91009999999999991,0.91809999999999992,null,null,"Health",0.85,0.84020000000000006,0.85620000000000007,null,0.54999999999999993,0.52060000000000017,0.56860000000000022]
[16,"Private household with employed persons",0.99280000000000002,0.99139999999999995,0.99109999999999998,null,null,"Private household with employed persons",0.96499999999999997,0.96009999999999995,0.96809999999999996,null,null,"Private household with employed persons",0.92999999999999994,0.92020000000000002,0.93620000000000003,null,0.78999999999999981,{"$f":"1-(1-P19)*3","v":0.76060000000000005},{"$f":"1-(1-Q19)*3","v":0.8086000000000001}]
[17,"Financial intermediation services indirectly measured",1,1,1,null,null,"Financial intermediation services indirectly measured",1,1,1,null,null,"Financial intermediation services indirectly measured",1,1,1,null,1,1,1]
[18,"Less subsidies on products",1,1,1,null,null,"Less subsidies on products",1,1,1,null,null,"Less subsidies on products",1,1,1,null,1,1,1]
[]
[]
[]
["Medium"]
[0,"Agriculture and forestry",0.99409999999999998,1.0073000000000001,0.999,null,null,"Agriculture and forestry",1.0015000000000001,0.99450000000000005,1.0022,null,null,"Agriculture and forestry",0.97299999999999998,0.95899999999999996,0.97440000000000004,null,0.8,{"$f":"1-(1-P26)*3","v":0.87699999999999989},{"$f":"1-(1-Q26)*3","v":0.92320000000000013}]
[1,"Fishing and fish processing on board",0.99409999999999998,1.0073000000000001,0.999,null,null,"Fishing and fish processing on board",1.0015000000000001,0.99450000000000005,1.0022,null,null,"Fishing and fish processing on board",0.97299999999999998,0.95899999999999996,0.97440000000000004,null,0.8,0.87699999999999989,0.92320000000000013]
[2,"Mining and quarrying",0.9827999999999999,0.98140000000000005,0.98110000000000008,null,null,"Mining and quarrying",0.94499999999999995,0.94009999999999994,0.94809999999999994,null,null,"Mining and quarrying",0.86,0.85020000000000007,0.86619999999999997,null,{"$f":"1-(1-O28)*3","v":0.57999999999999996},0.5506000000000002,0.59859999999999991]
[3,"Manufacturing",1.0027999999999999,1.0014000000000001,1.0011000000000001,null,null,"Manufacturing",0.995,0.99009999999999998,0.99809999999999999,null,null,"Manufacturing",0.96,0.95020000000000004,0.96619999999999995,null,0.87999999999999989,0.85060000000000013,0.89859999999999984]
[4,"Electricity and water",0.9827999999999999,0.98140000000000005,0.98110000000000008,null,null,"Electricity and water",0.96499999999999997,0.96009999999999995,0.96809999999999996,null,null,"Electricity and water",0.91999999999999993,0.91020000000000001,0.92619999999999991,null,0.75999999999999979,0.73060000000000003,0.77859999999999974]
[5,"Construction",0.9927999999999999,0.99140000000000006,0.99110000000000009,null,null,"Construction",0.97499999999999998,0.97009999999999996,0.97809999999999997,null,null,"Construction",0.92999999999999994,0.92020000000000002,0.93619999999999992,null,0.78999999999999981,0.76060000000000005,0.80859999999999976]
[6,"Wholesale and retail trade, repairs",1.0027999999999999,1.0014000000000001,1.0011000000000001,null,null,"Wholesale and retail trade, repairs",0.995,0.99009999999999998,0.99809999999999999,null,null,"Wholesale and retail trade, repairs",0.96,0.95020000000000004,0.96619999999999995,null,0.87999999999999989,0.85060000000000013,0.89859999999999984]
[7,"Hotels and restaurants",1.0027999999999999,1.0014000000000001,1.0011000000000001,null,null,"Hotels and restaurants",0.995,0.99009999999999998,0.99809999999999999,null,null,"Hotels and restaurants",0.96,0.95020000000000004,0.96619999999999995,null,0.87999999999999989,0.85060000000000013,0.89859999999999984]
[8,"Transport",1.0027999999999999,1.0014000000000001,1.0011000000000001,null,null,"Transport",0.995,0.99009999999999998,0.99809999999999999,null,null,"Transport",0.96,0.95020000000000004,0.96619999999999995,null,0.87999999999999989,0.85060000000000013,0.89859999999999984]
[9,"Communication",0.9827999999999999,0.98140000000000005,0.98110000000000008,null,null,"Communication",0.94499999999999995,0.94009999999999994,0.94809999999999994,null,null,"Communication",0.86,0.85020000000000007,0.86619999999999997,null,0.57999999999999996,0.5506000000000002,0.59859999999999991]
[10,"Financial intermediation",0.9827999999999999,0.98140000000000005,0.98110000000000008,null,null,"Financial intermediation",0.94499999999999995,0.94009999999999994,0.94809999999999994,null,null,"Financial intermediation",0.88,0.87020000000000008,0.88619999999999999,null,0.64,0.61060000000000025,0.65859999999999996]
[11,"Real estate and business services",1.0027999999999999,1.0014000000000001,1.0011000000000001,null,null,"Real estate and business services",0.995,0.99009999999999998,0.99809999999999999,null,null,"Real estate and business services",0.96,0.95020000000000004,0.96619999999999995,null,0.87999999999999989,0.85060000000000013,0.89859999999999984]
[12,"Community, social and personal service activities",1.0027999999999999,1.0014000000000001,1.0011000000000001,null,null,"Community, social and personal service activities",0.995,0.99009999999999998,0.99809999999999999,null,null,"Community, social and personal service activities",0.96,0.95020000000000004,0.96619999999999995,null,0.87999999999999989,0.85060000000000013,0.89859999999999984]
[13,"Public administration and defence",0.9827999999999999,0.98140000000000005,0.98110000000000008,null,null,"Public administration and defence",0.94499999999999995,0.94009999999999994,0.94809999999999994,null,null,"Public administration and defence",0.88,0.87020000000000008,0.88619999999999999,null,0.64,0.61060000000000025,0.65859999999999996]
[14,"Education",0.9827999999999999,0.98140000000000005,0.98110000000000008,null,null,"Education",0.94499999999999995,0.94009999999999994,0.94809999999999994,null,null,"Education",0.88,0.87020000000000008,0.88619999999999999,null,0.64,0.61060000000000025,0.65859999999999996]
[15,"Health",0.9827999999999999,0.98140000000000005,0.98110000000000008,null,null,"Health",0.94499999999999995,0.94009999999999994,0.94809999999999994,null,null,"Health",0.88,0.87020000000000008,0.88619999999999999,null,0.64,0.61060000000000025,0.65859999999999996]
[16,"Private household with employed persons",1.0027999999999999,1.0014000000000001,1.0011000000000001,null,null,"Private household with employed persons",0.995,0.99009999999999998,0.99809999999999999,null,null,"Private household with employed persons",0.96,0.95020000000000004,0.96619999999999995,null,0.87999999999999989,0.85060000000000013,0.89859999999999984]
[17,"Financial intermediation services indirectly measured",1,1,1,null,null,"Financial intermediation services indirectly measured",1,1,1,null,null,"Financial intermediation services indirectly measured",1,1,1,null,1,1,1]
[18,"Less subsidies on products",1,1,1,null,null,"Less subsidies on products",1,1,1,null,null,"Less subsidies on products",1,1,1,null,1,1,1]
[]
[]
[]
[]
["High"]
[0,"Agriculture and forestry",0.99441000000000002,1.0076099999999999,0.99931000000000003,null,null,"Agriculture and forestry",1.0018100000000001,0.99480999999999997,1.00251,null,null,"Agriculture and forestry",0.97331000000000001,0.95931,0.97470999999999997,null,0.8,{"$f":"1-(1-P50)*3","v":0.87792999999999999},{"$f":"1-(1-Q50)*3","v":0.9241299999999999}]
[1,"Fishing and fish processing on board",0.99441000000000002,1.0076099999999999,0.99931000000000003,null,null,"Fishing and fish processing on board",1.0018100000000001,0.99480999999999997,1.00251,null,null,"Fishing and fish processing on board",0.97331000000000001,0.95931,0.97470999999999997,null,0.8,0.87792999999999999,0.9241299999999999]
[2,"Mining and quarrying",0.98838000000000004,0.98697999999999997,0.98668,null,null,"Mining and quarrying",0.97058,0.96567999999999998,0.97367999999999988,null,null,"Mining and quarrying",0.92557999999999996,0.91577999999999993,0.93177999999999994,null,{"$f":"1-(1-O52)*3","v":0.77673999999999987},0.74733999999999978,0.79533999999999982]
[3,"Manufacturing",1.0083800000000001,1.00698,1.00668,null,null,"Manufacturing",1.00058,0.99568000000000001,1.0036799999999999,null,null,"Manufacturing",0.96557999999999999,0.95577999999999996,0.97177999999999998,null,0.89673999999999998,0.86733999999999989,0.91533999999999993]
[4,"Electricity and water",0.99838000000000005,0.99697999999999998,0.99668000000000001,null,null,"Electricity and water",0.98058000000000001,0.97567999999999999,0.98367999999999989,null,null,"Electricity and water",0.93557999999999997,0.92577999999999994,0.94177999999999995,null,0.8067399999999999,0.77733999999999981,0.82533999999999985]
[5,"Construction",1.0383800000000001,1.03698,1.03668,null,null,"Construction",0.96057999999999999,0.95567999999999997,0.96367999999999987,null,null,"Construction",0.91557999999999995,0.90577999999999992,0.92177999999999993,null,0.74673999999999985,0.71733999999999976,0.7653399999999998]
[6,"Wholesale and retail trade, repairs",0.99792999999999998,0.99653000000000003,0.99622999999999995,null,null,"Wholesale and retail trade, repairs",0.99012999999999995,0.98523000000000005,0.99322999999999995,null,null,"Wholesale and retail trade, repairs",0.95513000000000003,0.94533,0.96133000000000002,null,0.8653900000000001,0.83599000000000001,0.88399000000000005]
[7,"Hotels and restaurants",1.00793,1.0065299999999999,1.00623,null,null,"Hotels and restaurants",1.00013,0.99523000000000006,1.0032299999999998,null,null,"Hotels and restaurants",0.96513000000000004,0.95533000000000001,0.97133000000000003,null,0.89539000000000013,0.86599000000000004,0.91399000000000008]
[8,"Transport",1.00793,1.0065299999999999,1.00623,null,null,"Transport",1.00013,0.99523000000000006,1.0032299999999998,null,null,"Transport",0.96513000000000004,0.95533000000000001,0.97133000000000003,null,0.89539000000000013,0.86599000000000004,0.91399000000000008]
[9,"Communication",0.99792999999999998,0.99653000000000003,0.99622999999999995,null,null,"Communication",0.99012999999999995,0.98523000000000005,0.99322999999999995,null,null,"Communication",0.95513000000000003,0.94533,0.96133000000000002,null,0.8653900000000001,0.83599000000000001,0.88399000000000005]
[10,"Financial intermediation",0.99792999999999998,0.99653000000000003,0.99622999999999995,null,null,"Financial intermediation",0.99012999999999995,0.98523000000000005,0.99322999999999995,null,null,"Financial intermediation",0.95513000000000003,0.94533,0.96133000000000002,null,0.8653900000000001,0.83599000000000001,0.88399000000000005]
[11,"Real estate and business services",0.99792999999999998,0.99653000000000003,0.99622999999999995,null,null,"Real estate and business services",0.99012999999999995,0.98523000000000005,0.99322999999999995,null,null,"Real estate and business services",0.95513000000000003,0.94533,0.96133000000000002,null,0.8653900000000001,0.83599000000000001,0.88399000000000005]
[12,"Community, social and personal service activities",0.99792999999999998,0.99653000000000003,0.99622999999999995,null,null,"Community, social and personal service activities",0.99012999999999995,0.98523000000000005,0.99322999999999995,null,null,"Community, social and personal service activities",0.95513000000000003,0.94533,0.96133000000000002,null,0.8653900000000001,0.83599000000000001,0.88399000000000005]
[13,"Public administration and defence",0.98792999999999997,0.98653000000000002,0.98622999999999994,null,null,"Public administration and defence",0.98012999999999995,0.97523000000000004,0.98322999999999994,null,null,"Public administration and defence",0.94513000000000003,0.93532999999999999,0.95133000000000001,null,0.83539000000000008,0.80598999999999998,0.85399000000000003]
[14,"Education",0.99792999999999998,0.99653000000000003,0.99622999999999995,null,null,"Education",0.99012999999999995,0.98523000000000005,0.99322999999999995,null,null,"Education",0.95513000000000003,0.94533,0.96133000000000002,null,0.8653900000000001,0.83599000000000001,0.88399000000000005]
[15,"Health",1.00793,1.0065299999999999,1.00623,null,null,"Health",1.00013,0.99523000000000006,1.0032299999999998,null,null,"Health",0.96513000000000004,0.95533000000000001,0.97133000000000003,null,0.89539000000000013,0.86599000000000004,0.91399000000000008]
[16,"Private household with employed persons",0.98792999999999997,0.98653000000000002,0.98622999999999994,null,null,"Private household with employed persons",0.97012999999999994,0.96523000000000003,0.97322999999999993,null,null,"Private household with employed persons",0.92513000000000001,0.91532999999999998,0.93132999999999999,null,0.77539000000000002,0.74598999999999993,0.79398999999999997]
[17,"Financial intermediation services indirectly measured",1,1,1,null,null,"Financial intermediation services indirectly measured",1,1,1,null,null,"Financial intermediation services indirectly measured",1,1,1,null,1,1,1]
[18,"Less subsidies on products",1,1,1,null,null,"Less subsidies on products",1,1,1,null,null,"Less subsidies on products",1,1,1,null,1,1,1]

{"sheet":"Fix Sector Parameter","index":11,"n_rows":23,"n_cols":12,"rows_kept":23,"cut":false,"hidden":true,"merged":[]}
[]
[null,null,"ESTIMATED PARAMETERS",null,null,null,"JUDGEMENT OVERRIDE",null,null,null,"FINAL PARAMETERS"]
[null,2021,2022,2023,null,{"$f":"B3","v":2021},{"$f":"C3","v":2022},2023,null,{"$f":"F3","v":2021},{"$f":"G3","v":2022},2023]
["Agriculture, forestry, and fishing",{"$f":"'Check Parameter Mapping'!G30","v":1},{"$f":"'Check Parameter Mapping'!H30","v":1},{"$f":"'Check Parameter Mapping'!I30","v":1},null,null,null,null,null,{"$f":"IF(F4<>\"\",F4,B4)","v":1},{"$f":"IF(G4<>\"\",G4,C4)","v":1},1]
["Mining & quarrying",{"$f":"'Check Parameter Mapping'!G31","v":0.93999999999999984},{"$f":"'Check Parameter Mapping'!H31","v":1},{"$f":"'Check Parameter Mapping'!I31","v":1},null,null,null,null,null,{"$f":"IF(F5<>\"\",F5,B5)","v":0.93999999999999984},{"$f":"IF(G5<>\"\",G5,C5)","v":1},{"$f":"IF(H5<>\"\",H5,D5)","v":1}]
["Manufacturing",{"$f":"'Check Parameter Mapping'!G32","v":0.81000000000000016},{"$f":"'Check Parameter Mapping'!H32","v":1},{"$f":"'Check Parameter Mapping'!I32","v":1},null,null,null,null,null,0.81000000000000016,1,1]
["Electricity",{"$f":"'Check Parameter Mapping'!G33","v":0.95499999999999985},{"$f":"'Check Parameter Mapping'!H33","v":1},{"$f":"'Check Parameter Mapping'!I33","v":1},null,null,null,null,null,0.95499999999999985,1,1]
["Water & waste management",{"$f":"'Check Parameter Mapping'!G34","v":0.95499999999999985},{"$f":"'Check Parameter Mapping'!H34","v":1},{"$f":"'Check Parameter Mapping'!I34","v":1},null,null,null,null,null,0.95499999999999985,1,1]
["Construction",{"$f":"'Check Parameter Mapping'!G35","v":0.85},{"$f":"'Check Parameter Mapping'!H35","v":0.9},{"$f":"'Check Parameter Mapping'!I35","v":1},null,null,null,null,null,0.85,0.9,1]
["Maintenance and repair of motor vehicles",{"$f":"'Check Parameter Mapping'!G36","v":0},{"$f":"'Check Parameter Mapping'!H36","v":0},{"$f":"'Check Parameter Mapping'!I36","v":0},null,null,null,null,null,0,0,0]
["Wholesale & retail trade",{"$f":"'Check Parameter Mapping'!G37","v":0.97270090191130754},{"$f":"'Check Parameter Mapping'!H37","v":0.98635045095565377},{"$f":"'Check Parameter Mapping'!I37","v":1},null,null,null,null,null,0.97270090191130754,0.98635045095565377,1]
["Transport services",{"$f":"'Check Parameter Mapping'!G38","v":0.85},{"$f":"'Check Parameter Mapping'!H38","v":0.95},{"$f":"'Check Parameter Mapping'!I38","v":1},null,null,null,null,null,0.85,0.95,1]
["Hotels & restaurants",{"$f":"'Check Parameter Mapping'!G39","v":0.85},{"$f":"'Check Parameter Mapping'!H39","v":0.95},{"$f":"'Check Parameter Mapping'!I39","v":1},null,null,null,null,null,0.85,0.95,1]
["Information & communication",{"$f":"'Check Parameter Mapping'!G40","v":0.85},{"$f":"'Check Parameter Mapping'!H40","v":0.95},{"$f":"'Check Parameter Mapping'!I40","v":1},null,null,null,null,null,0.85,0.95,1]
["Financial services",{"$f":"'Check Parameter Mapping'!G41","v":0.85},{"$f":"'Check Parameter Mapping'!H41","v":0.95},{"$f":"'Check Parameter Mapping'!I41","v":1},null,null,null,null,null,0.85,0.95,1]
["Real estate activities",{"$f":"'Check Parameter Mapping'!G42","v":0.98},{"$f":"'Check Parameter Mapping'!H42","v":1},{"$f":"'Check Parameter Mapping'!I42","v":1},null,null,null,null,null,0.98,1,1]
["Professional, scientific and technical activities",{"$f":"'Check Parameter Mapping'!G43","v":0.9},{"$f":"'Check Parameter Mapping'!H43","v":1},{"$f":"'Check Parameter Mapping'!I43","v":1},null,null,null,null,null,0.9,1,1]
["Administrative and support service activities",{"$f":"'Check Parameter Mapping'!G44","v":0.9},{"$f":"'Check Parameter Mapping'!H44","v":1},{"$f":"'Check Parameter Mapping'!I44","v":1},null,null,null,null,null,0.9,1,1]
["Public administration and defence; compulsory social security",{"$f":"'Check Parameter Mapping'!G45","v":0.93750000000000011},{"$f":"'Check Parameter Mapping'!H45","v":1},{"$f":"'Check Parameter Mapping'!I45","v":1},null,null,null,null,null,0.93750000000000011,1,1]
["Education",{"$f":"'Check Parameter Mapping'!G46","v":1},{"$f":"'Check Parameter Mapping'!H46","v":1},{"$f":"'Check Parameter Mapping'!I46","v":1},null,null,null,null,null,1,1,1]
["Human health and social work activities",{"$f":"'Check Parameter Mapping'!G47","v":1.3},{"$f":"'Check Parameter Mapping'!H47","v":1.1000000000000001},{"$f":"'Check Parameter Mapping'!I47","v":1},null,null,null,null,null,1.3,1.1000000000000001,1]
["Cultural, domestic & other services",{"$f":"'Check Parameter Mapping'!G48","v":0.98},{"$f":"'Check Parameter Mapping'!H48","v":1},{"$f":"'Check Parameter Mapping'!I48","v":1},null,null,null,null,null,0.98,1,1]
["Taxes less subsidies on products",{"$f":"'Check Parameter Mapping'!G49","v":1},{"$f":"'Check Parameter Mapping'!H49","v":1},{"$f":"'Check Parameter Mapping'!I49","v":1},null,null,null,null,null,1,1,1]

{"sheet":"GDP (P)","index":12,"n_rows":197,"n_cols":18,"rows_kept":197,"cut":false,"hidden":false,"merged":[]}
[null,{"$f":"Labels!F51","v":"Shock Scenario"},null,null,2012,{"$f":"E1+1","v":2013},{"$f":"F1+1","v":2014},2015,2016,2017,2018,2019,2020,2021,2022,2023,2024,2025]
[null,{"$f":"Labels!F52","v":"GDP at current prices"},null,null,{"$f":"E149","v":0},{"$f":"F149","v":0},{"$f":"G149","v":0},0,0,0,0,0,0,0,0,0,0,0]
[null,{"$f":"Labels!F53","v":"GDP at constant prices"},null,null,{"$f":"E101","v":0},{"$f":"F101","v":0},{"$f":"G101","v":0},0,0,0,0,0,0,0,0,0,0,0]
[null,{"$f":"Labels!F54","v":"GDP at current prices (growth)"},null,null,{"$f":"NA()","v":{"$error":"#N/A"}},{"$f":"NA()","v":{"$error":"#N/A"}},{"$f":"IFERROR(G149/F149*100-100,\"\")","v":""},{"$f":"IFERROR(H149/G149*100-100,\"\")","v":""},"","","","","","","","","",""]
[null,{"$f":"Labels!F55","v":"GDP at constant prices (growth)"},null,null,{"$f":"NA()","v":{"$error":"#N/A"}},{"$f":"NA()","v":{"$error":"#N/A"}},{"$f":"G125","v":""},{"$f":"H125","v":""},"","","","","","","","","",""]
[null,{"$f":"Labels!F56","v":"GDP deflator growth"},null,null,{"$f":"NA()","v":{"$error":"#N/A"}},{"$f":"NA()","v":{"$error":"#N/A"}},{"$f":"IFERROR(G77/F77*100-100,\"\")","v":""},{"$f":"IFERROR(H77/G77*100-100,\"\")","v":""},"","","","","","","","","",""]
[]
[null,{"$f":"Labels!F57","v":"GDP at Constant prices (History and Baseline/Trend)"}]
[null,"Agriculture, forestry, and fishing",null,null,null,null,null,null,null,null,null,null,null,null,{"$f":"N9*(1+'PF - monthly estimates'!$F$4/100)","v":0},{"$f":"O9*(1+'PF - monthly estimates'!$F$4/100)","v":0},{"$f":"P9*(1+'PF - monthly estimates'!$F$4/100)","v":0},{"$f":"Q9*(1+'PF - monthly estimates'!$F$4/100)","v":0}]
[null,"Mining & quarrying",null,null,null,null,null,null,null,null,null,null,null,null,{"$f":"N10*(1+'PF - monthly estimates'!$F$4/100)","v":0},{"$f":"O10*(1+'PF - monthly estimates'!$F$4/100)","v":0},{"$f":"P10*(1+'PF - monthly estimates'!$F$4/100)","v":0},{"$f":"Q10*(1+'PF - monthly estimates'!$F$4/100)","v":0}]
[null,"Manufacturing",null,null,null,null,null,null,null,null,null,null,null,null,{"$f":"N11*(1+'PF - monthly estimates'!$F$4/100)","v":0},{"$f":"O11*(1+'PF - monthly estimates'!$F$4/100)","v":0},{"$f":"P11*(1+'PF - monthly estimates'!$F$4/100)","v":0},{"$f":"Q11*(1+'PF - monthly estimates'!$F$4/100)","v":0}]
[null,"Electricity",null,null,null,null,null,null,null,null,null,null,null,null,{"$f":"N12*(1+'PF - monthly estimates'!$F$4/100)","v":0},{"$f":"O12*(1+'PF - monthly estimates'!$F$4/100)","v":0},{"$f":"P12*(1+'PF - monthly estimates'!$F$4/100)","v":0},{"$f":"Q12*(1+'PF - monthly estimates'!$F$4/100)","v":0}]
[null,"Water & waste management",null,null,null,null,null,null,null,null,null,null,null,null,{"$f":"N13*(1+'PF - monthly estimates'!$F$4/100)","v":0},{"$f":"O13*(1+'PF - monthly estimates'!$F$4/100)","v":0},{"$f":"P13*(1+'PF - monthly estimates'!$F$4/100)","v":0},{"$f":"Q13*(1+'PF - monthly estimates'!$F$4/100)","v":0}]
[null,"Construction",null,null,null,null,null,null,null,null,null,null,null,null,{"$f":"N14*(1+'PF - monthly estimates'!$F$4/100)","v":0},{"$f":"O14*(1+'PF - monthly estimates'!$F$4/100)","v":0},{"$f":"P14*(1+'PF - monthly estimates'!$F$4/100)","v":0},{"$f":"Q14*(1+'PF - monthly estimates'!$F$4/100)","v":0}]
[null,"Maintenance and repair of motor vehicles",null,null,null,null,null,null,null,null,null,null,null,null,{"$f":"N15*(1+'PF - monthly estimates'!$F$4/100)","v":0},{"$f":"O15*(1+'PF - monthly estimates'!$F$4/100)","v":0},{"$f":"P15*(1+'PF - monthly estimates'!$F$4/100)","v":0},{"$f":"Q15*(1+'PF - monthly estimates'!$F$4/100)","v":0}]
[null,"Wholesale & retail trade",null,null,null,null,null,null,null,null,null,null,null,null,{"$f":"N16*(1+'PF - monthly estimates'!$F$4/100)","v":0},{"$f":"O16*(1+'PF - monthly estimates'!$F$4/100)","v":0},{"$f":"P16*(1+'PF - monthly estimates'!$F$4/100)","v":0},{"$f":"Q16*(1+'PF - monthly estimates'!$F$4/100)","v":0}]
[null,"Transport services",null,null,null,null,null,null,null,null,null,null,null,null,{"$f":"N17*(1+'PF - monthly estimates'!$F$4/100)","v":0},{"$f":"O17*(1+'PF - monthly estimates'!$F$4/100)","v":0},{"$f":"P17*(1+'PF - monthly estimates'!$F$4/100)","v":0},{"$f":"Q17*(1+'PF - monthly estimates'!$F$4/100)","v":0}]
[null,"Hotels & restaurants",null,null,null,null,null,null,null,null,null,null,null,null,{"$f":"N18*(1+'PF - monthly estimates'!$F$4/100)","v":0},{"$f":"O18*(1+'PF - monthly estimates'!$F$4/100)","v":0},{"$f":"P18*(1+'PF - monthly estimates'!$F$4/100)","v":0},{"$f":"Q18*(1+'PF - monthly estimates'!$F$4/100)","v":0}]
[null,"Information & communication",null,null,null,null,null,null,null,null,null,null,null,null,{"$f":"N19*(1+'PF - monthly estimates'!$F$4/100)","v":0},{"$f":"O19*(1+'PF - monthly estimates'!$F$4/100)","v":0},{"$f":"P19*(1+'PF - monthly estimates'!$F$4/100)","v":0},{"$f":"Q19*(1+'PF - monthly estimates'!$F$4/100)","v":0}]
[null,"Financial services",null,null,null,null,null,null,null,null,null,null,null,null,{"$f":"N20*(1+'PF - monthly estimates'!$F$4/100)","v":0},{"$f":"O20*(1+'PF - monthly estimates'!$F$4/100)","v":0},{"$f":"P20*(1+'PF - monthly estimates'!$F$4/100)","v":0},{"$f":"Q20*(1+'PF - monthly estimates'!$F$4/100)","v":0}]
[null,"Real estate activities",null,null,null,null,null,null,null,null,null,null,null,null,{"$f":"N21*(1+'PF - monthly estimates'!$F$4/100)","v":0},{"$f":"O21*(1+'PF - monthly estimates'!$F$4/100)","v":0},{"$f":"P21*(1+'PF - monthly estimates'!$F$4/100)","v":0},{"$f":"Q21*(1+'PF - monthly estimates'!$F$4/100)","v":0}]
[null,"Professional, scientific and technical activities",null,null,null,null,null,null,null,null,null,null,null,null,{"$f":"N22*(1+'PF - monthly estimates'!$F$4/100)","v":0},{"$f":"O22*(1+'PF - monthly estimates'!$F$4/100)","v":0},{"$f":"P22*(1+'PF - monthly estimates'!$F$4/100)","v":0},{"$f":"Q22*(1+'PF - monthly estimates'!$F$4/100)","v":0}]
[null,"Administrative and support service activities",null,null,null,null,null,null,null,null,null,null,null,null,{"$f":"N23*(1+'PF - monthly estimates'!$F$4/100)","v":0},{"$f":"O23*(1+'PF - monthly estimates'!$F$4/100)","v":0},{"$f":"P23*(1+'PF - monthly estimates'!$F$4/100)","v":0},{"$f":"Q23*(1+'PF - monthly estimates'!$F$4/100)","v":0}]
[null,"Public administration and defence; compulsory social security",null,null,null,null,null,null,null,null,null,null,null,null,{"$f":"N24*(1+'PF - monthly estimates'!$F$4/100)","v":0},{"$f":"O24*(1+'PF - monthly estimates'!$F$4/100)","v":0},{"$f":"P24*(1+'PF - monthly estimates'!$F$4/100)","v":0},{"$f":"Q24*(1+'PF - monthly estimates'!$F$4/100)","v":0}]
[null,"Education",null,null,null,null,null,null,null,null,null,null,null,null,{"$f":"N25*(1+'PF - monthly estimates'!$F$4/100)","v":0},{"$f":"O25*(1+'PF - monthly estimates'!$F$4/100)","v":0},{"$f":"P25*(1+'PF - monthly estimates'!$F$4/100)","v":0},{"$f":"Q25*(1+'PF - monthly estimates'!$F$4/100)","v":0}]
[null,"Human health and social work activities",null,null,null,null,null,null,null,null,null,null,null,null,{"$f":"N26*(1+'PF - monthly estimates'!$F$4/100)","v":0},{"$f":"O26*(1+'PF - monthly estimates'!$F$4/100)","v":0},{"$f":"P26*(1+'PF - monthly estimates'!$F$4/100)","v":0},{"$f":"Q26*(1+'PF - monthly estimates'!$F$4/100)","v":0}]
[null,"Cultural, domestic & other services",null,null,null,null,null,null,null,null,null,null,null,null,{"$f":"N27*(1+'PF - monthly estimates'!$F$4/100)","v":0},{"$f":"O27*(1+'PF - monthly estimates'!$F$4/100)","v":0},{"$f":"P27*(1+'PF - monthly estimates'!$F$4/100)","v":0},{"$f":"Q27*(1+'PF - monthly estimates'!$F$4/100)","v":0}]
[null,"Taxes less subsidies on products",null,null,null,null,null,null,null,null,null,null,null,null,{"$f":"N28*(1+'PF - monthly estimates'!$F$4/100)","v":0},{"$f":"O28*(1+'PF - monthly estimates'!$F$4/100)","v":0},{"$f":"P28*(1+'PF - monthly estimates'!$F$4/100)","v":0},{"$f":"Q28*(1+'PF - monthly estimates'!$F$4/100)","v":0}]
[null,"GDP",null,null,null,{"$f":"SUM(F9:F28)","v":0},{"$f":"SUM(G9:G28)","v":0},0,0,0,0,0,0,0,0,0,0,0]
[]
[]
[null,{"$f":"Labels!F58","v":"GDP at Current prices (History and Baseline/Trend)"}]
[null,"Agriculture, forestry, and fishing",null,null,null,null,null,null,null,null,null,null,null,null,{"$f":"IFERROR(O9*O57/100,\"\")","v":""},{"$f":"IFERROR(P9*P57/100,\"\")","v":""},"",""]
[null,"Mining & quarrying",null,null,null,null,null,null,null,null,null,null,null,null,{"$f":"IFERROR(O10*O58/100,\"\")","v":""},"","",""]
[null,"Manufacturing",null,null,null,null,null,null,null,null,null,null,null,null,{"$f":"IFERROR(O11*O59/100,\"\")","v":""},"","",""]
[null,"Electricity",null,null,null,null,null,null,null,null,null,null,null,null,{"$f":"IFERROR(O12*O60/100,\"\")","v":""},"","",""]
[null,"Water & waste management",null,null,null,null,null,null,null,null,null,null,null,null,{"$f":"IFERROR(O13*O61/100,\"\")","v":""},"","",""]
[null,"Construction",null,null,null,null,null,null,null,null,null,null,null,null,{"$f":"IFERROR(O14*O62/100,\"\")","v":""},"","",""]
[null,"Maintenance and repair of motor vehicles",null,null,null,null,null,null,null,null,null,null,null,null,{"$f":"IFERROR(O15*O63/100,\"\")","v":""},"","",""]
[null,"Wholesale & retail trade",null,null,null,null,null,null,null,null,null,null,null,null,{"$f":"IFERROR(O16*O64/100,\"\")","v":""},"","",""]
[null,"Transport services",null,null,null,null,null,null,null,null,null,null,null,null,{"$f":"IFERROR(O17*O65/100,\"\")","v":""},"","",""]
[null,"Hotels & restaurants",null,null,null,null,null,null,null,null,null,null,null,null,{"$f":"IFERROR(O18*O66/100,\"\")","v":""},"","",""]
[null,"Information & communication",null,null,null,null,null,null,null,null,null,null,null,null,{"$f":"IFERROR(O19*O67/100,\"\")","v":""},"","",""]
[null,"Financial services",null,null,null,null,null,null,null,null,null,null,null,null,{"$f":"IFERROR(O20*O68/100,\"\")","v":""},"","",""]
[null,"Real estate activities",null,null,null,null,null,null,null,null,null,null,null,null,{"$f":"IFERROR(O21*O69/100,\"\")","v":""},"","",""]
[null,"Professional, scientific and technical activities",null,null,null,null,null,null,null,null,null,null,null,null,{"$f":"IFERROR(O22*O70/100,\"\")","v":""},"","",""]
[null,"Administrative and support service activities",null,null,null,null,null,null,null,null,null,null,null,null,{"$f":"IFERROR(O23*O71/100,\"\")","v":""},"","",""]
[null,"Public administration and defence; compulsory social security",null,null,null,null,null,null,null,null,null,null,null,null,{"$f":"IFERROR(O24*O72/100,\"\")","v":""},"","",""]
[null,"Education",null,null,null,null,null,null,null,null,null,null,null,null,{"$f":"IFERROR(O25*O73/100,\"\")","v":""},"","",""]
[null,"Human health and social work activities",null,null,null,null,null,null,null,null,null,null,null,null,{"$f":"IFERROR(O26*O74/100,\"\")","v":""},"","",""]
[null,"Cultural, domestic & other services",null,null,null,null,null,null,null,null,null,null,null,null,{"$f":"IFERROR(O27*O75/100,\"\")","v":""},"","",""]
[null,"Taxes less subsidies on products",null,null,null,null,null,null,null,null,null,null,null,null,{"$f":"IFERROR(O28*O76/100,\"\")","v":""},"","",""]
[null,"GDP",null,null,null,{"$f":"SUM(F33:F52)","v":0},{"$f":"SUM(G33:G52)","v":0},0,0,0,0,0,0,0,0,0,0,0]
[]
[]
[null,{"$f":"Labels!F59","v":"Deflator (History and Basic Forecast)"}]
[null,"Agriculture, forestry, and fishing",null,null,null,{"$f":"IFERROR(F33/F9*100,\"\")","v":""},{"$f":"IFERROR(G33/G9*100,\"\")","v":""},"","","","","","","",{"$f":"IFERROR(N57*(1+'Other Macro'!O$7/100),\"\")","v":""},{"$f":"IFERROR(O57*(1+'Other Macro'!P$7/100),\"\")","v":""},{"$f":"IFERROR(P57*(1+'Other Macro'!Q$7/100),\"\")","v":""},{"$f":"IFERROR(Q57*(1+'Other Macro'!R$7/100),\"\")","v":""}]
[null,"Mining & quarrying",null,null,null,{"$f":"IFERROR(F34/F10*100,\"\")","v":""},"","","","","","","","",{"$f":"IFERROR(N58*(1+'Other Macro'!O$7/100),\"\")","v":""},{"$f":"IFERROR(O58*(1+'Other Macro'!P$7/100),\"\")","v":""},{"$f":"IFERROR(P58*(1+'Other Macro'!Q$7/100),\"\")","v":""},{"$f":"IFERROR(Q58*(1+'Other Macro'!R$7/100),\"\")","v":""}]
[null,"Manufacturing",null,null,null,{"$f":"IFERROR(F35/F11*100,\"\")","v":""},"","","","","","","","",{"$f":"IFERROR(N59*(1+'Other Macro'!O$7/100),\"\")","v":""},{"$f":"IFERROR(O59*(1+'Other Macro'!P$7/100),\"\")","v":""},{"$f":"IFERROR(P59*(1+'Other Macro'!Q$7/100),\"\")","v":""},{"$f":"IFERROR(Q59*(1+'Other Macro'!R$7/100),\"\")","v":""}]
[null,"Electricity",null,null,null,{"$f":"IFERROR(F36/F12*100,\"\")","v":""},"","","","","","","","",{"$f":"IFERROR(N60*(1+'Other Macro'!O$7/100),\"\")","v":""},{"$f":"IFERROR(O60*(1+'Other Macro'!P$7/100),\"\")","v":""},{"$f":"IFERROR(P60*(1+'Other Macro'!Q$7/100),\"\")","v":""},{"$f":"IFERROR(Q60*(1+'Other Macro'!R$7/100),\"\")","v":""}]
[null,"Water & waste management",null,null,null,{"$f":"IFERROR(F37/F13*100,\"\")","v":""},"","","","","","","","",{"$f":"IFERROR(N61*(1+'Other Macro'!O$7/100),\"\")","v":""},{"$f":"IFERROR(O61*(1+'Other Macro'!P$7/100),\"\")","v":""},{"$f":"IFERROR(P61*(1+'Other Macro'!Q$7/100),\"\")","v":""},{"$f":"IFERROR(Q61*(1+'Other Macro'!R$7/100),\"\")","v":""}]
[null,"Construction",null,null,null,{"$f":"IFERROR(F38/F14*100,\"\")","v":""},"","","","","","","","",{"$f":"IFERROR(N62*(1+'Other Macro'!O$7/100),\"\")","v":""},{"$f":"IFERROR(O62*(1+'Other Macro'!P$7/100),\"\")","v":""},{"$f":"IFERROR(P62*(1+'Other Macro'!Q$7/100),\"\")","v":""},{"$f":"IFERROR(Q62*(1+'Other Macro'!R$7/100),\"\")","v":""}]
[null,"Maintenance and repair of motor vehicles",null,null,null,{"$f":"IFERROR(F39/F15*100,\"\")","v":""},"","","","","","","","",{"$f":"IFERROR(N63*(1+'Other Macro'!O$7/100),\"\")","v":""},{"$f":"IFERROR(O63*(1+'Other Macro'!P$7/100),\"\")","v":""},{"$f":"IFERROR(P63*(1+'Other Macro'!Q$7/100),\"\")","v":""},{"$f":"IFERROR(Q63*(1+'Other Macro'!R$7/100),\"\")","v":""}]
[null,"Wholesale & retail trade",null,null,null,{"$f":"IFERROR(F40/F16*100,\"\")","v":""},"","","","","","","","",{"$f":"IFERROR(N64*(1+'Other Macro'!O$7/100),\"\")","v":""},{"$f":"IFERROR(O64*(1+'Other Macro'!P$7/100),\"\")","v":""},{"$f":"IFERROR(P64*(1+'Other Macro'!Q$7/100),\"\")","v":""},{"$f":"IFERROR(Q64*(1+'Other Macro'!R$7/100),\"\")","v":""}]
[null,"Transport services",null,null,null,{"$f":"IFERROR(F41/F17*100,\"\")","v":""},"","","","","","","","",{"$f":"IFERROR(N65*(1+'Other Macro'!O$7/100),\"\")","v":""},{"$f":"IFERROR(O65*(1+'Other Macro'!P$7/100),\"\")","v":""},{"$f":"IFERROR(P65*(1+'Other Macro'!Q$7/100),\"\")","v":""},{"$f":"IFERROR(Q65*(1+'Other Macro'!R$7/100),\"\")","v":""}]
[null,"Hotels & restaurants",null,null,null,{"$f":"IFERROR(F42/F18*100,\"\")","v":""},"","","","","","","","",{"$f":"IFERROR(N66*(1+'Other Macro'!O$7/100),\"\")","v":""},{"$f":"IFERROR(O66*(1+'Other Macro'!P$7/100),\"\")","v":""},{"$f":"IFERROR(P66*(1+'Other Macro'!Q$7/100),\"\")","v":""},{"$f":"IFERROR(Q66*(1+'Other Macro'!R$7/100),\"\")","v":""}]
[null,"Information & communication",null,null,null,{"$f":"IFERROR(F43/F19*100,\"\")","v":""},"","","","","","","","",{"$f":"IFERROR(N67*(1+'Other Macro'!O$7/100),\"\")","v":""},{"$f":"IFERROR(O67*(1+'Other Macro'!P$7/100),\"\")","v":""},{"$f":"IFERROR(P67*(1+'Other Macro'!Q$7/100),\"\")","v":""},{"$f":"IFERROR(Q67*(1+'Other Macro'!R$7/100),\"\")","v":""}]
[null,"Financial services",null,null,null,{"$f":"IFERROR(F44/F20*100,\"\")","v":""},"","","","","","","","",{"$f":"IFERROR(N68*(1+'Other Macro'!O$7/100),\"\")","v":""},{"$f":"IFERROR(O68*(1+'Other Macro'!P$7/100),\"\")","v":""},{"$f":"IFERROR(P68*(1+'Other Macro'!Q$7/100),\"\")","v":""},{"$f":"IFERROR(Q68*(1+'Other Macro'!R$7/100),\"\")","v":""}]
[null,"Real estate activities",null,null,null,{"$f":"IFERROR(F45/F21*100,\"\")","v":""},"","","","","","","","",{"$f":"IFERROR(N69*(1+'Other Macro'!O$7/100),\"\")","v":""},{"$f":"IFERROR(O69*(1+'Other Macro'!P$7/100),\"\")","v":""},{"$f":"IFERROR(P69*(1+'Other Macro'!Q$7/100),\"\")","v":""},{"$f":"IFERROR(Q69*(1+'Other Macro'!R$7/100),\"\")","v":""}]
[null,"Professional, scientific and technical activities",null,null,null,{"$f":"IFERROR(F46/F22*100,\"\")","v":""},"","","","","","","","",{"$f":"IFERROR(N70*(1+'Other Macro'!O$7/100),\"\")","v":""},{"$f":"IFERROR(O70*(1+'Other Macro'!P$7/100),\"\")","v":""},{"$f":"IFERROR(P70*(1+'Other Macro'!Q$7/100),\"\")","v":""},{"$f":"IFERROR(Q70*(1+'Other Macro'!R$7/100),\"\")","v":""}]
[null,"Administrative and support service activities",null,null,null,{"$f":"IFERROR(F47/F23*100,\"\")","v":""},"","","","","","","","",{"$f":"IFERROR(N71*(1+'Other Macro'!O$7/100),\"\")","v":""},{"$f":"IFERROR(O71*(1+'Other Macro'!P$7/100),\"\")","v":""},{"$f":"IFERROR(P71*(1+'Other Macro'!Q$7/100),\"\")","v":""},{"$f":"IFERROR(Q71*(1+'Other Macro'!R$7/100),\"\")","v":""}]
[null,"Public administration and defence; compulsory social security",null,null,null,{"$f":"IFERROR(F48/F24*100,\"\")","v":""},"","","","","","","","",{"$f":"IFERROR(N72*(1+'Other Macro'!O$7/100),\"\")","v":""},{"$f":"IFERROR(O72*(1+'Other Macro'!P$7/100),\"\")","v":""},{"$f":"IFERROR(P72*(1+'Other Macro'!Q$7/100),\"\")","v":""},{"$f":"IFERROR(Q72*(1+'Other Macro'!R$7/100),\"\")","v":""}]
[null,"Education",null,null,null,{"$f":"IFERROR(F49/F25*100,\"\")","v":""},"","","","","","","","",{"$f":"IFERROR(N73*(1+'Other Macro'!O$7/100),\"\")","v":""},{"$f":"IFERROR(O73*(1+'Other Macro'!P$7/100),\"\")","v":""},{"$f":"IFERROR(P73*(1+'Other Macro'!Q$7/100),\"\")","v":""},{"$f":"IFERROR(Q73*(1+'Other Macro'!R$7/100),\"\")","v":""}]
[null,"Human health and social work activities",null,null,null,{"$f":"IFERROR(F50/F26*100,\"\")","v":""},"","","","","","","","",{"$f":"IFERROR(N74*(1+'Other Macro'!O$7/100),\"\")","v":""},{"$f":"IFERROR(O74*(1+'Other Macro'!P$7/100),\"\")","v":""},{"$f":"IFERROR(P74*(1+'Other Macro'!Q$7/100),\"\")","v":""},{"$f":"IFERROR(Q74*(1+'Other Macro'!R$7/100),\"\")","v":""}]
[null,"Cultural, domestic & other services",null,null,null,{"$f":"IFERROR(F51/F27*100,\"\")","v":""},"","","","","","","","",{"$f":"IFERROR(N75*(1+'Other Macro'!O$7/100),\"\")","v":""},{"$f":"IFERROR(O75*(1+'Other Macro'!P$7/100),\"\")","v":""},{"$f":"IFERROR(P75*(1+'Other Macro'!Q$7/100),\"\")","v":""},{"$f":"IFERROR(Q75*(1+'Other Macro'!R$7/100),\"\")","v":""}]
[null,"Taxes less subsidies on products",null,null,null,{"$f":"IFERROR(F52/F28*100,\"\")","v":""},"","","","","","","","",{"$f":"IFERROR(N76*(1+'Other Macro'!O$7/100),\"\")","v":""},{"$f":"IFERROR(O76*(1+'Other Macro'!P$7/100),\"\")","v":""},{"$f":"IFERROR(P76*(1+'Other Macro'!Q$7/100),\"\")","v":""},{"$f":"IFERROR(Q76*(1+'Other Macro'!R$7/100),\"\")","v":""}]
[null,"GDP",null,null,null,{"$f":"IFERROR(F53/F29*100,\"\")","v":""},"","","","","","","","",{"$f":"IFERROR(N77*(1+'Other Macro'!O$7/100),\"\")","v":""},{"$f":"IFERROR(O77*(1+'Other Macro'!P$7/100),\"\")","v":""},{"$f":"IFERROR(P77*(1+'Other Macro'!Q$7/100),\"\")","v":""},{"$f":"IFERROR(Q77*(1+'Other Macro'!R$7/100),\"\")","v":""}]
[]
[]
[null,"COVID-19 Scenario Levels (Constant Prices)"]
[null,"Agriculture, forestry, and fishing",null,null,null,{"$f":"F9","v":0},{"$f":"G9","v":0},0,0,0,0,0,0,0,{"$f":"IF('Fix Sector Parameter'!J4>1,O9*'Fix Sector Parameter'!J4,IF(O9*'Fix Sector Parameter'!J4>O153,O153,O9*'Fix Sector Parameter'!J4))","v":0},{"$f":"IF('Fix Sector Parameter'!K4>1,P9*'Fix Sector Parameter'!K4,IF(P9*'Fix Sector Parameter'!K4>P153,P153,P9*'Fix Sector Parameter'!K4))","v":0},{"$f":"IF('Fix Sector Parameter'!L4>1,Q9*'Fix Sector Parameter'!L4,IF(Q9*'Fix Sector Parameter'!L4>Q153,Q153,Q9*'Fix Sector Parameter'!L4))","v":0},{"$f":"R153","v":0}]
[null,"Mining & quarrying",null,null,null,{"$f":"F10","v":0},0,0,0,0,0,0,0,0,{"$f":"IF('Fix Sector Parameter'!J5>1,O10*'Fix Sector Parameter'!J5,IF(O10*'Fix Sector Parameter'!J5>O154,O154,O10*'Fix Sector Parameter'!J5))","v":0},{"$f":"IF('Fix Sector Parameter'!K5>1,P10*'Fix Sector Parameter'!K5,IF(P10*'Fix Sector Parameter'!K5>P154,P154,P10*'Fix Sector Parameter'!K5))","v":0},{"$f":"IF('Fix Sector Parameter'!L5>1,Q10*'Fix Sector Parameter'!L5,IF(Q10*'Fix Sector Parameter'!L5>Q154,Q154,Q10*'Fix Sector Parameter'!L5))","v":0},{"$f":"R154","v":0}]
[null,"Manufacturing",null,null,null,{"$f":"F11","v":0},0,0,0,0,0,0,0,0,{"$f":"IF('Fix Sector Parameter'!J6>1,O11*'Fix Sector Parameter'!J6,IF(O11*'Fix Sector Parameter'!J6>O155,O155,O11*'Fix Sector Parameter'!J6))","v":0},{"$f":"IF('Fix Sector Parameter'!K6>1,P11*'Fix Sector Parameter'!K6,IF(P11*'Fix Sector Parameter'!K6>P155,P155,P11*'Fix Sector Parameter'!K6))","v":0},{"$f":"IF('Fix Sector Parameter'!L6>1,Q11*'Fix Sector Parameter'!L6,IF(Q11*'Fix Sector Parameter'!L6>Q155,Q155,Q11*'Fix Sector Parameter'!L6))","v":0},0]
[null,"Electricity",null,null,null,{"$f":"F12","v":0},0,0,0,0,0,0,0,0,{"$f":"IF('Fix Sector Parameter'!J7>1,O12*'Fix Sector Parameter'!J7,IF(O12*'Fix Sector Parameter'!J7>O156,O156,O12*'Fix Sector Parameter'!J7))","v":0},{"$f":"IF('Fix Sector Parameter'!K7>1,P12*'Fix Sector Parameter'!K7,IF(P12*'Fix Sector Parameter'!K7>P156,P156,P12*'Fix Sector Parameter'!K7))","v":0},{"$f":"IF('Fix Sector Parameter'!L7>1,Q12*'Fix Sector Parameter'!L7,IF(Q12*'Fix Sector Parameter'!L7>Q156,Q156,Q12*'Fix Sector Parameter'!L7))","v":0},0]
[null,"Water & waste management",null,null,null,{"$f":"F13","v":0},0,0,0,0,0,0,0,0,{"$f":"IF('Fix Sector Parameter'!J8>1,O13*'Fix Sector Parameter'!J8,IF(O13*'Fix Sector Parameter'!J8>O157,O157,O13*'Fix Sector Parameter'!J8))","v":0},{"$f":"IF('Fix Sector Parameter'!K8>1,P13*'Fix Sector Parameter'!K8,IF(P13*'Fix Sector Parameter'!K8>P157,P157,P13*'Fix Sector Parameter'!K8))","v":0},{"$f":"IF('Fix Sector Parameter'!L8>1,Q13*'Fix Sector Parameter'!L8,IF(Q13*'Fix Sector Parameter'!L8>Q157,Q157,Q13*'Fix Sector Parameter'!L8))","v":0},0]
[null,"Construction",null,null,null,{"$f":"F14","v":0},0,0,0,0,0,0,0,0,{"$f":"IF('Fix Sector Parameter'!J9>1,O14*'Fix Sector Parameter'!J9,IF(O14*'Fix Sector Parameter'!J9>O158,O158,O14*'Fix Sector Parameter'!J9))","v":0},{"$f":"IF('Fix Sector Parameter'!K9>1,P14*'Fix Sector Parameter'!K9,IF(P14*'Fix Sector Parameter'!K9>P158,P158,P14*'Fix Sector Parameter'!K9))","v":0},{"$f":"IF('Fix Sector Parameter'!L9>1,Q14*'Fix Sector Parameter'!L9,IF(Q14*'Fix Sector Parameter'!L9>Q158,Q158,Q14*'Fix Sector Parameter'!L9))","v":0},0]
[null,"Maintenance and repair of motor vehicles",null,null,null,{"$f":"F15","v":0},0,0,0,0,0,0,0,0,{"$f":"IF('Fix Sector Parameter'!J10>1,O15*'Fix Sector Parameter'!J10,IF(O15*'Fix Sector Parameter'!J10>O159,O159,O15*'Fix Sector Parameter'!J10))","v":0},{"$f":"IF('Fix Sector Parameter'!K10>1,P15*'Fix Sector Parameter'!K10,IF(P15*'Fix Sector Parameter'!K10>P159,P159,P15*'Fix Sector Parameter'!K10))","v":0},{"$f":"IF('Fix Sector Parameter'!L10>1,Q15*'Fix Sector Parameter'!L10,IF(Q15*'Fix Sector Parameter'!L10>Q159,Q159,Q15*'Fix Sector Parameter'!L10))","v":0},0]
[null,"Wholesale & retail trade",null,null,null,{"$f":"F16","v":0},0,0,0,0,0,0,0,0,{"$f":"IF('Fix Sector Parameter'!J11>1,O16*'Fix Sector Parameter'!J11,IF(O16*'Fix Sector Parameter'!J11>O160,O160,O16*'Fix Sector Parameter'!J11))","v":0},{"$f":"IF('Fix Sector Parameter'!K11>1,P16*'Fix Sector Parameter'!K11,IF(P16*'Fix Sector Parameter'!K11>P160,P160,P16*'Fix Sector Parameter'!K11))","v":0},{"$f":"IF('Fix Sector Parameter'!L11>1,Q16*'Fix Sector Parameter'!L11,IF(Q16*'Fix Sector Parameter'!L11>Q160,Q160,Q16*'Fix Sector Parameter'!L11))","v":0},0]
[null,"Transport services",null,null,null,{"$f":"F17","v":0},0,0,0,0,0,0,0,0,{"$f":"IF('Fix Sector Parameter'!J12>1,O17*'Fix Sector Parameter'!J12,IF(O17*'Fix Sector Parameter'!J12>O161,O161,O17*'Fix Sector Parameter'!J12))","v":0},{"$f":"IF('Fix Sector Parameter'!K12>1,P17*'Fix Sector Parameter'!K12,IF(P17*'Fix Sector Parameter'!K12>P161,P161,P17*'Fix Sector Parameter'!K12))","v":0},{"$f":"IF('Fix Sector Parameter'!L12>1,Q17*'Fix Sector Parameter'!L12,IF(Q17*'Fix Sector Parameter'!L12>Q161,Q161,Q17*'Fix Sector Parameter'!L12))","v":0},0]
[null,"Hotels & restaurants",null,null,null,{"$f":"F18","v":0},0,0,0,0,0,0,0,0,{"$f":"IF('Fix Sector Parameter'!J13>1,O18*'Fix Sector Parameter'!J13,IF(O18*'Fix Sector Parameter'!J13>O162,O162,O18*'Fix Sector Parameter'!J13))","v":0},{"$f":"IF('Fix Sector Parameter'!K13>1,P18*'Fix Sector Parameter'!K13,IF(P18*'Fix Sector Parameter'!K13>P162,P162,P18*'Fix Sector Parameter'!K13))","v":0},{"$f":"IF('Fix Sector Parameter'!L13>1,Q18*'Fix Sector Parameter'!L13,IF(Q18*'Fix Sector Parameter'!L13>Q162,Q162,Q18*'Fix Sector Parameter'!L13))","v":0},0]
[null,"Information & communication",null,null,null,{"$f":"F19","v":0},0,0,0,0,0,0,0,0,{"$f":"IF('Fix Sector Parameter'!J14>1,O19*'Fix Sector Parameter'!J14,IF(O19*'Fix Sector Parameter'!J14>O163,O163,O19*'Fix Sector Parameter'!J14))","v":0},{"$f":"IF('Fix Sector Parameter'!K14>1,P19*'Fix Sector Parameter'!K14,IF(P19*'Fix Sector Parameter'!K14>P163,P163,P19*'Fix Sector Parameter'!K14))","v":0},{"$f":"IF('Fix Sector Parameter'!L14>1,Q19*'Fix Sector Parameter'!L14,IF(Q19*'Fix Sector Parameter'!L14>Q163,Q163,Q19*'Fix Sector Parameter'!L14))","v":0},0]
[null,"Financial services",null,null,null,{"$f":"F20","v":0},0,0,0,0,0,0,0,0,{"$f":"IF('Fix Sector Parameter'!J15>1,O20*'Fix Sector Parameter'!J15,IF(O20*'Fix Sector Parameter'!J15>O164,O164,O20*'Fix Sector Parameter'!J15))","v":0},{"$f":"IF('Fix Sector Parameter'!K15>1,P20*'Fix Sector Parameter'!K15,IF(P20*'Fix Sector Parameter'!K15>P164,P164,P20*'Fix Sector Parameter'!K15))","v":0},{"$f":"IF('Fix Sector Parameter'!L15>1,Q20*'Fix Sector Parameter'!L15,IF(Q20*'Fix Sector Parameter'!L15>Q164,Q164,Q20*'Fix Sector Parameter'!L15))","v":0},0]
[null,"Real estate activities",null,null,null,{"$f":"F21","v":0},0,0,0,0,0,0,0,0,{"$f":"IF('Fix Sector Parameter'!J16>1,O21*'Fix Sector Parameter'!J16,IF(O21*'Fix Sector Parameter'!J16>O165,O165,O21*'Fix Sector Parameter'!J16))","v":0},{"$f":"IF('Fix Sector Parameter'!K16>1,P21*'Fix Sector Parameter'!K16,IF(P21*'Fix Sector Parameter'!K16>P165,P165,P21*'Fix Sector Parameter'!K16))","v":0},{"$f":"IF('Fix Sector Parameter'!L16>1,Q21*'Fix Sector Parameter'!L16,IF(Q21*'Fix Sector Parameter'!L16>Q165,Q165,Q21*'Fix Sector Parameter'!L16))","v":0},0]
[null,"Professional, scientific and technical activities",null,null,null,{"$f":"F22","v":0},0,0,0,0,0,0,0,0,{"$f":"IF('Fix Sector Parameter'!J17>1,O22*'Fix Sector Parameter'!J17,IF(O22*'Fix Sector Parameter'!J17>O166,O166,O22*'Fix Sector Parameter'!J17))","v":0},{"$f":"IF('Fix Sector Parameter'!K17>1,P22*'Fix Sector Parameter'!K17,IF(P22*'Fix Sector Parameter'!K17>P166,P166,P22*'Fix Sector Parameter'!K17))","v":0},{"$f":"IF('Fix Sector Parameter'!L17>1,Q22*'Fix Sector Parameter'!L17,IF(Q22*'Fix Sector Parameter'!L17>Q166,Q166,Q22*'Fix Sector Parameter'!L17))","v":0},0]
[null,"Administrative and support service activities",null,null,null,{"$f":"F23","v":0},0,0,0,0,0,0,0,0,{"$f":"IF('Fix Sector Parameter'!J18>1,O23*'Fix Sector Parameter'!J18,IF(O23*'Fix Sector Parameter'!J18>O167,O167,O23*'Fix Sector Parameter'!J18))","v":0},{"$f":"IF('Fix Sector Parameter'!K18>1,P23*'Fix Sector Parameter'!K18,IF(P23*'Fix Sector Parameter'!K18>P167,P167,P23*'Fix Sector Parameter'!K18))","v":0},{"$f":"IF('Fix Sector Parameter'!L18>1,Q23*'Fix Sector Parameter'!L18,IF(Q23*'Fix Sector Parameter'!L18>Q167,Q167,Q23*'Fix Sector Parameter'!L18))","v":0},0]
[null,"Public administration and defence; compulsory social security",null,null,null,{"$f":"F24","v":0},0,0,0,0,0,0,0,0,{"$f":"IF('Fix Sector Parameter'!J19>1,O24*'Fix Sector Parameter'!J19,IF(O24*'Fix Sector Parameter'!J19>O168,O168,O24*'Fix Sector Parameter'!J19))","v":0},{"$f":"IF('Fix Sector Parameter'!K19>1,P24*'Fix Sector Parameter'!K19,IF(P24*'Fix Sector Parameter'!K19>P168,P168,P24*'Fix Sector Parameter'!K19))","v":0},{"$f":"IF('Fix Sector Parameter'!L19>1,Q24*'Fix Sector Parameter'!L19,IF(Q24*'Fix Sector Parameter'!L19>Q168,Q168,Q24*'Fix Sector Parameter'!L19))","v":0},0]
[null,"Education",null,null,null,{"$f":"F25","v":0},0,0,0,0,0,0,0,0,{"$f":"IF('Fix Sector Parameter'!J20>1,O25*'Fix Sector Parameter'!J20,IF(O25*'Fix Sector Parameter'!J20>O169,O169,O25*'Fix Sector Parameter'!J20))","v":0},{"$f":"IF('Fix Sector Parameter'!K20>1,P25*'Fix Sector Parameter'!K20,IF(P25*'Fix Sector Parameter'!K20>P169,P169,P25*'Fix Sector Parameter'!K20))","v":0},{"$f":"IF('Fix Sector Parameter'!L20>1,Q25*'Fix Sector Parameter'!L20,IF(Q25*'Fix Sector Parameter'!L20>Q169,Q169,Q25*'Fix Sector Parameter'!L20))","v":0},0]
[null,"Human health and social work activities",null,null,null,{"$f":"F26","v":0},0,0,0,0,0,0,0,0,{"$f":"IF('Fix Sector Parameter'!J21>1,O26*'Fix Sector Parameter'!J21,IF(O26*'Fix Sector Parameter'!J21>O170,O170,O26*'Fix Sector Parameter'!J21))","v":0},{"$f":"IF('Fix Sector Parameter'!K21>1,P26*'Fix Sector Parameter'!K21,IF(P26*'Fix Sector Parameter'!K21>P170,P170,P26*'Fix Sector Parameter'!K21))","v":0},{"$f":"IF('Fix Sector Parameter'!L21>1,Q26*'Fix Sector Parameter'!L21,IF(Q26*'Fix Sector Parameter'!L21>Q170,Q170,Q26*'Fix Sector Parameter'!L21))","v":0},0]
[null,"Cultural, domestic & other services",null,null,null,{"$f":"F27","v":0},0,0,0,0,0,0,0,0,{"$f":"IF('Fix Sector Parameter'!J22>1,O27*'Fix Sector Parameter'!J22,IF(O27*'Fix Sector Parameter'!J22>O171,O171,O27*'Fix Sector Parameter'!J22))","v":0},{"$f":"IF('Fix Sector Parameter'!K22>1,P27*'Fix Sector Parameter'!K22,IF(P27*'Fix Sector Parameter'!K22>P171,P171,P27*'Fix Sector Parameter'!K22))","v":0},{"$f":"IF('Fix Sector Parameter'!L22>1,Q27*'Fix Sector Parameter'!L22,IF(Q27*'Fix Sector Parameter'!L22>Q171,Q171,Q27*'Fix Sector Parameter'!L22))","v":0},0]
[null,"Taxes less subsidies on products",null,null,null,{"$f":"F28","v":0},0,0,0,0,0,0,0,0,{"$f":"IF('Fix Sector Parameter'!J23>1,O28*'Fix Sector Parameter'!J23,IF(O28*'Fix Sector Parameter'!J23>O172,O172,O28*'Fix Sector Parameter'!J23))","v":0},{"$f":"IF('Fix Sector Parameter'!K23>1,P28*'Fix Sector Parameter'!K23,IF(P28*'Fix Sector Parameter'!K23>P172,P172,P28*'Fix Sector Parameter'!K23))","v":0},{"$f":"IF('Fix Sector Parameter'!L23>1,Q28*'Fix Sector Parameter'!L23,IF(Q28*'Fix Sector Parameter'!L23>Q172,Q172,Q28*'Fix Sector Parameter'!L23))","v":0},0]
[null,"GDP",null,null,null,{"$f":"SUM(F81:F100)","v":0},{"$f":"SUM(G81:G100)","v":0},0,0,0,0,0,0,0,0,0,0,0]
[]
[]
[null,{"$f":"Labels!F60","v":"Shock Scenario Levels (Constant Prices)"}]
[null,"Agriculture, forestry, and fishing",null,null,null,{"$f":"NA()","v":{"$error":"#N/A"}},{"$f":"IFERROR(G9/F9*100-100,\"\")","v":""},{"$f":"IFERROR(H9/G9*100-100,\"\")","v":""},"","","","","","",{"$f":"IFERROR(O81/N81*100-100,\"\")","v":""},{"$f":"IFERROR(P81/O81*100-100,\"\")","v":""},"",""]
[null,"Mining & quarrying",null,null,null,{"$f":"NA()","v":{"$error":"#N/A"}},{"$f":"IFERROR(G10/F10*100-100,\"\")","v":""},"","","","","","","",{"$f":"IFERROR(O82/N82*100-100,\"\")","v":""},"","",""]
[null,"Manufacturing",null,null,null,{"$f":"NA()","v":{"$error":"#N/A"}},{"$f":"IFERROR(G11/F11*100-100,\"\")","v":""},"","","","","","","",{"$f":"IFERROR(O83/N83*100-100,\"\")","v":""},"","",""]
[null,"Electricity",null,null,null,{"$f":"NA()","v":{"$error":"#N/A"}},{"$f":"IFERROR(G12/F12*100-100,\"\")","v":""},"","","","","","","",{"$f":"IFERROR(O84/N84*100-100,\"\")","v":""},"","",""]
[null,"Water & waste management",null,null,null,{"$f":"NA()","v":{"$error":"#N/A"}},{"$f":"IFERROR(G13/F13*100-100,\"\")","v":""},"","","","","","","",{"$f":"IFERROR(O85/N85*100-100,\"\")","v":""},"","",""]
[null,"Construction",null,null,null,{"$f":"NA()","v":{"$error":"#N/A"}},{"$f":"IFERROR(G14/F14*100-100,\"\")","v":""},"","","","","","","",{"$f":"IFERROR(O86/N86*100-100,\"\")","v":""},"","",""]
[null,"Maintenance and repair of motor vehicles",null,null,null,{"$f":"NA()","v":{"$error":"#N/A"}},{"$f":"IFERROR(G15/F15*100-100,\"\")","v":""},"","","","","","","",{"$f":"IFERROR(O87/N87*100-100,\"\")","v":""},"","",""]
[null,"Wholesale & retail trade",null,null,null,{"$f":"NA()","v":{"$error":"#N/A"}},{"$f":"IFERROR(G16/F16*100-100,\"\")","v":""},"","","","","","","",{"$f":"IFERROR(O88/N88*100-100,\"\")","v":""},"","",""]
[null,"Transport services",null,null,null,{"$f":"NA()","v":{"$error":"#N/A"}},{"$f":"IFERROR(G17/F17*100-100,\"\")","v":""},"","","","","","","",{"$f":"IFERROR(O89/N89*100-100,\"\")","v":""},"","",""]
[null,"Hotels & restaurants",null,null,null,{"$f":"NA()","v":{"$error":"#N/A"}},{"$f":"IFERROR(G18/F18*100-100,\"\")","v":""},"","","","","","","",{"$f":"IFERROR(O90/N90*100-100,\"\")","v":""},"","",""]
[null,"Information & communication",null,null,null,{"$f":"NA()","v":{"$error":"#N/A"}},{"$f":"IFERROR(G19/F19*100-100,\"\")","v":""},"","","","","","","",{"$f":"IFERROR(O91/N91*100-100,\"\")","v":""},"","",""]
[null,"Financial services",null,null,null,{"$f":"NA()","v":{"$error":"#N/A"}},{"$f":"IFERROR(G20/F20*100-100,\"\")","v":""},"","","","","","","",{"$f":"IFERROR(O92/N92*100-100,\"\")","v":""},"","",""]
[null,"Real estate activities",null,null,null,{"$f":"NA()","v":{"$error":"#N/A"}},{"$f":"IFERROR(G21/F21*100-100,\"\")","v":""},"","","","","","","",{"$f":"IFERROR(O93/N93*100-100,\"\")","v":""},"","",""]
[null,"Professional, scientific and technical activities",null,null,null,{"$f":"NA()","v":{"$error":"#N/A"}},{"$f":"IFERROR(G22/F22*100-100,\"\")","v":""},"","","","","","","",{"$f":"IFERROR(O94/N94*100-100,\"\")","v":""},"","",""]
[null,"Administrative and support service activities",null,null,null,{"$f":"NA()","v":{"$error":"#N/A"}},{"$f":"IFERROR(G23/F23*100-100,\"\")","v":""},"","","","","","","",{"$f":"IFERROR(O95/N95*100-100,\"\")","v":""},"","",""]
[null,"Public administration and defence; compulsory social security",null,null,null,{"$f":"NA()","v":{"$error":"#N/A"}},{"$f":"IFERROR(G24/F24*100-100,\"\")","v":""},"","","","","","","",{"$f":"IFERROR(O96/N96*100-100,\"\")","v":""},"","",""]
[null,"Education",null,null,null,{"$f":"NA()","v":{"$error":"#N/A"}},{"$f":"IFERROR(G25/F25*100-100,\"\")","v":""},"","","","","","","",{"$f":"IFERROR(O97/N97*100-100,\"\")","v":""},"","",""]
[null,"Human health and social work activities",null,null,null,{"$f":"NA()","v":{"$error":"#N/A"}},{"$f":"IFERROR(G26/F26*100-100,\"\")","v":""},"","","","","","","",{"$f":"IFERROR(O98/N98*100-100,\"\")","v":""},"","",""]
[null,"Cultural, domestic & other services",null,null,null,{"$f":"NA()","v":{"$error":"#N/A"}},{"$f":"IFERROR(G27/F27*100-100,\"\")","v":""},"","","","","","","",{"$f":"IFERROR(O99/N99*100-100,\"\")","v":""},"","",""]
[null,"Taxes less subsidies on products",null,null,null,{"$f":"NA()","v":{"$error":"#N/A"}},{"$f":"IFERROR(G28/F28*100-100,\"\")","v":""},"","","","","","","",{"$f":"IFERROR(O100/N100*100-100,\"\")","v":""},"","",""]
[null,"GDP",null,null,null,{"$f":"NA()","v":{"$error":"#N/A"}},{"$f":"IFERROR(G29/F29*100-100,\"\")","v":""},"","","","","","","",{"$f":"IFERROR(O101/N101*100-100,\"\")","v":""},"","",""]
[]
[]
[null,{"$f":"Labels!F61","v":"Shock Scenario Growth Rates (Constant Prices)"}]
[null,"Agriculture, forestry, and fishing",null,null,null,{"$f":"F33","v":0},{"$f":"G33","v":0},0,0,0,0,0,0,0,{"$f":"IFERROR(O81*O57/100,\"\")","v":""},{"$f":"IFERROR(P81*P57/100,\"\")","v":""},"",""]
[null,"Mining & quarrying",null,null,null,{"$f":"F34","v":0},0,0,0,0,0,0,0,0,{"$f":"IFERROR(O82*O58/100,\"\")","v":""},"","",""]
[null,"Manufacturing",null,null,null,{"$f":"F35","v":0},0,0,0,0,0,0,0,0,{"$f":"IFERROR(O83*O59/100,\"\")","v":""},"","",""]
[null,"Electricity",null,null,null,{"$f":"F36","v":0},0,0,0,0,0,0,0,0,{"$f":"IFERROR(O84*O60/100,\"\")","v":""},"","",""]
[null,"Water & waste management",null,null,null,{"$f":"F37","v":0},0,0,0,0,0,0,0,0,{"$f":"IFERROR(O85*O61/100,\"\")","v":""},"","",""]
[null,"Construction",null,null,null,{"$f":"F38","v":0},0,0,0,0,0,0,0,0,{"$f":"IFERROR(O86*O62/100,\"\")","v":""},"","",""]
[null,"Maintenance and repair of motor vehicles",null,null,null,{"$f":"F39","v":0},0,0,0,0,0,0,0,0,{"$f":"IFERROR(O87*O63/100,\"\")","v":""},"","",""]
[null,"Wholesale & retail trade",null,null,null,{"$f":"F40","v":0},0,0,0,0,0,0,0,0,{"$f":"IFERROR(O88*O64/100,\"\")","v":""},"","",""]
[null,"Transport services",null,null,null,{"$f":"F41","v":0},0,0,0,0,0,0,0,0,{"$f":"IFERROR(O89*O65/100,\"\")","v":""},"","",""]
[null,"Hotels & restaurants",null,null,null,{"$f":"F42","v":0},0,0,0,0,0,0,0,0,{"$f":"IFERROR(O90*O66/100,\"\")","v":""},"","",""]
[null,"Information & communication",null,null,null,{"$f":"F43","v":0},0,0,0,0,0,0,0,0,{"$f":"IFERROR(O91*O67/100,\"\")","v":""},"","",""]
[null,"Financial services",null,null,null,{"$f":"F44","v":0},0,0,0,0,0,0,0,0,{"$f":"IFERROR(O92*O68/100,\"\")","v":""},"","",""]
[null,"Real estate activities",null,null,null,{"$f":"F45","v":0},0,0,0,0,0,0,0,0,{"$f":"IFERROR(O93*O69/100,\"\")","v":""},"","",""]
[null,"Professional, scientific and technical activities",null,null,null,{"$f":"F46","v":0},0,0,0,0,0,0,0,0,{"$f":"IFERROR(O94*O70/100,\"\")","v":""},"","",""]
[null,"Administrative and support service activities",null,null,null,{"$f":"F47","v":0},0,0,0,0,0,0,0,0,{"$f":"IFERROR(O95*O71/100,\"\")","v":""},"","",""]
[null,"Public administration and defence; compulsory social security",null,null,null,{"$f":"F48","v":0},0,0,0,0,0,0,0,0,{"$f":"IFERROR(O96*O72/100,\"\")","v":""},"","",""]
[null,"Education",null,null,null,{"$f":"F49","v":0},0,0,0,0,0,0,0,0,{"$f":"IFERROR(O97*O73/100,\"\")","v":""},"","",""]
[null,"Human health and social work activities",null,null,null,{"$f":"F50","v":0},0,0,0,0,0,0,0,0,{"$f":"IFERROR(O98*O74/100,\"\")","v":""},"","",""]
[null,"Cultural, domestic & other services",null,null,null,{"$f":"F51","v":0},0,0,0,0,0,0,0,0,{"$f":"IFERROR(O99*O75/100,\"\")","v":""},"","",""]
[null,"Taxes less subsidies on products",null,null,null,{"$f":"F52","v":0},0,0,0,0,0,0,0,0,{"$f":"IFERROR(O100*O76/100,\"\")","v":""},"","",""]
[null,"GDP",null,null,null,{"$f":"F53","v":0},0,0,0,0,0,0,0,0,{"$f":"SUM(O129:O148)","v":0},{"$f":"SUM(P129:P148)","v":0},0,0]
[]
[]
[null,{"$f":"Labels!F62","v":"Shock Scenario Levels (Current Prices)"}]
[null,"Agriculture, forestry, and fishing",null,null,null,{"$f":"F9","v":0},{"$f":"G9","v":0},0,0,0,0,0,0,0,{"$f":"N153*(1+O177/100)","v":0},{"$f":"O153*(1+P177/100)","v":0},0,0]
[null,"Mining & quarrying",null,null,null,{"$f":"F10","v":0},0,0,0,0,0,0,0,0,{"$f":"N154*(1+O178/100)","v":0},0,0,0]
[null,"Manufacturing",null,null,null,{"$f":"F11","v":0},0,0,0,0,0,0,0,0,{"$f":"N155*(1+O179/100)","v":0},0,0,0]
[null,"Electricity",null,null,null,{"$f":"F12","v":0},0,0,0,0,0,0,0,0,{"$f":"N156*(1+O180/100)","v":0},0,0,0]
[null,"Water & waste management",null,null,null,{"$f":"F13","v":0},0,0,0,0,0,0,0,0,{"$f":"N157*(1+O181/100)","v":0},0,0,0]
[null,"Construction",null,null,null,{"$f":"F14","v":0},0,0,0,0,0,0,0,0,{"$f":"N158*(1+O182/100)","v":0},0,0,0]
[null,"Maintenance and repair of motor vehicles",null,null,null,{"$f":"F15","v":0},0,0,0,0,0,0,0,0,{"$f":"N159*(1+O183/100)","v":0},0,0,0]
[null,"Wholesale & retail trade",null,null,null,{"$f":"F16","v":0},0,0,0,0,0,0,0,0,{"$f":"N160*(1+O184/100)","v":0},0,0,0]
[null,"Transport services",null,null,null,{"$f":"F17","v":0},0,0,0,0,0,0,0,0,{"$f":"N161*(1+O185/100)","v":0},0,0,0]
[null,"Hotels & restaurants",null,null,null,{"$f":"F18","v":0},0,0,0,0,0,0,0,0,{"$f":"N162*(1+O186/100)","v":0},0,0,0]
[null,"Information & communication",null,null,null,{"$f":"F19","v":0},0,0,0,0,0,0,0,0,{"$f":"N163*(1+O187/100)","v":0},0,0,0]
[null,"Financial services",null,null,null,{"$f":"F20","v":0},0,0,0,0,0,0,0,0,{"$f":"N164*(1+O188/100)","v":0},0,0,0]
[null,"Real estate activities",null,null,null,{"$f":"F21","v":0},0,0,0,0,0,0,0,0,{"$f":"N165*(1+O189/100)","v":0},0,0,0]
[null,"Professional, scientific and technical activities",null,null,null,{"$f":"F22","v":0},0,0,0,0,0,0,0,0,{"$f":"N166*(1+O190/100)","v":0},0,0,0]
[null,"Administrative and support service activities",null,null,null,{"$f":"F23","v":0},0,0,0,0,0,0,0,0,{"$f":"N167*(1+O191/100)","v":0},0,0,0]
[null,"Public administration and defence; compulsory social security",null,null,null,{"$f":"F24","v":0},0,0,0,0,0,0,0,0,{"$f":"N168*(1+O192/100)","v":0},0,0,0]
[null,"Education",null,null,null,{"$f":"F25","v":0},0,0,0,0,0,0,0,0,{"$f":"N169*(1+O193/100)","v":0},0,0,0]
[null,"Human health and social work activities",null,null,null,{"$f":"F26","v":0},0,0,0,0,0,0,0,0,{"$f":"N170*(1+O194/100)","v":0},0,0,0]
[null,"Cultural, domestic & other services",null,null,null,{"$f":"F27","v":0},0,0,0,0,0,0,0,0,{"$f":"N171*(1+O195/100)","v":0},0,0,0]
[null,"Taxes less subsidies on products",null,null,null,{"$f":"F28","v":0},0,0,0,0,0,0,0,0,{"$f":"N172*(1+O196/100)","v":0},0,0,0]
[null,"GDP",null,null,null,{"$f":"SUM(F153:F172)","v":0},{"$f":"SUM(G153:G172)","v":0},0,0,0,0,0,0,0,0,0,0,0]
[]
[]
[null,{"$f":"Labels!F63","v":"PF Levels"}]
[null,"Agriculture, forestry, and fishing",null,null,null,{"$f":"NA()","v":{"$error":"#N/A"}},{"$f":"IFERROR(G9/F9*100-100,\"\")","v":""},{"$f":"IFERROR(H9/G9*100-100,\"\")","v":""},"","","","","","",{"$f":"'PF - annual estimates'!G$25","v":7.9243146563809486},{"$f":"'PF - annual estimates'!G$26","v":8.0238261612392883},{"$f":"'PF - annual estimates'!G$27","v":8.0193998745269326},{"$f":"'PF - annual estimates'!G$28","v":8.0150718979775206}]
[null,"Mining & quarrying",null,null,null,{"$f":"NA()","v":{"$error":"#N/A"}},{"$f":"IFERROR(G10/F10*100-100,\"\")","v":""},"","","","","","","",{"$f":"'PF - annual estimates'!G$25","v":7.9243146563809486},{"$f":"'PF - annual estimates'!G$26","v":8.0238261612392883},{"$f":"'PF - annual estimates'!G$27","v":8.0193998745269326},{"$f":"'PF - annual estimates'!G$28","v":8.0150718979775206}]
[null,"Manufacturing",null,null,null,{"$f":"NA()","v":{"$error":"#N/A"}},{"$f":"IFERROR(G11/F11*100-100,\"\")","v":""},"","","","","","","",{"$f":"'PF - annual estimates'!G$25","v":7.9243146563809486},{"$f":"'PF - annual estimates'!G$26","v":8.0238261612392883},{"$f":"'PF - annual estimates'!G$27","v":8.0193998745269326},{"$f":"'PF - annual estimates'!G$28","v":8.0150718979775206}]
[null,"Electricity",null,null,null,{"$f":"NA()","v":{"$error":"#N/A"}},{"$f":"IFERROR(G12/F12*100-100,\"\")","v":""},"","","","","","","",{"$f":"'PF - annual estimates'!G$25","v":7.9243146563809486},{"$f":"'PF - annual estimates'!G$26","v":8.0238261612392883},{"$f":"'PF - annual estimates'!G$27","v":8.0193998745269326},{"$f":"'PF - annual estimates'!G$28","v":8.0150718979775206}]
[null,"Water & waste management",null,null,null,{"$f":"NA()","v":{"$error":"#N/A"}},{"$f":"IFERROR(G13/F13*100-100,\"\")","v":""},"","","","","","","",{"$f":"'PF - annual estimates'!G$25","v":7.9243146563809486},{"$f":"'PF - annual estimates'!G$26","v":8.0238261612392883},{"$f":"'PF - annual estimates'!G$27","v":8.0193998745269326},{"$f":"'PF - annual estimates'!G$28","v":8.0150718979775206}]
[null,"Construction",null,null,null,{"$f":"NA()","v":{"$error":"#N/A"}},{"$f":"IFERROR(G14/F14*100-100,\"\")","v":""},"","","","","","","",{"$f":"'PF - annual estimates'!G$25","v":7.9243146563809486},{"$f":"'PF - annual estimates'!G$26","v":8.0238261612392883},{"$f":"'PF - annual estimates'!G$27","v":8.0193998745269326},{"$f":"'PF - annual estimates'!G$28","v":8.0150718979775206}]
[null,"Maintenance and repair of motor vehicles",null,null,null,{"$f":"NA()","v":{"$error":"#N/A"}},{"$f":"IFERROR(G15/F15*100-100,\"\")","v":""},"","","","","","","",{"$f":"'PF - annual estimates'!G$25","v":7.9243146563809486},{"$f":"'PF - annual estimates'!G$26","v":8.0238261612392883},{"$f":"'PF - annual estimates'!G$27","v":8.0193998745269326},{"$f":"'PF - annual estimates'!G$28","v":8.0150718979775206}]
[null,"Wholesale & retail trade",null,null,null,{"$f":"NA()","v":{"$error":"#N/A"}},{"$f":"IFERROR(G16/F16*100-100,\"\")","v":""},"","","","","","","",{"$f":"'PF - annual estimates'!G$25","v":7.9243146563809486},{"$f":"'PF - annual estimates'!G$26","v":8.0238261612392883},{"$f":"'PF - annual estimates'!G$27","v":8.0193998745269326},{"$f":"'PF - annual estimates'!G$28","v":8.0150718979775206}]
[null,"Transport services",null,null,null,{"$f":"NA()","v":{"$error":"#N/A"}},{"$f":"IFERROR(G17/F17*100-100,\"\")","v":""},"","","","","","","",{"$f":"'PF - annual estimates'!G$25","v":7.9243146563809486},{"$f":"'PF - annual estimates'!G$26","v":8.0238261612392883},{"$f":"'PF - annual estimates'!G$27","v":8.0193998745269326},{"$f":"'PF - annual estimates'!G$28","v":8.0150718979775206}]
[null,"Hotels & restaurants",null,null,null,{"$f":"NA()","v":{"$error":"#N/A"}},{"$f":"IFERROR(G18/F18*100-100,\"\")","v":""},"","","","","","","",{"$f":"'PF - annual estimates'!G$25","v":7.9243146563809486},{"$f":"'PF - annual estimates'!G$26","v":8.0238261612392883},{"$f":"'PF - annual estimates'!G$27","v":8.0193998745269326},{"$f":"'PF - annual estimates'!G$28","v":8.0150718979775206}]
[null,"Information & communication",null,null,null,{"$f":"NA()","v":{"$error":"#N/A"}},{"$f":"IFERROR(G19/F19*100-100,\"\")","v":""},"","","","","","","",{"$f":"'PF - annual estimates'!G$25","v":7.9243146563809486},{"$f":"'PF - annual estimates'!G$26","v":8.0238261612392883},{"$f":"'PF - annual estimates'!G$27","v":8.0193998745269326},{"$f":"'PF - annual estimates'!G$28","v":8.0150718979775206}]
[null,"Financial services",null,null,null,{"$f":"NA()","v":{"$error":"#N/A"}},{"$f":"IFERROR(G20/F20*100-100,\"\")","v":""},"","","","","","","",{"$f":"'PF - annual estimates'!G$25","v":7.9243146563809486},{"$f":"'PF - annual estimates'!G$26","v":8.0238261612392883},{"$f":"'PF - annual estimates'!G$27","v":8.0193998745269326},{"$f":"'PF - annual estimates'!G$28","v":8.0150718979775206}]
[null,"Real estate activities",null,null,null,{"$f":"NA()","v":{"$error":"#N/A"}},{"$f":"IFERROR(G21/F21*100-100,\"\")","v":""},"","","","","","","",{"$f":"'PF - annual estimates'!G$25","v":7.9243146563809486},{"$f":"'PF - annual estimates'!G$26","v":8.0238261612392883},{"$f":"'PF - annual estimates'!G$27","v":8.0193998745269326},{"$f":"'PF - annual estimates'!G$28","v":8.0150718979775206}]
[null,"Professional, scientific and technical activities",null,null,null,{"$f":"NA()","v":{"$error":"#N/A"}},{"$f":"IFERROR(G22/F22*100-100,\"\")","v":""},"","","","","","","",{"$f":"'PF - annual estimates'!G$25","v":7.9243146563809486},{"$f":"'PF - annual estimates'!G$26","v":8.0238261612392883},{"$f":"'PF - annual estimates'!G$27","v":8.0193998745269326},{"$f":"'PF - annual estimates'!G$28","v":8.0150718979775206}]
[null,"Administrative and support service activities",null,null,null,{"$f":"NA()","v":{"$error":"#N/A"}},{"$f":"IFERROR(G23/F23*100-100,\"\")","v":""},"","","","","","","",{"$f":"'PF - annual estimates'!G$25","v":7.9243146563809486},{"$f":"'PF - annual estimates'!G$26","v":8.0238261612392883},{"$f":"'PF - annual estimates'!G$27","v":8.0193998745269326},{"$f":"'PF - annual estimates'!G$28","v":8.0150718979775206}]
[null,"Public administration and defence; compulsory social security",null,null,null,{"$f":"NA()","v":{"$error":"#N/A"}},{"$f":"IFERROR(G24/F24*100-100,\"\")","v":""},"","","","","","","",{"$f":"'PF - annual estimates'!G$25","v":7.9243146563809486},{"$f":"'PF - annual estimates'!G$26","v":8.0238261612392883},{"$f":"'PF - annual estimates'!G$27","v":8.0193998745269326},{"$f":"'PF - annual estimates'!G$28","v":8.0150718979775206}]
[null,"Education",null,null,null,{"$f":"NA()","v":{"$error":"#N/A"}},{"$f":"IFERROR(G25/F25*100-100,\"\")","v":""},"","","","","","","",{"$f":"'PF - annual estimates'!G$25","v":7.9243146563809486},{"$f":"'PF - annual estimates'!G$26","v":8.0238261612392883},{"$f":"'PF - annual estimates'!G$27","v":8.0193998745269326},{"$f":"'PF - annual estimates'!G$28","v":8.0150718979775206}]
[null,"Human health and social work activities",null,null,null,{"$f":"NA()","v":{"$error":"#N/A"}},{"$f":"IFERROR(G26/F26*100-100,\"\")","v":""},"","","","","","","",{"$f":"'PF - annual estimates'!G$25","v":7.9243146563809486},{"$f":"'PF - annual estimates'!G$26","v":8.0238261612392883},{"$f":"'PF - annual estimates'!G$27","v":8.0193998745269326},{"$f":"'PF - annual estimates'!G$28","v":8.0150718979775206}]
[null,"Cultural, domestic & other services",null,null,null,{"$f":"NA()","v":{"$error":"#N/A"}},{"$f":"IFERROR(G27/F27*100-100,\"\")","v":""},"","","","","","","",{"$f":"'PF - annual estimates'!G$25","v":7.9243146563809486},{"$f":"'PF - annual estimates'!G$26","v":8.0238261612392883},{"$f":"'PF - annual estimates'!G$27","v":8.0193998745269326},{"$f":"'PF - annual estimates'!G$28","v":8.0150718979775206}]
[null,"Taxes less subsidies on products",null,null,null,{"$f":"NA()","v":{"$error":"#N/A"}},{"$f":"IFERROR(G28/F28*100-100,\"\")","v":""},"","","","","","","",{"$f":"'PF - annual estimates'!G$25","v":7.9243146563809486},{"$f":"'PF - annual estimates'!G$26","v":8.0238261612392883},{"$f":"'PF - annual estimates'!G$27","v":8.0193998745269326},{"$f":"'PF - annual estimates'!G$28","v":8.0150718979775206}]
[null,"GDP",null,null,null,{"$f":"NA()","v":{"$error":"#N/A"}},{"$f":"IFERROR(G29/F29*100-100,\"\")","v":""},"","","","","","","",{"$f":"'PF - annual estimates'!G$25","v":7.9243146563809486},{"$f":"'PF - annual estimates'!G$26","v":8.0238261612392883},{"$f":"'PF - annual estimates'!G$27","v":8.0193998745269326},{"$f":"'PF - annual estimates'!G$28","v":8.0150718979775206}]

{"sheet":"GDP (E)","index":13,"n_rows":80,"n_cols":18,"rows_kept":80,"cut":false,"hidden":false,"merged":[]}
[null,{"$f":"Labels!F51","v":"Shock Scenario"},null,null,{"$f":"IF('Setup File and Task Panel'!C7='GDP (P)'!E1,'GDP (P)'!E1,\"\")","v":""},{"$f":"'GDP (P)'!F1","v":2013},{"$f":"'GDP (P)'!G1","v":2014},{"$f":"'GDP (P)'!H1","v":2015},{"$f":"'GDP (P)'!I1","v":2016},{"$f":"'GDP (P)'!J1","v":2017},{"$f":"'GDP (P)'!K1","v":2018},{"$f":"'GDP (P)'!L1","v":2019},{"$f":"'GDP (P)'!M1","v":2020},{"$f":"'GDP (P)'!N1","v":2021},{"$f":"'GDP (P)'!O1","v":2022},{"$f":"'GDP (P)'!P1","v":2023},{"$f":"'GDP (P)'!Q1","v":2024},{"$f":"'GDP (P)'!R1","v":2025}]
[null,{"$f":"Labels!F65","v":"Current Prices"}]
[null,{"$f":"Labels!F66","v":"Total consumption"},null,null,null,{"$f":"IFERROR(F4+F5,\"\")","v":0},0,0,0,0,0,0,0,0,{"$f":"IFERROR(O4+O5,\"\")","v":""},{"$f":"IFERROR(P4+P5,\"\")","v":""},{"$f":"IFERROR(Q4+Q5,\"\")","v":""},{"$f":"IFERROR(R4+R5,\"\")","v":""}]
[null,{"$f":"Labels!F67","v":"  Government consumption"},null,null,null,null,null,null,null,null,null,null,null,null,{"$f":"IFERROR(SUM(EXPENDITURE!O8,EXPENDITURE!O11)/SUM(EXPENDITURE!N8,EXPENDITURE!N11)*N4,\"\")","v":""},{"$f":"IFERROR(SUM(EXPENDITURE!P8,EXPENDITURE!P11)/SUM(EXPENDITURE!O8,EXPENDITURE!O11)*O4,\"\")","v":""},{"$f":"IFERROR(SUM(EXPENDITURE!Q8,EXPENDITURE!Q11)/SUM(EXPENDITURE!P8,EXPENDITURE!P11)*P4,\"\")","v":""},{"$f":"IFERROR(SUM(EXPENDITURE!R8,EXPENDITURE!R11)/SUM(EXPENDITURE!Q8,EXPENDITURE!Q11)*Q4,\"\")","v":""}]
[null,{"$f":"Labels!F68","v":"  Private consumption"},null,null,null,null,null,null,null,null,null,null,null,null,{"$f":"IFERROR(O28/N28*(1+O17/100)*N5,\"\")","v":""},{"$f":"IFERROR(P28/O28*(1+P17/100)*O5,\"\")","v":""},{"$f":"IFERROR(Q28/P28*(1+Q17/100)*P5,\"\")","v":""},{"$f":"IFERROR(R28/Q28*(1+R17/100)*Q5,\"\")","v":""}]
[null,{"$f":"Labels!F69","v":"Total investment"},null,null,null,{"$f":"IFERROR(F7+F10,\"\")","v":0},0,0,0,0,0,0,0,0,{"$f":"IFERROR(O7+O10,\"\")","v":""},{"$f":"IFERROR(P7+P10,\"\")","v":""},{"$f":"IFERROR(Q7+Q10,\"\")","v":""},{"$f":"IFERROR(R7+R10,\"\")","v":""}]
[null,{"$f":"Labels!F70","v":"  Gross fixed capital formation"},null,null,null,null,null,null,null,null,null,null,null,null,{"$f":"IFERROR(O8+O9,\"\")","v":""},{"$f":"IFERROR(P8+P9,\"\")","v":""},{"$f":"IFERROR(Q8+Q9,\"\")","v":""},{"$f":"IFERROR(R8+R9,\"\")","v":""}]
[null,{"$f":"Labels!F71","v":"      Public investments"},null,null,null,null,null,null,null,null,null,null,null,null,{"$f":"IFERROR(O31/N31*(1+O18/100)*N8,\"\")","v":""},{"$f":"IFERROR(P31/O31*(1+P18/100)*O8,\"\")","v":""},{"$f":"IFERROR(Q31/P31*(1+Q18/100)*P8,\"\")","v":""},{"$f":"IFERROR(R31/Q31*(1+R18/100)*Q8,\"\")","v":""}]
[null,{"$f":"Labels!F72","v":"      Private Investment"},null,null,null,null,null,null,null,null,null,null,null,null,{"$f":"IFERROR(O32/N32*(1+O18/100)*N9,\"\")","v":""},{"$f":"IFERROR(P32/O32*(1+P18/100)*O9,\"\")","v":""},{"$f":"IFERROR(Q32/P32*(1+Q18/100)*P9,\"\")","v":""},{"$f":"IFERROR(R32/Q32*(1+R18/100)*Q9,\"\")","v":""}]
[null,{"$f":"Labels!F73","v":"  Changes in stocks"},null,null,null,null,null,null,null,null,null,null,null,null,{"$f":"IFERROR(IF(N10=0,0,O33/N33*(1+O18/100)*N10),\"\")","v":0},{"$f":"IFERROR(IF(O10=0,0,P33/O33*(1+P18/100)*O10),\"\")","v":0},{"$f":"IFERROR(IF(P10=0,0,Q33/P33*(1+Q18/100)*P10),\"\")","v":0},{"$f":"IFERROR(IF(Q10=0,0,R33/Q33*(1+R18/100)*Q10),\"\")","v":0}]
[null,{"$f":"Labels!F74","v":"Gross domestic expenditure"},null,null,null,{"$f":"IFERROR(F6+F3,\"\")","v":0},0,0,0,0,0,0,0,0,{"$f":"IFERROR(O6+O3,\"\")","v":""},{"$f":"IFERROR(P6+P3,\"\")","v":""},{"$f":"IFERROR(Q6+Q3,\"\")","v":""},{"$f":"IFERROR(R6+R3,\"\")","v":""}]
[null,{"$f":"Labels!F75","v":"Exports of goods and services"},null,null,null,null,null,null,null,null,null,null,null,null,{"$f":"IFERROR(O35/N35*(1+O19/100)*N12,\"\")","v":""},{"$f":"IFERROR(P35/O35*(1+P19/100)*O12,\"\")","v":""},{"$f":"IFERROR(Q35/P35*(1+Q19/100)*P12,\"\")","v":""},{"$f":"IFERROR(R35/Q35*(1+R19/100)*Q12,\"\")","v":""}]
[null,{"$f":"Labels!F76","v":"Imports of goods and services"},null,null,null,null,null,null,null,null,null,null,null,null,{"$f":"IFERROR(O36/N36*(1+O19/100)*N13,\"\")","v":""},{"$f":"IFERROR(P36/O36*(1+P19/100)*O13,\"\")","v":""},{"$f":"IFERROR(Q36/P36*(1+Q19/100)*P13,\"\")","v":""},{"$f":"IFERROR(R36/Q36*(1+R19/100)*Q13,\"\")","v":""}]
[null,{"$f":"Labels!F77","v":"Total GDP "},null,null,null,{"$f":"IFERROR(F3+F6+F12-F13,\"\")","v":0},0,0,0,0,0,0,0,0,{"$f":"IFERROR(O3+O6+O12-O13,\"\")","v":""},{"$f":"IFERROR(P3+P6+P12-P13,\"\")","v":""},{"$f":"IFERROR(Q3+Q6+Q12-Q13,\"\")","v":""},{"$f":"IFERROR(R3+R6+R12-R13,\"\")","v":""}]
[]
[]
[null,{"$f":"Labels!F78","v":"Consumption deflator growth"},null,null,{"$f":"IF(E$3<>\"\",'Other Macro'!E5,\"\")","v":""},{"$f":"IFERROR(F21/E21*100-100,\"\")","v":""},{"$f":"IFERROR(G21/F21*100-100,\"\")","v":""},"","","","","","","",{"$f":"'Other Macro'!O5*O49","v":0},{"$f":"'Other Macro'!P5*P49","v":0},{"$f":"'Other Macro'!Q5*Q49","v":0},{"$f":"'Other Macro'!R5*R49","v":0}]
[null,{"$f":"Labels!F79","v":"Investment deflator growth"},null,null,{"$f":"IF(E$3<>\"\",'Other Macro'!E6,\"\")","v":""},{"$f":"IFERROR(F22/E22*100-100,\"\")","v":""},"","","","","","","","",{"$f":"'Other Macro'!O6*O49","v":0},{"$f":"'Other Macro'!P6*P49","v":0},{"$f":"'Other Macro'!Q6*Q49","v":0},{"$f":"'Other Macro'!R6*R49","v":0}]
[null,{"$f":"Labels!F80","v":"Exchange rate (USD) growth"},null,null,{"$f":"IF(E$3<>\"\",'Other Macro'!E13,\"\")","v":""},{"$f":"IFERROR(F23/E23*100-100,\"\")","v":""},"","","","","","","","",{"$f":"'Other Macro'!O11","v":""},{"$f":"'Other Macro'!P11","v":""},{"$f":"'Other Macro'!Q11","v":""},{"$f":"'Other Macro'!R11","v":""}]
[]
[null,{"$f":"Labels!F81","v":"Consumption deflator"},null,null,{"$f":"IF(E3<>\"\",F21/(1+E17/100),\"\")","v":""},{"$f":"IFERROR(F3/F26*100,\"\")","v":""},{"$f":"IFERROR(G3/G26*100,\"\")","v":""},"","","","","","","",{"$f":"IFERROR(N21*(1+O17/100),\"\")","v":""},"","",""]
[null,{"$f":"Labels!F82","v":"Investment deflator"},null,null,{"$f":"IF(E4<>\"\",F22/(1+E18/100),\"\")","v":""},{"$f":"IFERROR(F6/F29*100,\"\")","v":""},"","","","","","","",{"$f":"IFERROR(N6/N29*100,\"\")","v":""},"","","",""]
[null,{"$f":"Labels!F83","v":"Trade deflator"},null,null,{"$f":"IFERROR(IF(E5<>\"\",F23/(1+E19/100),\"\"),\"\")","v":""},{"$f":"IFERROR(F12/F35*100,\"\")","v":""},"","","","","","","",{"$f":"IFERROR(N12/N35*100,\"\")","v":""},"","","",""]
[]
[null,{"$f":"Labels!F84","v":"Constant Prices"}]
[null,{"$f":"B3","v":"Total consumption"},null,null,null,{"$f":"IFERROR(F27+F28,\"\")","v":0},0,0,0,0,0,0,0,0,{"$f":"IFERROR(O27+O28,\"\")","v":""},{"$f":"IFERROR(P27+P28,\"\")","v":""},{"$f":"IFERROR(Q27+Q28,\"\")","v":""},{"$f":"IFERROR(R27+R28,\"\")","v":""}]
[null,{"$f":"B4","v":"  Government consumption"},null,null,null,null,null,null,null,null,null,null,null,null,{"$f":"IF(O4<>\"\",O4/((O21/100)),\"\")","v":""},{"$f":"IF(P4<>\"\",P4/((P21/100)),\"\")","v":""},{"$f":"IF(Q4<>\"\",Q4/((Q21/100)),\"\")","v":""},{"$f":"IF(R4<>\"\",R4/((R21/100)),\"\")","v":""}]
[null,"  Private consumption",null,null,null,null,null,null,null,null,null,null,null,null,{"$f":"IFERROR(N28*(1+O53)*O48,\"\")","v":0},{"$f":"IFERROR(O28*(1+P53)*P48,\"\")","v":0},{"$f":"IFERROR(P28*(1+Q53)*Q48,\"\")","v":0},{"$f":"IFERROR(Q28*(1+R53)*R48,\"\")","v":0}]
[null,"Total investment",null,null,null,{"$f":"IF(F3<>\"\",F30+F33,\"\")","v":0},0,0,0,0,0,0,0,0,{"$f":"IF(O3<>\"\",O30+O33,\"\")","v":""},{"$f":"IF(P3<>\"\",P30+P33,\"\")","v":""},{"$f":"IF(Q3<>\"\",Q30+Q33,\"\")","v":""},{"$f":"IF(R3<>\"\",R30+R33,\"\")","v":""}]
[null,"  Gross fixed capital formation",null,null,null,null,null,null,null,null,null,null,null,null,{"$f":"IF(O3<>\"\",O31+O32,\"\")","v":""},{"$f":"IF(P3<>\"\",P31+P32,\"\")","v":""},{"$f":"IF(Q3<>\"\",Q31+Q32,\"\")","v":""},{"$f":"IF(R3<>\"\",R31+R32,\"\")","v":""}]
[null,"      Public investments",null,null,null,null,null,null,null,null,null,null,null,null,{"$f":"IFERROR(N31*(EXPENDITURE!O21/EXPENDITURE!N21),\"\")","v":""},{"$f":"IFERROR(O31*(EXPENDITURE!P21/EXPENDITURE!O21),\"\")","v":""},{"$f":"IFERROR(P31*(EXPENDITURE!Q21/EXPENDITURE!P21),\"\")","v":""},{"$f":"IFERROR(Q31*(EXPENDITURE!R21/EXPENDITURE!Q21),\"\")","v":""}]
[null,"      Private Investment",null,null,null,null,null,null,null,null,null,null,null,null,{"$f":"IFERROR(N32*(1+O54)*O48,\"\")","v":0},{"$f":"IFERROR(O32*(1+P54)*P48,\"\")","v":0},{"$f":"IFERROR(P32*(1+Q54)*Q48,\"\")","v":0},{"$f":"IFERROR(Q32*(1+R54)*R48,\"\")","v":0}]
[null,"  Changes in stocks",null,null,null,null,null,null,null,null,null,null,null,null,{"$f":"IFERROR(IF(N33=0,0,O43*O30),\"\")","v":0},{"$f":"IFERROR(IF(O33=0,0,P43*P30),\"\")","v":0},{"$f":"IFERROR(IF(P33=0,0,Q43*Q30),\"\")","v":0},{"$f":"IFERROR(IF(Q33=0,0,R43*R30),\"\")","v":0}]
[null,"Gross domestic expenditure",null,null,null,{"$f":"IF(F26<>\"\",F29+F26,\"\")","v":0},0,0,0,0,0,0,0,0,{"$f":"IF(O26<>\"\",O29+O26,\"\")","v":""},{"$f":"IF(P26<>\"\",P29+P26,\"\")","v":""},{"$f":"IF(Q26<>\"\",Q29+Q26,\"\")","v":""},{"$f":"IF(R26<>\"\",R29+R26,\"\")","v":""}]
[null,"Exports of goods and services",null,null,null,null,null,null,null,null,null,null,null,null,{"$f":"IFERROR(N35*(1+O54),\"\")","v":0},{"$f":"IFERROR(O35*(1+P54),\"\")","v":0},{"$f":"IFERROR(P35*(1+Q54),\"\")","v":0},{"$f":"IFERROR(Q35*(1+R54),\"\")","v":0}]
[null,"Imports of goods and services",null,null,null,null,null,null,null,null,null,null,null,null,{"$f":"IFERROR(O42*(O26+O29),\"\")","v":""},{"$f":"IFERROR(P42*(P26+P29),\"\")","v":""},{"$f":"IFERROR(Q42*(Q26+Q29),\"\")","v":""},{"$f":"IFERROR(R42*(R26+R29),\"\")","v":""}]
[null,"Total GDP ",null,null,null,{"$f":"IFERROR(F26+F29+F35-F36,\"\")","v":0},0,0,0,0,0,0,0,0,{"$f":"IFERROR(O26+O29+O35-O36,\"\")","v":""},{"$f":"IFERROR(P26+P29+P35-P36,\"\")","v":""},{"$f":"IFERROR(Q26+Q29+Q35-Q36,\"\")","v":""},{"$f":"IFERROR(R26+R29+R35-R36,\"\")","v":""}]
[]
[null,{"$f":"Labels!F91","v":"Deflator"},null,null,{"$f":"IF(E14<>\"\",E14/E37*100,\"\")","v":""},{"$f":"IFERROR(F14/F37*100,\"\")","v":""},{"$f":"IFERROR(G14/G37*100,\"\")","v":""},"","","","","","","",{"$f":"IF(O14<>\"\",O14/O37*100,\"\")","v":""},{"$f":"IF(P14<>\"\",P14/P37*100,\"\")","v":""},{"$f":"IF(Q14<>\"\",Q14/Q37*100,\"\")","v":""},{"$f":"IF(R14<>\"\",R14/R37*100,\"\")","v":""}]
[null,{"$f":"Labels!F92","v":"Deflator growth"},null,null,{"$f":"IF(E39<>\"\",E39/D39*100-100,\"\")","v":""},{"$f":"IF(F39<>\"\",F39/E39*100-100,\"\")","v":""},"","","","","",{"$f":"IF(K39<>\"\",L39/K39*100-100,\"\")","v":""},{"$f":"IF(L39<>\"\",M39/L39*100-100,\"\")","v":""},{"$f":"IF(M39<>\"\",N39/M39*100-100,\"\")","v":""},{"$f":"IFERROR(IF(N39<>\"\",O39/N39*100-100,\"\"),\"\")","v":""},{"$f":"IFERROR(IF(O39<>\"\",P39/O39*100-100,\"\"),\"\")","v":""},{"$f":"IFERROR(IF(P39<>\"\",Q39/P39*100-100,\"\"),\"\")","v":""},{"$f":"IFERROR(IF(Q39<>\"\",R39/Q39*100-100,\"\"),\"\")","v":""}]
[]
[null,{"$f":"Labels!F85","v":"Imports share of (I + C)"},null,null,{"$f":"IFERROR(E36/(E26+E29),\"\")","v":""},"","","","","","",{"$f":"IFERROR(L36/(L26+L29),\"\")","v":""},{"$f":"IFERROR(M36/(M26+M29),\"\")","v":""},{"$f":"IFERROR(N36/(N26+N29),\"\")","v":""},{"$f":"IFERROR(AVERAGE(L42:N42),\"\")","v":""},{"$f":"O42","v":""},"",""]
[null,{"$f":"Labels!F86","v":"Change in stocks share of I"},null,null,{"$f":"IFERROR(E33/(E31+E32),\"\")","v":""},"","","","","","","",{"$f":"IFERROR(M33/(M31+M32),\"\")","v":""},{"$f":"IFERROR(N33/(N31+N32),\"\")","v":""},{"$f":"IFERROR(AVERAGE(L43:N43),\"\")","v":""},"","",""]
[null,{"$f":"Labels!F87","v":"Domestic"}]
[]
[null,{"$f":"Labels!F88","v":"Stat discrepancy (real)"},{"$f":"SUM(O46:R46)","v":0},null,{"$f":"IF(E37=\"\",\"\",E37-'GDP (P)'!E3)","v":""},{"$f":"IF(F37=\"\",\"\",F37-'GDP (P)'!F3)","v":0},{"$f":"IF(G37=\"\",\"\",G37-'GDP (P)'!G3)","v":0},{"$f":"IF(H37=\"\",\"\",H37-'GDP (P)'!H3)","v":0},{"$f":"IF(I37=\"\",\"\",I37-'GDP (P)'!I3)","v":0},{"$f":"IF(J37=\"\",\"\",J37-'GDP (P)'!J3)","v":0},{"$f":"IF(K37=\"\",\"\",K37-'GDP (P)'!K3)","v":0},{"$f":"IF(L37=\"\",\"\",L37-'GDP (P)'!L3)","v":0},{"$f":"IF(M37=\"\",\"\",M37-'GDP (P)'!M3)","v":0},{"$f":"IF(N37=\"\",\"\",N37-'GDP (P)'!N3)","v":0},{"$f":"IF(O37=\"\",\"\",O37-'GDP (P)'!O3)","v":""},{"$f":"IF(P37=\"\",\"\",P37-'GDP (P)'!P3)","v":""},{"$f":"IF(Q37=\"\",\"\",Q37-'GDP (P)'!Q3)","v":""},{"$f":"IF(R37=\"\",\"\",R37-'GDP (P)'!R3)","v":""}]
[null,{"$f":"Labels!F89","v":"Stat discrepancy (nominal)"},{"$f":"SUM(O47:R47)","v":0},null,{"$f":"IF(E14=\"\",\"\",E14-'GDP (P)'!E2)","v":""},{"$f":"IF(F14=\"\",\"\",F14-'GDP (P)'!F2)","v":0},{"$f":"IF(G14=\"\",\"\",G14-'GDP (P)'!G2)","v":0},{"$f":"IF(H14=\"\",\"\",H14-'GDP (P)'!H2)","v":0},{"$f":"IF(I14=\"\",\"\",I14-'GDP (P)'!I2)","v":0},{"$f":"IF(J14=\"\",\"\",J14-'GDP (P)'!J2)","v":0},{"$f":"IF(K14=\"\",\"\",K14-'GDP (P)'!K2)","v":0},{"$f":"IF(L14=\"\",\"\",L14-'GDP (P)'!L2)","v":0},{"$f":"IF(M14=\"\",\"\",M14-'GDP (P)'!M2)","v":0},{"$f":"IF(N14=\"\",\"\",N14-'GDP (P)'!N2)","v":0},{"$f":"IF(O14=\"\",\"\",O14-'GDP (P)'!O2)","v":""},{"$f":"IF(P14=\"\",\"\",P14-'GDP (P)'!P2)","v":""},{"$f":"IF(Q14=\"\",\"\",Q14-'GDP (P)'!Q2)","v":""},{"$f":"IF(R14=\"\",\"\",R14-'GDP (P)'!R2)","v":""}]
[null,null,null,null,null,null,null,null,null,null,null,null,null,null,0.83192295813142747,0.97977215241353344,0.99786108220241798,0.99478190658252841]
[null,null,null,null,null,null,null,null,null,null,null,null,null,null,0.40142049462010387,2.7086690931395152,0.91698541475285489,0.89559485943419959]
[null,null,null,null,null,null,null,null,null,null,null,null,null,null,0,0,0,0]
[]
[null,{"$f":"Labels!F90","v":"Mapping from the P-side"}]
[null,{"$f":"Labels!F68","v":"  Private consumption"},null,null,null,null,null,null,null,null,null,null,null,null,{"$f":"IFERROR(SUMPRODUCT($C60:$C79,'GDP (P)'!O105:O124)/100,\"\")","v":0},{"$f":"IFERROR(SUMPRODUCT($C60:$C79,'GDP (P)'!P105:P124)/100,\"\")","v":0},{"$f":"IFERROR(SUMPRODUCT($C60:$C79,'GDP (P)'!Q105:Q124)/100,\"\")","v":0},{"$f":"IFERROR(SUMPRODUCT($C60:$C79,'GDP (P)'!R105:R124)/100,\"\")","v":0}]
[null,{"$f":"Labels!F72","v":"      Private Investment"},null,null,null,null,null,null,null,null,null,null,null,null,{"$f":"IFERROR(SUMPRODUCT($D60:$D79,'GDP (P)'!O105:O124)/100,\"\")","v":0},{"$f":"IFERROR(SUMPRODUCT($D60:$D79,'GDP (P)'!P105:P124)/100,\"\")","v":0},{"$f":"IFERROR(SUMPRODUCT($D60:$D79,'GDP (P)'!Q105:Q124)/100,\"\")","v":0},{"$f":"IFERROR(SUMPRODUCT($D60:$D79,'GDP (P)'!R105:R124)/100,\"\")","v":0}]
[null,{"$f":"Labels!F75","v":"Exports of goods and services"},null,null,null,null,null,null,null,null,null,null,null,null,{"$f":"IFERROR(SUMPRODUCT($E60:$E79,'GDP (P)'!O105:O124)/100,\"\")","v":0},{"$f":"IFERROR(SUMPRODUCT($E60:$E79,'GDP (P)'!P105:P124)/100,\"\")","v":0},{"$f":"IFERROR(SUMPRODUCT($E60:$E79,'GDP (P)'!Q105:Q124)/100,\"\")","v":0},{"$f":"IFERROR(SUMPRODUCT($E60:$E79,'GDP (P)'!R105:R124)/100,\"\")","v":0}]
[]
[]
[]
[null,{"$f":"Labels!F16","v":"GDP (E) Mapping"},{"$f":"Labels!F93","v":"CONS"},{"$f":"Labels!F94","v":"INV"},{"$f":"Labels!F95","v":"EXP"}]
[null,"Agriculture, forestry, and fishing"]
[null,"Mining & quarrying"]
[null,"Manufacturing"]
[null,"Electricity"]
[null,"Water & waste management"]
[null,"Construction"]
[null,"Maintenance and repair of motor vehicles"]
[null,"Wholesale & retail trade"]
[null,"Transport services"]
[null,"Hotels & restaurants"]
[null,"Information & communication"]
[null,"Financial services"]
[null,"Real estate activities"]
[null,"Professional, scientific and technical activities"]
[null,"Administrative and support service activities"]
[null,"Public administration and defence; compulsory social security"]
[null,"Education"]
[null,"Human health and social work activities"]
[null,"Cultural, domestic & other services"]
[null,"Taxes less subsidies on products"]
[null,"Total",{"$f":"SUM(C60:C79)","v":0},{"$f":"SUM(D60:D79)","v":0},0]

{"sheet":"Other Macro","index":14,"n_rows":12,"n_cols":18,"rows_kept":12,"cut":false,"hidden":false,"merged":[]}
[null,null,null,null,{"$f":"'GDP (P)'!E1","v":2012},{"$f":"'GDP (P)'!F1","v":2013},{"$f":"'GDP (P)'!G1","v":2014},{"$f":"'GDP (P)'!H1","v":2015},{"$f":"'GDP (P)'!I1","v":2016},{"$f":"'GDP (P)'!J1","v":2017},{"$f":"'GDP (P)'!K1","v":2018},{"$f":"'GDP (P)'!L1","v":2019},{"$f":"'GDP (P)'!M1","v":2020},{"$f":"'GDP (P)'!N1","v":2021},{"$f":"'GDP (P)'!O1","v":2022},{"$f":"'GDP (P)'!P1","v":2023},{"$f":"'GDP (P)'!Q1","v":2024},{"$f":"'GDP (P)'!R1","v":2025}]
[]
[]
[null,{"$f":"Labels!F96&'Setup File and Task Panel'!C4 &\")\"","v":"Nominal Exchange Rate (United States / Macrofiscalia)"},null,null,null,null,null,null,null,null,null,null,null,null,null,{"$f":"IFERROR(O4*(1+P12/100),\"\")","v":""},{"$f":"IFERROR(P4*(1+Q12/100),\"\")","v":""},{"$f":"IFERROR(Q4*(1+R12/100),\"\")","v":""}]
[null,{"$f":"Labels!F97","v":"Consumption deflator growth"}]
[null,{"$f":"Labels!F98","v":"Investment deflator growth"}]
[null,{"$f":"Labels!F99","v":"GDP deflator growth"}]
[]
[null,{"$f":"Labels!F100","v":"Change in employment, y-o-y, in %"},null,null,null,null,null,null,null,null,null,null,0,0,{"$f":"'PF - monthly estimates'!AE100/'PF - monthly estimates'!AE99*100-100","v":7.9243146563809006},{"$f":"'PF - monthly estimates'!AE101/'PF - monthly estimates'!AE100*100-100","v":8.0238261612393273},{"$f":"'PF - monthly estimates'!AE102/'PF - monthly estimates'!AE101*100-100","v":8.0193998745269113},{"$f":"'PF - monthly estimates'!AE103/'PF - monthly estimates'!AE102*100-100","v":8.0150718979775206}]
[]
[null,{"$f":"Labels!F101","v":"Growth in Nominal Exchange Rate"},null,null,{"$f":"IFERROR(E4/D4*100-100,\"\")","v":""},"","","","","","","","","","","","",{"$f":"IFERROR(R4/Q4*100-100,\"\")","v":""}]
[null,{"$f":"Labels!F102","v":"Average deflator less US CPI (for RER)"},null,null,{"$f":"IFERROR(AVERAGE(E5:E6)-1.5,\"\")","v":""},"","","","","","","","","","","","",{"$f":"IFERROR(AVERAGE(R5:R6)-1.5,\"\")","v":""}]

{"sheet":"REVENUE","index":15,"n_rows":78,"n_cols":18,"rows_kept":78,"cut":false,"hidden":false,"merged":[]}
[null,null,null,null,{"$f":"'GDP (P)'!E1","v":2012},{"$f":"'GDP (P)'!F1","v":2013},{"$f":"'GDP (P)'!G1","v":2014},{"$f":"'GDP (P)'!H1","v":2015},{"$f":"'GDP (P)'!I1","v":2016},{"$f":"'GDP (P)'!J1","v":2017},{"$f":"'GDP (P)'!K1","v":2018},{"$f":"'GDP (P)'!L1","v":2019},{"$f":"'GDP (P)'!M1","v":2020},{"$f":"'GDP (P)'!N1","v":2021},{"$f":"'GDP (P)'!O1","v":2022},{"$f":"'GDP (P)'!P1","v":2023},{"$f":"'GDP (P)'!Q1","v":2024},{"$f":"'GDP (P)'!R1","v":2025}]
[]
[]
[null,{"$f":"Labels!F103","v":"SCENARIO (2021 Budget)"}]
[null,{"$f":"Labels!F104","v":"Tax Revenue"},null,null,{"$f":"IF(E21<>\"\",E21,\"\")","v":""},0,0,0,0,0,0,0,0,0,{"$f":"O21","v":""},{"$f":"P21","v":""},{"$f":"Q21","v":""},{"$f":"R21","v":""}]
[null,{"$f":"Labels!F105","v":"Non-Tax Revenue"},null,null,{"$f":"IF(E35=\"\",\"\",E35)","v":{"$error":"#N/A"}},0,0,0,0,0,0,0,0,0,{"$f":"O35","v":0},{"$f":"P35","v":0},{"$f":"Q35","v":0},{"$f":"R35","v":0}]
[null,{"$f":"Labels!F106","v":"Grants"},null,null,{"$f":"IF(E39=\"\",\"\",E39)","v":{"$error":"#N/A"}},"","","","","","","","","",{"$f":"O39","v":0},{"$f":"P39","v":0},{"$f":"Q39","v":0},{"$f":"R39","v":0}]
[null,{"$f":"Labels!F107","v":"Total Revenue excl. Grants"},null,null,{"$f":"IF(E40=\"\",\"\",E40)","v":""},0,0,0,0,0,0,0,0,0,{"$f":"O40","v":""},"","",""]
[null,{"$f":"Labels!F108","v":"Total Revenue"},null,null,{"$f":"IF(E41=\"\",\"\",E41)","v":""},0,0,0,0,0,0,0,0,0,"","","",""]
[]
[null,{"$f":"Labels!F109","v":"BASELINE (2021 Budget)"}]
[null,{"$f":"Labels!F104","v":"Tax Revenue"},null,null,{"$f":"IF(E21=\"\",\"\",E21)","v":""},0,0,0,0,0,0,0,0,0]
[null,{"$f":"Labels!F105","v":"Non-Tax Revenue"},null,null,{"$f":"IF(E35=\"\",\"\",E35)","v":{"$error":"#N/A"}},0,0,0,0,0,0,0,0,0]
[null,{"$f":"Labels!F106","v":"Grants"},null,null,{"$f":"IF(E39=\"\",\"\",E39)","v":{"$error":"#N/A"}},"","","","","","","","",""]
[null,{"$f":"Labels!F107","v":"Total Revenue excl. Grants"},null,null,{"$f":"IF(E40=\"\",\"\",E40)","v":""},0,0,0,0,0,0,0,0,0,{"$f":"O16-O14","v":0},{"$f":"P16-P14","v":0},{"$f":"Q16-Q14","v":0},{"$f":"R16-R14","v":0}]
[null,{"$f":"Labels!F108","v":"Total Revenue"},null,null,{"$f":"IF(E41=\"\",\"\",E41)","v":""},0,0,0,0,0,0,0,0,0,{"$f":"O12+O13+O14","v":0},0,0,{"$f":"R12+R13+R14","v":0}]
[]
[null,null,null,null,null,null,null,null,null,null,null,null,null,null,{"$f":"+SUMIFS('Policy Responses'!O$3:O$50,'Policy Responses'!$B$3:$B$50,'Policy Responses'!$T$6)","v":0}]
[null,{"$f":"Labels!F110","v":"MODELLED"}]
[null,{"$f":"Labels!F111","v":"TOTAL REVENUE"},null,null,null,{"$f":"IFERROR(F21+F35+F39,\"\")","v":0},0,0,0,0,0,0,0,0,{"$f":"IFERROR(O21+O35+O39,\"\")","v":""},"","",{"$f":"IFERROR(R21+R35+R39,\"\")","v":""}]
[null,{"$f":"Labels!F112","v":"Tax revenues"},null,null,null,{"$f":"IFERROR(F22+F28+F31+F34,\"\")","v":0},0,0,0,0,0,0,0,0,{"$f":"IFERROR(O22+O28+O31+O34,\"\")","v":""},{"$f":"IFERROR(P22+P28+P31+P34,\"\")","v":""},{"$f":"IFERROR(Q22+Q28+Q31+Q34,\"\")","v":""},{"$f":"IFERROR(R22+R28+R31+R34,\"\")","v":""}]
[null,{"$f":"Labels!F113","v":"a.Income Tax"},null,null,null,{"$f":"IFERROR(F23+F26+F27,\"\")","v":0},0,0,0,0,0,0,0,0,{"$f":"IFERROR(O23+O26+O27,\"\")","v":""},{"$f":"IFERROR(P23+P26+P27,\"\")","v":""},{"$f":"IFERROR(Q23+Q26+Q27,\"\")","v":""},{"$f":"IFERROR(R23+R26+R27,\"\")","v":""}]
[null,{"$f":"Labels!F114","v":"Company tax"},null,{"$f":"NA()","v":{"$error":"#N/A"}},{"$f":"NA()","v":{"$error":"#N/A"}},null,null,null,null,null,null,null,null,null,{"$f":"IFERROR(O24+O25,\"\")","v":0},{"$f":"IFERROR(P24+P25,\"\")","v":0},0,0]
[null,{"$f":"Labels!F115","v":"o/w commodity based"},null,{"$f":"NA()","v":{"$error":"#N/A"}},{"$f":"NA()","v":{"$error":"#N/A"}},null,null,null,null,null,null,null,null,null,{"$f":"IFERROR(IF($D48=$B$77,O48*VLOOKUP($C48,$B$66:$R$71,COLUMN()-1,FALSE),IF($D48=$B$78,((O48*((VLOOKUP($C48,$B$66:$R$71,COLUMN()-1,FALSE)/VLOOKUP($C48,$B$66:$R$71,COLUMN()-2,FALSE)-1))+1)*N24)))+SUMIFS('Policy Responses'!O$3:O$50,'Policy Responses'!$B$3:$B$50,'Policy Responses'!$T$5),\"\")","v":0},{"$f":"IFERROR(IF($D48=$B$77,P48*VLOOKUP($C48,$B$66:$R$71,COLUMN()-1,FALSE),IF($D48=$B$78,((P48*((VLOOKUP($C48,$B$66:$R$71,COLUMN()-1,FALSE)/VLOOKUP($C48,$B$66:$R$71,COLUMN()-2,FALSE)-1))+1)*O24)))+SUMIFS('Policy Responses'!P$3:P$50,'Policy Responses'!$B$3:$B$50,'Policy Responses'!$T$5),\"\")","v":0},{"$f":"IFERROR(IF($D48=$B$77,Q48*VLOOKUP($C48,$B$66:$R$71,COLUMN()-1,FALSE),IF($D48=$B$78,((Q48*((VLOOKUP($C48,$B$66:$R$71,COLUMN()-1,FALSE)/VLOOKUP($C48,$B$66:$R$71,COLUMN()-2,FALSE)-1))+1)*P24)))+SUMIFS('Policy Responses'!Q$3:Q$50,'Policy Responses'!$B$3:$B$50,'Policy Responses'!$T$5),\"\")","v":0},{"$f":"IFERROR(IF($D48=$B$77,R48*VLOOKUP($C48,$B$66:$R$71,COLUMN()-1,FALSE),IF($D48=$B$78,((R48*((VLOOKUP($C48,$B$66:$R$71,COLUMN()-1,FALSE)/VLOOKUP($C48,$B$66:$R$71,COLUMN()-2,FALSE)-1))+1)*Q24)))+SUMIFS('Policy Responses'!R$3:R$50,'Policy Responses'!$B$3:$B$50,'Policy Responses'!$T$5),\"\")","v":0}]
[null,{"$f":"Labels!F116","v":"o/w non commodity based"},null,{"$f":"NA()","v":{"$error":"#N/A"}},{"$f":"NA()","v":{"$error":"#N/A"}},null,null,null,null,null,null,null,null,null,{"$f":"IFERROR(IF($D49=$B$77,O49*VLOOKUP($C49,$B$66:$R$71,COLUMN()-1,FALSE),IF($D49=$B$78,((O49*((VLOOKUP($C49,$B$66:$R$71,COLUMN()-1,FALSE)/VLOOKUP($C49,$B$66:$R$71,COLUMN()-2,FALSE)-1))+1)*N25)))+SUMIFS('Policy Responses'!O$3:O$50,'Policy Responses'!$B$3:$B$50,'Policy Responses'!$T$6),\"\")","v":0},{"$f":"IFERROR(IF($D49=$B$77,P49*VLOOKUP($C49,$B$66:$R$71,COLUMN()-1,FALSE),IF($D49=$B$78,((P49*((VLOOKUP($C49,$B$66:$R$71,COLUMN()-1,FALSE)/VLOOKUP($C49,$B$66:$R$71,COLUMN()-2,FALSE)-1))+1)*O25)))+SUMIFS('Policy Responses'!P$3:P$50,'Policy Responses'!$B$3:$B$50,'Policy Responses'!$T$6),\"\")","v":0},{"$f":"IFERROR(IF($D49=$B$77,Q49*VLOOKUP($C49,$B$66:$R$71,COLUMN()-1,FALSE),IF($D49=$B$78,((Q49*((VLOOKUP($C49,$B$66:$R$71,COLUMN()-1,FALSE)/VLOOKUP($C49,$B$66:$R$71,COLUMN()-2,FALSE)-1))+1)*P25)))+SUMIFS('Policy Responses'!Q$3:Q$50,'Policy Responses'!$B$3:$B$50,'Policy Responses'!$T$6),\"\")","v":0},{"$f":"IFERROR(IF($D49=$B$77,R49*VLOOKUP($C49,$B$66:$R$71,COLUMN()-1,FALSE),IF($D49=$B$78,((R49*((VLOOKUP($C49,$B$66:$R$71,COLUMN()-1,FALSE)/VLOOKUP($C49,$B$66:$R$71,COLUMN()-2,FALSE)-1))+1)*Q25)))+SUMIFS('Policy Responses'!R$3:R$50,'Policy Responses'!$B$3:$B$50,'Policy Responses'!$T$6),\"\")","v":0}]
[null,{"$f":"Labels!F117","v":"Individuals"},null,{"$f":"NA()","v":{"$error":"#N/A"}},{"$f":"NA()","v":{"$error":"#N/A"}},null,null,null,null,null,null,null,null,null,{"$f":"IFERROR(IF($D50=$B$77,O50*VLOOKUP($C50,$B$66:$R$71,COLUMN()-1,FALSE),IF($D50=$B$78,((O50*((VLOOKUP($C50,$B$66:$R$71,COLUMN()-1,FALSE)/VLOOKUP($C50,$B$66:$R$71,COLUMN()-2,FALSE)-1))+1)*N26)))+SUMIFS('Policy Responses'!O$3:O$50,'Policy Responses'!$B$3:$B$50,'Policy Responses'!$T$7),\"\")","v":""},{"$f":"IFERROR(IF($D50=$B$77,P50*VLOOKUP($C50,$B$66:$R$71,COLUMN()-1,FALSE),IF($D50=$B$78,((P50*((VLOOKUP($C50,$B$66:$R$71,COLUMN()-1,FALSE)/VLOOKUP($C50,$B$66:$R$71,COLUMN()-2,FALSE)-1))+1)*O26)))+SUMIFS('Policy Responses'!P$3:P$50,'Policy Responses'!$B$3:$B$50,'Policy Responses'!$T$7),\"\")","v":""},{"$f":"IFERROR(IF($D50=$B$77,Q50*VLOOKUP($C50,$B$66:$R$71,COLUMN()-1,FALSE),IF($D50=$B$78,((Q50*((VLOOKUP($C50,$B$66:$R$71,COLUMN()-1,FALSE)/VLOOKUP($C50,$B$66:$R$71,COLUMN()-2,FALSE)-1))+1)*P26)))+SUMIFS('Policy Responses'!Q$3:Q$50,'Policy Responses'!$B$3:$B$50,'Policy Responses'!$T$7),\"\")","v":""},{"$f":"IFERROR(IF($D50=$B$77,R50*VLOOKUP($C50,$B$66:$R$71,COLUMN()-1,FALSE),IF($D50=$B$78,((R50*((VLOOKUP($C50,$B$66:$R$71,COLUMN()-1,FALSE)/VLOOKUP($C50,$B$66:$R$71,COLUMN()-2,FALSE)-1))+1)*Q26)))+SUMIFS('Policy Responses'!R$3:R$50,'Policy Responses'!$B$3:$B$50,'Policy Responses'!$T$7),\"\")","v":""}]
[null,{"$f":"Labels!F118","v":" Other income tax"},null,{"$f":"NA()","v":{"$error":"#N/A"}},{"$f":"NA()","v":{"$error":"#N/A"}},null,null,null,null,null,null,null,null,null,{"$f":"IFERROR(IF($D51=$B$77,O51*VLOOKUP($C51,$B$66:$R$71,COLUMN()-1,FALSE),IF($D51=$B$78,((O51*((VLOOKUP($C51,$B$66:$R$71,COLUMN()-1,FALSE)/VLOOKUP($C51,$B$66:$R$71,COLUMN()-2,FALSE)-1))+1)*N27)))+SUMIFS('Policy Responses'!O$3:O$50,'Policy Responses'!$B$3:$B$50,'Policy Responses'!$T$8),\"\")","v":0},{"$f":"IFERROR(IF($D51=$B$77,P51*VLOOKUP($C51,$B$66:$R$71,COLUMN()-1,FALSE),IF($D51=$B$78,((P51*((VLOOKUP($C51,$B$66:$R$71,COLUMN()-1,FALSE)/VLOOKUP($C51,$B$66:$R$71,COLUMN()-2,FALSE)-1))+1)*O27)))+SUMIFS('Policy Responses'!P$3:P$50,'Policy Responses'!$B$3:$B$50,'Policy Responses'!$T$8),\"\")","v":0},{"$f":"IFERROR(IF($D51=$B$77,Q51*VLOOKUP($C51,$B$66:$R$71,COLUMN()-1,FALSE),IF($D51=$B$78,((Q51*((VLOOKUP($C51,$B$66:$R$71,COLUMN()-1,FALSE)/VLOOKUP($C51,$B$66:$R$71,COLUMN()-2,FALSE)-1))+1)*P27)))+SUMIFS('Policy Responses'!Q$3:Q$50,'Policy Responses'!$B$3:$B$50,'Policy Responses'!$T$8),\"\")","v":0},{"$f":"IFERROR(IF($D51=$B$77,R51*VLOOKUP($C51,$B$66:$R$71,COLUMN()-1,FALSE),IF($D51=$B$78,((R51*((VLOOKUP($C51,$B$66:$R$71,COLUMN()-1,FALSE)/VLOOKUP($C51,$B$66:$R$71,COLUMN()-2,FALSE)-1))+1)*Q27)))+SUMIFS('Policy Responses'!R$3:R$50,'Policy Responses'!$B$3:$B$50,'Policy Responses'!$T$8),\"\")","v":0}]
[null,{"$f":"Labels!F119","v":"b.Value Added Tax"},null,null,null,{"$f":"IFERROR(F29+F30,\"\")","v":0},0,0,0,0,0,0,0,0,{"$f":"IFERROR(O29+O30,\"\")","v":""},{"$f":"IFERROR(P29+P30,\"\")","v":""},"",""]
[null,{"$f":"Labels!F120","v":"o/w Domestic"},null,{"$f":"NA()","v":{"$error":"#N/A"}},{"$f":"NA()","v":{"$error":"#N/A"}},null,null,null,null,null,null,null,null,null,{"$f":"IFERROR(IF($D53=$B$77,O53*VLOOKUP($C53,$B$66:$R$71,COLUMN()-1,FALSE),IF($D53=$B$78,((O53*((VLOOKUP($C53,$B$66:$R$71,COLUMN()-1,FALSE)/VLOOKUP($C53,$B$66:$R$71,COLUMN()-2,FALSE)-1))+1)*N29)))+SUMIFS('Policy Responses'!O$3:O$50,'Policy Responses'!$B$3:$B$50,'Policy Responses'!$T$9),\"\")","v":""},{"$f":"IFERROR(IF($D53=$B$77,P53*VLOOKUP($C53,$B$66:$R$71,COLUMN()-1,FALSE),IF($D53=$B$78,((P53*((VLOOKUP($C53,$B$66:$R$71,COLUMN()-1,FALSE)/VLOOKUP($C53,$B$66:$R$71,COLUMN()-2,FALSE)-1))+1)*O29)))+SUMIFS('Policy Responses'!P$3:P$50,'Policy Responses'!$B$3:$B$50,'Policy Responses'!$T$9),\"\")","v":""},{"$f":"IFERROR(IF($D53=$B$77,Q53*VLOOKUP($C53,$B$66:$R$71,COLUMN()-1,FALSE),IF($D53=$B$78,((Q53*((VLOOKUP($C53,$B$66:$R$71,COLUMN()-1,FALSE)/VLOOKUP($C53,$B$66:$R$71,COLUMN()-2,FALSE)-1))+1)*P29)))+SUMIFS('Policy Responses'!Q$3:Q$50,'Policy Responses'!$B$3:$B$50,'Policy Responses'!$T$9),\"\")","v":""},{"$f":"IFERROR(IF($D53=$B$77,R53*VLOOKUP($C53,$B$66:$R$71,COLUMN()-1,FALSE),IF($D53=$B$78,((R53*((VLOOKUP($C53,$B$66:$R$71,COLUMN()-1,FALSE)/VLOOKUP($C53,$B$66:$R$71,COLUMN()-2,FALSE)-1))+1)*Q29)))+SUMIFS('Policy Responses'!R$3:R$50,'Policy Responses'!$B$3:$B$50,'Policy Responses'!$T$9),\"\")","v":""}]
[null,{"$f":"Labels!F121","v":"o/w Import-based"},null,{"$f":"NA()","v":{"$error":"#N/A"}},{"$f":"NA()","v":{"$error":"#N/A"}},null,null,null,null,null,null,null,null,null,{"$f":"IFERROR(IF($D54=$B$77,O54*VLOOKUP($C54,$B$66:$R$71,COLUMN()-1,FALSE),IF($D54=$B$78,((O54*((VLOOKUP($C54,$B$66:$R$71,COLUMN()-1,FALSE)/VLOOKUP($C54,$B$66:$R$71,COLUMN()-2,FALSE)-1))+1)*N30)))+SUMIFS('Policy Responses'!O$3:O$50,'Policy Responses'!$B$3:$B$50,'Policy Responses'!$T$10),\"\")","v":0},{"$f":"IFERROR(IF($D54=$B$77,P54*VLOOKUP($C54,$B$66:$R$71,COLUMN()-1,FALSE),IF($D54=$B$78,((P54*((VLOOKUP($C54,$B$66:$R$71,COLUMN()-1,FALSE)/VLOOKUP($C54,$B$66:$R$71,COLUMN()-2,FALSE)-1))+1)*O30)))+SUMIFS('Policy Responses'!P$3:P$50,'Policy Responses'!$B$3:$B$50,'Policy Responses'!$T$10),\"\")","v":0},{"$f":"IFERROR(IF($D54=$B$77,Q54*VLOOKUP($C54,$B$66:$R$71,COLUMN()-1,FALSE),IF($D54=$B$78,((Q54*((VLOOKUP($C54,$B$66:$R$71,COLUMN()-1,FALSE)/VLOOKUP($C54,$B$66:$R$71,COLUMN()-2,FALSE)-1))+1)*P30)))+SUMIFS('Policy Responses'!Q$3:Q$50,'Policy Responses'!$B$3:$B$50,'Policy Responses'!$T$10),\"\")","v":0},{"$f":"IFERROR(IF($D54=$B$77,R54*VLOOKUP($C54,$B$66:$R$71,COLUMN()-1,FALSE),IF($D54=$B$78,((R54*((VLOOKUP($C54,$B$66:$R$71,COLUMN()-1,FALSE)/VLOOKUP($C54,$B$66:$R$71,COLUMN()-2,FALSE)-1))+1)*Q30)))+SUMIFS('Policy Responses'!R$3:R$50,'Policy Responses'!$B$3:$B$50,'Policy Responses'!$T$10),\"\")","v":0}]
[null,{"$f":"Labels!F122","v":"c. Customs and Excise duty"},null,null,null,{"$f":"IFERROR(F32+F33,\"\")","v":0},0,0,0,0,0,0,0,0,{"$f":"IFERROR(O32+O33,\"\")","v":0},{"$f":"IFERROR(P32+P33,\"\")","v":0},0,0]
[null,{"$f":"Labels!F123","v":"o/w Customs duty"},null,{"$f":"NA()","v":{"$error":"#N/A"}},{"$f":"NA()","v":{"$error":"#N/A"}},null,null,null,null,null,null,null,null,null,{"$f":"IFERROR(IF($D56=$B$77,O56*VLOOKUP($C56,$B$66:$R$71,COLUMN()-1,FALSE),IF($D56=$B$78,((O56*((VLOOKUP($C56,$B$66:$R$71,COLUMN()-1,FALSE)/VLOOKUP($C56,$B$66:$R$71,COLUMN()-2,FALSE)-1))+1)*N32)))+SUMIFS('Policy Responses'!O$3:O$50,'Policy Responses'!$B$3:$B$50,'Policy Responses'!$T$11),\"\")","v":0},{"$f":"IFERROR(IF($D56=$B$77,P56*VLOOKUP($C56,$B$66:$R$71,COLUMN()-1,FALSE),IF($D56=$B$78,((P56*((VLOOKUP($C56,$B$66:$R$71,COLUMN()-1,FALSE)/VLOOKUP($C56,$B$66:$R$71,COLUMN()-2,FALSE)-1))+1)*O32)))+SUMIFS('Policy Responses'!P$3:P$50,'Policy Responses'!$B$3:$B$50,'Policy Responses'!$T$11),\"\")","v":0},{"$f":"IFERROR(IF($D56=$B$77,Q56*VLOOKUP($C56,$B$66:$R$71,COLUMN()-1,FALSE),IF($D56=$B$78,((Q56*((VLOOKUP($C56,$B$66:$R$71,COLUMN()-1,FALSE)/VLOOKUP($C56,$B$66:$R$71,COLUMN()-2,FALSE)-1))+1)*P32)))+SUMIFS('Policy Responses'!Q$3:Q$50,'Policy Responses'!$B$3:$B$50,'Policy Responses'!$T$11),\"\")","v":0},{"$f":"IFERROR(IF($D56=$B$77,R56*VLOOKUP($C56,$B$66:$R$71,COLUMN()-1,FALSE),IF($D56=$B$78,((R56*((VLOOKUP($C56,$B$66:$R$71,COLUMN()-1,FALSE)/VLOOKUP($C56,$B$66:$R$71,COLUMN()-2,FALSE)-1))+1)*Q32)))+SUMIFS('Policy Responses'!R$3:R$50,'Policy Responses'!$B$3:$B$50,'Policy Responses'!$T$11),\"\")","v":0}]
[null,{"$f":"Labels!F124","v":"o/w Excise duty"},null,{"$f":"NA()","v":{"$error":"#N/A"}},{"$f":"NA()","v":{"$error":"#N/A"}},null,null,null,null,null,null,null,null,null,{"$f":"IFERROR(IF($D57=$B$77,O57*VLOOKUP($C57,$B$66:$R$71,COLUMN()-1,FALSE),IF($D57=$B$78,((O57*((VLOOKUP($C57,$B$66:$R$71,COLUMN()-1,FALSE)/VLOOKUP($C57,$B$66:$R$71,COLUMN()-2,FALSE)-1))+1)*N33)))+SUMIFS('Policy Responses'!O$3:O$50,'Policy Responses'!$B$3:$B$50,'Policy Responses'!$T$12),\"\")","v":0},{"$f":"IFERROR(IF($D57=$B$77,P57*VLOOKUP($C57,$B$66:$R$71,COLUMN()-1,FALSE),IF($D57=$B$78,((P57*((VLOOKUP($C57,$B$66:$R$71,COLUMN()-1,FALSE)/VLOOKUP($C57,$B$66:$R$71,COLUMN()-2,FALSE)-1))+1)*O33)))+SUMIFS('Policy Responses'!P$3:P$50,'Policy Responses'!$B$3:$B$50,'Policy Responses'!$T$12),\"\")","v":0},{"$f":"IFERROR(IF($D57=$B$77,Q57*VLOOKUP($C57,$B$66:$R$71,COLUMN()-1,FALSE),IF($D57=$B$78,((Q57*((VLOOKUP($C57,$B$66:$R$71,COLUMN()-1,FALSE)/VLOOKUP($C57,$B$66:$R$71,COLUMN()-2,FALSE)-1))+1)*P33)))+SUMIFS('Policy Responses'!Q$3:Q$50,'Policy Responses'!$B$3:$B$50,'Policy Responses'!$T$12),\"\")","v":0},{"$f":"IFERROR(IF($D57=$B$77,R57*VLOOKUP($C57,$B$66:$R$71,COLUMN()-1,FALSE),IF($D57=$B$78,((R57*((VLOOKUP($C57,$B$66:$R$71,COLUMN()-1,FALSE)/VLOOKUP($C57,$B$66:$R$71,COLUMN()-2,FALSE)-1))+1)*Q33)))+SUMIFS('Policy Responses'!R$3:R$50,'Policy Responses'!$B$3:$B$50,'Policy Responses'!$T$12),\"\")","v":0}]
[null,{"$f":"Labels!F125","v":"d. Other Taxes"},null,{"$f":"NA()","v":{"$error":"#N/A"}},{"$f":"NA()","v":{"$error":"#N/A"}},null,null,null,null,null,null,null,null,null,{"$f":"IFERROR(IF($D58=$B$77,O58*VLOOKUP($C58,$B$66:$R$71,COLUMN()-1,FALSE),IF($D58=$B$78,((O58*((VLOOKUP($C58,$B$66:$R$71,COLUMN()-1,FALSE)/VLOOKUP($C58,$B$66:$R$71,COLUMN()-2,FALSE)-1))+1)*N34)))+SUMIFS('Policy Responses'!O$3:O$50,'Policy Responses'!$B$3:$B$50,'Policy Responses'!$T$13),\"\")","v":0},{"$f":"IFERROR(IF($D58=$B$77,P58*VLOOKUP($C58,$B$66:$R$71,COLUMN()-1,FALSE),IF($D58=$B$78,((P58*((VLOOKUP($C58,$B$66:$R$71,COLUMN()-1,FALSE)/VLOOKUP($C58,$B$66:$R$71,COLUMN()-2,FALSE)-1))+1)*O34)))+SUMIFS('Policy Responses'!P$3:P$50,'Policy Responses'!$B$3:$B$50,'Policy Responses'!$T$13),\"\")","v":0},{"$f":"IFERROR(IF($D58=$B$77,Q58*VLOOKUP($C58,$B$66:$R$71,COLUMN()-1,FALSE),IF($D58=$B$78,((Q58*((VLOOKUP($C58,$B$66:$R$71,COLUMN()-1,FALSE)/VLOOKUP($C58,$B$66:$R$71,COLUMN()-2,FALSE)-1))+1)*P34)))+SUMIFS('Policy Responses'!Q$3:Q$50,'Policy Responses'!$B$3:$B$50,'Policy Responses'!$T$13),\"\")","v":0},{"$f":"IFERROR(IF($D58=$B$77,R58*VLOOKUP($C58,$B$66:$R$71,COLUMN()-1,FALSE),IF($D58=$B$78,((R58*((VLOOKUP($C58,$B$66:$R$71,COLUMN()-1,FALSE)/VLOOKUP($C58,$B$66:$R$71,COLUMN()-2,FALSE)-1))+1)*Q34)))+SUMIFS('Policy Responses'!R$3:R$50,'Policy Responses'!$B$3:$B$50,'Policy Responses'!$T$13),\"\")","v":0}]
[null,{"$f":"Labels!F126","v":"Non-Tax Revenue"},null,{"$f":"NA()","v":{"$error":"#N/A"}},{"$f":"NA()","v":{"$error":"#N/A"}},{"$f":"IFERROR(F36+F37+F38,\"\")","v":0},0,0,0,0,0,0,0,0,{"$f":"IFERROR(O36+O37+O38,\"\")","v":0},{"$f":"IFERROR(P36+P37+P38,\"\")","v":0},0,0]
[null,{"$f":"Labels!F127","v":"o/w non-commodity based"},null,{"$f":"NA()","v":{"$error":"#N/A"}},{"$f":"NA()","v":{"$error":"#N/A"}},null,null,null,null,null,null,null,null,null,{"$f":"IFERROR(IF($D60=$B$77,O60*VLOOKUP($C60,$B$66:$R$71,COLUMN()-1,FALSE),IF($D60=$B$78,((O60*((VLOOKUP($C60,$B$66:$R$71,COLUMN()-1,FALSE)/VLOOKUP($C60,$B$66:$R$71,COLUMN()-2,FALSE)-1))+1)*N36)))+SUMIFS('Policy Responses'!O$3:O$50,'Policy Responses'!$B$3:$B$50,'Policy Responses'!$T$14),\"\")","v":0},{"$f":"IFERROR(IF($D60=$B$77,P60*VLOOKUP($C60,$B$66:$R$71,COLUMN()-1,FALSE),IF($D60=$B$78,((P60*((VLOOKUP($C60,$B$66:$R$71,COLUMN()-1,FALSE)/VLOOKUP($C60,$B$66:$R$71,COLUMN()-2,FALSE)-1))+1)*O36)))+SUMIFS('Policy Responses'!P$3:P$50,'Policy Responses'!$B$3:$B$50,'Policy Responses'!$T$14),\"\")","v":0},{"$f":"IFERROR(IF($D60=$B$77,Q60*VLOOKUP($C60,$B$66:$R$71,COLUMN()-1,FALSE),IF($D60=$B$78,((Q60*((VLOOKUP($C60,$B$66:$R$71,COLUMN()-1,FALSE)/VLOOKUP($C60,$B$66:$R$71,COLUMN()-2,FALSE)-1))+1)*P36)))+SUMIFS('Policy Responses'!Q$3:Q$50,'Policy Responses'!$B$3:$B$50,'Policy Responses'!$T$14),\"\")","v":0},{"$f":"IFERROR(IF($D60=$B$77,R60*VLOOKUP($C60,$B$66:$R$71,COLUMN()-1,FALSE),IF($D60=$B$78,((R60*((VLOOKUP($C60,$B$66:$R$71,COLUMN()-1,FALSE)/VLOOKUP($C60,$B$66:$R$71,COLUMN()-2,FALSE)-1))+1)*Q36)))+SUMIFS('Policy Responses'!R$3:R$50,'Policy Responses'!$B$3:$B$50,'Policy Responses'!$T$14),\"\")","v":0}]
[null,{"$f":"Labels!F128","v":"o/w commodity based"},null,{"$f":"NA()","v":{"$error":"#N/A"}},{"$f":"NA()","v":{"$error":"#N/A"}},null,null,null,null,null,null,null,null,null,{"$f":"IFERROR(IF($D61=$B$77,O61*VLOOKUP($C61,$B$66:$R$71,COLUMN()-1,FALSE),IF($D61=$B$78,((O61*((VLOOKUP($C61,$B$66:$R$71,COLUMN()-1,FALSE)/VLOOKUP($C61,$B$66:$R$71,COLUMN()-2,FALSE)-1))+1)*N37)))+SUMIFS('Policy Responses'!O$3:O$50,'Policy Responses'!$B$3:$B$50,'Policy Responses'!$T$15),\"\")","v":0},{"$f":"IFERROR(IF($D61=$B$77,P61*VLOOKUP($C61,$B$66:$R$71,COLUMN()-1,FALSE),IF($D61=$B$78,((P61*((VLOOKUP($C61,$B$66:$R$71,COLUMN()-1,FALSE)/VLOOKUP($C61,$B$66:$R$71,COLUMN()-2,FALSE)-1))+1)*O37)))+SUMIFS('Policy Responses'!P$3:P$50,'Policy Responses'!$B$3:$B$50,'Policy Responses'!$T$15),\"\")","v":0},{"$f":"IFERROR(IF($D61=$B$77,Q61*VLOOKUP($C61,$B$66:$R$71,COLUMN()-1,FALSE),IF($D61=$B$78,((Q61*((VLOOKUP($C61,$B$66:$R$71,COLUMN()-1,FALSE)/VLOOKUP($C61,$B$66:$R$71,COLUMN()-2,FALSE)-1))+1)*P37)))+SUMIFS('Policy Responses'!Q$3:Q$50,'Policy Responses'!$B$3:$B$50,'Policy Responses'!$T$15),\"\")","v":0},{"$f":"IFERROR(IF($D61=$B$77,R61*VLOOKUP($C61,$B$66:$R$71,COLUMN()-1,FALSE),IF($D61=$B$78,((R61*((VLOOKUP($C61,$B$66:$R$71,COLUMN()-1,FALSE)/VLOOKUP($C61,$B$66:$R$71,COLUMN()-2,FALSE)-1))+1)*Q37)))+SUMIFS('Policy Responses'!R$3:R$50,'Policy Responses'!$B$3:$B$50,'Policy Responses'!$T$15),\"\")","v":0}]
[null,{"$f":"Labels!F129","v":"o/w Other revenues (special)"},null,{"$f":"NA()","v":{"$error":"#N/A"}},{"$f":"NA()","v":{"$error":"#N/A"}},null,null,null,null,null,null,null,null,null,{"$f":"IFERROR(IF($D62=$B$77,O62*VLOOKUP($C62,$B$66:$R$71,COLUMN()-1,FALSE),IF($D62=$B$78,((O62*((VLOOKUP($C62,$B$66:$R$71,COLUMN()-1,FALSE)/VLOOKUP($C62,$B$66:$R$71,COLUMN()-2,FALSE)-1))+1)*N38)))+SUMIFS('Policy Responses'!O$3:O$50,'Policy Responses'!$B$3:$B$50,'Policy Responses'!$T$16),\"\")","v":0},{"$f":"IFERROR(IF($D62=$B$77,P62*VLOOKUP($C62,$B$66:$R$71,COLUMN()-1,FALSE),IF($D62=$B$78,((P62*((VLOOKUP($C62,$B$66:$R$71,COLUMN()-1,FALSE)/VLOOKUP($C62,$B$66:$R$71,COLUMN()-2,FALSE)-1))+1)*O38)))+SUMIFS('Policy Responses'!P$3:P$50,'Policy Responses'!$B$3:$B$50,'Policy Responses'!$T$16),\"\")","v":0},{"$f":"IFERROR(IF($D62=$B$77,Q62*VLOOKUP($C62,$B$66:$R$71,COLUMN()-1,FALSE),IF($D62=$B$78,((Q62*((VLOOKUP($C62,$B$66:$R$71,COLUMN()-1,FALSE)/VLOOKUP($C62,$B$66:$R$71,COLUMN()-2,FALSE)-1))+1)*P38)))+SUMIFS('Policy Responses'!Q$3:Q$50,'Policy Responses'!$B$3:$B$50,'Policy Responses'!$T$16),\"\")","v":0},{"$f":"IFERROR(IF($D62=$B$77,R62*VLOOKUP($C62,$B$66:$R$71,COLUMN()-1,FALSE),IF($D62=$B$78,((R62*((VLOOKUP($C62,$B$66:$R$71,COLUMN()-1,FALSE)/VLOOKUP($C62,$B$66:$R$71,COLUMN()-2,FALSE)-1))+1)*Q38)))+SUMIFS('Policy Responses'!R$3:R$50,'Policy Responses'!$B$3:$B$50,'Policy Responses'!$T$16),\"\")","v":0}]
[0,{"$f":"Labels!F130","v":"Grants"},null,{"$f":"NA()","v":{"$error":"#N/A"}},{"$f":"NA()","v":{"$error":"#N/A"}}]
[null,{"$f":"Labels!F131","v":"Total revenue excl. grants"},null,null,null,{"$f":"IFERROR(F35+F21,\"\")","v":0},0,0,0,0,0,0,0,0,{"$f":"IFERROR(O35+O21,\"\")","v":""},"","",""]
[null,{"$f":"Labels!F132","v":"Total revenue incl. grants"},null,null,{"$f":"IFERROR(E40+E39,\"\")","v":""},0,0,0,0,0,0,0,0,0,{"$f":"IFERROR(O40+O39,\"\")","v":""},{"$f":"IFERROR(P40+P39,\"\")","v":""},{"$f":"IFERROR(Q40+Q39,\"\")","v":""},{"$f":"IFERROR(R40+R39,\"\")","v":""}]
[]
[]
[]
[null,"EFFECTIVE TAX RATES OR BUOYANCIES"]
[null,{"$f":"B22","v":"a.Income Tax"}]
[null,{"$f":"B23","v":"Company tax"}]
[null,{"$f":"B24","v":"o/w commodity based"},"GDP at current prices","ETR",{"$f":"IFERROR(IF(ISNA(IF($D48=$B$77,(E24/VLOOKUP($C48,$B$66:$R$71,COLUMN()-1)),IF($D48=$B$78,(E24/D24)/(VLOOKUP($C48,$B$66:E$71,COLUMN()-1,FALSE)/VLOOKUP($C48,$B$66:E$71,COLUMN()-2,FALSE))))),\"\",IF($D48=$B$77,(E24/VLOOKUP($C48,$B$66:$R$71,COLUMN()-1)),IF($D48=$B$78,(E24/D24)/(VLOOKUP($C48,$B$66:E$71,COLUMN()-1,FALSE)/VLOOKUP($C48,$B$66:E$71,COLUMN()-2,FALSE))))),\"\")","v":""},{"$f":"IFERROR(IF(ISNA(IF($D48=$B$77,(F24/VLOOKUP($C48,$B$66:$R$71,COLUMN()-1)),IF($D48=$B$78,(F24/E24)/(VLOOKUP($C48,$B$66:F$71,COLUMN()-1,FALSE)/VLOOKUP($C48,$B$66:F$71,COLUMN()-2,FALSE))))),\"\",IF($D48=$B$77,(F24/VLOOKUP($C48,$B$66:$R$71,COLUMN()-1)),IF($D48=$B$78,(F24/E24)/(VLOOKUP($C48,$B$66:F$71,COLUMN()-1,FALSE)/VLOOKUP($C48,$B$66:F$71,COLUMN()-2,FALSE))))),\"\")","v":""},{"$f":"IFERROR(IF(ISNA(IF($D48=$B$77,(G24/VLOOKUP($C48,$B$66:$R$71,COLUMN()-1)),IF($D48=$B$78,(G24/F24)/(VLOOKUP($C48,$B$66:G$71,COLUMN()-1,FALSE)/VLOOKUP($C48,$B$66:G$71,COLUMN()-2,FALSE))))),\"\",IF($D48=$B$77,(G24/VLOOKUP($C48,$B$66:$R$71,COLUMN()-1)),IF($D48=$B$78,(G24/F24)/(VLOOKUP($C48,$B$66:G$71,COLUMN()-1,FALSE)/VLOOKUP($C48,$B$66:G$71,COLUMN()-2,FALSE))))),\"\")","v":""},{"$f":"IFERROR(IF(ISNA(IF($D48=$B$77,(H24/VLOOKUP($C48,$B$66:$R$71,COLUMN()-1)),IF($D48=$B$78,(H24/G24)/(VLOOKUP($C48,$B$66:H$71,COLUMN()-1,FALSE)/VLOOKUP($C48,$B$66:H$71,COLUMN()-2,FALSE))))),\"\",IF($D48=$B$77,(H24/VLOOKUP($C48,$B$66:$R$71,COLUMN()-1)),IF($D48=$B$78,(H24/G24)/(VLOOKUP($C48,$B$66:H$71,COLUMN()-1,FALSE)/VLOOKUP($C48,$B$66:H$71,COLUMN()-2,FALSE))))),\"\")","v":""},{"$f":"IFERROR(IF(ISNA(IF($D48=$B$77,(I24/VLOOKUP($C48,$B$66:$R$71,COLUMN()-1)),IF($D48=$B$78,(I24/H24)/(VLOOKUP($C48,$B$66:I$71,COLUMN()-1,FALSE)/VLOOKUP($C48,$B$66:I$71,COLUMN()-2,FALSE))))),\"\",IF($D48=$B$77,(I24/VLOOKUP($C48,$B$66:$R$71,COLUMN()-1)),IF($D48=$B$78,(I24/H24)/(VLOOKUP($C48,$B$66:I$71,COLUMN()-1,FALSE)/VLOOKUP($C48,$B$66:I$71,COLUMN()-2,FALSE))))),\"\")","v":""},{"$f":"IFERROR(IF(ISNA(IF($D48=$B$77,(J24/VLOOKUP($C48,$B$66:$R$71,COLUMN()-1)),IF($D48=$B$78,(J24/I24)/(VLOOKUP($C48,$B$66:J$71,COLUMN()-1,FALSE)/VLOOKUP($C48,$B$66:J$71,COLUMN()-2,FALSE))))),\"\",IF($D48=$B$77,(J24/VLOOKUP($C48,$B$66:$R$71,COLUMN()-1)),IF($D48=$B$78,(J24/I24)/(VLOOKUP($C48,$B$66:J$71,COLUMN()-1,FALSE)/VLOOKUP($C48,$B$66:J$71,COLUMN()-2,FALSE))))),\"\")","v":""},{"$f":"IFERROR(IF(ISNA(IF($D48=$B$77,(K24/VLOOKUP($C48,$B$66:$R$71,COLUMN()-1)),IF($D48=$B$78,(K24/J24)/(VLOOKUP($C48,$B$66:K$71,COLUMN()-1,FALSE)/VLOOKUP($C48,$B$66:K$71,COLUMN()-2,FALSE))))),\"\",IF($D48=$B$77,(K24/VLOOKUP($C48,$B$66:$R$71,COLUMN()-1)),IF($D48=$B$78,(K24/J24)/(VLOOKUP($C48,$B$66:K$71,COLUMN()-1,FALSE)/VLOOKUP($C48,$B$66:K$71,COLUMN()-2,FALSE))))),\"\")","v":""},{"$f":"IFERROR(IF(ISNA(IF($D48=$B$77,(L24/VLOOKUP($C48,$B$66:$R$71,COLUMN()-1)),IF($D48=$B$78,(L24/K24)/(VLOOKUP($C48,$B$66:L$71,COLUMN()-1,FALSE)/VLOOKUP($C48,$B$66:L$71,COLUMN()-2,FALSE))))),\"\",IF($D48=$B$77,(L24/VLOOKUP($C48,$B$66:$R$71,COLUMN()-1,FALSE)),IF($D48=$B$78,(L24/K24)/(VLOOKUP($C48,$B$66:L$71,COLUMN()-1,FALSE)/VLOOKUP($C48,$B$66:L$71,COLUMN()-2,FALSE))))),\"\")","v":""},{"$f":"IFERROR(IF(ISNA(IF($D48=$B$77,(M24/VLOOKUP($C48,$B$66:$R$71,COLUMN()-1)),IF($D48=$B$78,(M24/L24)/(VLOOKUP($C48,$B$66:M$71,COLUMN()-1,FALSE)/VLOOKUP($C48,$B$66:M$71,COLUMN()-2,FALSE))))),\"\",IF($D48=$B$77,(M24/VLOOKUP($C48,$B$66:$R$71,COLUMN()-1,FALSE)),IF($D48=$B$78,(M24/L24)/(VLOOKUP($C48,$B$66:M$71,COLUMN()-1,FALSE)/VLOOKUP($C48,$B$66:M$71,COLUMN()-2,FALSE))))),\"\")","v":""},{"$f":"IFERROR(IF(ISNA(IF($D48=$B$77,(N24/VLOOKUP($C48,$B$66:$R$71,COLUMN()-1)),IF($D48=$B$78,(N24/M24)/(VLOOKUP($C48,$B$66:N$71,COLUMN()-1,FALSE)/VLOOKUP($C48,$B$66:N$71,COLUMN()-2,FALSE))))),\"\",IF($D48=$B$77,(N24/VLOOKUP($C48,$B$66:$R$71,COLUMN()-1,FALSE)),IF($D48=$B$78,(N24/M24)/(VLOOKUP($C48,$B$66:N$71,COLUMN()-1,FALSE)/VLOOKUP($C48,$B$66:N$71,COLUMN()-2,FALSE))))),\"\")","v":""},{"$f":"IF(N48=\"\",0,IFERROR(AVERAGE(M48:N48),\"\"))","v":0},{"$f":"IFERROR(O48,0)","v":0},{"$f":"P48","v":0},0]
[null,"o/w non commodity based","GDP at current prices","ETR",{"$f":"IFERROR(IF(ISNA(IF($D49=$B$77,(E25/VLOOKUP($C49,$B$66:$R$71,COLUMN()-1)),IF($D49=$B$78,(E25/D25)/(VLOOKUP($C49,$B$66:E$71,COLUMN()-1,FALSE)/VLOOKUP($C49,$B$66:E$71,COLUMN()-2,FALSE))))),\"\",IF($D49=$B$77,(E25/VLOOKUP($C49,$B$66:$R$71,COLUMN()-1)),IF($D49=$B$78,(E25/D25)/(VLOOKUP($C49,$B$66:E$71,COLUMN()-1,FALSE)/VLOOKUP($C49,$B$66:E$71,COLUMN()-2,FALSE))))),\"\")","v":""},{"$f":"IFERROR(IF(ISNA(IF($D49=$B$77,(F25/VLOOKUP($C49,$B$66:$R$71,COLUMN()-1)),IF($D49=$B$78,(F25/E25)/(VLOOKUP($C49,$B$66:F$71,COLUMN()-1,FALSE)/VLOOKUP($C49,$B$66:F$71,COLUMN()-2,FALSE))))),\"\",IF($D49=$B$77,(F25/VLOOKUP($C49,$B$66:$R$71,COLUMN()-1)),IF($D49=$B$78,(F25/E25)/(VLOOKUP($C49,$B$66:F$71,COLUMN()-1,FALSE)/VLOOKUP($C49,$B$66:F$71,COLUMN()-2,FALSE))))),\"\")","v":""},{"$f":"IFERROR(IF(ISNA(IF($D49=$B$77,(G25/VLOOKUP($C49,$B$66:$R$71,COLUMN()-1)),IF($D49=$B$78,(G25/F25)/(VLOOKUP($C49,$B$66:G$71,COLUMN()-1,FALSE)/VLOOKUP($C49,$B$66:G$71,COLUMN()-2,FALSE))))),\"\",IF($D49=$B$77,(G25/VLOOKUP($C49,$B$66:$R$71,COLUMN()-1)),IF($D49=$B$78,(G25/F25)/(VLOOKUP($C49,$B$66:G$71,COLUMN()-1,FALSE)/VLOOKUP($C49,$B$66:G$71,COLUMN()-2,FALSE))))),\"\")","v":""},{"$f":"IFERROR(IF(ISNA(IF($D49=$B$77,(H25/VLOOKUP($C49,$B$66:$R$71,COLUMN()-1)),IF($D49=$B$78,(H25/G25)/(VLOOKUP($C49,$B$66:H$71,COLUMN()-1,FALSE)/VLOOKUP($C49,$B$66:H$71,COLUMN()-2,FALSE))))),\"\",IF($D49=$B$77,(H25/VLOOKUP($C49,$B$66:$R$71,COLUMN()-1)),IF($D49=$B$78,(H25/G25)/(VLOOKUP($C49,$B$66:H$71,COLUMN()-1,FALSE)/VLOOKUP($C49,$B$66:H$71,COLUMN()-2,FALSE))))),\"\")","v":""},{"$f":"IFERROR(IF(ISNA(IF($D49=$B$77,(I25/VLOOKUP($C49,$B$66:$R$71,COLUMN()-1)),IF($D49=$B$78,(I25/H25)/(VLOOKUP($C49,$B$66:I$71,COLUMN()-1,FALSE)/VLOOKUP($C49,$B$66:I$71,COLUMN()-2,FALSE))))),\"\",IF($D49=$B$77,(I25/VLOOKUP($C49,$B$66:$R$71,COLUMN()-1)),IF($D49=$B$78,(I25/H25)/(VLOOKUP($C49,$B$66:I$71,COLUMN()-1,FALSE)/VLOOKUP($C49,$B$66:I$71,COLUMN()-2,FALSE))))),\"\")","v":""},{"$f":"IFERROR(IF(ISNA(IF($D49=$B$77,(J25/VLOOKUP($C49,$B$66:$R$71,COLUMN()-1)),IF($D49=$B$78,(J25/I25)/(VLOOKUP($C49,$B$66:J$71,COLUMN()-1,FALSE)/VLOOKUP($C49,$B$66:J$71,COLUMN()-2,FALSE))))),\"\",IF($D49=$B$77,(J25/VLOOKUP($C49,$B$66:$R$71,COLUMN()-1)),IF($D49=$B$78,(J25/I25)/(VLOOKUP($C49,$B$66:J$71,COLUMN()-1,FALSE)/VLOOKUP($C49,$B$66:J$71,COLUMN()-2,FALSE))))),\"\")","v":""},{"$f":"IFERROR(IF(ISNA(IF($D49=$B$77,(K25/VLOOKUP($C49,$B$66:$R$71,COLUMN()-1)),IF($D49=$B$78,(K25/J25)/(VLOOKUP($C49,$B$66:K$71,COLUMN()-1,FALSE)/VLOOKUP($C49,$B$66:K$71,COLUMN()-2,FALSE))))),\"\",IF($D49=$B$77,(K25/VLOOKUP($C49,$B$66:$R$71,COLUMN()-1)),IF($D49=$B$78,(K25/J25)/(VLOOKUP($C49,$B$66:K$71,COLUMN()-1,FALSE)/VLOOKUP($C49,$B$66:K$71,COLUMN()-2,FALSE))))),\"\")","v":""},{"$f":"IFERROR(IF(ISNA(IF($D49=$B$77,(L25/VLOOKUP($C49,$B$66:$R$71,COLUMN()-1)),IF($D49=$B$78,(L25/K25)/(VLOOKUP($C49,$B$66:L$71,COLUMN()-1,FALSE)/VLOOKUP($C49,$B$66:L$71,COLUMN()-2,FALSE))))),\"\",IF($D49=$B$77,(L25/VLOOKUP($C49,$B$66:$R$71,COLUMN()-1,FALSE)),IF($D49=$B$78,(L25/K25)/(VLOOKUP($C49,$B$66:L$71,COLUMN()-1,FALSE)/VLOOKUP($C49,$B$66:L$71,COLUMN()-2,FALSE))))),\"\")","v":""},{"$f":"IFERROR(IF(ISNA(IF($D49=$B$77,(M25/VLOOKUP($C49,$B$66:$R$71,COLUMN()-1)),IF($D49=$B$78,(M25/L25)/(VLOOKUP($C49,$B$66:M$71,COLUMN()-1,FALSE)/VLOOKUP($C49,$B$66:M$71,COLUMN()-2,FALSE))))),\"\",IF($D49=$B$77,(M25/VLOOKUP($C49,$B$66:$R$71,COLUMN()-1,FALSE)),IF($D49=$B$78,(M25/L25)/(VLOOKUP($C49,$B$66:M$71,COLUMN()-1,FALSE)/VLOOKUP($C49,$B$66:M$71,COLUMN()-2,FALSE))))),\"\")","v":""},{"$f":"IFERROR(IF(ISNA(IF($D49=$B$77,(N25/VLOOKUP($C49,$B$66:$R$71,COLUMN()-1)),IF($D49=$B$78,(N25/M25)/(VLOOKUP($C49,$B$66:N$71,COLUMN()-1,FALSE)/VLOOKUP($C49,$B$66:N$71,COLUMN()-2,FALSE))))),\"\",IF($D49=$B$77,(N25/VLOOKUP($C49,$B$66:$R$71,COLUMN()-1,FALSE)),IF($D49=$B$78,(N25/M25)/(VLOOKUP($C49,$B$66:N$71,COLUMN()-1,FALSE)/VLOOKUP($C49,$B$66:N$71,COLUMN()-2,FALSE))))),\"\")","v":""},{"$f":"IF(N49=\"\",0,IFERROR(AVERAGE(M49:N49),\"\"))","v":0},{"$f":"IFERROR(O49,0)","v":0},0,0]
[null,"Individuals","GDP at current prices","Buoyancy",{"$f":"IFERROR(IF(ISNA(IF($D50=$B$77,(E26/VLOOKUP($C50,$B$66:$R$71,COLUMN()-1)),IF($D50=$B$78,(E26/D26)/(VLOOKUP($C50,$B$66:E$71,COLUMN()-1,FALSE)/VLOOKUP($C50,$B$66:E$71,COLUMN()-2,FALSE))))),\"\",IF($D50=$B$77,(E26/VLOOKUP($C50,$B$66:$R$71,COLUMN()-1)),IF($D50=$B$78,(E26/D26)/(VLOOKUP($C50,$B$66:E$71,COLUMN()-1,FALSE)/VLOOKUP($C50,$B$66:E$71,COLUMN()-2,FALSE))))),\"\")","v":""},{"$f":"IFERROR(IF(ISNA(IF($D50=$B$77,(F26/VLOOKUP($C50,$B$66:$R$71,COLUMN()-1)),IF($D50=$B$78,(F26/E26)/(VLOOKUP($C50,$B$66:F$71,COLUMN()-1,FALSE)/VLOOKUP($C50,$B$66:F$71,COLUMN()-2,FALSE))))),\"\",IF($D50=$B$77,(F26/VLOOKUP($C50,$B$66:$R$71,COLUMN()-1)),IF($D50=$B$78,(F26/E26)/(VLOOKUP($C50,$B$66:F$71,COLUMN()-1,FALSE)/VLOOKUP($C50,$B$66:F$71,COLUMN()-2,FALSE))))),\"\")","v":""},{"$f":"IFERROR(IF(ISNA(IF($D50=$B$77,(G26/VLOOKUP($C50,$B$66:$R$71,COLUMN()-1)),IF($D50=$B$78,(G26/F26)/(VLOOKUP($C50,$B$66:G$71,COLUMN()-1,FALSE)/VLOOKUP($C50,$B$66:G$71,COLUMN()-2,FALSE))))),\"\",IF($D50=$B$77,(G26/VLOOKUP($C50,$B$66:$R$71,COLUMN()-1)),IF($D50=$B$78,(G26/F26)/(VLOOKUP($C50,$B$66:G$71,COLUMN()-1,FALSE)/VLOOKUP($C50,$B$66:G$71,COLUMN()-2,FALSE))))),\"\")","v":""},{"$f":"IFERROR(IF(ISNA(IF($D50=$B$77,(H26/VLOOKUP($C50,$B$66:$R$71,COLUMN()-1)),IF($D50=$B$78,(H26/G26)/(VLOOKUP($C50,$B$66:H$71,COLUMN()-1,FALSE)/VLOOKUP($C50,$B$66:H$71,COLUMN()-2,FALSE))))),\"\",IF($D50=$B$77,(H26/VLOOKUP($C50,$B$66:$R$71,COLUMN()-1)),IF($D50=$B$78,(H26/G26)/(VLOOKUP($C50,$B$66:H$71,COLUMN()-1,FALSE)/VLOOKUP($C50,$B$66:H$71,COLUMN()-2,FALSE))))),\"\")","v":""},{"$f":"IFERROR(IF(ISNA(IF($D50=$B$77,(I26/VLOOKUP($C50,$B$66:$R$71,COLUMN()-1)),IF($D50=$B$78,(I26/H26)/(VLOOKUP($C50,$B$66:I$71,COLUMN()-1,FALSE)/VLOOKUP($C50,$B$66:I$71,COLUMN()-2,FALSE))))),\"\",IF($D50=$B$77,(I26/VLOOKUP($C50,$B$66:$R$71,COLUMN()-1)),IF($D50=$B$78,(I26/H26)/(VLOOKUP($C50,$B$66:I$71,COLUMN()-1,FALSE)/VLOOKUP($C50,$B$66:I$71,COLUMN()-2,FALSE))))),\"\")","v":""},{"$f":"IFERROR(IF(ISNA(IF($D50=$B$77,(J26/VLOOKUP($C50,$B$66:$R$71,COLUMN()-1)),IF($D50=$B$78,(J26/I26)/(VLOOKUP($C50,$B$66:J$71,COLUMN()-1,FALSE)/VLOOKUP($C50,$B$66:J$71,COLUMN()-2,FALSE))))),\"\",IF($D50=$B$77,(J26/VLOOKUP($C50,$B$66:$R$71,COLUMN()-1)),IF($D50=$B$78,(J26/I26)/(VLOOKUP($C50,$B$66:J$71,COLUMN()-1,FALSE)/VLOOKUP($C50,$B$66:J$71,COLUMN()-2,FALSE))))),\"\")","v":""},{"$f":"IFERROR(IF(ISNA(IF($D50=$B$77,(K26/VLOOKUP($C50,$B$66:$R$71,COLUMN()-1)),IF($D50=$B$78,(K26/J26)/(VLOOKUP($C50,$B$66:K$71,COLUMN()-1,FALSE)/VLOOKUP($C50,$B$66:K$71,COLUMN()-2,FALSE))))),\"\",IF($D50=$B$77,(K26/VLOOKUP($C50,$B$66:$R$71,COLUMN()-1)),IF($D50=$B$78,(K26/J26)/(VLOOKUP($C50,$B$66:K$71,COLUMN()-1,FALSE)/VLOOKUP($C50,$B$66:K$71,COLUMN()-2,FALSE))))),\"\")","v":""},{"$f":"IFERROR(IF(ISNA(IF($D50=$B$77,(L26/VLOOKUP($C50,$B$66:$R$71,COLUMN()-1)),IF($D50=$B$78,(L26/K26)/(VLOOKUP($C50,$B$66:L$71,COLUMN()-1,FALSE)/VLOOKUP($C50,$B$66:L$71,COLUMN()-2,FALSE))))),\"\",IF($D50=$B$77,(L26/VLOOKUP($C50,$B$66:$R$71,COLUMN()-1,FALSE)),IF($D50=$B$78,(L26/K26)/(VLOOKUP($C50,$B$66:L$71,COLUMN()-1,FALSE)/VLOOKUP($C50,$B$66:L$71,COLUMN()-2,FALSE))))),\"\")","v":""},{"$f":"IFERROR(IF(ISNA(IF($D50=$B$77,(M26/VLOOKUP($C50,$B$66:$R$71,COLUMN()-1)),IF($D50=$B$78,(M26/L26)/(VLOOKUP($C50,$B$66:M$71,COLUMN()-1,FALSE)/VLOOKUP($C50,$B$66:M$71,COLUMN()-2,FALSE))))),\"\",IF($D50=$B$77,(M26/VLOOKUP($C50,$B$66:$R$71,COLUMN()-1,FALSE)),IF($D50=$B$78,(M26/L26)/(VLOOKUP($C50,$B$66:M$71,COLUMN()-1,FALSE)/VLOOKUP($C50,$B$66:M$71,COLUMN()-2,FALSE))))),\"\")","v":""},{"$f":"IFERROR(IF(ISNA(IF($D50=$B$77,(N26/VLOOKUP($C50,$B$66:$R$71,COLUMN()-1)),IF($D50=$B$78,(N26/M26)/(VLOOKUP($C50,$B$66:N$71,COLUMN()-1,FALSE)/VLOOKUP($C50,$B$66:N$71,COLUMN()-2,FALSE))))),\"\",IF($D50=$B$77,(N26/VLOOKUP($C50,$B$66:$R$71,COLUMN()-1,FALSE)),IF($D50=$B$78,(N26/M26)/(VLOOKUP($C50,$B$66:N$71,COLUMN()-1,FALSE)/VLOOKUP($C50,$B$66:N$71,COLUMN()-2,FALSE))))),\"\")","v":""},0,{"$f":"IFERROR(O50,0)","v":0},0,0]
[null," Other income tax","GDP at current prices","ETR",{"$f":"IFERROR(IF(ISNA(IF($D51=$B$77,(E27/VLOOKUP($C51,$B$66:$R$71,COLUMN()-1)),IF($D51=$B$78,(E27/D27)/(VLOOKUP($C51,$B$66:E$71,COLUMN()-1,FALSE)/VLOOKUP($C51,$B$66:E$71,COLUMN()-2,FALSE))))),\"\",IF($D51=$B$77,(E27/VLOOKUP($C51,$B$66:$R$71,COLUMN()-1)),IF($D51=$B$78,(E27/D27)/(VLOOKUP($C51,$B$66:E$71,COLUMN()-1,FALSE)/VLOOKUP($C51,$B$66:E$71,COLUMN()-2,FALSE))))),\"\")","v":""},{"$f":"IFERROR(IF(ISNA(IF($D51=$B$77,(F27/VLOOKUP($C51,$B$66:$R$71,COLUMN()-1)),IF($D51=$B$78,(F27/E27)/(VLOOKUP($C51,$B$66:F$71,COLUMN()-1,FALSE)/VLOOKUP($C51,$B$66:F$71,COLUMN()-2,FALSE))))),\"\",IF($D51=$B$77,(F27/VLOOKUP($C51,$B$66:$R$71,COLUMN()-1)),IF($D51=$B$78,(F27/E27)/(VLOOKUP($C51,$B$66:F$71,COLUMN()-1,FALSE)/VLOOKUP($C51,$B$66:F$71,COLUMN()-2,FALSE))))),\"\")","v":""},{"$f":"IFERROR(IF(ISNA(IF($D51=$B$77,(G27/VLOOKUP($C51,$B$66:$R$71,COLUMN()-1)),IF($D51=$B$78,(G27/F27)/(VLOOKUP($C51,$B$66:G$71,COLUMN()-1,FALSE)/VLOOKUP($C51,$B$66:G$71,COLUMN()-2,FALSE))))),\"\",IF($D51=$B$77,(G27/VLOOKUP($C51,$B$66:$R$71,COLUMN()-1)),IF($D51=$B$78,(G27/F27)/(VLOOKUP($C51,$B$66:G$71,COLUMN()-1,FALSE)/VLOOKUP($C51,$B$66:G$71,COLUMN()-2,FALSE))))),\"\")","v":""},{"$f":"IFERROR(IF(ISNA(IF($D51=$B$77,(H27/VLOOKUP($C51,$B$66:$R$71,COLUMN()-1)),IF($D51=$B$78,(H27/G27)/(VLOOKUP($C51,$B$66:H$71,COLUMN()-1,FALSE)/VLOOKUP($C51,$B$66:H$71,COLUMN()-2,FALSE))))),\"\",IF($D51=$B$77,(H27/VLOOKUP($C51,$B$66:$R$71,COLUMN()-1)),IF($D51=$B$78,(H27/G27)/(VLOOKUP($C51,$B$66:H$71,COLUMN()-1,FALSE)/VLOOKUP($C51,$B$66:H$71,COLUMN()-2,FALSE))))),\"\")","v":""},{"$f":"IFERROR(IF(ISNA(IF($D51=$B$77,(I27/VLOOKUP($C51,$B$66:$R$71,COLUMN()-1)),IF($D51=$B$78,(I27/H27)/(VLOOKUP($C51,$B$66:I$71,COLUMN()-1,FALSE)/VLOOKUP($C51,$B$66:I$71,COLUMN()-2,FALSE))))),\"\",IF($D51=$B$77,(I27/VLOOKUP($C51,$B$66:$R$71,COLUMN()-1)),IF($D51=$B$78,(I27/H27)/(VLOOKUP($C51,$B$66:I$71,COLUMN()-1,FALSE)/VLOOKUP($C51,$B$66:I$71,COLUMN()-2,FALSE))))),\"\")","v":""},{"$f":"IFERROR(IF(ISNA(IF($D51=$B$77,(J27/VLOOKUP($C51,$B$66:$R$71,COLUMN()-1)),IF($D51=$B$78,(J27/I27)/(VLOOKUP($C51,$B$66:J$71,COLUMN()-1,FALSE)/VLOOKUP($C51,$B$66:J$71,COLUMN()-2,FALSE))))),\"\",IF($D51=$B$77,(J27/VLOOKUP($C51,$B$66:$R$71,COLUMN()-1)),IF($D51=$B$78,(J27/I27)/(VLOOKUP($C51,$B$66:J$71,COLUMN()-1,FALSE)/VLOOKUP($C51,$B$66:J$71,COLUMN()-2,FALSE))))),\"\")","v":""},{"$f":"IFERROR(IF(ISNA(IF($D51=$B$77,(K27/VLOOKUP($C51,$B$66:$R$71,COLUMN()-1)),IF($D51=$B$78,(K27/J27)/(VLOOKUP($C51,$B$66:K$71,COLUMN()-1,FALSE)/VLOOKUP($C51,$B$66:K$71,COLUMN()-2,FALSE))))),\"\",IF($D51=$B$77,(K27/VLOOKUP($C51,$B$66:$R$71,COLUMN()-1)),IF($D51=$B$78,(K27/J27)/(VLOOKUP($C51,$B$66:K$71,COLUMN()-1,FALSE)/VLOOKUP($C51,$B$66:K$71,COLUMN()-2,FALSE))))),\"\")","v":""},{"$f":"IFERROR(IF(ISNA(IF($D51=$B$77,(L27/VLOOKUP($C51,$B$66:$R$71,COLUMN()-1)),IF($D51=$B$78,(L27/K27)/(VLOOKUP($C51,$B$66:L$71,COLUMN()-1,FALSE)/VLOOKUP($C51,$B$66:L$71,COLUMN()-2,FALSE))))),\"\",IF($D51=$B$77,(L27/VLOOKUP($C51,$B$66:$R$71,COLUMN()-1,FALSE)),IF($D51=$B$78,(L27/K27)/(VLOOKUP($C51,$B$66:L$71,COLUMN()-1,FALSE)/VLOOKUP($C51,$B$66:L$71,COLUMN()-2,FALSE))))),\"\")","v":""},{"$f":"IFERROR(IF(ISNA(IF($D51=$B$77,(M27/VLOOKUP($C51,$B$66:$R$71,COLUMN()-1)),IF($D51=$B$78,(M27/L27)/(VLOOKUP($C51,$B$66:M$71,COLUMN()-1,FALSE)/VLOOKUP($C51,$B$66:M$71,COLUMN()-2,FALSE))))),\"\",IF($D51=$B$77,(M27/VLOOKUP($C51,$B$66:$R$71,COLUMN()-1,FALSE)),IF($D51=$B$78,(M27/L27)/(VLOOKUP($C51,$B$66:M$71,COLUMN()-1,FALSE)/VLOOKUP($C51,$B$66:M$71,COLUMN()-2,FALSE))))),\"\")","v":""},{"$f":"IFERROR(IF(ISNA(IF($D51=$B$77,(N27/VLOOKUP($C51,$B$66:$R$71,COLUMN()-1)),IF($D51=$B$78,(N27/M27)/(VLOOKUP($C51,$B$66:N$71,COLUMN()-1,FALSE)/VLOOKUP($C51,$B$66:N$71,COLUMN()-2,FALSE))))),\"\",IF($D51=$B$77,(N27/VLOOKUP($C51,$B$66:$R$71,COLUMN()-1,FALSE)),IF($D51=$B$78,(N27/M27)/(VLOOKUP($C51,$B$66:N$71,COLUMN()-1,FALSE)/VLOOKUP($C51,$B$66:N$71,COLUMN()-2,FALSE))))),\"\")","v":""},0,{"$f":"IFERROR(O51,0)","v":0},{"$f":"P51","v":0},0]
[null,{"$f":"B28","v":"b.Value Added Tax"}]
[null,"o/w Domestic","GDP at current prices","Buoyancy",{"$f":"IFERROR(IF(ISNA(IF($D53=$B$77,(E29/VLOOKUP($C53,$B$66:$R$71,COLUMN()-1)),IF($D53=$B$78,(E29/D29)/(VLOOKUP($C53,$B$66:E$71,COLUMN()-1,FALSE)/VLOOKUP($C53,$B$66:E$71,COLUMN()-2,FALSE))))),\"\",IF($D53=$B$77,(E29/VLOOKUP($C53,$B$66:$R$71,COLUMN()-1)),IF($D53=$B$78,(E29/D29)/(VLOOKUP($C53,$B$66:E$71,COLUMN()-1,FALSE)/VLOOKUP($C53,$B$66:E$71,COLUMN()-2,FALSE))))),\"\")","v":""},{"$f":"IFERROR(IF(ISNA(IF($D53=$B$77,(F29/VLOOKUP($C53,$B$66:$R$71,COLUMN()-1)),IF($D53=$B$78,(F29/E29)/(VLOOKUP($C53,$B$66:F$71,COLUMN()-1,FALSE)/VLOOKUP($C53,$B$66:F$71,COLUMN()-2,FALSE))))),\"\",IF($D53=$B$77,(F29/VLOOKUP($C53,$B$66:$R$71,COLUMN()-1)),IF($D53=$B$78,(F29/E29)/(VLOOKUP($C53,$B$66:F$71,COLUMN()-1,FALSE)/VLOOKUP($C53,$B$66:F$71,COLUMN()-2,FALSE))))),\"\")","v":""},{"$f":"IFERROR(IF(ISNA(IF($D53=$B$77,(G29/VLOOKUP($C53,$B$66:$R$71,COLUMN()-1)),IF($D53=$B$78,(G29/F29)/(VLOOKUP($C53,$B$66:G$71,COLUMN()-1,FALSE)/VLOOKUP($C53,$B$66:G$71,COLUMN()-2,FALSE))))),\"\",IF($D53=$B$77,(G29/VLOOKUP($C53,$B$66:$R$71,COLUMN()-1)),IF($D53=$B$78,(G29/F29)/(VLOOKUP($C53,$B$66:G$71,COLUMN()-1,FALSE)/VLOOKUP($C53,$B$66:G$71,COLUMN()-2,FALSE))))),\"\")","v":""},{"$f":"IFERROR(IF(ISNA(IF($D53=$B$77,(H29/VLOOKUP($C53,$B$66:$R$71,COLUMN()-1)),IF($D53=$B$78,(H29/G29)/(VLOOKUP($C53,$B$66:H$71,COLUMN()-1,FALSE)/VLOOKUP($C53,$B$66:H$71,COLUMN()-2,FALSE))))),\"\",IF($D53=$B$77,(H29/VLOOKUP($C53,$B$66:$R$71,COLUMN()-1)),IF($D53=$B$78,(H29/G29)/(VLOOKUP($C53,$B$66:H$71,COLUMN()-1,FALSE)/VLOOKUP($C53,$B$66:H$71,COLUMN()-2,FALSE))))),\"\")","v":""},{"$f":"IFERROR(IF(ISNA(IF($D53=$B$77,(I29/VLOOKUP($C53,$B$66:$R$71,COLUMN()-1)),IF($D53=$B$78,(I29/H29)/(VLOOKUP($C53,$B$66:I$71,COLUMN()-1,FALSE)/VLOOKUP($C53,$B$66:I$71,COLUMN()-2,FALSE))))),\"\",IF($D53=$B$77,(I29/VLOOKUP($C53,$B$66:$R$71,COLUMN()-1)),IF($D53=$B$78,(I29/H29)/(VLOOKUP($C53,$B$66:I$71,COLUMN()-1,FALSE)/VLOOKUP($C53,$B$66:I$71,COLUMN()-2,FALSE))))),\"\")","v":""},{"$f":"IFERROR(IF(ISNA(IF($D53=$B$77,(J29/VLOOKUP($C53,$B$66:$R$71,COLUMN()-1)),IF($D53=$B$78,(J29/I29)/(VLOOKUP($C53,$B$66:J$71,COLUMN()-1,FALSE)/VLOOKUP($C53,$B$66:J$71,COLUMN()-2,FALSE))))),\"\",IF($D53=$B$77,(J29/VLOOKUP($C53,$B$66:$R$71,COLUMN()-1)),IF($D53=$B$78,(J29/I29)/(VLOOKUP($C53,$B$66:J$71,COLUMN()-1,FALSE)/VLOOKUP($C53,$B$66:J$71,COLUMN()-2,FALSE))))),\"\")","v":""},{"$f":"IFERROR(IF(ISNA(IF($D53=$B$77,(K29/VLOOKUP($C53,$B$66:$R$71,COLUMN()-1)),IF($D53=$B$78,(K29/J29)/(VLOOKUP($C53,$B$66:K$71,COLUMN()-1,FALSE)/VLOOKUP($C53,$B$66:K$71,COLUMN()-2,FALSE))))),\"\",IF($D53=$B$77,(K29/VLOOKUP($C53,$B$66:$R$71,COLUMN()-1)),IF($D53=$B$78,(K29/J29)/(VLOOKUP($C53,$B$66:K$71,COLUMN()-1,FALSE)/VLOOKUP($C53,$B$66:K$71,COLUMN()-2,FALSE))))),\"\")","v":""},{"$f":"IFERROR(IF(ISNA(IF($D53=$B$77,(L29/VLOOKUP($C53,$B$66:$R$71,COLUMN()-1)),IF($D53=$B$78,(L29/K29)/(VLOOKUP($C53,$B$66:L$71,COLUMN()-1,FALSE)/VLOOKUP($C53,$B$66:L$71,COLUMN()-2,FALSE))))),\"\",IF($D53=$B$77,(L29/VLOOKUP($C53,$B$66:$R$71,COLUMN()-1,FALSE)),IF($D53=$B$78,(L29/K29)/(VLOOKUP($C53,$B$66:L$71,COLUMN()-1,FALSE)/VLOOKUP($C53,$B$66:L$71,COLUMN()-2,FALSE))))),\"\")","v":""},{"$f":"IFERROR(IF(ISNA(IF($D53=$B$77,(M29/VLOOKUP($C53,$B$66:$R$71,COLUMN()-1)),IF($D53=$B$78,(M29/L29)/(VLOOKUP($C53,$B$66:M$71,COLUMN()-1,FALSE)/VLOOKUP($C53,$B$66:M$71,COLUMN()-2,FALSE))))),\"\",IF($D53=$B$77,(M29/VLOOKUP($C53,$B$66:$R$71,COLUMN()-1,FALSE)),IF($D53=$B$78,(M29/L29)/(VLOOKUP($C53,$B$66:M$71,COLUMN()-1,FALSE)/VLOOKUP($C53,$B$66:M$71,COLUMN()-2,FALSE))))),\"\")","v":""},{"$f":"IFERROR(IF(ISNA(IF($D53=$B$77,(N29/VLOOKUP($C53,$B$66:$R$71,COLUMN()-1)),IF($D53=$B$78,(N29/M29)/(VLOOKUP($C53,$B$66:N$71,COLUMN()-1,FALSE)/VLOOKUP($C53,$B$66:N$71,COLUMN()-2,FALSE))))),\"\",IF($D53=$B$77,(N29/VLOOKUP($C53,$B$66:$R$71,COLUMN()-1,FALSE)),IF($D53=$B$78,(N29/M29)/(VLOOKUP($C53,$B$66:N$71,COLUMN()-1,FALSE)/VLOOKUP($C53,$B$66:N$71,COLUMN()-2,FALSE))))),\"\")","v":""},0,{"$f":"IFERROR(O53,0)","v":0},0,0]
[null,"o/w Import-based","GDP at current prices","ETR",{"$f":"IFERROR(IF(ISNA(IF($D54=$B$77,(E30/VLOOKUP($C54,$B$66:$R$71,COLUMN()-1)),IF($D54=$B$78,(E30/D30)/(VLOOKUP($C54,$B$66:E$71,COLUMN()-1,FALSE)/VLOOKUP($C54,$B$66:E$71,COLUMN()-2,FALSE))))),\"\",IF($D54=$B$77,(E30/VLOOKUP($C54,$B$66:$R$71,COLUMN()-1)),IF($D54=$B$78,(E30/D30)/(VLOOKUP($C54,$B$66:E$71,COLUMN()-1,FALSE)/VLOOKUP($C54,$B$66:E$71,COLUMN()-2,FALSE))))),\"\")","v":""},{"$f":"IFERROR(IF(ISNA(IF($D54=$B$77,(F30/VLOOKUP($C54,$B$66:$R$71,COLUMN()-1)),IF($D54=$B$78,(F30/E30)/(VLOOKUP($C54,$B$66:F$71,COLUMN()-1,FALSE)/VLOOKUP($C54,$B$66:F$71,COLUMN()-2,FALSE))))),\"\",IF($D54=$B$77,(F30/VLOOKUP($C54,$B$66:$R$71,COLUMN()-1)),IF($D54=$B$78,(F30/E30)/(VLOOKUP($C54,$B$66:F$71,COLUMN()-1,FALSE)/VLOOKUP($C54,$B$66:F$71,COLUMN()-2,FALSE))))),\"\")","v":""},{"$f":"IFERROR(IF(ISNA(IF($D54=$B$77,(G30/VLOOKUP($C54,$B$66:$R$71,COLUMN()-1)),IF($D54=$B$78,(G30/F30)/(VLOOKUP($C54,$B$66:G$71,COLUMN()-1,FALSE)/VLOOKUP($C54,$B$66:G$71,COLUMN()-2,FALSE))))),\"\",IF($D54=$B$77,(G30/VLOOKUP($C54,$B$66:$R$71,COLUMN()-1)),IF($D54=$B$78,(G30/F30)/(VLOOKUP($C54,$B$66:G$71,COLUMN()-1,FALSE)/VLOOKUP($C54,$B$66:G$71,COLUMN()-2,FALSE))))),\"\")","v":""},{"$f":"IFERROR(IF(ISNA(IF($D54=$B$77,(H30/VLOOKUP($C54,$B$66:$R$71,COLUMN()-1)),IF($D54=$B$78,(H30/G30)/(VLOOKUP($C54,$B$66:H$71,COLUMN()-1,FALSE)/VLOOKUP($C54,$B$66:H$71,COLUMN()-2,FALSE))))),\"\",IF($D54=$B$77,(H30/VLOOKUP($C54,$B$66:$R$71,COLUMN()-1)),IF($D54=$B$78,(H30/G30)/(VLOOKUP($C54,$B$66:H$71,COLUMN()-1,FALSE)/VLOOKUP($C54,$B$66:H$71,COLUMN()-2,FALSE))))),\"\")","v":""},{"$f":"IFERROR(IF(ISNA(IF($D54=$B$77,(I30/VLOOKUP($C54,$B$66:$R$71,COLUMN()-1)),IF($D54=$B$78,(I30/H30)/(VLOOKUP($C54,$B$66:I$71,COLUMN()-1,FALSE)/VLOOKUP($C54,$B$66:I$71,COLUMN()-2,FALSE))))),\"\",IF($D54=$B$77,(I30/VLOOKUP($C54,$B$66:$R$71,COLUMN()-1)),IF($D54=$B$78,(I30/H30)/(VLOOKUP($C54,$B$66:I$71,COLUMN()-1,FALSE)/VLOOKUP($C54,$B$66:I$71,COLUMN()-2,FALSE))))),\"\")","v":""},{"$f":"IFERROR(IF(ISNA(IF($D54=$B$77,(J30/VLOOKUP($C54,$B$66:$R$71,COLUMN()-1)),IF($D54=$B$78,(J30/I30)/(VLOOKUP($C54,$B$66:J$71,COLUMN()-1,FALSE)/VLOOKUP($C54,$B$66:J$71,COLUMN()-2,FALSE))))),\"\",IF($D54=$B$77,(J30/VLOOKUP($C54,$B$66:$R$71,COLUMN()-1)),IF($D54=$B$78,(J30/I30)/(VLOOKUP($C54,$B$66:J$71,COLUMN()-1,FALSE)/VLOOKUP($C54,$B$66:J$71,COLUMN()-2,FALSE))))),\"\")","v":""},{"$f":"IFERROR(IF(ISNA(IF($D54=$B$77,(K30/VLOOKUP($C54,$B$66:$R$71,COLUMN()-1)),IF($D54=$B$78,(K30/J30)/(VLOOKUP($C54,$B$66:K$71,COLUMN()-1,FALSE)/VLOOKUP($C54,$B$66:K$71,COLUMN()-2,FALSE))))),\"\",IF($D54=$B$77,(K30/VLOOKUP($C54,$B$66:$R$71,COLUMN()-1)),IF($D54=$B$78,(K30/J30)/(VLOOKUP($C54,$B$66:K$71,COLUMN()-1,FALSE)/VLOOKUP($C54,$B$66:K$71,COLUMN()-2,FALSE))))),\"\")","v":""},{"$f":"IFERROR(IF(ISNA(IF($D54=$B$77,(L30/VLOOKUP($C54,$B$66:$R$71,COLUMN()-1)),IF($D54=$B$78,(L30/K30)/(VLOOKUP($C54,$B$66:L$71,COLUMN()-1,FALSE)/VLOOKUP($C54,$B$66:L$71,COLUMN()-2,FALSE))))),\"\",IF($D54=$B$77,(L30/VLOOKUP($C54,$B$66:$R$71,COLUMN()-1,FALSE)),IF($D54=$B$78,(L30/K30)/(VLOOKUP($C54,$B$66:L$71,COLUMN()-1,FALSE)/VLOOKUP($C54,$B$66:L$71,COLUMN()-2,FALSE))))),\"\")","v":""},{"$f":"IFERROR(IF(ISNA(IF($D54=$B$77,(M30/VLOOKUP($C54,$B$66:$R$71,COLUMN()-1)),IF($D54=$B$78,(M30/L30)/(VLOOKUP($C54,$B$66:M$71,COLUMN()-1,FALSE)/VLOOKUP($C54,$B$66:M$71,COLUMN()-2,FALSE))))),\"\",IF($D54=$B$77,(M30/VLOOKUP($C54,$B$66:$R$71,COLUMN()-1,FALSE)),IF($D54=$B$78,(M30/L30)/(VLOOKUP($C54,$B$66:M$71,COLUMN()-1,FALSE)/VLOOKUP($C54,$B$66:M$71,COLUMN()-2,FALSE))))),\"\")","v":""},{"$f":"IFERROR(IF(ISNA(IF($D54=$B$77,(N30/VLOOKUP($C54,$B$66:$R$71,COLUMN()-1)),IF($D54=$B$78,(N30/M30)/(VLOOKUP($C54,$B$66:N$71,COLUMN()-1,FALSE)/VLOOKUP($C54,$B$66:N$71,COLUMN()-2,FALSE))))),\"\",IF($D54=$B$77,(N30/VLOOKUP($C54,$B$66:$R$71,COLUMN()-1,FALSE)),IF($D54=$B$78,(N30/M30)/(VLOOKUP($C54,$B$66:N$71,COLUMN()-1,FALSE)/VLOOKUP($C54,$B$66:N$71,COLUMN()-2,FALSE))))),\"\")","v":""},0,{"$f":"IFERROR(O54,0)","v":0},0,0]
[null,"c. Customs and Excise duty"]
[null,"o/w Customs duty","GDP at current prices","ETR",{"$f":"IFERROR(IF(ISNA(IF($D56=$B$77,(E32/VLOOKUP($C56,$B$66:$R$71,COLUMN()-1)),IF($D56=$B$78,(E32/D32)/(VLOOKUP($C56,$B$66:E$71,COLUMN()-1,FALSE)/VLOOKUP($C56,$B$66:E$71,COLUMN()-2,FALSE))))),\"\",IF($D56=$B$77,(E32/VLOOKUP($C56,$B$66:$R$71,COLUMN()-1)),IF($D56=$B$78,(E32/D32)/(VLOOKUP($C56,$B$66:E$71,COLUMN()-1,FALSE)/VLOOKUP($C56,$B$66:E$71,COLUMN()-2,FALSE))))),\"\")","v":""},{"$f":"IFERROR(IF(ISNA(IF($D56=$B$77,(F32/VLOOKUP($C56,$B$66:$R$71,COLUMN()-1)),IF($D56=$B$78,(F32/E32)/(VLOOKUP($C56,$B$66:F$71,COLUMN()-1,FALSE)/VLOOKUP($C56,$B$66:F$71,COLUMN()-2,FALSE))))),\"\",IF($D56=$B$77,(F32/VLOOKUP($C56,$B$66:$R$71,COLUMN()-1)),IF($D56=$B$78,(F32/E32)/(VLOOKUP($C56,$B$66:F$71,COLUMN()-1,FALSE)/VLOOKUP($C56,$B$66:F$71,COLUMN()-2,FALSE))))),\"\")","v":""},{"$f":"IFERROR(IF(ISNA(IF($D56=$B$77,(G32/VLOOKUP($C56,$B$66:$R$71,COLUMN()-1)),IF($D56=$B$78,(G32/F32)/(VLOOKUP($C56,$B$66:G$71,COLUMN()-1,FALSE)/VLOOKUP($C56,$B$66:G$71,COLUMN()-2,FALSE))))),\"\",IF($D56=$B$77,(G32/VLOOKUP($C56,$B$66:$R$71,COLUMN()-1)),IF($D56=$B$78,(G32/F32)/(VLOOKUP($C56,$B$66:G$71,COLUMN()-1,FALSE)/VLOOKUP($C56,$B$66:G$71,COLUMN()-2,FALSE))))),\"\")","v":""},{"$f":"IFERROR(IF(ISNA(IF($D56=$B$77,(H32/VLOOKUP($C56,$B$66:$R$71,COLUMN()-1)),IF($D56=$B$78,(H32/G32)/(VLOOKUP($C56,$B$66:H$71,COLUMN()-1,FALSE)/VLOOKUP($C56,$B$66:H$71,COLUMN()-2,FALSE))))),\"\",IF($D56=$B$77,(H32/VLOOKUP($C56,$B$66:$R$71,COLUMN()-1)),IF($D56=$B$78,(H32/G32)/(VLOOKUP($C56,$B$66:H$71,COLUMN()-1,FALSE)/VLOOKUP($C56,$B$66:H$71,COLUMN()-2,FALSE))))),\"\")","v":""},{"$f":"IFERROR(IF(ISNA(IF($D56=$B$77,(I32/VLOOKUP($C56,$B$66:$R$71,COLUMN()-1)),IF($D56=$B$78,(I32/H32)/(VLOOKUP($C56,$B$66:I$71,COLUMN()-1,FALSE)/VLOOKUP($C56,$B$66:I$71,COLUMN()-2,FALSE))))),\"\",IF($D56=$B$77,(I32/VLOOKUP($C56,$B$66:$R$71,COLUMN()-1)),IF($D56=$B$78,(I32/H32)/(VLOOKUP($C56,$B$66:I$71,COLUMN()-1,FALSE)/VLOOKUP($C56,$B$66:I$71,COLUMN()-2,FALSE))))),\"\")","v":""},{"$f":"IFERROR(IF(ISNA(IF($D56=$B$77,(J32/VLOOKUP($C56,$B$66:$R$71,COLUMN()-1)),IF($D56=$B$78,(J32/I32)/(VLOOKUP($C56,$B$66:J$71,COLUMN()-1,FALSE)/VLOOKUP($C56,$B$66:J$71,COLUMN()-2,FALSE))))),\"\",IF($D56=$B$77,(J32/VLOOKUP($C56,$B$66:$R$71,COLUMN()-1)),IF($D56=$B$78,(J32/I32)/(VLOOKUP($C56,$B$66:J$71,COLUMN()-1,FALSE)/VLOOKUP($C56,$B$66:J$71,COLUMN()-2,FALSE))))),\"\")","v":""},{"$f":"IFERROR(IF(ISNA(IF($D56=$B$77,(K32/VLOOKUP($C56,$B$66:$R$71,COLUMN()-1)),IF($D56=$B$78,(K32/J32)/(VLOOKUP($C56,$B$66:K$71,COLUMN()-1,FALSE)/VLOOKUP($C56,$B$66:K$71,COLUMN()-2,FALSE))))),\"\",IF($D56=$B$77,(K32/VLOOKUP($C56,$B$66:$R$71,COLUMN()-1)),IF($D56=$B$78,(K32/J32)/(VLOOKUP($C56,$B$66:K$71,COLUMN()-1,FALSE)/VLOOKUP($C56,$B$66:K$71,COLUMN()-2,FALSE))))),\"\")","v":""},{"$f":"IFERROR(IF(ISNA(IF($D56=$B$77,(L32/VLOOKUP($C56,$B$66:$R$71,COLUMN()-1)),IF($D56=$B$78,(L32/K32)/(VLOOKUP($C56,$B$66:L$71,COLUMN()-1,FALSE)/VLOOKUP($C56,$B$66:L$71,COLUMN()-2,FALSE))))),\"\",IF($D56=$B$77,(L32/VLOOKUP($C56,$B$66:$R$71,COLUMN()-1,FALSE)),IF($D56=$B$78,(L32/K32)/(VLOOKUP($C56,$B$66:L$71,COLUMN()-1,FALSE)/VLOOKUP($C56,$B$66:L$71,COLUMN()-2,FALSE))))),\"\")","v":""},{"$f":"IFERROR(IF(ISNA(IF($D56=$B$77,(M32/VLOOKUP($C56,$B$66:$R$71,COLUMN()-1)),IF($D56=$B$78,(M32/L32)/(VLOOKUP($C56,$B$66:M$71,COLUMN()-1,FALSE)/VLOOKUP($C56,$B$66:M$71,COLUMN()-2,FALSE))))),\"\",IF($D56=$B$77,(M32/VLOOKUP($C56,$B$66:$R$71,COLUMN()-1,FALSE)),IF($D56=$B$78,(M32/L32)/(VLOOKUP($C56,$B$66:M$71,COLUMN()-1,FALSE)/VLOOKUP($C56,$B$66:M$71,COLUMN()-2,FALSE))))),\"\")","v":""},{"$f":"IFERROR(IF(ISNA(IF($D56=$B$77,(N32/VLOOKUP($C56,$B$66:$R$71,COLUMN()-1)),IF($D56=$B$78,(N32/M32)/(VLOOKUP($C56,$B$66:N$71,COLUMN()-1,FALSE)/VLOOKUP($C56,$B$66:N$71,COLUMN()-2,FALSE))))),\"\",IF($D56=$B$77,(N32/VLOOKUP($C56,$B$66:$R$71,COLUMN()-1,FALSE)),IF($D56=$B$78,(N32/M32)/(VLOOKUP($C56,$B$66:N$71,COLUMN()-1,FALSE)/VLOOKUP($C56,$B$66:N$71,COLUMN()-2,FALSE))))),\"\")","v":""},0,{"$f":"IFERROR(O56,0)","v":0},0,0]
[null,"o/w Excise duty","GDP at constant prices","ETR",{"$f":"IFERROR(IF(ISNA(IF($D57=$B$77,(E33/VLOOKUP($C57,$B$66:$R$71,COLUMN()-1)),IF($D57=$B$78,(E33/D33)/(VLOOKUP($C57,$B$66:E$71,COLUMN()-1,FALSE)/VLOOKUP($C57,$B$66:E$71,COLUMN()-2,FALSE))))),\"\",IF($D57=$B$77,(E33/VLOOKUP($C57,$B$66:$R$71,COLUMN()-1)),IF($D57=$B$78,(E33/D33)/(VLOOKUP($C57,$B$66:E$71,COLUMN()-1,FALSE)/VLOOKUP($C57,$B$66:E$71,COLUMN()-2,FALSE))))),\"\")","v":""},{"$f":"IFERROR(IF(ISNA(IF($D57=$B$77,(F33/VLOOKUP($C57,$B$66:$R$71,COLUMN()-1)),IF($D57=$B$78,(F33/E33)/(VLOOKUP($C57,$B$66:F$71,COLUMN()-1,FALSE)/VLOOKUP($C57,$B$66:F$71,COLUMN()-2,FALSE))))),\"\",IF($D57=$B$77,(F33/VLOOKUP($C57,$B$66:$R$71,COLUMN()-1)),IF($D57=$B$78,(F33/E33)/(VLOOKUP($C57,$B$66:F$71,COLUMN()-1,FALSE)/VLOOKUP($C57,$B$66:F$71,COLUMN()-2,FALSE))))),\"\")","v":""},{"$f":"IFERROR(IF(ISNA(IF($D57=$B$77,(G33/VLOOKUP($C57,$B$66:$R$71,COLUMN()-1)),IF($D57=$B$78,(G33/F33)/(VLOOKUP($C57,$B$66:G$71,COLUMN()-1,FALSE)/VLOOKUP($C57,$B$66:G$71,COLUMN()-2,FALSE))))),\"\",IF($D57=$B$77,(G33/VLOOKUP($C57,$B$66:$R$71,COLUMN()-1)),IF($D57=$B$78,(G33/F33)/(VLOOKUP($C57,$B$66:G$71,COLUMN()-1,FALSE)/VLOOKUP($C57,$B$66:G$71,COLUMN()-2,FALSE))))),\"\")","v":""},{"$f":"IFERROR(IF(ISNA(IF($D57=$B$77,(H33/VLOOKUP($C57,$B$66:$R$71,COLUMN()-1)),IF($D57=$B$78,(H33/G33)/(VLOOKUP($C57,$B$66:H$71,COLUMN()-1,FALSE)/VLOOKUP($C57,$B$66:H$71,COLUMN()-2,FALSE))))),\"\",IF($D57=$B$77,(H33/VLOOKUP($C57,$B$66:$R$71,COLUMN()-1)),IF($D57=$B$78,(H33/G33)/(VLOOKUP($C57,$B$66:H$71,COLUMN()-1,FALSE)/VLOOKUP($C57,$B$66:H$71,COLUMN()-2,FALSE))))),\"\")","v":""},{"$f":"IFERROR(IF(ISNA(IF($D57=$B$77,(I33/VLOOKUP($C57,$B$66:$R$71,COLUMN()-1)),IF($D57=$B$78,(I33/H33)/(VLOOKUP($C57,$B$66:I$71,COLUMN()-1,FALSE)/VLOOKUP($C57,$B$66:I$71,COLUMN()-2,FALSE))))),\"\",IF($D57=$B$77,(I33/VLOOKUP($C57,$B$66:$R$71,COLUMN()-1)),IF($D57=$B$78,(I33/H33)/(VLOOKUP($C57,$B$66:I$71,COLUMN()-1,FALSE)/VLOOKUP($C57,$B$66:I$71,COLUMN()-2,FALSE))))),\"\")","v":""},{"$f":"IFERROR(IF(ISNA(IF($D57=$B$77,(J33/VLOOKUP($C57,$B$66:$R$71,COLUMN()-1)),IF($D57=$B$78,(J33/I33)/(VLOOKUP($C57,$B$66:J$71,COLUMN()-1,FALSE)/VLOOKUP($C57,$B$66:J$71,COLUMN()-2,FALSE))))),\"\",IF($D57=$B$77,(J33/VLOOKUP($C57,$B$66:$R$71,COLUMN()-1)),IF($D57=$B$78,(J33/I33)/(VLOOKUP($C57,$B$66:J$71,COLUMN()-1,FALSE)/VLOOKUP($C57,$B$66:J$71,COLUMN()-2,FALSE))))),\"\")","v":""},{"$f":"IFERROR(IF(ISNA(IF($D57=$B$77,(K33/VLOOKUP($C57,$B$66:$R$71,COLUMN()-1)),IF($D57=$B$78,(K33/J33)/(VLOOKUP($C57,$B$66:K$71,COLUMN()-1,FALSE)/VLOOKUP($C57,$B$66:K$71,COLUMN()-2,FALSE))))),\"\",IF($D57=$B$77,(K33/VLOOKUP($C57,$B$66:$R$71,COLUMN()-1)),IF($D57=$B$78,(K33/J33)/(VLOOKUP($C57,$B$66:K$71,COLUMN()-1,FALSE)/VLOOKUP($C57,$B$66:K$71,COLUMN()-2,FALSE))))),\"\")","v":""},{"$f":"IFERROR(IF(ISNA(IF($D57=$B$77,(L33/VLOOKUP($C57,$B$66:$R$71,COLUMN()-1)),IF($D57=$B$78,(L33/K33)/(VLOOKUP($C57,$B$66:L$71,COLUMN()-1,FALSE)/VLOOKUP($C57,$B$66:L$71,COLUMN()-2,FALSE))))),\"\",IF($D57=$B$77,(L33/VLOOKUP($C57,$B$66:$R$71,COLUMN()-1,FALSE)),IF($D57=$B$78,(L33/K33)/(VLOOKUP($C57,$B$66:L$71,COLUMN()-1,FALSE)/VLOOKUP($C57,$B$66:L$71,COLUMN()-2,FALSE))))),\"\")","v":""},{"$f":"IFERROR(IF(ISNA(IF($D57=$B$77,(M33/VLOOKUP($C57,$B$66:$R$71,COLUMN()-1)),IF($D57=$B$78,(M33/L33)/(VLOOKUP($C57,$B$66:M$71,COLUMN()-1,FALSE)/VLOOKUP($C57,$B$66:M$71,COLUMN()-2,FALSE))))),\"\",IF($D57=$B$77,(M33/VLOOKUP($C57,$B$66:$R$71,COLUMN()-1,FALSE)),IF($D57=$B$78,(M33/L33)/(VLOOKUP($C57,$B$66:M$71,COLUMN()-1,FALSE)/VLOOKUP($C57,$B$66:M$71,COLUMN()-2,FALSE))))),\"\")","v":""},{"$f":"IFERROR(IF(ISNA(IF($D57=$B$77,(N33/VLOOKUP($C57,$B$66:$R$71,COLUMN()-1)),IF($D57=$B$78,(N33/M33)/(VLOOKUP($C57,$B$66:N$71,COLUMN()-1,FALSE)/VLOOKUP($C57,$B$66:N$71,COLUMN()-2,FALSE))))),\"\",IF($D57=$B$77,(N33/VLOOKUP($C57,$B$66:$R$71,COLUMN()-1,FALSE)),IF($D57=$B$78,(N33/M33)/(VLOOKUP($C57,$B$66:N$71,COLUMN()-1,FALSE)/VLOOKUP($C57,$B$66:N$71,COLUMN()-2,FALSE))))),\"\")","v":""},0,{"$f":"IFERROR(O57,0)","v":0},0,0]
[null,"d. Other Taxes","GDP at current prices","ETR",{"$f":"IFERROR(IF(ISNA(IF($D58=$B$77,(E34/VLOOKUP($C58,$B$66:$R$71,COLUMN()-1)),IF($D58=$B$78,(E34/D34)/(VLOOKUP($C58,$B$66:E$71,COLUMN()-1,FALSE)/VLOOKUP($C58,$B$66:E$71,COLUMN()-2,FALSE))))),\"\",IF($D58=$B$77,(E34/VLOOKUP($C58,$B$66:$R$71,COLUMN()-1)),IF($D58=$B$78,(E34/D34)/(VLOOKUP($C58,$B$66:E$71,COLUMN()-1,FALSE)/VLOOKUP($C58,$B$66:E$71,COLUMN()-2,FALSE))))),\"\")","v":""},{"$f":"IFERROR(IF(ISNA(IF($D58=$B$77,(F34/VLOOKUP($C58,$B$66:$R$71,COLUMN()-1)),IF($D58=$B$78,(F34/E34)/(VLOOKUP($C58,$B$66:F$71,COLUMN()-1,FALSE)/VLOOKUP($C58,$B$66:F$71,COLUMN()-2,FALSE))))),\"\",IF($D58=$B$77,(F34/VLOOKUP($C58,$B$66:$R$71,COLUMN()-1)),IF($D58=$B$78,(F34/E34)/(VLOOKUP($C58,$B$66:F$71,COLUMN()-1,FALSE)/VLOOKUP($C58,$B$66:F$71,COLUMN()-2,FALSE))))),\"\")","v":""},{"$f":"IFERROR(IF(ISNA(IF($D58=$B$77,(G34/VLOOKUP($C58,$B$66:$R$71,COLUMN()-1)),IF($D58=$B$78,(G34/F34)/(VLOOKUP($C58,$B$66:G$71,COLUMN()-1,FALSE)/VLOOKUP($C58,$B$66:G$71,COLUMN()-2,FALSE))))),\"\",IF($D58=$B$77,(G34/VLOOKUP($C58,$B$66:$R$71,COLUMN()-1)),IF($D58=$B$78,(G34/F34)/(VLOOKUP($C58,$B$66:G$71,COLUMN()-1,FALSE)/VLOOKUP($C58,$B$66:G$71,COLUMN()-2,FALSE))))),\"\")","v":""},{"$f":"IFERROR(IF(ISNA(IF($D58=$B$77,(H34/VLOOKUP($C58,$B$66:$R$71,COLUMN()-1)),IF($D58=$B$78,(H34/G34)/(VLOOKUP($C58,$B$66:H$71,COLUMN()-1,FALSE)/VLOOKUP($C58,$B$66:H$71,COLUMN()-2,FALSE))))),\"\",IF($D58=$B$77,(H34/VLOOKUP($C58,$B$66:$R$71,COLUMN()-1)),IF($D58=$B$78,(H34/G34)/(VLOOKUP($C58,$B$66:H$71,COLUMN()-1,FALSE)/VLOOKUP($C58,$B$66:H$71,COLUMN()-2,FALSE))))),\"\")","v":""},{"$f":"IFERROR(IF(ISNA(IF($D58=$B$77,(I34/VLOOKUP($C58,$B$66:$R$71,COLUMN()-1)),IF($D58=$B$78,(I34/H34)/(VLOOKUP($C58,$B$66:I$71,COLUMN()-1,FALSE)/VLOOKUP($C58,$B$66:I$71,COLUMN()-2,FALSE))))),\"\",IF($D58=$B$77,(I34/VLOOKUP($C58,$B$66:$R$71,COLUMN()-1)),IF($D58=$B$78,(I34/H34)/(VLOOKUP($C58,$B$66:I$71,COLUMN()-1,FALSE)/VLOOKUP($C58,$B$66:I$71,COLUMN()-2,FALSE))))),\"\")","v":""},{"$f":"IFERROR(IF(ISNA(IF($D58=$B$77,(J34/VLOOKUP($C58,$B$66:$R$71,COLUMN()-1)),IF($D58=$B$78,(J34/I34)/(VLOOKUP($C58,$B$66:J$71,COLUMN()-1,FALSE)/VLOOKUP($C58,$B$66:J$71,COLUMN()-2,FALSE))))),\"\",IF($D58=$B$77,(J34/VLOOKUP($C58,$B$66:$R$71,COLUMN()-1)),IF($D58=$B$78,(J34/I34)/(VLOOKUP($C58,$B$66:J$71,COLUMN()-1,FALSE)/VLOOKUP($C58,$B$66:J$71,COLUMN()-2,FALSE))))),\"\")","v":""},{"$f":"IFERROR(IF(ISNA(IF($D58=$B$77,(K34/VLOOKUP($C58,$B$66:$R$71,COLUMN()-1)),IF($D58=$B$78,(K34/J34)/(VLOOKUP($C58,$B$66:K$71,COLUMN()-1,FALSE)/VLOOKUP($C58,$B$66:K$71,COLUMN()-2,FALSE))))),\"\",IF($D58=$B$77,(K34/VLOOKUP($C58,$B$66:$R$71,COLUMN()-1)),IF($D58=$B$78,(K34/J34)/(VLOOKUP($C58,$B$66:K$71,COLUMN()-1,FALSE)/VLOOKUP($C58,$B$66:K$71,COLUMN()-2,FALSE))))),\"\")","v":""},{"$f":"IFERROR(IF(ISNA(IF($D58=$B$77,(L34/VLOOKUP($C58,$B$66:$R$71,COLUMN()-1)),IF($D58=$B$78,(L34/K34)/(VLOOKUP($C58,$B$66:L$71,COLUMN()-1,FALSE)/VLOOKUP($C58,$B$66:L$71,COLUMN()-2,FALSE))))),\"\",IF($D58=$B$77,(L34/VLOOKUP($C58,$B$66:$R$71,COLUMN()-1,FALSE)),IF($D58=$B$78,(L34/K34)/(VLOOKUP($C58,$B$66:L$71,COLUMN()-1,FALSE)/VLOOKUP($C58,$B$66:L$71,COLUMN()-2,FALSE))))),\"\")","v":""},{"$f":"IFERROR(IF(ISNA(IF($D58=$B$77,(M34/VLOOKUP($C58,$B$66:$R$71,COLUMN()-1)),IF($D58=$B$78,(M34/L34)/(VLOOKUP($C58,$B$66:M$71,COLUMN()-1,FALSE)/VLOOKUP($C58,$B$66:M$71,COLUMN()-2,FALSE))))),\"\",IF($D58=$B$77,(M34/VLOOKUP($C58,$B$66:$R$71,COLUMN()-1,FALSE)),IF($D58=$B$78,(M34/L34)/(VLOOKUP($C58,$B$66:M$71,COLUMN()-1,FALSE)/VLOOKUP($C58,$B$66:M$71,COLUMN()-2,FALSE))))),\"\")","v":""},{"$f":"IFERROR(IF(ISNA(IF($D58=$B$77,(N34/VLOOKUP($C58,$B$66:$R$71,COLUMN()-1)),IF($D58=$B$78,(N34/M34)/(VLOOKUP($C58,$B$66:N$71,COLUMN()-1,FALSE)/VLOOKUP($C58,$B$66:N$71,COLUMN()-2,FALSE))))),\"\",IF($D58=$B$77,(N34/VLOOKUP($C58,$B$66:$R$71,COLUMN()-1,FALSE)),IF($D58=$B$78,(N34/M34)/(VLOOKUP($C58,$B$66:N$71,COLUMN()-1,FALSE)/VLOOKUP($C58,$B$66:N$71,COLUMN()-2,FALSE))))),\"\")","v":""},0,{"$f":"IFERROR(O58,0)","v":0},{"$f":"P58","v":0},{"$f":"Q58","v":0}]
[null,"Non-Tax Revenue"]
[null,"o/w non-commodity based","GDP at current prices","ETR",{"$f":"IFERROR(IF(ISNA(IF($D60=$B$77,(E36/VLOOKUP($C60,$B$66:$R$71,COLUMN()-1)),IF($D60=$B$78,(E36/D36)/(VLOOKUP($C60,$B$66:E$71,COLUMN()-1,FALSE)/VLOOKUP($C60,$B$66:E$71,COLUMN()-2,FALSE))))),\"\",IF($D60=$B$77,(E36/VLOOKUP($C60,$B$66:$R$71,COLUMN()-1)),IF($D60=$B$78,(E36/D36)/(VLOOKUP($C60,$B$66:E$71,COLUMN()-1,FALSE)/VLOOKUP($C60,$B$66:E$71,COLUMN()-2,FALSE))))),\"\")","v":""},{"$f":"IFERROR(IF(ISNA(IF($D60=$B$77,(F36/VLOOKUP($C60,$B$66:$R$71,COLUMN()-1)),IF($D60=$B$78,(F36/E36)/(VLOOKUP($C60,$B$66:F$71,COLUMN()-1,FALSE)/VLOOKUP($C60,$B$66:F$71,COLUMN()-2,FALSE))))),\"\",IF($D60=$B$77,(F36/VLOOKUP($C60,$B$66:$R$71,COLUMN()-1)),IF($D60=$B$78,(F36/E36)/(VLOOKUP($C60,$B$66:F$71,COLUMN()-1,FALSE)/VLOOKUP($C60,$B$66:F$71,COLUMN()-2,FALSE))))),\"\")","v":""},{"$f":"IFERROR(IF(ISNA(IF($D60=$B$77,(G36/VLOOKUP($C60,$B$66:$R$71,COLUMN()-1)),IF($D60=$B$78,(G36/F36)/(VLOOKUP($C60,$B$66:G$71,COLUMN()-1,FALSE)/VLOOKUP($C60,$B$66:G$71,COLUMN()-2,FALSE))))),\"\",IF($D60=$B$77,(G36/VLOOKUP($C60,$B$66:$R$71,COLUMN()-1)),IF($D60=$B$78,(G36/F36)/(VLOOKUP($C60,$B$66:G$71,COLUMN()-1,FALSE)/VLOOKUP($C60,$B$66:G$71,COLUMN()-2,FALSE))))),\"\")","v":""},{"$f":"IFERROR(IF(ISNA(IF($D60=$B$77,(H36/VLOOKUP($C60,$B$66:$R$71,COLUMN()-1)),IF($D60=$B$78,(H36/G36)/(VLOOKUP($C60,$B$66:H$71,COLUMN()-1,FALSE)/VLOOKUP($C60,$B$66:H$71,COLUMN()-2,FALSE))))),\"\",IF($D60=$B$77,(H36/VLOOKUP($C60,$B$66:$R$71,COLUMN()-1)),IF($D60=$B$78,(H36/G36)/(VLOOKUP($C60,$B$66:H$71,COLUMN()-1,FALSE)/VLOOKUP($C60,$B$66:H$71,COLUMN()-2,FALSE))))),\"\")","v":""},{"$f":"IFERROR(IF(ISNA(IF($D60=$B$77,(I36/VLOOKUP($C60,$B$66:$R$71,COLUMN()-1)),IF($D60=$B$78,(I36/H36)/(VLOOKUP($C60,$B$66:I$71,COLUMN()-1,FALSE)/VLOOKUP($C60,$B$66:I$71,COLUMN()-2,FALSE))))),\"\",IF($D60=$B$77,(I36/VLOOKUP($C60,$B$66:$R$71,COLUMN()-1)),IF($D60=$B$78,(I36/H36)/(VLOOKUP($C60,$B$66:I$71,COLUMN()-1,FALSE)/VLOOKUP($C60,$B$66:I$71,COLUMN()-2,FALSE))))),\"\")","v":""},{"$f":"IFERROR(IF(ISNA(IF($D60=$B$77,(J36/VLOOKUP($C60,$B$66:$R$71,COLUMN()-1)),IF($D60=$B$78,(J36/I36)/(VLOOKUP($C60,$B$66:J$71,COLUMN()-1,FALSE)/VLOOKUP($C60,$B$66:J$71,COLUMN()-2,FALSE))))),\"\",IF($D60=$B$77,(J36/VLOOKUP($C60,$B$66:$R$71,COLUMN()-1)),IF($D60=$B$78,(J36/I36)/(VLOOKUP($C60,$B$66:J$71,COLUMN()-1,FALSE)/VLOOKUP($C60,$B$66:J$71,COLUMN()-2,FALSE))))),\"\")","v":""},{"$f":"IFERROR(IF(ISNA(IF($D60=$B$77,(K36/VLOOKUP($C60,$B$66:$R$71,COLUMN()-1)),IF($D60=$B$78,(K36/J36)/(VLOOKUP($C60,$B$66:K$71,COLUMN()-1,FALSE)/VLOOKUP($C60,$B$66:K$71,COLUMN()-2,FALSE))))),\"\",IF($D60=$B$77,(K36/VLOOKUP($C60,$B$66:$R$71,COLUMN()-1)),IF($D60=$B$78,(K36/J36)/(VLOOKUP($C60,$B$66:K$71,COLUMN()-1,FALSE)/VLOOKUP($C60,$B$66:K$71,COLUMN()-2,FALSE))))),\"\")","v":""},{"$f":"IFERROR(IF(ISNA(IF($D60=$B$77,(L36/VLOOKUP($C60,$B$66:$R$71,COLUMN()-1)),IF($D60=$B$78,(L36/K36)/(VLOOKUP($C60,$B$66:L$71,COLUMN()-1,FALSE)/VLOOKUP($C60,$B$66:L$71,COLUMN()-2,FALSE))))),\"\",IF($D60=$B$77,(L36/VLOOKUP($C60,$B$66:$R$71,COLUMN()-1,FALSE)),IF($D60=$B$78,(L36/K36)/(VLOOKUP($C60,$B$66:L$71,COLUMN()-1,FALSE)/VLOOKUP($C60,$B$66:L$71,COLUMN()-2,FALSE))))),\"\")","v":""},{"$f":"IFERROR(IF(ISNA(IF($D60=$B$77,(M36/VLOOKUP($C60,$B$66:$R$71,COLUMN()-1)),IF($D60=$B$78,(M36/L36)/(VLOOKUP($C60,$B$66:M$71,COLUMN()-1,FALSE)/VLOOKUP($C60,$B$66:M$71,COLUMN()-2,FALSE))))),\"\",IF($D60=$B$77,(M36/VLOOKUP($C60,$B$66:$R$71,COLUMN()-1,FALSE)),IF($D60=$B$78,(M36/L36)/(VLOOKUP($C60,$B$66:M$71,COLUMN()-1,FALSE)/VLOOKUP($C60,$B$66:M$71,COLUMN()-2,FALSE))))),\"\")","v":""},{"$f":"IFERROR(IF(ISNA(IF($D60=$B$77,(N36/VLOOKUP($C60,$B$66:$R$71,COLUMN()-1)),IF($D60=$B$78,(N36/M36)/(VLOOKUP($C60,$B$66:N$71,COLUMN()-1,FALSE)/VLOOKUP($C60,$B$66:N$71,COLUMN()-2,FALSE))))),\"\",IF($D60=$B$77,(N36/VLOOKUP($C60,$B$66:$R$71,COLUMN()-1,FALSE)),IF($D60=$B$78,(N36/M36)/(VLOOKUP($C60,$B$66:N$71,COLUMN()-1,FALSE)/VLOOKUP($C60,$B$66:N$71,COLUMN()-2,FALSE))))),\"\")","v":""},0,{"$f":"IFERROR(O60,0)","v":0},{"$f":"P60","v":0},0]
[null,{"$f":"B37","v":"o/w commodity based"},"GDP at current prices","ETR",{"$f":"IFERROR(IF(ISNA(IF($D61=$B$77,(E37/VLOOKUP($C61,$B$66:$R$71,COLUMN()-1)),IF($D61=$B$78,(E37/D37)/(VLOOKUP($C61,$B$66:E$71,COLUMN()-1,FALSE)/VLOOKUP($C61,$B$66:E$71,COLUMN()-2,FALSE))))),\"\",IF($D61=$B$77,(E37/VLOOKUP($C61,$B$66:$R$71,COLUMN()-1)),IF($D61=$B$78,(E37/D37)/(VLOOKUP($C61,$B$66:E$71,COLUMN()-1,FALSE)/VLOOKUP($C61,$B$66:E$71,COLUMN()-2,FALSE))))),\"\")","v":""},{"$f":"IFERROR(IF(ISNA(IF($D61=$B$77,(F37/VLOOKUP($C61,$B$66:$R$71,COLUMN()-1)),IF($D61=$B$78,(F37/E37)/(VLOOKUP($C61,$B$66:F$71,COLUMN()-1,FALSE)/VLOOKUP($C61,$B$66:F$71,COLUMN()-2,FALSE))))),\"\",IF($D61=$B$77,(F37/VLOOKUP($C61,$B$66:$R$71,COLUMN()-1)),IF($D61=$B$78,(F37/E37)/(VLOOKUP($C61,$B$66:F$71,COLUMN()-1,FALSE)/VLOOKUP($C61,$B$66:F$71,COLUMN()-2,FALSE))))),\"\")","v":""},{"$f":"IFERROR(IF(ISNA(IF($D61=$B$77,(G37/VLOOKUP($C61,$B$66:$R$71,COLUMN()-1)),IF($D61=$B$78,(G37/F37)/(VLOOKUP($C61,$B$66:G$71,COLUMN()-1,FALSE)/VLOOKUP($C61,$B$66:G$71,COLUMN()-2,FALSE))))),\"\",IF($D61=$B$77,(G37/VLOOKUP($C61,$B$66:$R$71,COLUMN()-1)),IF($D61=$B$78,(G37/F37)/(VLOOKUP($C61,$B$66:G$71,COLUMN()-1,FALSE)/VLOOKUP($C61,$B$66:G$71,COLUMN()-2,FALSE))))),\"\")","v":""},{"$f":"IFERROR(IF(ISNA(IF($D61=$B$77,(H37/VLOOKUP($C61,$B$66:$R$71,COLUMN()-1)),IF($D61=$B$78,(H37/G37)/(VLOOKUP($C61,$B$66:H$71,COLUMN()-1,FALSE)/VLOOKUP($C61,$B$66:H$71,COLUMN()-2,FALSE))))),\"\",IF($D61=$B$77,(H37/VLOOKUP($C61,$B$66:$R$71,COLUMN()-1)),IF($D61=$B$78,(H37/G37)/(VLOOKUP($C61,$B$66:H$71,COLUMN()-1,FALSE)/VLOOKUP($C61,$B$66:H$71,COLUMN()-2,FALSE))))),\"\")","v":""},{"$f":"IFERROR(IF(ISNA(IF($D61=$B$77,(I37/VLOOKUP($C61,$B$66:$R$71,COLUMN()-1)),IF($D61=$B$78,(I37/H37)/(VLOOKUP($C61,$B$66:I$71,COLUMN()-1,FALSE)/VLOOKUP($C61,$B$66:I$71,COLUMN()-2,FALSE))))),\"\",IF($D61=$B$77,(I37/VLOOKUP($C61,$B$66:$R$71,COLUMN()-1)),IF($D61=$B$78,(I37/H37)/(VLOOKUP($C61,$B$66:I$71,COLUMN()-1,FALSE)/VLOOKUP($C61,$B$66:I$71,COLUMN()-2,FALSE))))),\"\")","v":""},{"$f":"IFERROR(IF(ISNA(IF($D61=$B$77,(J37/VLOOKUP($C61,$B$66:$R$71,COLUMN()-1)),IF($D61=$B$78,(J37/I37)/(VLOOKUP($C61,$B$66:J$71,COLUMN()-1,FALSE)/VLOOKUP($C61,$B$66:J$71,COLUMN()-2,FALSE))))),\"\",IF($D61=$B$77,(J37/VLOOKUP($C61,$B$66:$R$71,COLUMN()-1)),IF($D61=$B$78,(J37/I37)/(VLOOKUP($C61,$B$66:J$71,COLUMN()-1,FALSE)/VLOOKUP($C61,$B$66:J$71,COLUMN()-2,FALSE))))),\"\")","v":""},{"$f":"IFERROR(IF(ISNA(IF($D61=$B$77,(K37/VLOOKUP($C61,$B$66:$R$71,COLUMN()-1)),IF($D61=$B$78,(K37/J37)/(VLOOKUP($C61,$B$66:K$71,COLUMN()-1,FALSE)/VLOOKUP($C61,$B$66:K$71,COLUMN()-2,FALSE))))),\"\",IF($D61=$B$77,(K37/VLOOKUP($C61,$B$66:$R$71,COLUMN()-1)),IF($D61=$B$78,(K37/J37)/(VLOOKUP($C61,$B$66:K$71,COLUMN()-1,FALSE)/VLOOKUP($C61,$B$66:K$71,COLUMN()-2,FALSE))))),\"\")","v":""},{"$f":"IFERROR(IF(ISNA(IF($D61=$B$77,(L37/VLOOKUP($C61,$B$66:$R$71,COLUMN()-1)),IF($D61=$B$78,(L37/K37)/(VLOOKUP($C61,$B$66:L$71,COLUMN()-1,FALSE)/VLOOKUP($C61,$B$66:L$71,COLUMN()-2,FALSE))))),\"\",IF($D61=$B$77,(L37/VLOOKUP($C61,$B$66:$R$71,COLUMN()-1,FALSE)),IF($D61=$B$78,(L37/K37)/(VLOOKUP($C61,$B$66:L$71,COLUMN()-1,FALSE)/VLOOKUP($C61,$B$66:L$71,COLUMN()-2,FALSE))))),\"\")","v":""},{"$f":"IFERROR(IF(ISNA(IF($D61=$B$77,(M37/VLOOKUP($C61,$B$66:$R$71,COLUMN()-1)),IF($D61=$B$78,(M37/L37)/(VLOOKUP($C61,$B$66:M$71,COLUMN()-1,FALSE)/VLOOKUP($C61,$B$66:M$71,COLUMN()-2,FALSE))))),\"\",IF($D61=$B$77,(M37/VLOOKUP($C61,$B$66:$R$71,COLUMN()-1,FALSE)),IF($D61=$B$78,(M37/L37)/(VLOOKUP($C61,$B$66:M$71,COLUMN()-1,FALSE)/VLOOKUP($C61,$B$66:M$71,COLUMN()-2,FALSE))))),\"\")","v":""},{"$f":"IFERROR(IF(ISNA(IF($D61=$B$77,(N37/VLOOKUP($C61,$B$66:$R$71,COLUMN()-1)),IF($D61=$B$78,(N37/M37)/(VLOOKUP($C61,$B$66:N$71,COLUMN()-1,FALSE)/VLOOKUP($C61,$B$66:N$71,COLUMN()-2,FALSE))))),\"\",IF($D61=$B$77,(N37/VLOOKUP($C61,$B$66:$R$71,COLUMN()-1,FALSE)),IF($D61=$B$78,(N37/M37)/(VLOOKUP($C61,$B$66:N$71,COLUMN()-1,FALSE)/VLOOKUP($C61,$B$66:N$71,COLUMN()-2,FALSE))))),\"\")","v":""},0,{"$f":"IFERROR(O61,0)","v":0},0,0]
[null,"o/w Other revenues (special)","GDP at current prices","ETR",{"$f":"IFERROR(IF(ISNA(IF($D62=$B$77,(E38/VLOOKUP($C62,$B$66:$R$71,COLUMN()-1)),IF($D62=$B$78,(E38/D38)/(VLOOKUP($C62,$B$66:E$71,COLUMN()-1,FALSE)/VLOOKUP($C62,$B$66:E$71,COLUMN()-2,FALSE))))),\"\",IF($D62=$B$77,(E38/VLOOKUP($C62,$B$66:$R$71,COLUMN()-1)),IF($D62=$B$78,(E38/D38)/(VLOOKUP($C62,$B$66:E$71,COLUMN()-1,FALSE)/VLOOKUP($C62,$B$66:E$71,COLUMN()-2,FALSE))))),\"\")","v":""},{"$f":"IFERROR(IF(ISNA(IF($D62=$B$77,(F38/VLOOKUP($C62,$B$66:$R$71,COLUMN()-1)),IF($D62=$B$78,(F38/E38)/(VLOOKUP($C62,$B$66:F$71,COLUMN()-1,FALSE)/VLOOKUP($C62,$B$66:F$71,COLUMN()-2,FALSE))))),\"\",IF($D62=$B$77,(F38/VLOOKUP($C62,$B$66:$R$71,COLUMN()-1)),IF($D62=$B$78,(F38/E38)/(VLOOKUP($C62,$B$66:F$71,COLUMN()-1,FALSE)/VLOOKUP($C62,$B$66:F$71,COLUMN()-2,FALSE))))),\"\")","v":""},{"$f":"IFERROR(IF(ISNA(IF($D62=$B$77,(G38/VLOOKUP($C62,$B$66:$R$71,COLUMN()-1)),IF($D62=$B$78,(G38/F38)/(VLOOKUP($C62,$B$66:G$71,COLUMN()-1,FALSE)/VLOOKUP($C62,$B$66:G$71,COLUMN()-2,FALSE))))),\"\",IF($D62=$B$77,(G38/VLOOKUP($C62,$B$66:$R$71,COLUMN()-1)),IF($D62=$B$78,(G38/F38)/(VLOOKUP($C62,$B$66:G$71,COLUMN()-1,FALSE)/VLOOKUP($C62,$B$66:G$71,COLUMN()-2,FALSE))))),\"\")","v":""},{"$f":"IFERROR(IF(ISNA(IF($D62=$B$77,(H38/VLOOKUP($C62,$B$66:$R$71,COLUMN()-1)),IF($D62=$B$78,(H38/G38)/(VLOOKUP($C62,$B$66:H$71,COLUMN()-1,FALSE)/VLOOKUP($C62,$B$66:H$71,COLUMN()-2,FALSE))))),\"\",IF($D62=$B$77,(H38/VLOOKUP($C62,$B$66:$R$71,COLUMN()-1)),IF($D62=$B$78,(H38/G38)/(VLOOKUP($C62,$B$66:H$71,COLUMN()-1,FALSE)/VLOOKUP($C62,$B$66:H$71,COLUMN()-2,FALSE))))),\"\")","v":""},{"$f":"IFERROR(IF(ISNA(IF($D62=$B$77,(I38/VLOOKUP($C62,$B$66:$R$71,COLUMN()-1)),IF($D62=$B$78,(I38/H38)/(VLOOKUP($C62,$B$66:I$71,COLUMN()-1,FALSE)/VLOOKUP($C62,$B$66:I$71,COLUMN()-2,FALSE))))),\"\",IF($D62=$B$77,(I38/VLOOKUP($C62,$B$66:$R$71,COLUMN()-1)),IF($D62=$B$78,(I38/H38)/(VLOOKUP($C62,$B$66:I$71,COLUMN()-1,FALSE)/VLOOKUP($C62,$B$66:I$71,COLUMN()-2,FALSE))))),\"\")","v":""},{"$f":"IFERROR(IF(ISNA(IF($D62=$B$77,(J38/VLOOKUP($C62,$B$66:$R$71,COLUMN()-1)),IF($D62=$B$78,(J38/I38)/(VLOOKUP($C62,$B$66:J$71,COLUMN()-1,FALSE)/VLOOKUP($C62,$B$66:J$71,COLUMN()-2,FALSE))))),\"\",IF($D62=$B$77,(J38/VLOOKUP($C62,$B$66:$R$71,COLUMN()-1)),IF($D62=$B$78,(J38/I38)/(VLOOKUP($C62,$B$66:J$71,COLUMN()-1,FALSE)/VLOOKUP($C62,$B$66:J$71,COLUMN()-2,FALSE))))),\"\")","v":""},{"$f":"IFERROR(IF(ISNA(IF($D62=$B$77,(K38/VLOOKUP($C62,$B$66:$R$71,COLUMN()-1)),IF($D62=$B$78,(K38/J38)/(VLOOKUP($C62,$B$66:K$71,COLUMN()-1,FALSE)/VLOOKUP($C62,$B$66:K$71,COLUMN()-2,FALSE))))),\"\",IF($D62=$B$77,(K38/VLOOKUP($C62,$B$66:$R$71,COLUMN()-1)),IF($D62=$B$78,(K38/J38)/(VLOOKUP($C62,$B$66:K$71,COLUMN()-1,FALSE)/VLOOKUP($C62,$B$66:K$71,COLUMN()-2,FALSE))))),\"\")","v":""},{"$f":"IFERROR(IF(ISNA(IF($D62=$B$77,(L38/VLOOKUP($C62,$B$66:$R$71,COLUMN()-1)),IF($D62=$B$78,(L38/K38)/(VLOOKUP($C62,$B$66:L$71,COLUMN()-1,FALSE)/VLOOKUP($C62,$B$66:L$71,COLUMN()-2,FALSE))))),\"\",IF($D62=$B$77,(L38/VLOOKUP($C62,$B$66:$R$71,COLUMN()-1,FALSE)),IF($D62=$B$78,(L38/K38)/(VLOOKUP($C62,$B$66:L$71,COLUMN()-1,FALSE)/VLOOKUP($C62,$B$66:L$71,COLUMN()-2,FALSE))))),\"\")","v":""},{"$f":"IFERROR(IF(ISNA(IF($D62=$B$77,(M38/VLOOKUP($C62,$B$66:$R$71,COLUMN()-1)),IF($D62=$B$78,(M38/L38)/(VLOOKUP($C62,$B$66:M$71,COLUMN()-1,FALSE)/VLOOKUP($C62,$B$66:M$71,COLUMN()-2,FALSE))))),\"\",IF($D62=$B$77,(M38/VLOOKUP($C62,$B$66:$R$71,COLUMN()-1,FALSE)),IF($D62=$B$78,(M38/L38)/(VLOOKUP($C62,$B$66:M$71,COLUMN()-1,FALSE)/VLOOKUP($C62,$B$66:M$71,COLUMN()-2,FALSE))))),\"\")","v":""},{"$f":"IFERROR(IF(ISNA(IF($D62=$B$77,(N38/VLOOKUP($C62,$B$66:$R$71,COLUMN()-1)),IF($D62=$B$78,(N38/M38)/(VLOOKUP($C62,$B$66:N$71,COLUMN()-1,FALSE)/VLOOKUP($C62,$B$66:N$71,COLUMN()-2,FALSE))))),\"\",IF($D62=$B$77,(N38/VLOOKUP($C62,$B$66:$R$71,COLUMN()-1,FALSE)),IF($D62=$B$78,(N38/M38)/(VLOOKUP($C62,$B$66:N$71,COLUMN()-1,FALSE)/VLOOKUP($C62,$B$66:N$71,COLUMN()-2,FALSE))))),\"\")","v":""},0,{"$f":"IFERROR(O62,0)","v":0},0,0]
[]
[]
[null,{"$f":"Labels!F135","v":"Parameters"}]
[null,{"$f":"Labels!F136","v":"Consumption"},null,null,{"$f":"IF('GDP (E)'!E5<>\"\",'GDP (E)'!E5,\"\")","v":""},{"$f":"IF('GDP (E)'!F5<>\"\",'GDP (E)'!F5,\"\")","v":""},{"$f":"IF('GDP (E)'!G5<>\"\",'GDP (E)'!G5,\"\")","v":""},{"$f":"IF('GDP (E)'!H5<>\"\",'GDP (E)'!H5,\"\")","v":""},{"$f":"IF('GDP (E)'!I5<>\"\",'GDP (E)'!I5,\"\")","v":""},{"$f":"IF('GDP (E)'!J5<>\"\",'GDP (E)'!J5,\"\")","v":""},{"$f":"IF('GDP (E)'!K5<>\"\",'GDP (E)'!K5,\"\")","v":""},{"$f":"IF('GDP (E)'!L5<>\"\",'GDP (E)'!L5,\"\")","v":""},{"$f":"IF('GDP (E)'!M5<>\"\",'GDP (E)'!M5,\"\")","v":""},{"$f":"IF('GDP (E)'!N5<>\"\",'GDP (E)'!N5,\"\")","v":""},{"$f":"IF('GDP (E)'!O5<>\"\",'GDP (E)'!O5,\"\")","v":""},{"$f":"IF('GDP (E)'!P5<>\"\",'GDP (E)'!P5,\"\")","v":""},{"$f":"IF('GDP (E)'!Q5<>\"\",'GDP (E)'!Q5,\"\")","v":""},{"$f":"IF('GDP (E)'!R5<>\"\",'GDP (E)'!R5,\"\")","v":""}]
[null,{"$f":"Labels!F137","v":"Investment"},null,null,{"$f":"IF('GDP (E)'!E9<>\"\",'GDP (E)'!E9,\"\")","v":""},{"$f":"IF('GDP (E)'!F9<>\"\",'GDP (E)'!F9,\"\")","v":""},{"$f":"IF('GDP (E)'!G9<>\"\",'GDP (E)'!G9,\"\")","v":""},{"$f":"IF('GDP (E)'!H9<>\"\",'GDP (E)'!H9,\"\")","v":""},{"$f":"IF('GDP (E)'!I9<>\"\",'GDP (E)'!I9,\"\")","v":""},{"$f":"IF('GDP (E)'!J9<>\"\",'GDP (E)'!J9,\"\")","v":""},{"$f":"IF('GDP (E)'!K9<>\"\",'GDP (E)'!K9,\"\")","v":""},{"$f":"IF('GDP (E)'!L9<>\"\",'GDP (E)'!L9,\"\")","v":""},{"$f":"IF('GDP (E)'!M9<>\"\",'GDP (E)'!M9,\"\")","v":""},{"$f":"IF('GDP (E)'!N9<>\"\",'GDP (E)'!N9,\"\")","v":""},{"$f":"IF('GDP (E)'!O9<>\"\",'GDP (E)'!O9,\"\")","v":""},{"$f":"IF('GDP (E)'!P9<>\"\",'GDP (E)'!P9,\"\")","v":""},{"$f":"IF('GDP (E)'!Q9<>\"\",'GDP (E)'!Q9,\"\")","v":""},{"$f":"IF('GDP (E)'!R9<>\"\",'GDP (E)'!R9,\"\")","v":""}]
[null,{"$f":"'GDP (P)'!B130","v":"Mining & quarrying"},null,null,null,{"$f":"'GDP (P)'!F130","v":0},{"$f":"'GDP (P)'!G130","v":0},{"$f":"'GDP (P)'!H130","v":0},{"$f":"'GDP (P)'!I130","v":0},{"$f":"'GDP (P)'!J130","v":0},{"$f":"'GDP (P)'!K130","v":0},{"$f":"'GDP (P)'!L130","v":0},{"$f":"'GDP (P)'!M130","v":0},{"$f":"'GDP (P)'!N130","v":0},{"$f":"'GDP (P)'!O130","v":""},{"$f":"'GDP (P)'!P130","v":""},{"$f":"'GDP (P)'!Q130","v":""},{"$f":"'GDP (P)'!R130","v":""}]
[null,{"$f":"Labels!F139","v":"Imports"},null,null,{"$f":"IF('GDP (E)'!E13<>\"\",'GDP (E)'!E13,\"\")","v":""},{"$f":"IF('GDP (E)'!F13<>\"\",'GDP (E)'!F13,\"\")","v":""},{"$f":"IF('GDP (E)'!G13<>\"\",'GDP (E)'!G13,\"\")","v":""},{"$f":"IF('GDP (E)'!H13<>\"\",'GDP (E)'!H13,\"\")","v":""},{"$f":"IF('GDP (E)'!I13<>\"\",'GDP (E)'!I13,\"\")","v":""},{"$f":"IF('GDP (E)'!J13<>\"\",'GDP (E)'!J13,\"\")","v":""},{"$f":"IF('GDP (E)'!K13<>\"\",'GDP (E)'!K13,\"\")","v":""},{"$f":"IF('GDP (E)'!L13<>\"\",'GDP (E)'!L13,\"\")","v":""},{"$f":"IF('GDP (E)'!M13<>\"\",'GDP (E)'!M13,\"\")","v":""},{"$f":"IF('GDP (E)'!N13<>\"\",'GDP (E)'!N13,\"\")","v":""},{"$f":"IF('GDP (E)'!O13<>\"\",'GDP (E)'!O13,\"\")","v":""},{"$f":"IF('GDP (E)'!P13<>\"\",'GDP (E)'!P13,\"\")","v":""},{"$f":"IF('GDP (E)'!Q13<>\"\",'GDP (E)'!Q13,\"\")","v":""},{"$f":"IF('GDP (E)'!R13<>\"\",'GDP (E)'!R13,\"\")","v":""}]
[null,{"$f":"Labels!F52","v":"GDP at current prices"},null,null,{"$f":"IF('GDP (P)'!E2<>\"\",'GDP (P)'!E2,\"\")","v":0},{"$f":"IF('GDP (P)'!F2<>\"\",'GDP (P)'!F2,\"\")","v":0},{"$f":"IF('GDP (P)'!G2<>\"\",'GDP (P)'!G2,\"\")","v":0},{"$f":"IF('GDP (P)'!H2<>\"\",'GDP (P)'!H2,\"\")","v":0},{"$f":"IF('GDP (P)'!I2<>\"\",'GDP (P)'!I2,\"\")","v":0},{"$f":"IF('GDP (P)'!J2<>\"\",'GDP (P)'!J2,\"\")","v":0},{"$f":"IF('GDP (P)'!K2<>\"\",'GDP (P)'!K2,\"\")","v":0},{"$f":"IF('GDP (P)'!L2<>\"\",'GDP (P)'!L2,\"\")","v":0},{"$f":"IF('GDP (P)'!M2<>\"\",'GDP (P)'!M2,\"\")","v":0},{"$f":"IF('GDP (P)'!N2<>\"\",'GDP (P)'!N2,\"\")","v":0},{"$f":"IFERROR(IF('GDP (P)'!O2<>\"\",'GDP (P)'!O2,\"\"),\"\")","v":0},{"$f":"IFERROR(IF('GDP (P)'!P2<>\"\",'GDP (P)'!P2,\"\"),\"\")","v":0},{"$f":"IFERROR(IF('GDP (P)'!Q2<>\"\",'GDP (P)'!Q2,\"\"),\"\")","v":0},{"$f":"IFERROR(IF('GDP (P)'!R2<>\"\",'GDP (P)'!R2,\"\"),\"\")","v":0}]
[null,{"$f":"Labels!F53","v":"GDP at constant prices"},null,null,{"$f":"IF('GDP (P)'!E3<>\"\",'GDP (P)'!E3,\"\")","v":0},{"$f":"IF('GDP (P)'!F3<>\"\",'GDP (P)'!F3,\"\")","v":0},{"$f":"IF('GDP (P)'!G3<>\"\",'GDP (P)'!G3,\"\")","v":0},{"$f":"IF('GDP (P)'!H3<>\"\",'GDP (P)'!H3,\"\")","v":0},{"$f":"IF('GDP (P)'!I3<>\"\",'GDP (P)'!I3,\"\")","v":0},{"$f":"IF('GDP (P)'!J3<>\"\",'GDP (P)'!J3,\"\")","v":0},{"$f":"IF('GDP (P)'!K3<>\"\",'GDP (P)'!K3,\"\")","v":0},{"$f":"IF('GDP (P)'!L3<>\"\",'GDP (P)'!L3,\"\")","v":0},{"$f":"IF('GDP (P)'!M3<>\"\",'GDP (P)'!M3,\"\")","v":0},{"$f":"IF('GDP (P)'!N3<>\"\",'GDP (P)'!N3,\"\")","v":0},{"$f":"IF('GDP (P)'!O3<>\"\",'GDP (P)'!O3,\"\")","v":0},{"$f":"IF('GDP (P)'!P3<>\"\",'GDP (P)'!P3,\"\")","v":0},{"$f":"IF('GDP (P)'!Q3<>\"\",'GDP (P)'!Q3,\"\")","v":0},{"$f":"IF('GDP (P)'!R3<>\"\",'GDP (P)'!R3,\"\")","v":0}]
[null,{"$f":"Labels!F54","v":"GDP at current prices (growth)"},null,{"$f":"IF(C70<>\"\",D70/C70*100-100,\"\")","v":""},{"$f":"IFERROR(IF(D70<>\"\",E70/D70*100-100,\"\"),\"\")","v":""},"","","","","","",{"$f":"IFERROR(IF(K70<>\"\",L70/K70*100-100,\"\"),\"\")","v":""},"","","","","",{"$f":"IFERROR(IF(Q70<>\"\",R70/Q70*100-100,\"\"),\"\")","v":""}]
[null,{"$f":"Labels!F55","v":"GDP at constant prices (growth)"},null,{"$f":"IF(C71<>\"\",D71/C71*100-100,\"\")","v":""},{"$f":"IFERROR(IF(D71<>\"\",E71/D71*100-100,\"\"),\"\")","v":""},{"$f":"IFERROR(IF(E71<>\"\",F71/E71*100-100,\"\"),\"\")","v":""},"","","","","","","","","","","",""]
[]
[]
[null,"Options"]
[null,{"$f":"Labels!F133","v":"ETR"}]
[null,{"$f":"Labels!F134","v":"Buoyancy"}]

{"sheet":"EXPENDITURE","index":16,"n_rows":52,"n_cols":18,"rows_kept":52,"cut":false,"hidden":false,"merged":[]}
[null,null,null,null,{"$f":"'GDP (P)'!E1","v":2012},{"$f":"'GDP (P)'!F1","v":2013},{"$f":"'GDP (P)'!G1","v":2014},{"$f":"'GDP (P)'!H1","v":2015},{"$f":"'GDP (P)'!I1","v":2016},{"$f":"'GDP (P)'!J1","v":2017},{"$f":"'GDP (P)'!K1","v":2018},{"$f":"'GDP (P)'!L1","v":2019},{"$f":"'GDP (P)'!M1","v":2020},{"$f":"'GDP (P)'!N1","v":2021},{"$f":"'GDP (P)'!O1","v":2022},{"$f":"'GDP (P)'!P1","v":2023},{"$f":"'GDP (P)'!Q1","v":2024},{"$f":"'GDP (P)'!R1","v":2025}]
[null,{"$f":"Labels!F51","v":"Shock Scenario"}]
[null,{"$f":"Labels!F140","v":"Expenditure"},null,null,{"$f":"E7+E21","v":0},0,0,0,0,0,0,{"$f":"L7+L21","v":0},{"$f":"M7+M21","v":0},{"$f":"N7+N21","v":0},{"$f":"IFERROR(O4+O5,\"\")","v":0},{"$f":"IFERROR(P4+P5,\"\")","v":0},{"$f":"IFERROR(Q4+Q5,\"\")","v":0},{"$f":"IFERROR(R4+R5,\"\")","v":0}]
[null,{"$f":"Labels!F141","v":"Expenses"},null,null,{"$f":"E7","v":0},0,0,0,0,0,0,{"$f":"L7","v":0},{"$f":"M7","v":0},{"$f":"N7","v":0},{"$f":"IFERROR(O7,\"\")","v":0},{"$f":"IFERROR(P7,\"\")","v":0},{"$f":"IFERROR(Q7,\"\")","v":0},{"$f":"IFERROR(R7,\"\")","v":0}]
[null,{"$f":"Labels!F142","v":"Acquisition of Nonfinancial Assets"},null,null,{"$f":"E21","v":0},0,0,0,0,0,0,{"$f":"L21","v":0},0,0,0,0,0,0]
[]
[null,{"$f":"B4","v":"Expenses"},null,null,{"$f":"E8+E11+E14+E17+E18+E19","v":0},0,0,0,0,0,0,{"$f":"L8+L11+L14+L17+L18+L19","v":0},{"$f":"M8+M11+M14+M17+M18+M19","v":0},{"$f":"N8+N11+N14+N17+N18+N19","v":0},{"$f":"IFERROR(O8+O11+O14+O17+O18+O19,\"\")","v":0},{"$f":"IFERROR(P8+P11+P14+P17+P18+P19,\"\")","v":0},{"$f":"IFERROR(Q8+Q11+Q14+Q17+Q18+Q19,\"\")","v":0},{"$f":"IFERROR(R8+R11+R14+R17+R18+R19,\"\")","v":0}]
[null,{"$f":"Labels!F143","v":"a. Wages and salaries"},null,null,{"$f":"E31","v":0},0,0,0,0,0,0,{"$f":"L31","v":0},{"$f":"M31","v":0},{"$f":"N31","v":0},{"$f":"IFERROR(SUM(O9:O10),\"\")","v":0},{"$f":"IFERROR(SUM(P9:P10),\"\")","v":0},{"$f":"IFERROR(SUM(Q9:Q10),\"\")","v":0},{"$f":"IFERROR(SUM(R9:R10),\"\")","v":0}]
[null,{"$f":"Labels!F144","v":"o/w Health"},null,null,{"$f":"E32","v":0},0,0,0,0,0,0,{"$f":"L32","v":0},0,0,{"$f":"IFERROR(N9*(1+O52/100),\"\")","v":""},{"$f":"IFERROR(O9*(1+P52/100),\"\")","v":""},{"$f":"IFERROR(P9*(1+Q52/100),\"\")","v":""},{"$f":"IFERROR(Q9*(1+R52/100),\"\")","v":""}]
[null,{"$f":"Labels!F145","v":"other"},null,null,{"$f":"E33","v":0},0,0,0,0,0,0,0,0,0,{"$f":"IFERROR(O33+SUMIFS('Policy Responses'!O$3:O$50,'Policy Responses'!$B$3:$B$50,'Policy Responses'!$T$20),\"\")","v":0},{"$f":"IFERROR(P33+SUMIFS('Policy Responses'!P$3:P$50,'Policy Responses'!$B$3:$B$50,'Policy Responses'!$T$20),\"\")","v":0},{"$f":"IFERROR(Q33+SUMIFS('Policy Responses'!Q$3:Q$50,'Policy Responses'!$B$3:$B$50,'Policy Responses'!$T$20),\"\")","v":0},{"$f":"IFERROR(R33+SUMIFS('Policy Responses'!R$3:R$50,'Policy Responses'!$B$3:$B$50,'Policy Responses'!$T$20),\"\")","v":0}]
[null,{"$f":"Labels!F146","v":"b. Use of Good and Services"},null,null,{"$f":"E34","v":0},0,0,0,0,0,0,0,0,0,{"$f":"IFERROR(SUM(O12:O13),\"\")","v":0},{"$f":"IFERROR(SUM(P12:P13),\"\")","v":0},{"$f":"IFERROR(SUM(Q12:Q13),\"\")","v":0},{"$f":"IFERROR(SUM(R12:R13),\"\")","v":0}]
[null,{"$f":"B9","v":"o/w Health"},null,null,{"$f":"E35","v":0},0,0,0,0,0,0,0,0,0,{"$f":"IFERROR(N12*(1+O52/100),\"\")","v":""},{"$f":"IFERROR(O12*(1+P52/100),\"\")","v":""},{"$f":"IFERROR(P12*(1+Q52/100),\"\")","v":""},{"$f":"IFERROR(Q12*(1+R52/100),\"\")","v":""}]
[null,{"$f":"B10","v":"other"},null,null,{"$f":"E36","v":0},0,0,0,0,0,0,0,0,0,{"$f":"IFERROR(O36+SUMIFS('Policy Responses'!O$3:O$50,'Policy Responses'!$B$3:$B$50,'Policy Responses'!$T$21),\"\")","v":0},{"$f":"IFERROR(P36+SUMIFS('Policy Responses'!P$3:P$50,'Policy Responses'!$B$3:$B$50,'Policy Responses'!$T$21),\"\")","v":0},{"$f":"IFERROR(Q36+SUMIFS('Policy Responses'!Q$3:Q$50,'Policy Responses'!$B$3:$B$50,'Policy Responses'!$T$21),\"\")","v":0},{"$f":"IFERROR(R36+SUMIFS('Policy Responses'!R$3:R$50,'Policy Responses'!$B$3:$B$50,'Policy Responses'!$T$21),\"\")","v":0}]
[null,{"$f":"Labels!F147","v":"c. Interest payments"},null,null,{"$f":"E37","v":0},0,0,0,0,0,0,0,0,0,{"$f":"O15+O16","v":0},{"$f":"P15+P16","v":0},{"$f":"Q15+Q16","v":0},{"$f":"R15+R16","v":0}]
[null,{"$f":"Labels!F148","v":"Domestic "},null,null,{"$f":"E38","v":0},0,0,0,0,0,0,0,0,0,0,0,0,0]
[null,{"$f":"Labels!F149","v":"External"},null,null,{"$f":"E39","v":0},0,0,0,0,0,0,0,0,0,0,0,0,0]
[null,{"$f":"Labels!F150","v":"d. Grants and other payments"},null,null,{"$f":"E40","v":0},0,0,0,0,0,0,0,0,0,{"$f":"O40+SUMIFS('Policy Responses'!O$3:O$50,'Policy Responses'!$B$3:$B$50,'Policy Responses'!$T$22)","v":0},{"$f":"P40+SUMIFS('Policy Responses'!P$3:P$50,'Policy Responses'!$B$3:$B$50,'Policy Responses'!$T$22)","v":0},{"$f":"Q40+SUMIFS('Policy Responses'!Q$3:Q$50,'Policy Responses'!$B$3:$B$50,'Policy Responses'!$T$22)","v":0},{"$f":"R40+SUMIFS('Policy Responses'!R$3:R$50,'Policy Responses'!$B$3:$B$50,'Policy Responses'!$T$22)","v":0}]
[null,{"$f":"Labels!F151","v":"e. Social Benefits "},null,null,{"$f":"E41","v":0},0,0,0,0,0,0,0,0,0,{"$f":"O41+SUMIFS('Policy Responses'!O$3:O$50,'Policy Responses'!$B$3:$B$50,'Policy Responses'!$T$23)","v":0},{"$f":"P41+SUMIFS('Policy Responses'!P$3:P$50,'Policy Responses'!$B$3:$B$50,'Policy Responses'!$T$23)","v":0},{"$f":"Q41+SUMIFS('Policy Responses'!Q$3:Q$50,'Policy Responses'!$B$3:$B$50,'Policy Responses'!$T$23)","v":0},{"$f":"R41+SUMIFS('Policy Responses'!R$3:R$50,'Policy Responses'!$B$3:$B$50,'Policy Responses'!$T$23)","v":0}]
[null,{"$f":"Labels!F152","v":"f. Other Expenses"},null,null,{"$f":"E42","v":0},0,0,0,0,0,0,0,0,0,{"$f":"O42+SUMIFS('Policy Responses'!O$3:O$50,'Policy Responses'!$B$3:$B$50,'Policy Responses'!$T$24)","v":0},{"$f":"P42+SUMIFS('Policy Responses'!P$3:P$50,'Policy Responses'!$B$3:$B$50,'Policy Responses'!$T$24)","v":0},{"$f":"Q42+SUMIFS('Policy Responses'!Q$3:Q$50,'Policy Responses'!$B$3:$B$50,'Policy Responses'!$T$24)","v":0},{"$f":"R42+SUMIFS('Policy Responses'!R$3:R$50,'Policy Responses'!$B$3:$B$50,'Policy Responses'!$T$24)","v":0}]
[]
[null,{"$f":"B5","v":"Acquisition of Nonfinancial Assets"},null,null,{"$f":"E44","v":0},0,0,0,0,0,0,0,0,{"$f":"N44","v":0},{"$f":"O44+SUMIFS('Policy Responses'!O$3:O$50,'Policy Responses'!$B$3:$B$50,'Policy Responses'!$T$25)","v":0},{"$f":"P44+SUMIFS('Policy Responses'!P$3:P$50,'Policy Responses'!$B$3:$B$50,'Policy Responses'!$T$25)","v":0},{"$f":"Q44+SUMIFS('Policy Responses'!Q$3:Q$50,'Policy Responses'!$B$3:$B$50,'Policy Responses'!$T$25)","v":0},{"$f":"R44+SUMIFS('Policy Responses'!R$3:R$50,'Policy Responses'!$B$3:$B$50,'Policy Responses'!$T$25)","v":0}]
[]
[]
[]
[null,{"$f":"Labels!F178","v":"Baseline"}]
[null,{"$f":"B3","v":"Expenditure"},null,null,{"$f":"E3","v":0},0,0,0,0,0,0,{"$f":"L3","v":0},0,0,{"$f":"O27+O28","v":0},{"$f":"P27+P28","v":0},{"$f":"Q27+Q28","v":0},{"$f":"R27+R28","v":0}]
[null,{"$f":"B4","v":"Expenses"},null,null,{"$f":"E4","v":0},0,0,0,0,0,0,0,0,0,{"$f":"O30","v":0},{"$f":"P30","v":0},{"$f":"Q30","v":0},{"$f":"R30","v":0}]
[null,{"$f":"B5","v":"Acquisition of Nonfinancial Assets"},null,null,{"$f":"E5","v":0},0,0,0,0,0,0,0,0,0,{"$f":"O44","v":0},{"$f":"P44","v":0},{"$f":"Q44","v":0},{"$f":"R44","v":0}]
[]
[null,{"$f":"B7","v":"Expenses"},null,null,{"$f":"E31+E34+E37+E40+E41+E42","v":0},0,0,0,0,0,0,{"$f":"L31+L34+L37+L40+L41+L42","v":0},0,0,0,0,0,0]
[null,{"$f":"B8","v":"a. Wages and salaries"}]
[null,"o/w Health"]
[null,"other"]
[null,"b. Use of Good and Services"]
[null,"o/w Health"]
[null,"other"]
[null,"c. Interest payments"]
[null,"Domestic "]
[null,"External"]
[null,"d. Grants and other payments"]
[null,"e. Social Benefits "]
[null,"f. Other Expenses"]
[]
[null,{"$f":"B28","v":"Acquisition of Nonfinancial Assets"}]
[]
[]
[]
[null,{"$f":"Labels!F153","v":"Health parameters"}]
[null,{"$f":"Labels!F154","v":"% of Wages and Salaries"},null,null,{"$f":"IFERROR(E32/E31*100,\"\")","v":""},"","","","","","","","","","","","",{"$f":"IFERROR(R32/R31*100,\"\")","v":""}]
[null,{"$f":"Labels!F155","v":"% of Goods and Services"},null,null,{"$f":"IFERROR(E35/E34*100,\"\")","v":""},"","","","","","","","","","","","",{"$f":"IFERROR(R35/R34*100,\"\")","v":""}]
[null,{"$f":"Labels!F156","v":"% of Budget"},null,null,{"$f":"IFERROR((E32+E35)/E26*100,\"\")","v":""},"","","","","","","","","","","","",{"$f":"IFERROR((R32+R35)/R26*100,\"\")","v":""}]
[null,{"$f":"Labels!F157","v":"Health growth (from GDP(P) parameters)"},null,null,{"$f":"IFERROR('GDP (P)'!E146/'GDP (P)'!D146 *100 -100,\"LINK\")","v":"LINK"},{"$f":"IFERROR('GDP (P)'!F146/'GDP (P)'!E146 *100 -100,\"LINK\")","v":"LINK"},{"$f":"IFERROR('GDP (P)'!G146/'GDP (P)'!F146 *100 -100,\"LINK\")","v":"LINK"},{"$f":"IFERROR('GDP (P)'!H146/'GDP (P)'!G146 *100 -100,\"LINK\")","v":"LINK"},{"$f":"IFERROR('GDP (P)'!I146/'GDP (P)'!H146 *100 -100,\"LINK\")","v":"LINK"},{"$f":"IFERROR('GDP (P)'!J146/'GDP (P)'!I146 *100 -100,\"LINK\")","v":"LINK"},{"$f":"IFERROR('GDP (P)'!K146/'GDP (P)'!J146 *100 -100,\"LINK\")","v":"LINK"},{"$f":"IFERROR('GDP (P)'!L146/'GDP (P)'!K146 *100 -100,\"LINK\")","v":"LINK"},{"$f":"IFERROR('GDP (P)'!M146/'GDP (P)'!L146 *100 -100,\"LINK\")","v":"LINK"},{"$f":"IFERROR('GDP (P)'!N146/'GDP (P)'!M146 *100 -100,\"LINK\")","v":"LINK"},{"$f":"IFERROR('GDP (P)'!O146/'GDP (P)'!N146 *100 -100,\"LINK\")","v":"LINK"},{"$f":"IFERROR('GDP (P)'!P146/'GDP (P)'!O146 *100 -100,\"LINK\")","v":"LINK"},{"$f":"IFERROR('GDP (P)'!Q146/'GDP (P)'!P146 *100 -100,\"LINK\")","v":"LINK"},{"$f":"IFERROR('GDP (P)'!R146/'GDP (P)'!Q146 *100 -100,\"LINK\")","v":"LINK"}]

{"sheet":"DEBT","index":17,"n_rows":39,"n_cols":19,"rows_kept":39,"cut":false,"hidden":false,"merged":[]}
[null,null,null,null,{"$f":"'GDP (P)'!E1","v":2012},{"$f":"'GDP (P)'!F1","v":2013},{"$f":"'GDP (P)'!G1","v":2014},{"$f":"'GDP (P)'!H1","v":2015},{"$f":"'GDP (P)'!I1","v":2016},{"$f":"'GDP (P)'!J1","v":2017},{"$f":"'GDP (P)'!K1","v":2018},{"$f":"'GDP (P)'!L1","v":2019},{"$f":"'GDP (P)'!M1","v":2020},{"$f":"'GDP (P)'!N1","v":2021},{"$f":"'GDP (P)'!O1","v":2022},{"$f":"'GDP (P)'!P1","v":2023},{"$f":"'GDP (P)'!Q1","v":2024},{"$f":"'GDP (P)'!R1","v":2025}]
[null,{"$f":"Labels!F158","v":"Interest on domestic debt"},null,null,{"$f":"EXPENDITURE!E38","v":0},{"$f":"EXPENDITURE!F38","v":0},{"$f":"EXPENDITURE!G38","v":0},{"$f":"EXPENDITURE!H38","v":0},{"$f":"EXPENDITURE!I38","v":0},{"$f":"EXPENDITURE!J38","v":0},{"$f":"EXPENDITURE!K38","v":0},{"$f":"EXPENDITURE!L38","v":0},{"$f":"EXPENDITURE!M38","v":0},{"$f":"EXPENDITURE!N38","v":0},{"$f":"IFERROR(O21/100*O7,\"\")","v":""},{"$f":"IFERROR(P21/100*P7,\"\")","v":""},{"$f":"IFERROR(Q21/100*Q7,\"\")","v":""},{"$f":"IFERROR(R21/100*R7,\"\")","v":""}]
[null,{"$f":"Labels!F159","v":"Interest on foreign debt"},null,null,{"$f":"EXPENDITURE!E39","v":0},{"$f":"EXPENDITURE!F39","v":0},{"$f":"EXPENDITURE!G39","v":0},{"$f":"EXPENDITURE!H39","v":0},{"$f":"EXPENDITURE!I39","v":0},{"$f":"EXPENDITURE!J39","v":0},{"$f":"EXPENDITURE!K39","v":0},{"$f":"EXPENDITURE!L39","v":0},{"$f":"EXPENDITURE!M39","v":0},{"$f":"EXPENDITURE!N39","v":0},{"$f":"IFERROR(O22*O9/100*O23,\"\")","v":""},{"$f":"IFERROR(P22*P9/100*P23,\"\")","v":""},{"$f":"IFERROR(Q22*Q9/100*Q23,\"\")","v":""},{"$f":"IFERROR(R22*R9/100*R23,\"\")","v":""}]
[null,{"$f":"Labels!F160","v":"Total interest"},null,null,{"$f":"E3+E2","v":0},0,0,0,0,0,0,{"$f":"L3+L2","v":0},{"$f":"M3+M2","v":0},{"$f":"N3+N2","v":0},{"$f":"IFERROR(O3+O2,\"\")","v":""},{"$f":"IFERROR(P3+P2,\"\")","v":""},{"$f":"IFERROR(Q3+Q2,\"\")","v":""},{"$f":"IFERROR(R3+R2,\"\")","v":""}]
[]
[]
[null,{"$f":"Labels!F161","v":"Domestic debt"},null,null,null,null,null,null,null,null,null,null,null,null,{"$f":"IFERROR(O12*O14/100+N7,\"\")","v":""},{"$f":"IFERROR(P12*P14/100+O7,\"\")","v":""},{"$f":"IFERROR(Q12*Q14/100+P7,\"\")","v":""},{"$f":"IFERROR(R12*R14/100+Q7,\"\")","v":""}]
[null,{"$f":"Labels!F162","v":"Foreign debt"},null,null,null,null,null,null,null,null,null,null,null,null,{"$f":"IFERROR(O9*O23,\"\")","v":""},{"$f":"IFERROR(P9*P23,\"\")","v":""},{"$f":"IFERROR(Q9*Q23,\"\")","v":""},{"$f":"IFERROR(R9*R23,\"\")","v":""}]
[null,{"$f":"Labels!F163","v":"Foreign debt (USD)"},null,null,{"$f":"IFERROR(E8/E23,\"\")","v":""},{"$f":"IFERROR(F8/F23,\"\")","v":""},"","","","","","","","",{"$f":"IFERROR((O12*O15/100)/O23+N9,\"\")","v":""},{"$f":"IFERROR((P12*P15/100)/P23+O9,\"\")","v":""},{"$f":"IFERROR((Q12*Q15/100)/Q23+P9,\"\")","v":""},{"$f":"IFERROR((R12*R15/100)/R23+Q9,\"\")","v":""}]
[null,{"$f":"Labels!F164","v":"Total debt stock"},null,null,{"$f":"E7+E8","v":0},0,0,0,0,0,0,{"$f":"L7+L8","v":0},{"$f":"M7+M8","v":0},{"$f":"N7+N8","v":0},{"$f":"IFERROR(O8+O7,\"\")","v":""},{"$f":"IFERROR(P8+P7,\"\")","v":""},{"$f":"IFERROR(Q8+Q7,\"\")","v":""},{"$f":"IFERROR(R8+R7,\"\")","v":""}]
[]
[null,{"$f":"Labels!F165","v":"New borrowing"},null,null,null,null,null,null,null,null,null,null,null,null,{"$f":"IFERROR(-FISCAL!O14,\"\")","v":""},{"$f":"IFERROR(-FISCAL!P14,\"\")","v":""},{"$f":"IFERROR(-FISCAL!Q14,\"\")","v":""},{"$f":"IFERROR(-FISCAL!R14,\"\")","v":""}]
[]
[null,{"$f":"Labels!F166","v":"Domestic share of total"},null,null,{"$f":"IFERROR(E7/E10*100,\"\")","v":""},{"$f":"IFERROR(F7/F10*100,\"\")","v":""},"","","","","","","",""]
[null,{"$f":"Labels!F167","v":"Foreign share of total"},null,null,{"$f":"IFERROR(E8/E10*100,\"\")","v":""},{"$f":"IFERROR(F8/F10*100,\"\")","v":""},"","","","","","","",""]
[]
[]
[null,{"$f":"Labels!F168","v":"Interest on foreign debt (USD)"},null,null,{"$f":"IFERROR(E3/E23,\"\")","v":""},{"$f":"IFERROR(F3/F23,\"\")","v":""},"","","","","","","","",{"$f":"IFERROR(O3/O23,\"\")","v":""},{"$f":"IFERROR(P3/P23,\"\")","v":""},{"$f":"IFERROR(Q3/Q23,\"\")","v":""},{"$f":"IFERROR(R3/R23,\"\")","v":""}]
[null,{"$f":"Labels!F169","v":"External debt (USD)"},null,null,{"$f":"IFERROR(E8/E23,\"\")","v":""},{"$f":"IFERROR(F8/F23,\"\")","v":""},"","","","","","","","",{"$f":"O9","v":""},{"$f":"P9","v":""},{"$f":"Q9","v":""},{"$f":"R9","v":""}]
[]
[null,{"$f":"Labels!F170","v":"Implied interest on domestic debt"},null,null,{"$f":"IFERROR(E2/E7*100,\"\")","v":""},{"$f":"IFERROR(F2/F7*100,\"\")","v":""},"","","","","","","","",null,{"$f":"O21","v":0},{"$f":"AVERAGE(O21:P21)","v":0},{"$f":"AVERAGE(P21:Q21)","v":0}]
[null,{"$f":"Labels!F171","v":"Implied interest on international debt"},null,null,{"$f":"IFERROR(E3/E8*100,\"\")","v":""},{"$f":"IFERROR(F3/F8*100,\"\")","v":""},"","","","","","","","",null,{"$f":"O22","v":0},{"$f":"AVERAGE(O22:P22)","v":0},{"$f":"AVERAGE(P22:Q22)","v":0}]
[null,{"$f":"Labels!F172","v":"Exchange rate"},null,null,{"$f":"'Other Macro'!E4","v":0},{"$f":"'Other Macro'!F4","v":0},{"$f":"'Other Macro'!G4","v":0},{"$f":"'Other Macro'!H4","v":0},{"$f":"'Other Macro'!I4","v":0},{"$f":"'Other Macro'!J4","v":0},{"$f":"'Other Macro'!K4","v":0},{"$f":"'Other Macro'!L4","v":0},{"$f":"'Other Macro'!M4","v":0},{"$f":"'Other Macro'!N4","v":0},{"$f":"'Other Macro'!O4","v":0},{"$f":"'Other Macro'!P4","v":""},{"$f":"'Other Macro'!Q4","v":""},{"$f":"'Other Macro'!R4","v":""}]
[]
[null,{"$f":"Labels!F173","v":"Shock ratios"}]
[null,{"$f":"Labels!F174","v":"Interest / Revenue"},null,null,{"$f":"IFERROR(E4/FISCAL!E3*100,\"\")","v":""},{"$f":"IFERROR(F4/FISCAL!F3*100,\"\")","v":""},{"$f":"IFERROR(G4/FISCAL!G3*100,\"\")","v":""},{"$f":"IFERROR(H4/FISCAL!H3*100,\"\")","v":""},{"$f":"IFERROR(I4/FISCAL!I3*100,\"\")","v":""},{"$f":"IFERROR(J4/FISCAL!J3*100,\"\")","v":""},{"$f":"IFERROR(K4/FISCAL!K3*100,\"\")","v":""},{"$f":"IFERROR(L4/FISCAL!L3*100,\"\")","v":""},{"$f":"IFERROR(M4/FISCAL!M3*100,\"\")","v":""},{"$f":"IFERROR(N4/FISCAL!N3*100,\"\")","v":""},{"$f":"IFERROR(O4/FISCAL!O3*100,\"\")","v":""},{"$f":"IFERROR(P4/FISCAL!P3*100,\"\")","v":""},{"$f":"IFERROR(Q4/FISCAL!Q3*100,\"\")","v":""},{"$f":"IFERROR(R4/FISCAL!R3*100,\"\")","v":""}]
[null,{"$f":"Labels!F175","v":"Interest / Non-grants revenue"},null,null,{"$f":"IFERROR(E4/FISCAL!E4*100,\"\")","v":""},{"$f":"IFERROR(F4/FISCAL!F4*100,\"\")","v":""},{"$f":"IFERROR(G4/FISCAL!G4*100,\"\")","v":""},{"$f":"IFERROR(H4/FISCAL!H4*100,\"\")","v":""},{"$f":"IFERROR(I4/FISCAL!I4*100,\"\")","v":""},{"$f":"IFERROR(J4/FISCAL!J4*100,\"\")","v":""},{"$f":"IFERROR(K4/FISCAL!K4*100,\"\")","v":""},{"$f":"IFERROR(L4/FISCAL!L4*100,\"\")","v":""},{"$f":"IFERROR(M4/FISCAL!M4*100,\"\")","v":""},{"$f":"IFERROR(N4/FISCAL!N4*100,\"\")","v":""},{"$f":"IFERROR(O4/FISCAL!O4*100,\"\")","v":""},{"$f":"IFERROR(P4/FISCAL!P4*100,\"\")","v":""},{"$f":"IFERROR(Q4/FISCAL!Q4*100,\"\")","v":""},{"$f":"IFERROR(R4/FISCAL!R4*100,\"\")","v":""}]
[null,{"$f":"Labels!F176","v":"Foreign Interest / Exports"},null,null,{"$f":"IFERROR(E3/'GDP (E)'!E12*100,\"\")","v":""},{"$f":"IFERROR(F3/'GDP (E)'!F12*100,\"\")","v":""},{"$f":"IFERROR(G3/'GDP (E)'!G12*100,\"\")","v":""},{"$f":"IFERROR(H3/'GDP (E)'!H12*100,\"\")","v":""},{"$f":"IFERROR(I3/'GDP (E)'!I12*100,\"\")","v":""},{"$f":"IFERROR(J3/'GDP (E)'!J12*100,\"\")","v":""},{"$f":"IFERROR(K3/'GDP (E)'!K12*100,\"\")","v":""},{"$f":"IFERROR(L3/'GDP (E)'!L12*100,\"\")","v":""},{"$f":"IFERROR(M3/'GDP (E)'!M12*100,\"\")","v":""},{"$f":"IFERROR(N3/'GDP (E)'!N12*100,\"\")","v":""},{"$f":"IFERROR(O3/'GDP (E)'!O12*100,\"\")","v":""},{"$f":"IFERROR(P3/'GDP (E)'!P12*100,\"\")","v":""},{"$f":"IFERROR(Q3/'GDP (E)'!Q12*100,\"\")","v":""},{"$f":"IFERROR(R3/'GDP (E)'!R12*100,\"\")","v":""}]
[]
[null,{"$f":"Labels!F177","v":"Baseline ratios"}]
[null,{"$f":"B26","v":"Interest / Revenue"},null,null,{"$f":"IFERROR(FISCAL!E28/FISCAL!E20*100,\"\")","v":""},{"$f":"IFERROR(FISCAL!F28/FISCAL!F20*100,\"\")","v":""},{"$f":"IFERROR(FISCAL!G28/FISCAL!G20*100,\"\")","v":""},{"$f":"IFERROR(FISCAL!H28/FISCAL!H20*100,\"\")","v":""},{"$f":"IFERROR(FISCAL!I28/FISCAL!I20*100,\"\")","v":""},{"$f":"IFERROR(FISCAL!J28/FISCAL!J20*100,\"\")","v":""},{"$f":"IFERROR(FISCAL!K28/FISCAL!K20*100,\"\")","v":""},{"$f":"IFERROR(FISCAL!L28/FISCAL!L20*100,\"\")","v":""},{"$f":"IFERROR(FISCAL!M28/FISCAL!M20*100,\"\")","v":""},{"$f":"IFERROR(FISCAL!N28/FISCAL!N20*100,\"\")","v":""},{"$f":"IFERROR(FISCAL!O28/FISCAL!O20*100,\"\")","v":""},{"$f":"IFERROR(FISCAL!P28/FISCAL!P20*100,\"\")","v":""},{"$f":"IFERROR(FISCAL!Q28/FISCAL!Q20*100,\"\")","v":""},{"$f":"IFERROR(FISCAL!R28/FISCAL!R20*100,\"\")","v":""}]
[null,{"$f":"B27","v":"Interest / Non-grants revenue"},null,null,{"$f":"IFERROR(FISCAL!E28/FISCAL!E21*100,\"\")","v":""},{"$f":"IFERROR(FISCAL!F28/FISCAL!F21*100,\"\")","v":""},{"$f":"IFERROR(FISCAL!G28/FISCAL!G21*100,\"\")","v":""},{"$f":"IFERROR(FISCAL!H28/FISCAL!H21*100,\"\")","v":""},{"$f":"IFERROR(FISCAL!I28/FISCAL!I21*100,\"\")","v":""},{"$f":"IFERROR(FISCAL!J28/FISCAL!J21*100,\"\")","v":""},{"$f":"IFERROR(FISCAL!K28/FISCAL!K21*100,\"\")","v":""},{"$f":"IFERROR(FISCAL!L28/FISCAL!L21*100,\"\")","v":""},{"$f":"IFERROR(FISCAL!M28/FISCAL!M21*100,\"\")","v":""},{"$f":"IFERROR(FISCAL!N28/FISCAL!N21*100,\"\")","v":""},{"$f":"IFERROR(FISCAL!O28/FISCAL!O21*100,\"\")","v":""},{"$f":"IFERROR(FISCAL!P28/FISCAL!P21*100,\"\")","v":""},{"$f":"IFERROR(FISCAL!Q28/FISCAL!Q21*100,\"\")","v":""},{"$f":"IFERROR(FISCAL!R28/FISCAL!R21*100,\"\")","v":""}]
[null,"Foreign Interest / Exports"]
[]
[]
[]
[]
[]
[null,{"$f":"Labels!F179","v":"Interest iteration calculation"},null,null,{"$f":"SUM(E2:E3)-SUM(EXPENDITURE!E15:E16)","v":0},{"$f":"SUM(F2:F3)-SUM(EXPENDITURE!F15:F16)","v":0},{"$f":"SUM(G2:G3)-SUM(EXPENDITURE!G15:G16)","v":0},{"$f":"SUM(H2:H3)-SUM(EXPENDITURE!H15:H16)","v":0},{"$f":"SUM(I2:I3)-SUM(EXPENDITURE!I15:I16)","v":0},{"$f":"SUM(J2:J3)-SUM(EXPENDITURE!J15:J16)","v":0},{"$f":"SUM(K2:K3)-SUM(EXPENDITURE!K15:K16)","v":0},{"$f":"SUM(L2:L3)-SUM(EXPENDITURE!L15:L16)","v":0},{"$f":"SUM(M2:M3)-SUM(EXPENDITURE!M15:M16)","v":0},{"$f":"SUM(N2:N3)-SUM(EXPENDITURE!N15:N16)","v":0},{"$f":"SUM(O2:O3)-SUM(EXPENDITURE!O15:O16)","v":0},{"$f":"SUM(P2:P3)-SUM(EXPENDITURE!P15:P16)","v":0},{"$f":"SUM(Q2:Q3)-SUM(EXPENDITURE!Q15:Q16)","v":0},{"$f":"SUM(R2:R3)-SUM(EXPENDITURE!R15:R16)","v":0},{"$f":"SUM(L39:R39)","v":0}]

{"sheet":"FISCAL","index":18,"n_rows":68,"n_cols":18,"rows_kept":68,"cut":false,"hidden":false,"merged":[]}
[null,null,null,null,{"$f":"'GDP (P)'!E1","v":2012},{"$f":"'GDP (P)'!F1","v":2013},{"$f":"'GDP (P)'!G1","v":2014},{"$f":"'GDP (P)'!H1","v":2015},{"$f":"'GDP (P)'!I1","v":2016},{"$f":"'GDP (P)'!J1","v":2017},{"$f":"'GDP (P)'!K1","v":2018},{"$f":"'GDP (P)'!L1","v":2019},{"$f":"'GDP (P)'!M1","v":2020},{"$f":"'GDP (P)'!N1","v":2021},{"$f":"'GDP (P)'!O1","v":2022},{"$f":"'GDP (P)'!P1","v":2023},{"$f":"'GDP (P)'!Q1","v":2024},{"$f":"'GDP (P)'!R1","v":2025}]
[null,{"$f":"EXPENDITURE!B2","v":"Shock Scenario"}]
[null,{"$f":"REVENUE!B9","v":"Total Revenue"},null,null,{"$f":"IF(REVENUE!E9<>\"\",REVENUE!E9,\"\")","v":""},{"$f":"IF(REVENUE!F9<>\"\",REVENUE!F9,\"\")","v":0},{"$f":"IF(REVENUE!G9<>\"\",REVENUE!G9,\"\")","v":0},{"$f":"IF(REVENUE!H9<>\"\",REVENUE!H9,\"\")","v":0},{"$f":"IF(REVENUE!I9<>\"\",REVENUE!I9,\"\")","v":0},{"$f":"IF(REVENUE!J9<>\"\",REVENUE!J9,\"\")","v":0},{"$f":"IF(REVENUE!K9<>\"\",REVENUE!K9,\"\")","v":0},{"$f":"IF(REVENUE!L9<>\"\",REVENUE!L9,\"\")","v":0},{"$f":"IF(REVENUE!M9<>\"\",REVENUE!M9,\"\")","v":0},{"$f":"IF(REVENUE!N9<>\"\",REVENUE!N9,\"\")","v":0},{"$f":"IF(REVENUE!O9<>\"\",REVENUE!O9,\"\")","v":""},{"$f":"IF(REVENUE!P9<>\"\",REVENUE!P9,\"\")","v":""},{"$f":"IF(REVENUE!Q9<>\"\",REVENUE!Q9,\"\")","v":""},{"$f":"IF(REVENUE!R9<>\"\",REVENUE!R9,\"\")","v":""}]
[null,{"$f":"REVENUE!B8","v":"Total Revenue excl. Grants"},null,null,{"$f":"IF(REVENUE!E8<>\"\",REVENUE!E8,\"\")","v":""},{"$f":"IF(REVENUE!F8<>\"\",REVENUE!F8,\"\")","v":0},{"$f":"IF(REVENUE!G8<>\"\",REVENUE!G8,\"\")","v":0},{"$f":"IF(REVENUE!H8<>\"\",REVENUE!H8,\"\")","v":0},{"$f":"IF(REVENUE!I8<>\"\",REVENUE!I8,\"\")","v":0},{"$f":"IF(REVENUE!J8<>\"\",REVENUE!J8,\"\")","v":0},{"$f":"IF(REVENUE!K8<>\"\",REVENUE!K8,\"\")","v":0},{"$f":"IF(REVENUE!L8<>\"\",REVENUE!L8,\"\")","v":0},{"$f":"IF(REVENUE!M8<>\"\",REVENUE!M8,\"\")","v":0},{"$f":"IF(REVENUE!N8<>\"\",REVENUE!N8,\"\")","v":0},{"$f":"IF(REVENUE!O8<>\"\",REVENUE!O8,\"\")","v":""},{"$f":"IF(REVENUE!P8<>\"\",REVENUE!P8,\"\")","v":""},{"$f":"IF(REVENUE!Q8<>\"\",REVENUE!Q8,\"\")","v":""},{"$f":"IF(REVENUE!R8<>\"\",REVENUE!R8,\"\")","v":""}]
[null,{"$f":"REVENUE!B5","v":"Tax Revenue"},null,null,{"$f":"IF(REVENUE!E5<>\"\",REVENUE!E5,\"\")","v":""},{"$f":"IF(REVENUE!F5<>\"\",REVENUE!F5,\"\")","v":0},{"$f":"IF(REVENUE!G5<>\"\",REVENUE!G5,\"\")","v":0},{"$f":"IF(REVENUE!H5<>\"\",REVENUE!H5,\"\")","v":0},{"$f":"IF(REVENUE!I5<>\"\",REVENUE!I5,\"\")","v":0},{"$f":"IF(REVENUE!J5<>\"\",REVENUE!J5,\"\")","v":0},{"$f":"IF(REVENUE!K5<>\"\",REVENUE!K5,\"\")","v":0},{"$f":"IF(REVENUE!L5<>\"\",REVENUE!L5,\"\")","v":0},{"$f":"IF(REVENUE!M5<>\"\",REVENUE!M5,\"\")","v":0},{"$f":"IF(REVENUE!N5<>\"\",REVENUE!N5,\"\")","v":0},{"$f":"IF(REVENUE!O5<>\"\",REVENUE!O5,\"\")","v":""},{"$f":"IF(REVENUE!P5<>\"\",REVENUE!P5,\"\")","v":""},{"$f":"IF(REVENUE!Q5<>\"\",REVENUE!Q5,\"\")","v":""},{"$f":"IF(REVENUE!R5<>\"\",REVENUE!R5,\"\")","v":""}]
[null,{"$f":"REVENUE!B6","v":"Non-Tax Revenue"},null,null,{"$f":"IF(REVENUE!E6<>\"\",REVENUE!E6,\"\")","v":{"$error":"#N/A"}},{"$f":"IF(REVENUE!F6<>\"\",REVENUE!F6,\"\")","v":0},{"$f":"IF(REVENUE!G6<>\"\",REVENUE!G6,\"\")","v":0},{"$f":"IF(REVENUE!H6<>\"\",REVENUE!H6,\"\")","v":0},{"$f":"IF(REVENUE!I6<>\"\",REVENUE!I6,\"\")","v":0},{"$f":"IF(REVENUE!J6<>\"\",REVENUE!J6,\"\")","v":0},{"$f":"IF(REVENUE!K6<>\"\",REVENUE!K6,\"\")","v":0},{"$f":"IF(REVENUE!L6<>\"\",REVENUE!L6,\"\")","v":0},{"$f":"IF(REVENUE!M6<>\"\",REVENUE!M6,\"\")","v":0},{"$f":"IF(REVENUE!N6<>\"\",REVENUE!N6,\"\")","v":0},{"$f":"IF(REVENUE!O6<>\"\",REVENUE!O6,\"\")","v":0},{"$f":"IF(REVENUE!P6<>\"\",REVENUE!P6,\"\")","v":0},{"$f":"IF(REVENUE!Q6<>\"\",REVENUE!Q6,\"\")","v":0},{"$f":"IF(REVENUE!R6<>\"\",REVENUE!R6,\"\")","v":0}]
[null,{"$f":"REVENUE!B7","v":"Grants"},null,null,{"$f":"IF(REVENUE!E7<>\"\",REVENUE!E7,\"\")","v":{"$error":"#N/A"}},{"$f":"IF(REVENUE!F7<>\"\",REVENUE!F7,\"\")","v":""},{"$f":"IF(REVENUE!G7<>\"\",REVENUE!G7,\"\")","v":""},{"$f":"IF(REVENUE!H7<>\"\",REVENUE!H7,\"\")","v":""},{"$f":"IF(REVENUE!I7<>\"\",REVENUE!I7,\"\")","v":""},{"$f":"IF(REVENUE!J7<>\"\",REVENUE!J7,\"\")","v":""},{"$f":"IF(REVENUE!K7<>\"\",REVENUE!K7,\"\")","v":""},{"$f":"IF(REVENUE!L7<>\"\",REVENUE!L7,\"\")","v":""},{"$f":"IF(REVENUE!M7<>\"\",REVENUE!M7,\"\")","v":""},{"$f":"IF(REVENUE!N7<>\"\",REVENUE!N7,\"\")","v":""},{"$f":"IF(REVENUE!O7<>\"\",REVENUE!O7,\"\")","v":0},{"$f":"IF(REVENUE!P7<>\"\",REVENUE!P7,\"\")","v":0},{"$f":"IF(REVENUE!Q7<>\"\",REVENUE!Q7,\"\")","v":0},{"$f":"IF(REVENUE!R7<>\"\",REVENUE!R7,\"\")","v":0}]
[]
[null,{"$f":"EXPENDITURE!B3","v":"Expenditure"},null,null,{"$f":"EXPENDITURE!E3","v":0},{"$f":"EXPENDITURE!F3","v":0},{"$f":"EXPENDITURE!G3","v":0},{"$f":"EXPENDITURE!H3","v":0},{"$f":"EXPENDITURE!I3","v":0},{"$f":"EXPENDITURE!J3","v":0},{"$f":"EXPENDITURE!K3","v":0},{"$f":"EXPENDITURE!L3","v":0},{"$f":"EXPENDITURE!M3","v":0},{"$f":"EXPENDITURE!N3","v":0},{"$f":"EXPENDITURE!O3","v":0},{"$f":"EXPENDITURE!P3","v":0},{"$f":"EXPENDITURE!Q3","v":0},{"$f":"EXPENDITURE!R3","v":0}]
[null,{"$f":"EXPENDITURE!B4","v":"Expenses"},null,null,{"$f":"EXPENDITURE!E4","v":0},{"$f":"EXPENDITURE!F4","v":0},{"$f":"EXPENDITURE!G4","v":0},{"$f":"EXPENDITURE!H4","v":0},{"$f":"EXPENDITURE!I4","v":0},{"$f":"EXPENDITURE!J4","v":0},{"$f":"EXPENDITURE!K4","v":0},{"$f":"EXPENDITURE!L4","v":0},{"$f":"EXPENDITURE!M4","v":0},{"$f":"EXPENDITURE!N4","v":0},{"$f":"EXPENDITURE!O4","v":0},{"$f":"EXPENDITURE!P4","v":0},{"$f":"EXPENDITURE!Q4","v":0},{"$f":"EXPENDITURE!R4","v":0}]
[null,{"$f":"Labels!F267","v":"o/w interest"},null,null,{"$f":"EXPENDITURE!E14","v":0},{"$f":"EXPENDITURE!F14","v":0},{"$f":"EXPENDITURE!G14","v":0},{"$f":"EXPENDITURE!H14","v":0},{"$f":"EXPENDITURE!I14","v":0},{"$f":"EXPENDITURE!J14","v":0},{"$f":"EXPENDITURE!K14","v":0},{"$f":"EXPENDITURE!L14","v":0},{"$f":"EXPENDITURE!M14","v":0},{"$f":"EXPENDITURE!N14","v":0},{"$f":"EXPENDITURE!O14","v":0},{"$f":"EXPENDITURE!P14","v":0},{"$f":"EXPENDITURE!Q14","v":0},{"$f":"EXPENDITURE!R14","v":0}]
[null,{"$f":"EXPENDITURE!B5","v":"Acquisition of Nonfinancial Assets"},null,null,{"$f":"EXPENDITURE!E5","v":0},{"$f":"EXPENDITURE!F5","v":0},{"$f":"EXPENDITURE!G5","v":0},{"$f":"EXPENDITURE!H5","v":0},{"$f":"EXPENDITURE!I5","v":0},{"$f":"EXPENDITURE!J5","v":0},{"$f":"EXPENDITURE!K5","v":0},{"$f":"EXPENDITURE!L5","v":0},{"$f":"EXPENDITURE!M5","v":0},{"$f":"EXPENDITURE!N5","v":0},{"$f":"EXPENDITURE!O5","v":0},{"$f":"EXPENDITURE!P5","v":0},{"$f":"EXPENDITURE!Q5","v":0},{"$f":"EXPENDITURE!R5","v":0}]
[]
[null,"Net Lending or Borrowing Balance",null,null,{"$f":"IFERROR(E3-E9,\"\")","v":""},{"$f":"IFERROR(F3-F9,\"\")","v":0},0,0,0,0,0,0,0,0,{"$f":"IFERROR(O3-O9,\"\")","v":""},{"$f":"IFERROR(P3-P9,\"\")","v":""},{"$f":"IFERROR(Q3-Q9,\"\")","v":""},{"$f":"IFERROR(R3-R9,\"\")","v":""}]
[null,{"$f":"Labels!F52","v":"GDP at current prices"},null,null,{"$f":"'GDP (P)'!E2","v":0},{"$f":"'GDP (P)'!F2","v":0},{"$f":"'GDP (P)'!G2","v":0},{"$f":"'GDP (P)'!H2","v":0},{"$f":"'GDP (P)'!I2","v":0},{"$f":"'GDP (P)'!J2","v":0},{"$f":"'GDP (P)'!K2","v":0},{"$f":"'GDP (P)'!L2","v":0},{"$f":"'GDP (P)'!M2","v":0},{"$f":"'GDP (P)'!N2","v":0},{"$f":"IFERROR('GDP (P)'!O2,\"\")","v":0},{"$f":"IFERROR('GDP (P)'!P2,\"\")","v":0},{"$f":"IFERROR('GDP (P)'!Q2,\"\")","v":0},{"$f":"IFERROR('GDP (P)'!R2,\"\")","v":0}]
[]
[null,{"$f":"DEBT!B10","v":"Total debt stock"},null,null,{"$f":"DEBT!E10","v":0},{"$f":"DEBT!F10","v":0},{"$f":"DEBT!G10","v":0},{"$f":"DEBT!H10","v":0},{"$f":"DEBT!I10","v":0},{"$f":"DEBT!J10","v":0},{"$f":"DEBT!K10","v":0},{"$f":"DEBT!L10","v":0},{"$f":"DEBT!M10","v":0},{"$f":"DEBT!N10","v":0},{"$f":"DEBT!O10","v":""},{"$f":"DEBT!P10","v":""},{"$f":"DEBT!Q10","v":""},{"$f":"DEBT!R10","v":""}]
[]
[null,{"$f":"Labels!F178","v":"Baseline"}]
[null,{"$f":"B3","v":"Total Revenue"},null,null,{"$f":"REVENUE!E16","v":""},{"$f":"REVENUE!F16","v":0},{"$f":"REVENUE!G16","v":0},{"$f":"REVENUE!H16","v":0},{"$f":"REVENUE!I16","v":0},{"$f":"REVENUE!J16","v":0},{"$f":"REVENUE!K16","v":0},{"$f":"REVENUE!L16","v":0},{"$f":"REVENUE!M16","v":0},{"$f":"REVENUE!N16","v":0},{"$f":"REVENUE!O16","v":0},{"$f":"REVENUE!P16","v":0},{"$f":"REVENUE!Q16","v":0},{"$f":"REVENUE!R16","v":0}]
[null,{"$f":"B4","v":"Total Revenue excl. Grants"},null,null,{"$f":"REVENUE!E15","v":""},{"$f":"REVENUE!F15","v":0},{"$f":"REVENUE!G15","v":0},{"$f":"REVENUE!H15","v":0},{"$f":"REVENUE!I15","v":0},{"$f":"REVENUE!J15","v":0},{"$f":"REVENUE!K15","v":0},{"$f":"REVENUE!L15","v":0},{"$f":"REVENUE!M15","v":0},{"$f":"REVENUE!N15","v":0},{"$f":"REVENUE!O15","v":0},{"$f":"REVENUE!P15","v":0},{"$f":"REVENUE!Q15","v":0},{"$f":"REVENUE!R15","v":0}]
[null,"Tax Revenue",null,null,{"$f":"REVENUE!E12","v":""},{"$f":"REVENUE!F12","v":0},{"$f":"REVENUE!G12","v":0},{"$f":"REVENUE!H12","v":0},{"$f":"REVENUE!I12","v":0},{"$f":"REVENUE!J12","v":0},{"$f":"REVENUE!K12","v":0},{"$f":"REVENUE!L12","v":0},{"$f":"REVENUE!M12","v":0},{"$f":"REVENUE!N12","v":0},{"$f":"REVENUE!O12","v":0},{"$f":"REVENUE!P12","v":0},{"$f":"REVENUE!Q12","v":0},{"$f":"REVENUE!R12","v":0}]
[null,"Non-Tax Revenue",null,null,{"$f":"REVENUE!E13","v":{"$error":"#N/A"}},{"$f":"REVENUE!F13","v":0},{"$f":"REVENUE!G13","v":0},{"$f":"REVENUE!H13","v":0},{"$f":"REVENUE!I13","v":0},{"$f":"REVENUE!J13","v":0},{"$f":"REVENUE!K13","v":0},{"$f":"REVENUE!L13","v":0},{"$f":"REVENUE!M13","v":0},{"$f":"REVENUE!N13","v":0},{"$f":"REVENUE!O13","v":0},{"$f":"REVENUE!P13","v":0},{"$f":"REVENUE!Q13","v":0},{"$f":"REVENUE!R13","v":0}]
[null,"Grants",null,null,{"$f":"REVENUE!E14","v":{"$error":"#N/A"}},{"$f":"REVENUE!F14","v":""},{"$f":"REVENUE!G14","v":""},{"$f":"REVENUE!H14","v":""},{"$f":"REVENUE!I14","v":""},{"$f":"REVENUE!J14","v":""},{"$f":"REVENUE!K14","v":""},{"$f":"REVENUE!L14","v":""},{"$f":"REVENUE!M14","v":""},{"$f":"REVENUE!N14","v":""},{"$f":"REVENUE!O14","v":0},{"$f":"REVENUE!P14","v":0},{"$f":"REVENUE!Q14","v":0},{"$f":"REVENUE!R14","v":0}]
[]
[null,"Expenditure",null,null,{"$f":"EXPENDITURE!E26","v":0},{"$f":"EXPENDITURE!F26","v":0},{"$f":"EXPENDITURE!G26","v":0},{"$f":"EXPENDITURE!H26","v":0},{"$f":"EXPENDITURE!I26","v":0},{"$f":"EXPENDITURE!J26","v":0},{"$f":"EXPENDITURE!K26","v":0},{"$f":"EXPENDITURE!L26","v":0},{"$f":"EXPENDITURE!M26","v":0},{"$f":"EXPENDITURE!N26","v":0},{"$f":"EXPENDITURE!O26","v":0},{"$f":"EXPENDITURE!P26","v":0},{"$f":"EXPENDITURE!Q26","v":0},{"$f":"EXPENDITURE!R26","v":0}]
[null,"Expenses",null,null,{"$f":"EXPENDITURE!E27","v":0},{"$f":"EXPENDITURE!F27","v":0},{"$f":"EXPENDITURE!G27","v":0},{"$f":"EXPENDITURE!H27","v":0},{"$f":"EXPENDITURE!I27","v":0},{"$f":"EXPENDITURE!J27","v":0},{"$f":"EXPENDITURE!K27","v":0},{"$f":"EXPENDITURE!L27","v":0},{"$f":"EXPENDITURE!M27","v":0},{"$f":"EXPENDITURE!N27","v":0},{"$f":"EXPENDITURE!O27","v":0},{"$f":"EXPENDITURE!P27","v":0},{"$f":"EXPENDITURE!Q27","v":0},{"$f":"EXPENDITURE!R27","v":0}]
[null,"o/w interest",null,null,{"$f":"EXPENDITURE!E37","v":0},{"$f":"EXPENDITURE!F37","v":0},{"$f":"EXPENDITURE!G37","v":0},{"$f":"EXPENDITURE!H37","v":0},{"$f":"EXPENDITURE!I37","v":0},{"$f":"EXPENDITURE!J37","v":0},{"$f":"EXPENDITURE!K37","v":0},{"$f":"EXPENDITURE!L37","v":0},{"$f":"EXPENDITURE!M37","v":0},{"$f":"EXPENDITURE!N37","v":0},{"$f":"EXPENDITURE!O37","v":0},{"$f":"EXPENDITURE!P37","v":0},{"$f":"EXPENDITURE!Q37","v":0},{"$f":"EXPENDITURE!R37","v":0}]
[null,"Acquisition of Nonfinancial Assets",null,null,{"$f":"EXPENDITURE!E28","v":0},{"$f":"EXPENDITURE!F28","v":0},{"$f":"EXPENDITURE!G28","v":0},{"$f":"EXPENDITURE!H28","v":0},{"$f":"EXPENDITURE!I28","v":0},{"$f":"EXPENDITURE!J28","v":0},{"$f":"EXPENDITURE!K28","v":0},{"$f":"EXPENDITURE!L28","v":0},{"$f":"EXPENDITURE!M28","v":0},{"$f":"EXPENDITURE!N28","v":0},{"$f":"EXPENDITURE!O28","v":0},{"$f":"EXPENDITURE!P28","v":0},{"$f":"EXPENDITURE!Q28","v":0},{"$f":"EXPENDITURE!R28","v":0}]
[]
[null,"Net Lending or Borrowing Balance",null,null,{"$f":"IFERROR(E20-E26,\"\")","v":""},{"$f":"IFERROR(F20-F26,\"\")","v":0},0,0,0,0,0,0,0,0,{"$f":"O20-O26","v":0},{"$f":"P20-P26","v":0},{"$f":"Q20-Q26","v":0},{"$f":"R20-R26","v":0}]
[null,"GDP at current prices",null,null,{"$f":"'GDP (P)'!E53","v":0},{"$f":"'GDP (P)'!F53","v":0},{"$f":"'GDP (P)'!G53","v":0},{"$f":"'GDP (P)'!H53","v":0},{"$f":"'GDP (P)'!I53","v":0},{"$f":"'GDP (P)'!J53","v":0},{"$f":"'GDP (P)'!K53","v":0},{"$f":"'GDP (P)'!L53","v":0},{"$f":"'GDP (P)'!M53","v":0},{"$f":"'GDP (P)'!N53","v":0},{"$f":"'GDP (P)'!O53","v":0},{"$f":"'GDP (P)'!P53","v":0},{"$f":"'GDP (P)'!Q53","v":0},{"$f":"'GDP (P)'!R53","v":0}]
[]
[null,"Total debt stock",null,null,{"$f":"DEBT!E10","v":0},{"$f":"DEBT!F10","v":0},{"$f":"DEBT!G10","v":0},{"$f":"DEBT!H10","v":0},{"$f":"DEBT!I10","v":0},{"$f":"DEBT!J10","v":0},{"$f":"DEBT!K10","v":0},{"$f":"DEBT!L10","v":0},{"$f":"DEBT!M10","v":0},{"$f":"DEBT!N10","v":0},{"$f":"N34-O31","v":0},{"$f":"O34-P31","v":0},{"$f":"P34-Q31","v":0},{"$f":"Q34-R31","v":0}]
[]
[]
[]
[null,{"$f":"Labels!F180","v":"Shock Percent of GDP"}]
[null,{"$f":"B20","v":"Total Revenue"},null,null,{"$f":"IFERROR(E3/E$15*100,\"\")","v":""},{"$f":"IFERROR(F3/F$15*100,\"\")","v":""},"","","","","","","","",{"$f":"IFERROR(O3/O$15*100,\"\")","v":""},"","",""]
[null,{"$f":"B21","v":"Total Revenue excl. Grants"},null,null,{"$f":"IFERROR(E4/E$15*100,\"\")","v":""},"","","","","","","","","","","","",""]
[null,"Tax Revenue",null,null,{"$f":"IFERROR(E5/E$15*100,\"\")","v":""},"","","","","","","","","","","","",""]
[null,"Non-Tax Revenue",null,null,{"$f":"IFERROR(E6/E$15*100,\"\")","v":""},"","","","","","","","","","","","",""]
[null,"Grants",null,null,{"$f":"IFERROR(E7/E$15*100,\"\")","v":""},"","","","","","","","","","","","",""]
[]
[null,"Expenditure",null,null,{"$f":"IFERROR(E9/E$15*100,\"\")","v":""},{"$f":"IFERROR(F9/F$15*100,\"\")","v":""},"","","","","","","","",{"$f":"IFERROR(O9/O$15*100,\"\")","v":""},"","",""]
[null,"Expenses",null,null,{"$f":"IFERROR(E10/E$15*100,\"\")","v":""},"","","","","","","","","","","","",""]
[null,"o/w interest",null,null,{"$f":"IFERROR(E11/E$15*100,\"\")","v":""},"","","","","","","","","","","","",""]
[null,"Acquisition of Nonfinancial Assets",null,null,{"$f":"IFERROR(E12/E$15*100,\"\")","v":""},"","","","","","","","","","","","",""]
[]
[null,"Net Lending or Borrowing Balance",null,null,{"$f":"IFERROR(E14/E$15*100,\"\")","v":""},"","","","","","","","","","","","",""]
[]
[null,{"$f":"B34","v":"Total debt stock"},null,null,{"$f":"IFERROR(E16/E$15*100,\"\")","v":""},{"$f":"IFERROR(F17/F$15*100,\"\")","v":""},"","","","",{"$f":"IFERROR(K17/K$15*100,\"\")","v":""},{"$f":"IFERROR(L17/L$15*100,\"\")","v":""},{"$f":"IFERROR(M17/M$15*100,\"\")","v":""},"","","","",""]
[]
[null,{"$f":"Labels!F178","v":"Baseline"}]
[null,{"$f":"B39","v":"Total Revenue"},null,null,{"$f":"IFERROR(E20/E$32*100,\"\")","v":""},{"$f":"IFERROR(F20/F$32*100,\"\")","v":""},"","","","","","","","","","","",""]
[null,{"$f":"B40","v":"Total Revenue excl. Grants"},null,null,{"$f":"IFERROR(E21/E$32*100,\"\")","v":""},"","","","","","","","","","","","",""]
[null,"Tax Revenue",null,null,"","","","","","","","","","","","","",""]
[null,"Non-Tax Revenue",null,null,"","","","","","","","","","","","","",""]
[null,"Grants",null,null,"","","","","","","","","","","","","",""]
[]
[null,"Expenditure",null,null,{"$f":"IFERROR(E26/E$32*100,\"\")","v":""},{"$f":"IFERROR(F26/F$32*100,\"\")","v":""},"","","","","","","","","","","",""]
[null,"Expenses",null,null,{"$f":"IFERROR(E27/E$32*100,\"\")","v":""},"","","","","","","","","","","","",""]
[null,"o/w interest",null,null,{"$f":"IFERROR(E28/E$32*100,\"\")","v":""},"","","","","","","","","","","","",""]
[null,"Acquisition of Nonfinancial Assets",null,null,{"$f":"IFERROR(E29/E$32*100,\"\")","v":""},"","","","","","","","","","","","",""]
[]
[null,"Net Lending or Borrowing Balance",null,null,"","","","","","","","","","","","","",""]
[]
[null,{"$f":"B34","v":"Total debt stock"},null,null,"",{"$f":"IFERROR(F34/F$32*100,\"\")","v":""},"","","","",{"$f":"IFERROR(K34/K$32*100,\"\")","v":""},{"$f":"IFERROR(L34/L$32*100,\"\")","v":""},{"$f":"IFERROR(M34/M$32*100,\"\")","v":""},"","","","",""]

{"sheet":"Labels","index":19,"n_rows":302,"n_cols":12,"rows_kept":302,"cut":false,"hidden":true,"merged":[]}
["English",null,null,null,null,"Labels",null,"English","French","Portuguese","عربى","Spanish"]
["Español",null,null,null,null,"Setup the Framework…",null,"Setup the Framework…","Configurer le cadre…","Configure a estrutura","إعداد الإطار ...","Configurar el marco ..."]
["Français",null,null,null,null,"1. Country",null,"1. Country","1. Pays","1. País","1. البلد","1. País"]
["Português",null,null,null,null,"2. First year of data",null,"2. First year of data","2. Première année de données","2. Primeiro ano de dados","2. بيانات السنة الأولى","2. Primer año de datos"]
[null,null,null,null,null,"4. National Accounts Sectors",null,"4. National Accounts Sectors","4. Secteurs de la comptabilité nationale","4. Sectores de Contas Nacionais","4. قطاعات الحسابات القومية","4. Sectores de cuentas nacionales"]
[null,null,null,null,null,"5. Production Function Variables",null,"5. Production Function Variables","5. Variables de la fonction de production","5. Variáveis ​​da função de producção","5. متغيرات دالة الإنتاج","5. Variables de función de producción"]
[null,null,null,null,null,"Long-run GDP growth",null,"Long-run GDP growth","Croissance du PIB à long terme","Crescimento do PIB de longo prazo","نمو الناتج المحلي الإجمالي على المدى الطويل","Crecimiento del PIB a largo plazo"]
[null,null,null,null,null,"Long-run employment growth rate",null,"Long-run employment growth rate","Taux de croissance de l'emploi à long terme","Taxa de crescimento do emprego de longo prazo","معدل نمو العمالة على المدى الطويل","Tasa de crecimiento del empleo a largo plazo"]
[null,null,null,null,null,"Investment to GDP ratio",null,"Investment to GDP ratio","Ratio investissement / PIB","Rácio investimento / PIB","نسبة الاستثمار إلى الناتج المحلي الإجمالي","Relación inversión / PIB"]
[null,null,null,null,null,"Capital share in output",null,"Capital share in output","Part du capital dans la production","Participação de capital na producção","حصة رأس المال في الناتج","Participación del capital en la producción"]
[null,null,null,null,null,"Capital-output ratio",null,"Capital-output ratio","Ratio capital-production","Rácio capital-produto","نسبة رأس المال الناتج","Relación capital-producto "]
[null,null,null,null,null,"6. Data Entry and Verification Tasks",null,"6. Data Entry and Verification Tasks","6. Tâches de saisie et de vérification des données","6. Tarefas de entrada e verificação de dados","6. مهام إدخال البيانات والتحقق منها","6. Tareas de entrada y verificación de datos"]
[null,null,null,null,null,"Mapping of GDP (P) parameters",null,"Mapping of GDP (P) parameters","Cartographie des paramètres du PIB (P)","Parâmetros de mapeamento do PIB (P)","رسم خرائط بارامترات الناتج المحلي الإجمالي (P)","Mapeo de los parámetros del PIB (P)"]
[null,null,null,null,null,"GDP (P) Data",null,"GDP (P) Data","Données du PIB (P)","Dados do PIB (P)","بيانات الناتج المحلي الإجمالي (P)","Datos del PIB (P)"]
[null,null,null,null,null,"GDP (E) Data",null,"GDP (E) Data","Données du PIB (E)","Dados do PIB (E)","بيانات الناتج المحلي الإجمالي (هـ)","Datos del PIB (E)"]
[null,null,null,null,null,"GDP (E) Mapping",null,"GDP (E) Mapping","Cartographie du PIB (E)","Mapeamento do PIB (E)","رسم خرائط الناتج المحلي الإجمالي (هـ)","Mapeo del PIB (E)"]
[null,null,null,null,null,"Other Macro",null,"Other Macro","Autre macro","Outra Macro","ماكرو آخر","Otra macro"]
[null,null,null,null,null,"Revenue data",null,"Revenue data","Données de revenus","Dados de receita","بيانات الإيرادات","Datos de ingresos"]
[null,null,null,null,null,"Grants forecast",null,"Grants forecast","Prévisions de subventions","Previsão de concessões","توقعات المنح","Previsión de donaciones "]
[null,null,null,null,null,"Expenditure data",null,"Expenditure data","Données sur les dépenses","Dados de despesas","بيانات المصروفات","Datos de gastos"]
[null,null,null,null,null,"Debt data",null,"Debt data","Données sur la dette","Dados de dívida","بيانات الديون","Datos de la deuda"]
[null,null,null,null,null,"Parameters from the original model",null,"Parameters from the original model","Paramètres du modèle d'origine","Parâmetros do modelo original","معلمات من النموذج الأصلي","Parámetros del modelo original"]
[null,null,null,null,null,"None",null,"None","Aucun","Nenhum","لا شيء","Ninguno"]
[null,null,null,null,null,"Agriculture and forestry",null,"Agriculture and forestry","Agriculture et foresterie","Agricultura e Florestamento","الزراعة والغابات","Agricultura y Bosques"]
[null,null,null,null,null,"Fishing and fish processing on board",null,"Fishing and fish processing on board","Pêche et transformation du poisson à bord","Pesca e processamento de pescado a bordo","صيد الأسماك وتجهيز الأسماك على متن المركب","Pesca y procesamiento de pescado a bordo"]
[null,null,null,null,null,"Mining and quarrying",null,"Mining and quarrying","Mines et carrières","Mineração e pedreira","التعدين واستغلال المحاجر","Minas y canteras"]
[null,null,null,null,null,"Manufacturing",null,"Manufacturing","Fabrication","Manufatura","تصنيع","Manufactura "]
[null,null,null,null,null,"Electricity and water",null,"Electricity and water","Électricité et eau","Eletricidade e água","الكهرباء والماء","Electricidad y agua"]
[null,null,null,null,null,"Construction",null,"Construction","Construction","Construção","اعمال بناء","Construcción"]
[null,null,null,null,null,"Wholesale and retail trade, repairs",null,"Wholesale and retail trade, repairs","Commerce de gros et de détail, réparations","Comércio atacadista e varejista, reparos","تجارة الجملة والتجزئة والتصليح","Comercio mayorista y minorista, reparaciones"]
[null,null,null,null,null,"Hotels and restaurants",null,"Hotels and restaurants","Hôtels et restaurants","Hotéis e restaurantes","الفنادق والمطاعم","Hoteles y restaurantes"]
[null,null,null,null,null,"Transport",null,"Transport","Transport","Transporte","المواصلات","Transporte"]
[null,null,null,null,null,"Communication",null,"Communication","Communication","Comunicação","الاتصالات","Comunicación"]
[null,null,null,null,null,"Financial intermediation",null,"Financial intermediation","Intermédiation financière","mediação financeira","الوساطة المالية","Intermediación financiera"]
[null,null,null,null,null,"Real estate and business services",null,"Real estate and business services","Immobilier et services aux entreprises","Serviços imobiliários e comerciais","الخدمات العقارية والتجارية","Servicios inmobiliarios y comerciales"]
[null,null,null,null,null,"Community, social and personal service activities",null,"Community, social and personal service activities","Activités de services communautaires, sociaux et personnels","actividades de serviço comunitário, social e pessoal","أنشطة الخدمة المجتمعية والاجتماعية والشخصية","Actividades de servicio comunitario, social y personal"]
[null,null,null,null,null,"Public administration and defence",null,"Public administration and defence","Administration publique et défense","Administração pública e defesa","الإدارة العامة والدفاع","Administración pública y defensa"]
[null,null,null,null,null,"Education",null,"Education","Éducation","Educação","التعليم","Educación"]
[null,null,null,null,null,"Health",null,"Health","Services de santé","Serviços de saúde","الصحة","Salud"]
[null,null,null,null,null,"Private household with employed persons",null,"Private household with employed persons","Ménage privé avec salariés","Domicílio particular com pessoas empregadas","منزل خاص مع موظفين","Hogar privado con personas empleadas"]
[null,null,null,null,null,"Financial intermediation services indirectly measured",null,"Financial intermediation services indirectly measured","Services d'intermédiation financière mesurés indirectement","Serviços de intermediação financeira medidos indiretamente","قياس خدمات الوساطة المالية بشكل غير مباشر","Servicios de intermediación financiera medidos indirectamente"]
[null,null,null,null,null,"Less subsidies on products",null,"Less subsidies on products","Moins de subventions sur les produits","Menos subsídios em produtos","دعم أقل على المنتجات","Menos subsidios a los productos"]
[null,null,null,null,null,"Parameters Mapped to: ",null,"Parameters Mapped to: ","Paramètres mappés sur: ","Parâmetros mapeados para: ","تم تعيين المعلمات إلى:","Parámetros asignados a:"]
[null,null,null,null,null,"- Ensure these are checked before running",null,"- Ensure these are checked before running","- Assurez-vous qu'ils sont vérifiés avant d'exécuter","- Certifique-se de que sejam verificados antes de executar","- تأكد من فحصها قبل التشغيل","- Asegúrese de que estén marcados antes de ejecutar"]
[null,null,null,null,null,"STRINGENCY",null,"STRINGENCY","RIGUEUR","RIGOR","STRINGENCY","RIGOR"]
[null,null,null,null,null,"LENGTH",null,"LENGTH","LONGUEUR","DURAÇAO","الطول","LARGO"]
[null,null,null,null,null,"Index=15",null,"Index=15","Indice=15","Índice=15","الفهرس = 15","Índice = 15"]
[null,null,null,null,null,"Index=100",null,"Index=100","Indice=100","Índice=100","الفهرس = 100","Índice = 100"]
[null,null,null,null,null,"3 months",null,"3 months","3 mois","3 meses","3 اشهر","3 meses"]
[null,null,null,null,null,"12 months",null,"12 months","12 mois","12 meses","12 شهر","12 meses"]
[null,null,null,null,null,"Shock Scenario",null,"Shock Scenario","Scénario de choc","Cenário de choque","سيناريو الصدمة","Escenario de choque"]
[null,null,null,null,null,"GDP at current prices",null,"GDP at current prices","PIB aux prix courants","PIB a preços correntes","الناتج المحلي الإجمالي بالأسعار الجارية","PIB a precios corrientes"]
[null,null,null,null,null,"GDP at constant prices",null,"GDP at constant prices","PIB à prix constants","PIB a preços constantes","الناتج المحلي الإجمالي بالأسعار الثابتة","PIB a precios constantes"]
[null,null,null,null,null,"GDP at current prices (growth)",null,"GDP at current prices (growth)","PIB aux prix courants (croissance)","PIB a preços correntes (crescimento)","الناتج المحلي الإجمالي بالأسعار الجارية (نمو)","PIB a precios corrientes (crecimiento)"]
[null,null,null,null,null,"GDP at constant prices (growth)",null,"GDP at constant prices (growth)","PIB à prix constants (croissance)","PIB a preços constantes (crescimento)","الناتج المحلي الإجمالي بالأسعار الثابتة (النمو)","PIB a precios constantes (crecimiento)"]
[null,null,null,null,null,"GDP deflator growth",null,"GDP deflator growth","Croissance du déflateur du PIB","Crescimento do deflator do PIB","نمو معامل انكماش الناتج المحلي الإجمالي","Crecimiento del deflactor del PIB"]
[null,null,null,null,null,"GDP at Constant prices (History and Baseline/Trend)",null,"GDP at Constant prices (History and Baseline/Trend)","PIB à prix constants (historique et référence / tendance)","PIB a preços constantes (histórico e linha de base / tendência)","الناتج المحلي الإجمالي بأسعار ثابتة (التاريخ وخط الأساس / الاتجاه)","PIB a precios constantes (histórico y base / tendencia)"]
[null,null,null,null,null,"GDP at Current prices (History and Baseline/Trend)",null,"GDP at Current prices (History and Baseline/Trend)","PIB aux prix courants (historique et référence / tendance)","PIB a preços actuais (histórico e linha de base / tendência)","الناتج المحلي الإجمالي بالأسعار الجارية (التاريخ وخط الأساس / الاتجاه)","PIB a precios corrientes (histórico y base / tendencia)"]
[null,null,null,null,null,"Deflator (History and Basic Forecast)",null,"Deflator (History and Basic Forecast)","Déflateur (historique et prévision de base)","Deflator (histórico e previsão básica)","الانكماش (التاريخ والتوقعات الأساسية)","Deflactor (historial y pronóstico básico)"]
[null,null,null,null,null,"Shock Scenario Levels (Constant Prices)",null,"Shock Scenario Levels (Constant Prices)","Niveaux de scénario de choc (prix constants)","Níveis de cenário de choque (preços constantes)","مستويات سيناريو الصدمة (الأسعار الثابتة)","Niveles de escenario de choque (precios constantes)"]
[null,null,null,null,null,"Shock Scenario Growth Rates (Constant Prices)",null,"Shock Scenario Growth Rates (Constant Prices)","Taux de croissance du scénario de choc (prix constants)","Taxas de crescimento do cenário de choque (preços constantes)","معدلات نمو سيناريو الصدمة (الأسعار الثابتة)","Tasas de crecimiento del escenario de choque (precios constantes)"]
[null,null,null,null,null,"Shock Scenario Levels (Current Prices)",null,"Shock Scenario Levels (Current Prices)","Niveaux du scénario de choc (prix actuels)","Níveis de cenário de choque (preços actuais)","مستويات سيناريو الصدمة (الأسعار الحالية)","Niveles de escenario de choque (precios corrientes)"]
[null,null,null,null,null,"PF Levels",null,"PF Levels","Niveaux de FP","Níveis de FP","مستويات PF","Niveles de FP (PF levels)"]
[null,null,null,null,null,"PF Growth Rates",null,"PF Growth Rates","Croisasnce de FP","Crescimento da FP","معدلات نمو PF","Tasas de crecimiento de FP (PF Growth Rates)"]
[null,null,null,null,null,"Current Prices",null,"Current Prices","Prix ​​actuels","Preços actuais","الاسعار الحالية","Precios corrientes"]
[null,null,null,null,null,"Total consumption",null,"Total consumption","Consommation totale","Consumo total","إجمالي الاستهلاك","Consumo total"]
[null,null,null,null,null,"  Government consumption",null,"  Government consumption","Consommation gouvernementale","Consumo do governo","الاستهلاك الحكومي","Consumo del gobierno"]
[null,null,null,null,null,"  Private consumption",null,"  Private consumption","Consommation privée","Consumo privado","الاستهلاك الخاص","Consumo privado"]
[null,null,null,null,null,"Total investment",null,"Total investment","Investissement total","Investimento total","استثمار كامل","Inversión total"]
[null,null,null,null,null,"  Gross fixed capital formation",null,"  Gross fixed capital formation","La formation brute de capital fixe","Formação bruta de capital fixo","إجمالي تكوين رأس المال الثابت","Formación bruta de capital fijo"]
[null,null,null,null,null,"      Public investments",null,"      Public investments","Investissements publics","Investimentos públicos","الاستثمارات العامة","Inversiones publicas"]
[null,null,null,null,null,"      Private Investment",null,"      Private Investment","Investissement privé","Investimento privado","الاستثمار الخاص","Inversión privada"]
[null,null,null,null,null,"  Changes in stocks",null,"  Changes in stocks","Changements de stocks","Mudanças nos estoques","التغييرات في الأسهم","Cambios en inventarios (changes in stocks)"]
[null,null,null,null,null,"Gross domestic expenditure",null,"Gross domestic expenditure","Dépenses intérieures brutes","Despesa interna bruta","إجمالي الإنفاق المحلي","Gasto interno bruto"]
[null,null,null,null,null,"Exports of goods and services",null,"Exports of goods and services","Exportations de biens et services","Exportações de bens e serviços","صادرات السلع والخدمات","Exportaciones de bienes y servicios"]
[null,null,null,null,null,"Imports of goods and services",null,"Imports of goods and services","Importations de biens et services","Importação de bens e serviços","الواردات من السلع والخدمات","Importaciones de bienes y servicios"]
[null,null,null,null,null,"Total GDP ",null,"Total GDP ","PIB total","PIB total","إجمالي الناتج المحلي","PIB total"]
[null,null,null,null,null,"Consumption deflator growth",null,"Consumption deflator growth","Croissance du déflateur de consommation","Crescimento do deflator de consumo","نمو معامل انكماش الاستهلاك","Crecimiento del deflactor del consumo"]
[null,null,null,null,null,"Investment deflator growth",null,"Investment deflator growth","Croissance du déflateur des investissements","Crescimento do deflator de investimento","نمو عامل انكماش الاستثمار","Crecimiento del deflactor de inversiones"]
[null,null,null,null,null,"Exchange rate (USD) growth",null,"Exchange rate (USD) growth","Croissance du taux de change (USD)","Crescimento da taxa de câmbio (USD)","نمو سعر الصرف (بالدولار الأمريكي)","Crecimiento del tipo de cambio (USD)"]
[null,null,null,null,null,"Consumption deflator",null,"Consumption deflator","Déflateur de consommation","Deflator de consumo","مخفض الاستهلاك","Deflactor de consumo"]
[null,null,null,null,null,"Investment deflator",null,"Investment deflator","Déflateur d'investissement","Deflator de investimento","انكماش الاستثمار","Deflactor de inversiones"]
[null,null,null,null,null,"Trade deflator",null,"Trade deflator","Déflateur commercial","Deflator comercial","انكماش التجارة","Deflactor comercial"]
[null,null,null,null,null,"Constant Prices",null,"Constant Prices","Prix ​​constants","Preços Constantes","أسعار ثابتة","Precios constantes"]
[null,null,null,null,null,"Imports share of (I + C)",null,"Imports share of (I + C)","Part des importations de (I + C)","Participação de importações de (I + C)","حصة الواردات من (I + C)","Cuota de las importaciones de (I + C)"]
[null,null,null,null,null,"Change in stocks share of I",null,"Change in stocks share of I","Variation de la part des stocks de I","Mudança na participação das ações de I","التغيير في حصة الأسهم من أنا","Cambio en la participación de inventarios de I"]
[null,null,null,null,null,"Domestic",null,"Domestic","National","Doméstico","المنزلي","Doméstico"]
[null,null,null,null,null,"Stat discrepancy (real)",null,"Stat discrepancy (real)","Écart de statistiques (réel)","Discrepância estatística (real)","تناقض إحصائي (حقيقي)","Discrepancia estadística (real)"]
[null,null,null,null,null,"Stat discrepancy (nominal)",null,"Stat discrepancy (nominal)","Écart statistique (nominal)","Discrepância estatística (nominal)","تناقض إحصائي (اسمي)","Discrepancia estadística (nominal)"]
[null,null,null,null,null,"Mapping from the P-side",null,"Mapping from the P-side","Cartographie du côté P","Mapeamento do lado P","رسم الخرائط من الجانب P.","Mapeo desde el lado P"]
[null,null,null,null,null,"Deflator",null,"Deflator","Déflateur","Deflator","الانكماش","Deflactor"]
[null,null,null,null,null,"Deflator growth",null,"Deflator growth","Croissance du déflateur","Crescimento do deflator","نمو الانكماش","Crecimiento del deflactor"]
[null,null,null,null,null,"CONS",null,"CONS","CONS","CONS","سلبيات","CONS"]
[null,null,null,null,null,"INV",null,"INV","INV","INV","INV","INV"]
[null,null,null,null,null,"EXP",null,"EXP","EXP","EXP","EXP","EXP"]
[null,null,null,null,null,"Nominal Exchange Rate (United States / ",null,"Nominal Exchange Rate (United States / ","Taux de change nominal (États-Unis / ","Taxa de câmbio nominal (Estados Unidos / ","سعر الصرف الاسمي (الولايات المتحدة /","Tipo de cambio nominal (Estados Unidos /"]
[null,null,null,null,null,"Consumption deflator growth",null,"Consumption deflator growth","Croissance du déflateur de consommation","Crescimento do deflator de consumo","نمو معامل انكماش الاستهلاك","Crecimiento del deflactor del consumo"]
[null,null,null,null,null,"Investment deflator growth",null,"Investment deflator growth","Croissance du déflateur des investissements","Crescimento do deflator de investimento","نمو عامل انكماش الاستثمار","Crecimiento del deflactor de inversiones"]
[null,null,null,null,null,"GDP deflator growth",null,"GDP deflator growth","Croissance du déflateur du PIB","Crescimento do deflator do PIB","نمو معامل انكماش الناتج المحلي الإجمالي","Crecimiento del deflactor del PIB"]
[null,null,null,null,null,"Change in employment, y-o-y, in %",null,"Change in employment, y-o-y, in %","Changement d'emploi, en glissement annuel, en%","Mudança no emprego, ano, em%","التغيير في التوظيف ، على أساس سنوي ، بالنسبة المئوية","Variación del empleo, interanual, en %"]
[null,null,null,null,null,"Growth in Nominal Exchange Rate",null,"Growth in Nominal Exchange Rate","Croissance du taux de change nominal","Crescimento da taxa de câmbio nominal","نمو سعر الصرف الاسمي","Crecimiento del tipo de cambio nominal"]
[null,null,null,null,null,"Average deflator less US CPI (for RER)",null,"Average deflator less US CPI (for RER)","Déflateur moyen moins l'IPC américain (pour le TDR)","Deflator médio menos US IPC (para TDR)","متوسط ​​الانكماش أقل من مؤشر أسعار المستهلك الأمريكي (لـ RER)","Deflactor medio menos IPC de EE. UU. (Para el TCR)"]
[null,null,null,null,null,"SCENARIO (2021 Budget)",null,"SCENARIO (2021 Budget)","SCÉNARIO (Budget 2021)","CENÁRIO (orçamento para 2021)","السيناريو (ميزانية 2021)","ESCENARIO (Presupuesto 2021)"]
[null,null,null,null,null,"Tax Revenue",null,"Tax Revenue","Recettes fiscales","Receita Tributaria","عائدات الضرائب","Ingresos fiscales (de impuestos) "]
[null,null,null,null,null,"Non-Tax Revenue",null,"Non-Tax Revenue","Recettes non fiscales","Receita Não Fiscal","الإيرادات غير الضريبية","Ingresos no fiscales "]
[null,null,null,null,null,"Grants",null,"Grants","Subventions","d / q Donativos","منح","Donaciones"]
[null,null,null,null,null,"Total Revenue excl. Grants",null,"Total Revenue excl. Grants","Revenu total excl. Subventions","Receita total excl. Donativos","إجمالي الإيرادات باستثناء. منح","Ingresos totales excl. Donaciones"]
[null,null,null,null,null,"Total Revenue",null,"Total Revenue","Revenu total","Rendimento total","إجمالي الإيرادات","Ingresos totales"]
[null,null,null,null,null,"BASELINE (2021 Budget)",null,"BASELINE (2021 Budget)","RÉFÉRENCE (Budget 2021)","LINHA DE BASE (orçamento de 2021)","BASELINE (ميزانية 2021)","LÍNEA DE BASE (Presupuesto 2021)"]
[null,null,null,null,null,"MODELLED",null,"MODELLED","MODELED","MODELADO","نموذج","MODELADO"]
[null,null,null,null,null,"TOTAL REVENUE",null,"TOTAL REVENUE","REVENU TOTAL","RENDIMENTO TOTAL","إجمالي الإيرادات","INGRESOS TOTALES"]
[null,null,null,null,null,"Tax revenues",null,"Tax revenues","Les recettes fiscales","Receitas fiscais","الإيرادات الضريبية","Ingresos fiscales (de impuestos) "]
[null,null,null,null,null,"a.Income Tax",null,"a.Income Tax","a. impôt sur le revenu","a. Imposto de renda","أ- ضريبة الدخل","a. Impuesto sobre la renta"]
[null,null,null,null,null,"Company tax",null,"Company tax","Impôt sur les sociétés","Imposto sobre as empresas","ضريبة الشركة","Impuesto corporativo (sobre las empresas)"]
[null,null,null,null,null,"o/w commodity based",null,"o/w commodity based","dont basé sur les produits","d / q baseado em commodities","س / ث على أساس سلعة","o / w basado en productos básicos"]
[null,null,null,null,null,"o/w non commodity based",null,"o/w non commodity based","dont non basé sur les produits de base","d / q não baseado em commodities","س / ث غير قائم على السلع","o / w no basados ​​en productos básicos"]
[null,null,null,null,null,"Individuals",null,"Individuals","Personnes","Indivíduos","الأفراد","Individuos"]
[null,null,null,null,null," Other income tax",null," Other income tax","Autre impôt sur le revenu","Outro imposto de renda","ضريبة الدخل الأخرى","Otro impuesto sobre la renta"]
[null,null,null,null,null,"b.Value Added Tax",null,"b.Value Added Tax","b.Taxe sur la valeur ajoutée","b. Imposto sobre o valor adicionado","ب- ضريبة القيمة المضافة","b) Impuesto sobre el valor añadido (IVA)"]
[null,null,null,null,null,"o/w Domestic",null,"o/w Domestic","dont Domestique","d / q doméstico","س / ث المحلي","o / w Doméstico"]
[null,null,null,null,null,"o/w Import-based",null,"o/w Import-based","dont basé sur l'importation","d / q baseado em importação","س / ث المستندة إلى الاستيراد","o / w Basado en importación"]
[null,null,null,null,null,"c. Customs and Excise duty",null,"c. Customs and Excise duty","c. Droits de douane et d'accise","c. Alfândega e impostos especiais de consumo","ج. الجمارك والضرائب","C. Aduanas e impuestos especiales"]
[null,null,null,null,null,"o/w Customs duty",null,"o/w Customs duty","dont droits de douane","d / q direitos aduaneiros","س / ث الرسوم الجمركية","o / w derechos de aduana"]
[null,null,null,null,null,"o/w Excise duty",null,"o/w Excise duty","dont droit d'accise","d / q Imposto de consumo","س / ث ضريبة الإنتاج","o / w Impuesto específico (excise tax)"]
[null,null,null,null,null,"d. Other Taxes",null,"d. Other Taxes","ré. Autres taxes","d. Outros impostos","د. الضرائب الأخرى","D. Otros impuestos"]
[null,null,null,null,null,"Non-Tax Revenue",null,"Non-Tax Revenue","Recettes non fiscales","Receita Não Fiscal","الإيرادات غير الضريبية","Ingresos no fiscales "]
[null,null,null,null,null,"o/w non-commodity based",null,"o/w non-commodity based","dont non basé sur les produits de base","d / q não baseado em commodities","س / ث غير قائم على السلع","o / w no basados ​​en productos básicos"]
[null,null,null,null,null,"o/w commodity based",null,"o/w commodity based","dont basé sur les produits","d / q baseado em commodities","س / ث على أساس سلعة","o / w basado en productos básicos"]
[null,null,null,null,null,"o/w Other revenues (special)",null,"o/w Other revenues (special)","dont autres revenus (spéciaux)","d / q Outras receitas (especial)","o / w إيرادات أخرى (خاصة)","de / w Otros ingresos (especial)"]
[null,null,null,null,null,"Grants",null,"Grants","Subventions","d / q Donativos","منح","Donaciones"]
[null,null,null,null,null,"Total revenue excl. grants",null,"Total revenue excl. grants","Chiffre d'affaires total excl. subventions","Receita total excl. concessões","إجمالي الإيرادات باستثناء منح","Ingresos totales excl. donaciones"]
[null,null,null,null,null,"Total revenue incl. grants",null,"Total revenue incl. grants","Chiffre d'affaires total incl. subventions","Receita total incl. concessões","إجمالي الإيرادات بما في ذلك. منح","Ingresos totales incl. donaciones"]
[null,null,null,null,null,"ETR",null,"ETR","TIE","TEI","ETR","Tipo Impositivo Effectivo (Effective Taxa Rate/ETR)"]
[null,null,null,null,null,"Buoyancy",null,"Buoyancy","Flottabilité","Flutuabilidade","الطفو","Flotabilidad"]
[null,null,null,null,null,"Parameters",null,"Parameters","Paramètres","Parâmetros","المعلمات","Parámetros"]
[null,null,null,null,null,"Consumption",null,"Consumption","Consommation","Consumo","استهلاك","Consumo"]
[null,null,null,null,null,"Investment",null,"Investment","Investissement","Investimento","الاستثمار","Inversión"]
[null,null,null,null,null,"Mining & quarrying",null,"Mining & quarrying","Mines et carrières","Mineração e pedreiras","التعدين واستغلال المحاجر","Minería y explotación de canteras"]
[null,null,null,null,null,"Imports",null,"Imports","Importations","Importações","الواردات","Importaciones"]
[null,null,null,null,null,"Expenditure",null,"Expenditure","Dépense","Despesa Total","المصروفات","Gasto"]
[null,null,null,null,null,"Expenses",null,"Expenses","Dépenses","Despesas Correntes","نفقات","Gastos"]
[null,null,null,null,null,"Acquisition of Nonfinancial Assets",null,"Acquisition of Nonfinancial Assets","Acquisition d'actifs non financiers","Aquisição de ativos não financeiros","اقتناء الأصول غير المالية","Adquisición de activos no financieros"]
[null,null,null,null,null,"a. Wages and salaries",null,"a. Wages and salaries","une. Émolument personnel","uma. Emolumento Pessoal","أ. الأجور والرواتب","a. Sueldos y salarios"]
[null,null,null,null,null,"o/w Health",null,"o/w Health","dont Santé","d / q Saúde","س / ث الصحة","o / w de salud"]
[null,null,null,null,null,"other",null,"other","autre","de outros","آخر","otro"]
[null,null,null,null,null,"b. Use of Good and Services",null,"b. Use of Good and Services","b. Utilisation des biens et services","b. Uso de bens e serviços","ب. استخدام السلع والخدمات","b. Uso de bienes y servicios"]
[null,null,null,null,null,"c. Interest payments",null,"c. Interest payments","c. Paiements d'intérêts","c. Pagamentos de juros","ج. مدفوعات الفائدة","c. Pagos de interés"]
[null,null,null,null,null,"Domestic ",null,"Domestic ","National","Doméstico","المنزلي","Doméstico"]
[null,null,null,null,null,"External",null,"External","Externe","Externo","خارجي","Externo"]
[null,null,null,null,null,"d. Grants and other payments",null,"d. Grants and other payments","ré. Subventions et autres paiements","d. Subsídios e outros pagamentos","د. المنح والمدفوعات الأخرى","d. Subvenciones y otros pagos"]
[null,null,null,null,null,"e. Social Benefits ",null,"e. Social Benefits ","e. Avantages sociaux","e. Benefícios sociais","ه. المنافع الاجتماعية","e. Beneficios sociales"]
[null,null,null,null,null,"f. Other Expenses",null,"f. Other Expenses","f. Autres dépenses","f. Outras despesas","F. نفقات أخرى","f. Otros gastos"]
[null,null,null,null,null,"Health parameters",null,"Health parameters","Paramètres de santé","Parâmetros de saúde","معلمات الصحة","Parámetros de salud"]
[null,null,null,null,null,"% of Wages and Salaries",null,"% of Wages and Salaries","% des salaires et traitements","% de salários","٪ من الأجور والرواتب","% de sueldos y salarios"]
[null,null,null,null,null,"% of Goods and Services",null,"% of Goods and Services","% des biens et services","% de bens e serviços","٪ من السلع والخدمات","% de bienes y servicios"]
[null,null,null,null,null,"% of Budget",null,"% of Budget","% du budget","% do orçamento","٪ من الميزانية","% del presupuesto"]
[null,null,null,null,null,"Health growth (from GDP(P) parameters)",null,"Health growth (from GDP(P) parameters)","Croissance de la santé (à partir des paramètres du PIB (P))","Crescimento da saúde (a partir dos parâmetros do PIB (P))","النمو الصحي (من بارامترات الناتج المحلي الإجمالي (P))","Crecimiento de la salud (de los parámetros del PIB (P))"]
[null,null,null,null,null,"Interest on domestic debt",null,"Interest on domestic debt","Intérêts sur la dette intérieure","Juros da dívida interna","الفائدة على الدين المحلي","Intereses de la deuda interna"]
[null,null,null,null,null,"Interest on foreign debt",null,"Interest on foreign debt","Intérêts sur la dette extérieure","Juros da dívida externa","الفائدة على الديون الخارجية","Intereses de la deuda externa"]
[null,null,null,null,null,"Total interest",null,"Total interest","Intérêt total","Interesse total","مجموع الفوائد","Interés total"]
[null,null,null,null,null,"Domestic debt",null,"Domestic debt","Dette intérieure","Dívida interna","الدين المحلي","Deuda interna"]
[null,null,null,null,null,"Foreign debt",null,"Foreign debt","Dette extérieure","Dívida externa","الديون الخارجية","Deuda externa"]
[null,null,null,null,null,"Foreign debt (USD)",null,"Foreign debt (USD)","Dette extérieure (USD)","Dívida externa (USD)","الدين الخارجي (بالدولار الأمريكي)","Deuda externa (USD)"]
[null,null,null,null,null,"Total debt stock",null,"Total debt stock","Encours total de la dette","Estoque total da dívida","إجمالي رصيد الديون","Stock total de deuda"]
[null,null,null,null,null,"New borrowing",null,"New borrowing","Nouvel emprunt","Novo empréstimo","الاقتراض الجديد","Nuevo préstamo"]
[null,null,null,null,null,"Domestic share of total",null,"Domestic share of total","Part intérieure du total","Participação interna do total","الحصة المحلية من الإجمالي","Participación nacional del total"]
[null,null,null,null,null,"Foreign share of total",null,"Foreign share of total","Part étrangère du total","Participação externa do total","الحصة الأجنبية من الإجمالي","Participación extranjera del total"]
[null,null,null,null,null,"Interest on foreign debt (USD)",null,"Interest on foreign debt (USD)","Intérêts sur la dette extérieure (USD)","Juros da dívida externa (USD)","الفائدة على الدين الخارجي (بالدولار الأمريكي)","Intereses de la deuda externa (USD)"]
[null,null,null,null,null,"External debt (USD)",null,"External debt (USD)","Dette extérieure (USD)","Dívida externa (USD)","الدين الخارجي (بالدولار الأمريكي)","Deuda externa (USD)"]
[null,null,null,null,null,"Implied interest on domestic debt",null,"Implied interest on domestic debt","Intérêts implicites sur la dette intérieure","Juros implícitos da dívida interna","الفائدة الضمنية على الدين المحلي","Intereses implícitos de la deuda interna"]
[null,null,null,null,null,"Implied interest on international debt",null,"Implied interest on international debt","Intérêts implicites sur la dette internationale","Juros implícitos da dívida externa","الفائدة الضمنية على الديون الدولية","Intereses implícitos de la deuda internacional"]
[null,null,null,null,null,"Exchange rate",null,"Exchange rate","Taux de change","Taxa de câmbio","سعر الصرف","Tipo de cambio"]
[null,null,null,null,null,"Shock ratios",null,"Shock ratios","Rapports de choc","Racios de choc","نسب الصدمة","Ratios de choque"]
[null,null,null,null,null,"Interest / Revenue",null,"Interest / Revenue","Intérêts / revenus","Juros / Receitas","إيرادات الفائدة","Interés / Ingressos"]
[null,null,null,null,null,"Interest / Non-grants revenue",null,"Interest / Non-grants revenue","Intérêts / recettes hors subventions","Juros / Receitas exclu. Donativos","إيرادات الفوائد / غير المنح","Ingresos por intereses / no subvenciones"]
[null,null,null,null,null,"Foreign Interest / Exports",null,"Foreign Interest / Exports","Intérêts étrangers / exportations","Juros Externa / Exportações","الفوائد / الصادرات الأجنبية","Intereses extranjeros / exportaciones"]
[null,null,null,null,null,"Baseline ratios",null,"Baseline ratios","Rapports de base","Racios da linha de base","نسب خط الأساس","Ratios de línea de base "]
[null,null,null,null,null,"Baseline",null,"Baseline","Ligne de base","Linha de base","حدود","Línea de Base"]
[null,null,null,null,null,"Interest iteration calculation",null,"Interest iteration calculation","Calcul des itérations d'intérêt","Cálculo de iteração de juros","حساب تكرار الفائدة","Cálculo de la iteración de intereses"]
[null,null,null,null,null,"Shock Percent of GDP",null,"Shock Percent of GDP","Choc Pourcentage du PIB","Choc por cento do PIB","COVID-19٪ من الناتج المحلي الإجمالي","Choque: Porcentaje del PIB"]
[null,null,null,null,null,"1. CHOOSE YOUR SECTOR…",null,"1. CHOOSE YOUR SECTOR…","1. CHOISISSEZ VOTRE SECTEUR…","1. ESCOLHA SEU Sector ...","1. اختر قطاعك ...","1. ELIJA SU SECTOR ..."]
[null,null,null,null,null,"2. REVISE YOUR PARAMETERS HERE…",null,"2. REVISE YOUR PARAMETERS HERE…","2. RÉVISEZ VOS PARAMÈTRES ICI…","2. REVER SEUS PARÂMETROS AQUI ...","2. راجع معلماتك هنا ...","2. REVISE SUS PARÁMETROS AQUÍ ..."]
[null,null,null,null,null,"3 month lockdown",null,"3 month lockdown","Verrouillage de 3 mois","Confinamento de 3 meses","تأمين لمدة 3 أشهر","Bloqueo de 3 meses"]
[null,null,null,null,null,"6 month lockdown",null,"6 month lockdown","Verrouillage de 6 mois","Confinamento de 6 meses","تأمين لمدة 6 أشهر","Bloqueo de 6 meses"]
[null,null,null,null,null,"12 month lockdown",null,"12 month lockdown","Verrouillage de 12 mois","Confinamento de 12 meses","تأمين لمدة 12 شهرًا","Bloqueo de 12 meses"]
[null,null,null,null,null,"Low",null,"Low","Faible","Baixo","منخفض","Bajo"]
[null,null,null,null,null,"Medium",null,"Medium","Moyen","Médio","متوسط","Medio"]
[null,null,null,null,null,"High",null,"High","Haute","Alto","عالي","Alto"]
[null,null,null,null,null,"Low Stringency",null,"Low Stringency","Faible stringence","Baixa Rigidez","شدة منخفضة","Bajo rigor"]
[null,null,null,null,null,"Medium Stringency",null,"Medium Stringency","Stringence moyenne","Media Rigidez","شدة متوسطة","Rigurosidad media"]
[null,null,null,null,null,"High Stringency",null,"High Stringency","Haute rigueur","Alta Rigidez","شدة عالية","Alta rigurosidad"]
[null,null,null,null,null,"Original parameters for reference",null,"Original parameters for reference","Paramètres d'origine pour référence","Parâmetros originais de referência","المعلمات الأصلية كمرجع","Parámetros originales para referencia"]
[null,null,null,null,null,"The Matrix Rebuilt:",null,"The Matrix Rebuilt:","La matrice reconstruite:","Matrix reconstruída:","أعيد بناء المصفوفة:","La matriz reconstruida:"]
[null,null,null,null,null,"6 months",null,"6 months","6 mois","6 mesas","6 اشهر","6 meses"]
[null,null,null,null,null,"Remember: Sector will be constrained by the overall production function",null,"Remember: Sector will be constrained by the overall production function","N'oubliez pas: le secteur sera contraint par la fonction de production globale","Lembre-se: o Sector será restringido pela função de producção geral","تذكر: سيكون القطاع مقيدًا بوظيفة الإنتاج الإجمالية","Recuerde: el sector estará limitado por la función de producción general"]
[null,null,null,null,null,"Changes here will affect ALL sectors",null,"Changes here will affect ALL sectors","Les changements ici affecteront TOUS les secteurs","Mudanças aqui afetarão TODOS os Sectores","التغييرات هنا ستؤثر على جميع القطاعات","Los cambios aquí afectarán a TODOS los sectores"]
[null,null,null,null,null,"Select sector:",null,"Select sector:","Sélectionnez un secteur:","Selecione o Sector:","اختر القطاع:","Seleccionar sector:"]
[null,null,null,null,null,"Parameters for the Shock",null,"Parameters for the Shock","Paramètres pour le choc","Parâmetros para o choque","معلمات الصدمة","Parámetros para el choque"]
[null,null,null,null,null,"Select Macroeconomic Parameters",null,"Select Macroeconomic Parameters","Sélectionnez les paramètres macroéconomiques","Selecione os parâmetros macroeconômicos","حدد معلمات الاقتصاد الكلي","Seleccionar parámetros macroeconómicos"]
[null,null,null,null,null,"Select Fiscal Variables",null,"Select Fiscal Variables","Sélectionnez les variables fiscales","Selecione Variáveis Fiscais","حدد متغيرات المالية العامة","Seleccionar variables fiscales"]
[null,null,null,null,null,"Blank",null,"Blank","Vide","Em branco","فارغ","Blanco"]
[null,null,null,null,null,"Real GDP",null,"Real GDP","PIB réel","PIB real","الناتج المحلي الإجمالي الحقيقي","PIB real"]
[null,null,null,null,null,"Nominal GDP",null,"Nominal GDP","PIB nominal","PIB nominal","الناتج المحلي الإجمالي الاسمي","Producto interno bruto nominal"]
[null,null,null,null,null,"Consumption (Real)",null,"Consumption (Real)","Consommation (réelle)","Consumo (Real)","الاستهلاك (حقيقي)","Consumo (real)"]
[null,null,null,null,null,"Consumption (Nominal)",null,"Consumption (Nominal)","Consommation (nominale)","Consumo (Nominal)","الاستهلاك (الاسمي)","Consumo (nominal)"]
[null,null,null,null,null,"Investment (Real)",null,"Investment (Real)","Investissement (réel)","Investimento (real)","الاستثمار (حقيقي)","Inversión (Real)"]
[null,null,null,null,null,"Investment (Nominal)",null,"Investment (Nominal)","Investissement (nominal)","Investimento (nominal)","الاستثمار (الاسمي)","Inversión (nominal)"]
[null,null,null,null,null,"Excess Unemployment Rate",null,"Excess Unemployment Rate","Taux de chômage excessif","Excesso de taxa de desemprego","معدل البطالة الزائدة","Tasa de exceso de desempleo"]
[null,null,null,null,null,"%chg Real GDP",null,"%chg Real GDP","% chg PIB réel","% chg PIB real","٪ chg الناتج المحلي الإجمالي الحقيقي","% variación PIB real"]
[null,null,null,null,null,"%chg Nominal GDP",null,"%chg Nominal GDP","% chg PIB nominal","% chg PIB nominal","٪ chg الناتج المحلي الإجمالي الاسمي","% variación del PIB nominal"]
[null,null,null,null,null,"Total Revenue",null,"Total Revenue","Revenu total","Rendimento total","إجمالي الإيرادات","Ingresos totales"]
[null,null,null,null,null,"Tax Revenue",null,"Tax Revenue","Recettes fiscales","Receita Tributaria","عائدات الضرائب","Ingresos fiscales (de impuestos) "]
[null,null,null,null,null,"Non-Tax Revenue",null,"Non-Tax Revenue","Recettes non fiscales","Receita Não Fiscal","الإيرادات غير الضريبية","Ingresos non fiscales "]
[null,null,null,null,null,"Expenditure",null,"Expenditure","Dépense","Despesa","المصروفات","Gasto"]
[null,null,null,null,null,"Expenses",null,"Expenses","Dépenses","Despesas","نفقات","Gastos"]
[null,null,null,null,null,"Acquisition of Nonfinancial Assets",null,"Acquisition of Nonfinancial Assets","Acquisition d'actifs non financiers","Aquisição de ativos não financeiros","اقتناء الأصول غير المالية","Adquisición de activos no financieros"]
[null,null,null,null,null,"Net Lending or Borrowing Balance",null,"Net Lending or Borrowing Balance","Solde prêt ou emprunteur net","Empréstimo líquido ou saldo devedor","صافي رصيد الإقراض أو الاقتراض","Balance Préstamo / Endeudamiento Neto (net lending or borrowing balance)"]
[null,null,null,null,null,"Debt",null,"Debt","Dette","Dívida","دين","Deuda"]
[null,null,null,null,null,"Interest / Revenue",null,"Interest / Revenue","Intérêts / revenus","Juros / Receitas","إيرادات الفائدة","Interés / Ingressos)"]
[null,null,null,null,null,"Baseline Total Revenue",null,"Baseline Total Revenue","Revenu total de référence","Receita total da linha de base","إجمالي الإيرادات الأساسية","Ingresos totales de la linea de base"]
[null,null,null,null,null,"Baseline Tax Revenue",null,"Baseline Tax Revenue","Recettes fiscales de base","Receita tributária de base","الإيرادات الضريبية الأساسية","Ingresos tributarios de la linea de base "]
[null,null,null,null,null,"Baseline Non-Tax Revenue",null,"Baseline Non-Tax Revenue","Revenus non fiscaux de base","Receita não tributária da linha de base","الإيرادات غير الضريبية الأساسية","Ingresos no tributarios de la linea de base"]
[null,null,null,null,null,"Baseline Expenditure",null,"Baseline Expenditure","Dépenses de base","Despesa de linha de base","الإنفاق الأساسي","Gasto de la linea de base"]
[null,null,null,null,null,"Baseline Expenses",null,"Baseline Expenses","Dépenses de base","Despesas de linha de base","مصاريف خط الأساس","Gastos de la linea de base"]
[null,null,null,null,null,"Baseline Acquisition of Nonfinancial Assets",null,"Baseline Acquisition of Nonfinancial Assets","Acquisition de référence d'actifs non financiers","Aquisição de linha de base de ativos não financeiros","الاستحواذ الأساسي على الأصول غير المالية","Adquisición de activos no financieros de la linea de base"]
[null,null,null,null,null,"Baseline Net Lending or Borrowing Balance",null,"Baseline Net Lending or Borrowing Balance","Prêt ou solde d'emprunt net de référence","Empréstimo líquido de linha de base ou saldo devedor","صافي الإقراض الأساسي أو رصيد الاقتراض","Balance Préstamo / Endeudamiento Neto (net lending or borrowing balance)"]
[null,null,null,null,null,"Baseline Debt",null,"Baseline Debt","Dette de base","Dívida de linha de base","الديون الأساسية","Deuda de la linea de base"]
[null,null,null,null,null,"Baseline Interest / Revenue",null,"Baseline Interest / Revenue","Intérêts / revenus de base","Juros / receita da linha de base","الفائدة / الإيرادات الأساسية","Intereses / ingresos de la linea de base"]
[null,null,null,null,null,"%GDP Total Revenue",null,"%GDP Total Revenue","% PIB total des recettes","% Da receita total do PIB","٪ إجمالي الناتج المحلي الإجمالي","% PIB Ingresos totales"]
[null,null,null,null,null,"%GDP Tax Revenue",null,"%GDP Tax Revenue","% Des recettes fiscales du PIB","% Da Receita Tributaria do PIB","٪ إيرادات ضريبة الناتج المحلي الإجمالي","% PIB Ingresos fiscales"]
[null,null,null,null,null,"%GDP Non-Tax Revenue",null,"%GDP Non-Tax Revenue","% Des recettes non fiscales du PIB","% Da receita não tributária do PIB","٪ إجمالي الناتج المحلي الإيرادات غير الضريبية","% PIB Ingresos no fiscales"]
[null,null,null,null,null,"%GDP Expenditure",null,"%GDP Expenditure","Dépenses en% du PIB","% Das despesas do PIB","٪ إنفاق الناتج المحلي الإجمالي","% PIB Gasto"]
[null,null,null,null,null,"%GDP Expenses",null,"%GDP Expenses","Dépenses en% du PIB","% Das despesas do PIB","٪ نفقات الناتج المحلي الإجمالي","% PIB Gastos"]
[null,null,null,null,null,"%GDP Acquisition of Nonfinancial Assets",null,"%GDP Acquisition of Nonfinancial Assets","% PIB Acquisition d'actifs non financiers","% De aquisição de ativos não financeiros pelo PIB","نسبة اقتناء الناتج المحلي الإجمالي للأصول غير المالية","% PIB Adquisición de activos no financieros"]
[null,null,null,null,null,"%GDP Net Lending or Borrowing Balance",null,"%GDP Net Lending or Borrowing Balance","% PIB net prêt ou solde d'emprunt","% PIB líquido de empréstimos ou saldo devedor","٪ الناتج المحلي الإجمالي صافي رصيد الإقراض أو الاقتراض","% Del PIB Emprestimo líquido o saldo devedor"]
[null,null,null,null,null,"%GDP Debt",null,"%GDP Debt","% De la dette du PIB","% Da dívida do PIB","٪ ديون الناتج المحلي الإجمالي","% PIB Deuda"]
[null,null,null,null,null,"%GDP Baseline Total Revenue",null,"%GDP Baseline Total Revenue","% PIB Revenu total de référence","% Da receita total da linha de base do PIB","٪ إجمالي الناتج المحلي الإجمالي الأساسي","% PIB Ingresos totales de la linea de base"]
[null,null,null,null,null,"%GDP Baseline Tax Revenue",null,"%GDP Baseline Tax Revenue","% Des recettes fiscales de base du PIB","% Da receita tributária da linha de base do PIB","٪ إجمالي الناتج المحلي من عائدات الضرائب الأساسية","% PIB Ingresos fiscales de la linea de base "]
[null,null,null,null,null,"%GDP Baseline Non-Tax Revenue",null,"%GDP Baseline Non-Tax Revenue","% Du PIB de base de recettes non fiscales","% Da receita não tributária da linha de base do PIB","٪ الناتج المحلي الإجمالي الأساسي للإيرادات غير الضريبية","% PIB Ingresos no fiscales de la linea de base "]
[null,null,null,null,null,"%GDP Baseline Expenditure",null,"%GDP Baseline Expenditure","Dépenses de référence en% du PIB","% Da despesa de base do PIB","٪ إنفاق خط الأساس للناتج المحلي الإجمالي","% del PIB Gasto de la linea de base"]
[null,null,null,null,null,"%GDP Baseline Expenses",null,"%GDP Baseline Expenses","% Des dépenses de base du PIB","% Das despesas da linha de base do PIB","٪ نفقات خط الأساس للناتج المحلي الإجمالي","% PIB Gastos de la línea de base "]
[null,null,null,null,null,"%GDP Baseline Acquisition of Nonfinancial Assets",null,"%GDP Baseline Acquisition of Nonfinancial Assets","% Du PIB Acquisition d'actifs non financiers de référence","% PIB Aquisição de linha de base de ativos não financeiros","النسبة المئوية لاكتساب خط الأساس للناتج المحلي الإجمالي من الأصول غير المالية","% PIB Adquisición de activos no financieros de la línea de base"]
[null,null,null,null,null,"%GDP Baseline Net Lending or Borrowing Balance",null,"%GDP Baseline Net Lending or Borrowing Balance","% PIB de référence prêt net ou solde d'emprunt","% Do PIB da linha de base de empréstimos líquidos ou saldo devedor","٪ الناتج المحلي الإجمالي الأساسي صافي الإقراض أو رصيد الاقتراض","% PIB Balance Préstamo / Endeudamiento Neto de la línea de base"]
[null,null,null,null,null,"%GDP Baseline Debt",null,"%GDP Baseline Debt","% De la dette de base du PIB","% Da dívida básica do PIB","النسبة المئوية للديون الأساسية للناتج المحلي الإجمالي","% PIB Deuda de la linea de base"]
[null,null,null,null,null,"PF Approach",null,"PF Approach","FP Approche","FP Aproximação","نهج PF","Enfoque PF"]
[null,null,null,null,null,"Sector Approach",null,"Sector Approach","Approche sectorielle","Abordagem Sectorial","نهج القطاع","Enfoque sectorial"]
[null,null,null,null,null,"Company Tax (mining)",null,"Company Tax (mining)","Impôt sur les sociétés (minier)","Imposto sobre as empresas (mineração)","ضريبة الشركة (التعدين)","Impuesto de sociedades (minería)"]
[null,null,null,null,null,"Company Tax (non-mining)",null,"Company Tax (non-mining)","Impôt sur les sociétés (non minier)","Imposto sobre as empresas (não mineração)","ضريبة الشركة (غير التعدين)","Impuesto de sociedades (no minería)"]
[null,null,null,null,null,"PAYE",null,"PAYE","PCVG","PAYE","دفع","PAYE"]
[null,null,null,null,null,"Other income tax",null,"Other income tax","Autres retenues d'impôt sur le revenu","Retenção de outro imposto de renda","ضريبة الدخل الأخرى","Otros impuestos sobre la renta"]
[null,null,null,null,null,"VAT (Domestic)",null,"VAT (Domestic)","TVA (domestique)","IVA (doméstico)","ضريبة القيمة المضافة (محلية)","IVA (nacional)"]
[null,null,null,null,null,"VAT (Imports)",null,"VAT (Imports)","TVA (importations)","IVA (importações)","ضريبة القيمة المضافة (الواردات)","IVA (Importaciones)"]
[null,null,null,null,null,"Customs Duty",null,"Customs Duty","Droit de douane","Direitos aduaneiros","الرسوم الجمركية","Derechos de aduana"]
[null,null,null,null,null,"Excise Duty",null,"Excise Duty","Droit d'accise","Imposto de consumo","رسوم الاستهلاك","Impuesto específico (excise tax)"]
[null,null,null,null,null,"Other taxes",null,"Other taxes","Autres taxes","Outros impostos","الضرائب الأخرى","Otros impuestos"]
[null,null,null,null,null,"Non-tax revenue (non-commodity)",null,"Non-tax revenue (non-commodity)","Recettes non fiscales (non basé sur les produits de base)","Receita Não Fiscal (não baseado em commodities)","الإيرادات غير الضريبية (غير السلعية)","Ingresos no fiscales(no productos básicos)"]
[null,null,null,null,null,"Non-tax revenue (commodity)",null,"Non-tax revenue (commodity)","Recettes non fiscales (basé sur les produits)","Receita Não Fiscal (baseado em commodities)","الإيرادات غير الضريبية (السلع)","Ingresos no fiscales (productos básicos)"]
[null,null,null,null,null,"Other revenue",null,"Other revenue","Autre revenu","Outras receitas","ايرادات اخرى","Otros ingresos"]
[null,null,null,null,null,"Wages and Salaries",null,"Wages and Salaries","Salaires et traitements","Salários e salários","الأجور والرواتب","Sueldos y salarios"]
[null,null,null,null,null,"Goods and Services",null,"Goods and Services","Biens et services","Bens e serviços","بضائع وخدمات","Bienes y servicios"]
[null,null,null,null,null,"Grants and Transfers",null,"Grants and Transfers","Subventions et transferts","Donativos e transferências","المنح والتحويلات","Donaciones y transferencias"]
[null,null,null,null,null,"Social Benefits",null,"Social Benefits","Avantages sociaux","Benefícios sociais","المنافع الاجتماعية","Beneficios sociales"]
[null,null,null,null,null,"Other Expense",null,"Other Expense","Autres dépenses","Outras despesas","نفقات أخرى","Otro gasto"]
[null,null,null,null,null,"Net acquisition of non-financial assets",null,"Net acquisition of non-financial assets","Acquisition nette d'actifs non financiers","Aquisição líquida de ativos não financeiros","صافي اقتناء الأصول غير المالية","Adquisición neta de activos no financieros"]
[null,null,null,null,null,"Stream",null,"Stream","Courant","Corrente","مجرى","Arroyo"]
[null,null,null,null,null,"Description",null,"Description","La description","Descrição","وصف","Descripción"]
[null,null,null,null,null,"o/w interest",null,"o/w interest","dont Intérêt","d.q Interesse","س / ث الفائدة","o / w interés"]
[null,null,null,null,null,"Red = links",null,"Red = links","Rouge = liens","Vermelho = links","أحمر = روابط","Rojo = enlaces"]
[null,null,null,null,null,"Black = calculations",null,"Black = calculations","Noir = calculs","Preto = cálculos","أسود = الحسابات","Negro = cálculos"]
[null,null,null,null,null,"Blue = hard-coded numbers",null,"Blue = hard-coded numbers","Bleu = numéros codés en dur","Azul = números codificados","أزرق = أرقام مشفرة","Azul = números codificados de forma rígida"]
[null,null,null,null,null,"Model values",null,"Model values","Valeurs du modèle","Valores do modelo","قيم النموذج","Valores del modelo"]
[null,null,null,null,null,"User entry values",null,"User entry values","Valeurs d'entrée utilisateur","Valores de entrada do usuário","قيم إدخال المستخدم","Valores de entrada de usuario"]
[null,null,null,null,null,"Colour codes",null,"Colour codes","Codes couleurs","Códigos de cores","رموز اللون","Códigos de color"]
[null,null,null,null,null,"PLEASE ENABLE MACROS",null,"PLEASE ENABLE MACROS","Veuillez activer les macros","Ative as macros","يرجى تمكين MACROS","POR FAVOR HABILITAR MACROS"]
[null,null,null,null,null,"Fiscal Framework Comparisons",null,"Fiscal Framework Comparisons","Comparaisons du cadre budgétaire","Comparações da estrutura fiscal","مقارنات الإطار المالي","Comparaciones del marco fiscal"]
[null,null,null,null,null,"Expenditure to GDP",null,"Expenditure to GDP","Dépenses par rapport au PIB","Despesa para PIB","الإنفاق على الناتج المحلي الإجمالي","Gasto al PIB"]
[null,null,null,null,null,"Debt to GDP",null,"Debt to GDP","Dette / PIB","Dívida em relação ao PIB","الدين إلى الناتج المحلي الإجمالي","Deuda a PIB"]
[null,null,null,null,null,"Revenue to GDP",null,"Revenue to GDP","Revenus au PIB","Receita para PIB","الإيرادات إلى الناتج المحلي الإجمالي","Ingresos al PIB"]
[null,null,null,null,null,"Average",null,"Average","Moyenne","Média","معدل","Promedio"]
[null,null,null,null,null,"Max",null,"Max","Max","Max","ماكس","Max"]
[null,null,null,null,null,"Min",null,"Min","Min","Min","دقيقة","Min"]
[null,null,null,null,null,"IMF Fiscal Affairs Department Fiscal Stress Test\n Supply Shock Macro-Fiscal Scenarios",null,"IMF Fiscal Affairs Department Fiscal Stress Test\n Supply Shock Macro-Fiscal Scenarios","Département des finances publiques du FMI. \nScénarios macro-budgétaires de choc d'offre\"","Teste de estresse fiscal do Departamento de Assuntos Fiscais do FMI\nCenários macro-fiscais de choque de oferta","\"اختبار الإجهاد المالي لإدارة الشؤون المالية بصندوق النقد الدولي\nسيناريوهات المالية العامة الكلية لصدمة العرض \"","Prueba de estrés fiscal del Departamento de Finanzas Públicas del FMI \nEscenarios macrofiscales de choque de oferta"]
[null,null,null,null,null,"months",null,"months","mois","meses","الشهور","meses"]
[null,null,null,null,null,"Length",null,"Length","longueur","DURAÇAO","الطول","Largo"]
[null,null,null,null,null,"Stringency",null,"Stringency","Rigueur","Rigor","التشدد","Rigor"]
[null,null,null,null,null,"MINING",null,"MINING","MINIÈRE","MINERAÇÃO","التعدين","MINERÍA"]
[null,null,null,null,null,"Preparedness",null,"Preparedness","Préparation","Preparação","التأهب","Preparación"]
[null,null,null,null,null,"Severity",null,"Severity","Gravité","Severidade","خطورة","Severidad"]
[null,null,null,null,null,"Low",null,"Low","Faible","Baixo","قليل","Bajo"]
[null,null,null,null,null,"High",null,"High","Haut","Alto","عالي","Alto"]
[null,null,null,null,null,"High Severity",null,"High Severity","Gravité élevée ","Alta Severidade ",null,"Severidad Alta"]
[null,null,null,null,null,"Medium Severity",null,"Medium Severity","Gravité moyenne","Media Severidade",null,"Severidad Media"]
[null,null,null,null,null,"Low Severity",null,"Low Severity","Faible gravité","Baixa Seviridade",null,"Severidad Baja"]
[null,null,null,null,null,"Moderate",null,"Moderate","Moyen","Médio",null,"Medo"]
[null,null,null,null,null,"High Preparedness",null,"High Preparedness","Bonne préparation","Boa Preparação",null,"Buena preparación"]
[null,null,null,null,null,"Medium Preparedness",null,"Medium Preparedness","Préparation moyenne","Preparação média",null,"Preparación media"]
[null,null,null,null,null,"Low Preparedness",null,"Low Preparedness","Faible préparation","Preparação Insuficiente",null,"Preparación débil"]
[null,null,null,null,null,"Pandemic",null,"Pandemic","Pandémie","Pandemia",null,"Pandemia"]
[null,null,null,null,null,"Earthquake",null,"Earthquake","Tremblement de terre","Terremoto",null,"Terremoto"]
[null,null,null,null,null,"Flood",null,"Flood","Inondation","Enchente",null,"Inundación"]
[null,null,null,null,null,"Storm",null,"Storm","Tempête","Tempestade",null,"Tormenta"]
[null,null,null,null,null,"Drought",null,"Drought","Sécheresse","Seca",null,"Sequía"]

{"sheet":"Model Adjustment By Sector","index":20,"n_rows":93,"n_cols":18,"rows_kept":93,"cut":false,"hidden":false,"merged":[[2,2,2,7],[14,2,14,4],[14,6,14,8],[50,0,68,0],[50,6,68,6],[27,0,45,0],[27,6,45,6],[6,2,6,4],[6,6,6,8],[21,1,21,2],[15,0,18,0],[7,0,10,0],[6,10,6,12],[50,12,68,12],[74,0,92,0],[74,6,92,6],[74,12,92,12],[27,12,45,12],[14,10,14,12]]}
[]
[null,{"$f":"Labels!F181","v":"1. CHOOSE YOUR SECTOR…"}]
[null,null,"Agriculture and forestry"]
[]
[]
[null,{"$f":"Labels!F182","v":"2. REVISE YOUR PARAMETERS HERE…"}]
[null,null,{"$f":"R12","v":"3 month lockdown"},null,null,null,{"$f":"R13","v":"6 month lockdown"},null,null,null,{"$f":"R14","v":"12 month lockdown"}]
[{"$f":"Labels!F45","v":"STRINGENCY"},null,2022,2023,2024,null,{"$f":"C8","v":2022},{"$f":"D8","v":2023},{"$f":"E8","v":2024},null,{"$f":"G8","v":2022},{"$f":"H8","v":2023},{"$f":"I8","v":2024},null,null,null,null,{"$f":"Labels!F186","v":"Low"}]
[null,{"$f":"R8","v":"Low"},1,1,1,null,0.97,1,1,null,0.91,0.94640000000000002,0.98425600000000002,null,null,null,null,{"$f":"Labels!F187","v":"Medium"}]
[null,{"$f":"R9","v":"Medium"},0.97,1,1,null,0.94,0.97760000000000002,1,null,0.82000000000000006,0.86920000000000008,0.92135200000000017,null,null,null,null,{"$f":"Labels!F188","v":"High"}]
[null,"High",0.94,0.97760000000000002,1,null,0.91,0.94640000000000002,0.98425600000000002,null,0.77,0.8,0.88]
[null,null,null,null,null,null,null,null,null,null,null,null,null,null,null,null,null,{"$f":"Labels!F183","v":"3 month lockdown"}]
[null,null,null,null,null,null,null,null,null,null,null,null,null,null,null,null,null,{"$f":"Labels!F184","v":"6 month lockdown"}]
[null,{"$f":"Labels!F192","v":"Original parameters for reference"},null,null,null,null,null,null,null,null,null,null,null,null,null,null,null,{"$f":"Labels!F185","v":"12 month lockdown"}]
[null,null,{"$f":"C7","v":"3 month lockdown"},null,null,null,{"$f":"G7","v":"6 month lockdown"},null,null,null,{"$f":"K7","v":"12 month lockdown"}]
[{"$f":"A8","v":"STRINGENCY"},null,{"$f":"C8","v":2022},{"$f":"D8","v":2023},{"$f":"E8","v":2024},null,{"$f":"C16","v":2022},{"$f":"D16","v":2023},{"$f":"E16","v":2024},null,{"$f":"G16","v":2022},{"$f":"H16","v":2023},{"$f":"I16","v":2024},null,null,null,null,{"$f":"Labels!F49","v":"3 months"}]
[null,{"$f":"B9","v":"Low"},1,1,1,null,0.97,1,1,null,0.91,0.94640000000000002,0.98425600000000002,null,null,null,null,{"$f":"Labels!F194","v":"6 months"}]
[null,{"$f":"B10","v":"Medium"},0.97,1,1,null,0.94,0.97760000000000002,1,null,0.82000000000000006,0.86920000000000008,0.92135200000000017,null,null,null,null,{"$f":"Labels!F50","v":"12 months"}]
[null,"High",0.94,0.97760000000000002,1,null,0.91,0.94640000000000002,0.98425600000000002,null,0.77,0.8,0.88]
[]
[]
[null,{"$f":"Labels!F285","v":"Stringency"},null,"Low",null,null,null,{"$f":"Labels!F284","v":"Length"},null,"3 months"]
[]
[0]
[]
[null,{"$f":"Labels!F193","v":"The Matrix Rebuilt:"}]
[null,{"$f":"R16","v":"3 months"},2022,2023,2024,null,null,{"$f":"H50","v":"6 months"},{"$f":"C27","v":2022},{"$f":"D27","v":2023},2024,null,null,{"$f":"R18","v":"12 months"},{"$f":"I27","v":2022},{"$f":"J27","v":2023},2024]
[{"$f":"Labels!F189","v":"Low Stringency"},{"$f":"Labels!F24","v":"Agriculture and forestry"},{"$f":"OFFSET('Calculating parameters'!D$191,6*(ROW()-28),0)","v":1},{"$f":"OFFSET('Calculating parameters'!H$191,6*(ROW()-28),0)","v":1},{"$f":"OFFSET('Calculating parameters'!L$191,6*(ROW()-28),0)","v":1},null,{"$f":"A28","v":"Low Stringency"},{"$f":"B28","v":"Agriculture and forestry"},{"$f":"OFFSET('Calculating parameters'!E$191,6*(ROW()-28),0)","v":0.97},{"$f":"OFFSET('Calculating parameters'!I$191,6*(ROW()-28),0)","v":1},{"$f":"OFFSET('Calculating parameters'!M$191,6*(ROW()-28),0)","v":1},null,{"$f":"G28","v":"Low Stringency"},{"$f":"H28","v":"Agriculture and forestry"},{"$f":"OFFSET('Calculating parameters'!F$191,6*(ROW()-28),0)","v":0.91},{"$f":"OFFSET('Calculating parameters'!J$191,6*(ROW()-28),0)","v":0.94640000000000002},{"$f":"OFFSET('Calculating parameters'!N$191,6*(ROW()-28),0)","v":0.98425600000000002}]
[null,{"$f":"Labels!F25","v":"Fishing and fish processing on board"},{"$f":"OFFSET('Calculating parameters'!D$191,6*(ROW()-28),0)","v":0.93700000000000006},{"$f":"OFFSET('Calculating parameters'!H$191,6*(ROW()-28),0)","v":1},{"$f":"OFFSET('Calculating parameters'!L$191,6*(ROW()-28),0)","v":1},null,null,{"$f":"B29","v":"Fishing and fish processing on board"},{"$f":"OFFSET('Calculating parameters'!E$191,6*(ROW()-28),0)","v":0.874},{"$f":"OFFSET('Calculating parameters'!I$191,6*(ROW()-28),0)","v":0.90895999999999999},{"$f":"OFFSET('Calculating parameters'!M$191,6*(ROW()-28),0)","v":0.97},null,null,{"$f":"H29","v":"Fishing and fish processing on board"},{"$f":"OFFSET('Calculating parameters'!F$191,6*(ROW()-28),0)","v":0.81099999999999994},{"$f":"OFFSET('Calculating parameters'!J$191,6*(ROW()-28),0)","v":0.84343999999999997},{"$f":"OFFSET('Calculating parameters'!N$191,6*(ROW()-28),0)","v":0.8771776}]
[null,{"$f":"Labels!F26","v":"Mining and quarrying"},{"$f":"OFFSET('Calculating parameters'!D$191,6*(ROW()-28),0)","v":0.94},{"$f":"OFFSET('Calculating parameters'!H$191,6*(ROW()-28),0)","v":1},{"$f":"OFFSET('Calculating parameters'!L$191,6*(ROW()-28),0)","v":1},null,null,"Mining and quarrying",{"$f":"OFFSET('Calculating parameters'!E$191,6*(ROW()-28),0)","v":0.8},{"$f":"OFFSET('Calculating parameters'!I$191,6*(ROW()-28),0)","v":0.97},{"$f":"OFFSET('Calculating parameters'!M$191,6*(ROW()-28),0)","v":1},null,null,"Mining and quarrying",{"$f":"OFFSET('Calculating parameters'!F$191,6*(ROW()-28),0)","v":0.7},{"$f":"OFFSET('Calculating parameters'!J$191,6*(ROW()-28),0)","v":0.8},{"$f":"OFFSET('Calculating parameters'!N$191,6*(ROW()-28),0)","v":0.94}]
[null,{"$f":"Labels!F27","v":"Manufacturing"},{"$f":"OFFSET('Calculating parameters'!D$191,6*(ROW()-28),0)","v":0.81},{"$f":"OFFSET('Calculating parameters'!H$191,6*(ROW()-28),0)","v":1},{"$f":"OFFSET('Calculating parameters'!L$191,6*(ROW()-28),0)","v":1},null,null,"Manufacturing",{"$f":"OFFSET('Calculating parameters'!E$191,6*(ROW()-28),0)","v":0.69},{"$f":"OFFSET('Calculating parameters'!I$191,6*(ROW()-28),0)","v":0.95},{"$f":"OFFSET('Calculating parameters'!M$191,6*(ROW()-28),0)","v":1},null,null,"Manufacturing",{"$f":"OFFSET('Calculating parameters'!F$191,6*(ROW()-28),0)","v":0.56000000000000005},{"$f":"OFFSET('Calculating parameters'!J$191,6*(ROW()-28),0)","v":0.67},{"$f":"OFFSET('Calculating parameters'!N$191,6*(ROW()-28),0)","v":0.95}]
[null,{"$f":"Labels!F28","v":"Electricity and water"},{"$f":"OFFSET('Calculating parameters'!D$191,6*(ROW()-28),0)","v":0.95499999999999996},{"$f":"OFFSET('Calculating parameters'!H$191,6*(ROW()-28),0)","v":1},{"$f":"OFFSET('Calculating parameters'!L$191,6*(ROW()-28),0)","v":1},null,null,"Electricity and water",{"$f":"OFFSET('Calculating parameters'!E$191,6*(ROW()-28),0)","v":0.91},{"$f":"OFFSET('Calculating parameters'!I$191,6*(ROW()-28),0)","v":0.94640000000000002},{"$f":"OFFSET('Calculating parameters'!M$191,6*(ROW()-28),0)","v":0.97},null,null,"Electricity and water",{"$f":"OFFSET('Calculating parameters'!F$191,6*(ROW()-28),0)","v":0.82000000000000006},{"$f":"OFFSET('Calculating parameters'!J$191,6*(ROW()-28),0)","v":0.85280000000000011},{"$f":"OFFSET('Calculating parameters'!N$191,6*(ROW()-28),0)","v":0.88691200000000014}]
[null,{"$f":"Labels!F29","v":"Construction"},{"$f":"OFFSET('Calculating parameters'!D$191,6*(ROW()-28),0)","v":0.85},{"$f":"OFFSET('Calculating parameters'!H$191,6*(ROW()-28),0)","v":0.9},{"$f":"OFFSET('Calculating parameters'!L$191,6*(ROW()-28),0)","v":1},null,null,"Construction",{"$f":"OFFSET('Calculating parameters'!E$191,6*(ROW()-28),0)","v":0.8},{"$f":"OFFSET('Calculating parameters'!I$191,6*(ROW()-28),0)","v":0.87},{"$f":"OFFSET('Calculating parameters'!M$191,6*(ROW()-28),0)","v":0.96},null,null,"Construction",{"$f":"OFFSET('Calculating parameters'!F$191,6*(ROW()-28),0)","v":0.75},{"$f":"OFFSET('Calculating parameters'!J$191,6*(ROW()-28),0)","v":0.85},{"$f":"OFFSET('Calculating parameters'!N$191,6*(ROW()-28),0)","v":0.95}]
[null,{"$f":"Labels!F30","v":"Wholesale and retail trade, repairs"},{"$f":"OFFSET('Calculating parameters'!D$191,6*(ROW()-28),0)","v":0.97270090191130743},{"$f":"OFFSET('Calculating parameters'!H$191,6*(ROW()-28),0)","v":0.98635045095565377},{"$f":"OFFSET('Calculating parameters'!L$191,6*(ROW()-28),0)","v":1},null,null,"Wholesale and retail trade, repairs",{"$f":"OFFSET('Calculating parameters'!E$191,6*(ROW()-28),0)","v":0.94540180382261485},{"$f":"OFFSET('Calculating parameters'!I$191,6*(ROW()-28),0)","v":0.97270090191130743},{"$f":"OFFSET('Calculating parameters'!M$191,6*(ROW()-28),0)","v":1},null,null,"Wholesale and retail trade, repairs",{"$f":"OFFSET('Calculating parameters'!F$191,6*(ROW()-28),0)","v":0.89080360764522981},{"$f":"OFFSET('Calculating parameters'!J$191,6*(ROW()-28),0)","v":0.94540180382261485},{"$f":"OFFSET('Calculating parameters'!N$191,6*(ROW()-28),0)","v":1}]
[null,{"$f":"Labels!F31","v":"Hotels and restaurants"},{"$f":"OFFSET('Calculating parameters'!D$191,6*(ROW()-28),0)","v":0.85},{"$f":"OFFSET('Calculating parameters'!H$191,6*(ROW()-28),0)","v":0.95},{"$f":"OFFSET('Calculating parameters'!L$191,6*(ROW()-28),0)","v":1},null,null,"Hotels and restaurants",{"$f":"OFFSET('Calculating parameters'!E$191,6*(ROW()-28),0)","v":0.65},{"$f":"OFFSET('Calculating parameters'!I$191,6*(ROW()-28),0)","v":0.9},{"$f":"OFFSET('Calculating parameters'!M$191,6*(ROW()-28),0)","v":1},null,null,"Hotels and restaurants",{"$f":"OFFSET('Calculating parameters'!F$191,6*(ROW()-28),0)","v":0.5},{"$f":"OFFSET('Calculating parameters'!J$191,6*(ROW()-28),0)","v":0.85},{"$f":"OFFSET('Calculating parameters'!N$191,6*(ROW()-28),0)","v":0.99}]
[null,{"$f":"Labels!F32","v":"Transport"},{"$f":"OFFSET('Calculating parameters'!D$191,6*(ROW()-28),0)","v":0.85},{"$f":"OFFSET('Calculating parameters'!H$191,6*(ROW()-28),0)","v":0.95},{"$f":"OFFSET('Calculating parameters'!L$191,6*(ROW()-28),0)","v":1},null,null,"Transport",{"$f":"OFFSET('Calculating parameters'!E$191,6*(ROW()-28),0)","v":0.75},{"$f":"OFFSET('Calculating parameters'!I$191,6*(ROW()-28),0)","v":0.8},{"$f":"OFFSET('Calculating parameters'!M$191,6*(ROW()-28),0)","v":0.97},null,null,"Transport",{"$f":"OFFSET('Calculating parameters'!F$191,6*(ROW()-28),0)","v":0.6},{"$f":"OFFSET('Calculating parameters'!J$191,6*(ROW()-28),0)","v":0.7},{"$f":"OFFSET('Calculating parameters'!N$191,6*(ROW()-28),0)","v":0.95}]
[null,{"$f":"Labels!F33","v":"Communication"},{"$f":"OFFSET('Calculating parameters'!D$191,6*(ROW()-28),0)","v":0.85},{"$f":"OFFSET('Calculating parameters'!H$191,6*(ROW()-28),0)","v":0.95},{"$f":"OFFSET('Calculating parameters'!L$191,6*(ROW()-28),0)","v":1},null,null,"Communication",{"$f":"OFFSET('Calculating parameters'!E$191,6*(ROW()-28),0)","v":0.75},{"$f":"OFFSET('Calculating parameters'!I$191,6*(ROW()-28),0)","v":0.8},{"$f":"OFFSET('Calculating parameters'!M$191,6*(ROW()-28),0)","v":0.97},null,null,"Communication",{"$f":"OFFSET('Calculating parameters'!F$191,6*(ROW()-28),0)","v":0.65},{"$f":"OFFSET('Calculating parameters'!J$191,6*(ROW()-28),0)","v":0.7},{"$f":"OFFSET('Calculating parameters'!N$191,6*(ROW()-28),0)","v":0.95}]
[null,{"$f":"Labels!F34","v":"Financial intermediation"},{"$f":"OFFSET('Calculating parameters'!D$191,6*(ROW()-28),0)","v":0.85},{"$f":"OFFSET('Calculating parameters'!H$191,6*(ROW()-28),0)","v":0.95},{"$f":"OFFSET('Calculating parameters'!L$191,6*(ROW()-28),0)","v":1},null,null,"Financial intermediation",{"$f":"OFFSET('Calculating parameters'!E$191,6*(ROW()-28),0)","v":0.8},{"$f":"OFFSET('Calculating parameters'!I$191,6*(ROW()-28),0)","v":0.9},{"$f":"OFFSET('Calculating parameters'!M$191,6*(ROW()-28),0)","v":1},null,null,"Financial intermediation",{"$f":"OFFSET('Calculating parameters'!F$191,6*(ROW()-28),0)","v":0.7},{"$f":"OFFSET('Calculating parameters'!J$191,6*(ROW()-28),0)","v":0.85},{"$f":"OFFSET('Calculating parameters'!N$191,6*(ROW()-28),0)","v":1}]
[null,{"$f":"Labels!F35","v":"Real estate and business services"},{"$f":"OFFSET('Calculating parameters'!D$191,6*(ROW()-28),0)","v":0.98},{"$f":"OFFSET('Calculating parameters'!H$191,6*(ROW()-28),0)","v":1},{"$f":"OFFSET('Calculating parameters'!L$191,6*(ROW()-28),0)","v":1},null,null,"Real estate and business services",{"$f":"OFFSET('Calculating parameters'!E$191,6*(ROW()-28),0)","v":0.95},{"$f":"OFFSET('Calculating parameters'!I$191,6*(ROW()-28),0)","v":1},{"$f":"OFFSET('Calculating parameters'!M$191,6*(ROW()-28),0)","v":1},null,null,"Real estate and business services",{"$f":"OFFSET('Calculating parameters'!F$191,6*(ROW()-28),0)","v":0.9},{"$f":"OFFSET('Calculating parameters'!J$191,6*(ROW()-28),0)","v":0.97},{"$f":"OFFSET('Calculating parameters'!N$191,6*(ROW()-28),0)","v":1}]
[null,{"$f":"Labels!F36","v":"Community, social and personal service activities"},{"$f":"OFFSET('Calculating parameters'!D$191,6*(ROW()-28),0)","v":0.9},{"$f":"OFFSET('Calculating parameters'!H$191,6*(ROW()-28),0)","v":1},{"$f":"OFFSET('Calculating parameters'!L$191,6*(ROW()-28),0)","v":1},null,null,"Community, social and personal service activities",{"$f":"OFFSET('Calculating parameters'!E$191,6*(ROW()-28),0)","v":0.85},{"$f":"OFFSET('Calculating parameters'!I$191,6*(ROW()-28),0)","v":0.9},{"$f":"OFFSET('Calculating parameters'!M$191,6*(ROW()-28),0)","v":1},null,null,"Community, social and personal service activities",{"$f":"OFFSET('Calculating parameters'!F$191,6*(ROW()-28),0)","v":0.75},{"$f":"OFFSET('Calculating parameters'!J$191,6*(ROW()-28),0)","v":0.85},{"$f":"OFFSET('Calculating parameters'!N$191,6*(ROW()-28),0)","v":1}]
[null,{"$f":"Labels!F37","v":"Public administration and defence"},{"$f":"OFFSET('Calculating parameters'!D$191,6*(ROW()-28),0)","v":0.93750000000000011},{"$f":"OFFSET('Calculating parameters'!H$191,6*(ROW()-28),0)","v":1},{"$f":"OFFSET('Calculating parameters'!L$191,6*(ROW()-28),0)","v":1},null,null,"Public administration and defence",{"$f":"OFFSET('Calculating parameters'!E$191,6*(ROW()-28),0)","v":0.91346153846153866},{"$f":"OFFSET('Calculating parameters'!I$191,6*(ROW()-28),0)","v":0.98653846153846148},{"$f":"OFFSET('Calculating parameters'!M$191,6*(ROW()-28),0)","v":1},null,null,"Public administration and defence",{"$f":"OFFSET('Calculating parameters'!F$191,6*(ROW()-28),0)","v":0.91346153846153866},{"$f":"OFFSET('Calculating parameters'!J$191,6*(ROW()-28),0)","v":0.98653846153846148},{"$f":"OFFSET('Calculating parameters'!N$191,6*(ROW()-28),0)","v":1}]
[null,{"$f":"Labels!F38","v":"Education"},{"$f":"OFFSET('Calculating parameters'!D$191,6*(ROW()-28),0)","v":1},{"$f":"OFFSET('Calculating parameters'!H$191,6*(ROW()-28),0)","v":1},{"$f":"OFFSET('Calculating parameters'!L$191,6*(ROW()-28),0)","v":1},null,null,"Education",{"$f":"OFFSET('Calculating parameters'!E$191,6*(ROW()-28),0)","v":1},{"$f":"OFFSET('Calculating parameters'!I$191,6*(ROW()-28),0)","v":1},{"$f":"OFFSET('Calculating parameters'!M$191,6*(ROW()-28),0)","v":1},null,null,"Education",{"$f":"OFFSET('Calculating parameters'!F$191,6*(ROW()-28),0)","v":1},{"$f":"OFFSET('Calculating parameters'!J$191,6*(ROW()-28),0)","v":1},{"$f":"OFFSET('Calculating parameters'!N$191,6*(ROW()-28),0)","v":1}]
[null,{"$f":"Labels!F39","v":"Health"},{"$f":"OFFSET('Calculating parameters'!D$191,6*(ROW()-28),0)","v":1.3},{"$f":"OFFSET('Calculating parameters'!H$191,6*(ROW()-28),0)","v":1.1000000000000001},{"$f":"OFFSET('Calculating parameters'!L$191,6*(ROW()-28),0)","v":1},null,null,"Health",{"$f":"OFFSET('Calculating parameters'!E$191,6*(ROW()-28),0)","v":1.5},{"$f":"OFFSET('Calculating parameters'!I$191,6*(ROW()-28),0)","v":1.3},{"$f":"OFFSET('Calculating parameters'!M$191,6*(ROW()-28),0)","v":1.1000000000000001},null,null,"Health",{"$f":"OFFSET('Calculating parameters'!F$191,6*(ROW()-28),0)","v":1.4},{"$f":"OFFSET('Calculating parameters'!J$191,6*(ROW()-28),0)","v":1.2},{"$f":"OFFSET('Calculating parameters'!N$191,6*(ROW()-28),0)","v":1.1000000000000001}]
[null,{"$f":"Labels!F40","v":"Private household with employed persons"},{"$f":"OFFSET('Calculating parameters'!D$191,6*(ROW()-28),0)","v":0.9},{"$f":"OFFSET('Calculating parameters'!H$191,6*(ROW()-28),0)","v":1},{"$f":"OFFSET('Calculating parameters'!L$191,6*(ROW()-28),0)","v":1},null,null,"Private household with employed persons",{"$f":"OFFSET('Calculating parameters'!E$191,6*(ROW()-28),0)","v":0.7},{"$f":"OFFSET('Calculating parameters'!I$191,6*(ROW()-28),0)","v":0.95},{"$f":"OFFSET('Calculating parameters'!M$191,6*(ROW()-28),0)","v":1},null,null,"Private household with employed persons",{"$f":"OFFSET('Calculating parameters'!F$191,6*(ROW()-28),0)","v":0.6},{"$f":"OFFSET('Calculating parameters'!J$191,6*(ROW()-28),0)","v":0.9},{"$f":"OFFSET('Calculating parameters'!N$191,6*(ROW()-28),0)","v":1}]
[null,{"$f":"Labels!F41","v":"Financial intermediation services indirectly measured"},{"$f":"OFFSET('Calculating parameters'!D$191,6*(ROW()-28),0)","v":1},{"$f":"OFFSET('Calculating parameters'!H$191,6*(ROW()-28),0)","v":1},{"$f":"OFFSET('Calculating parameters'!L$191,6*(ROW()-28),0)","v":1},null,null,"Financial intermediation services indirectly measured",{"$f":"OFFSET('Calculating parameters'!E$191,6*(ROW()-28),0)","v":1},{"$f":"OFFSET('Calculating parameters'!I$191,6*(ROW()-28),0)","v":1},{"$f":"OFFSET('Calculating parameters'!M$191,6*(ROW()-28),0)","v":1},null,null,"Financial intermediation services indirectly measured",{"$f":"OFFSET('Calculating parameters'!F$191,6*(ROW()-28),0)","v":1},{"$f":"OFFSET('Calculating parameters'!J$191,6*(ROW()-28),0)","v":1},{"$f":"OFFSET('Calculating parameters'!N$191,6*(ROW()-28),0)","v":1}]
[null,{"$f":"Labels!F42","v":"Less subsidies on products"},{"$f":"OFFSET('Calculating parameters'!D$191,6*(ROW()-28),0)","v":1},{"$f":"OFFSET('Calculating parameters'!H$191,6*(ROW()-28),0)","v":1},{"$f":"OFFSET('Calculating parameters'!L$191,6*(ROW()-28),0)","v":1},null,null,"Less subsidies on products",{"$f":"OFFSET('Calculating parameters'!E$191,6*(ROW()-28),0)","v":1},{"$f":"OFFSET('Calculating parameters'!I$191,6*(ROW()-28),0)","v":1},{"$f":"OFFSET('Calculating parameters'!M$191,6*(ROW()-28),0)","v":1},null,null,"Less subsidies on products",{"$f":"OFFSET('Calculating parameters'!F$191,6*(ROW()-28),0)","v":1},{"$f":"OFFSET('Calculating parameters'!J$191,6*(ROW()-28),0)","v":1},{"$f":"OFFSET('Calculating parameters'!N$191,6*(ROW()-28),0)","v":1}]
[]
[]
[]
[null,{"$f":"B27","v":"3 months"},{"$f":"C27","v":2022},{"$f":"D27","v":2023},2024,null,null,{"$f":"H74","v":"6 months"},{"$f":"I27","v":2022},{"$f":"J27","v":2023},2024,null,null,{"$f":"N27","v":"12 months"},{"$f":"O27","v":2022},{"$f":"P27","v":2023},2024]
[{"$f":"Labels!F190","v":"Medium Stringency"},"Agriculture and forestry",{"$f":"OFFSET('Calculating parameters'!D$192,6*(ROW()-51),0)","v":0.97},{"$f":"OFFSET('Calculating parameters'!H$192,6*(ROW()-51),0)","v":1},{"$f":"OFFSET('Calculating parameters'!L$192,6*(ROW()-51),0)","v":1},null,{"$f":"A51","v":"Medium Stringency"},{"$f":"H28","v":"Agriculture and forestry"},{"$f":"OFFSET('Calculating parameters'!E$192,6*(ROW()-51),0)","v":0.94},{"$f":"OFFSET('Calculating parameters'!I$192,6*(ROW()-51),0)","v":0.97760000000000002},{"$f":"OFFSET('Calculating parameters'!M$192,6*(ROW()-51),0)","v":1},null,{"$f":"G51","v":"Medium Stringency"},"Agriculture and forestry",{"$f":"OFFSET('Calculating parameters'!F$192,6*(ROW()-51),0)","v":0.82000000000000006},{"$f":"OFFSET('Calculating parameters'!J$192,6*(ROW()-51),0)","v":0.86920000000000008},{"$f":"OFFSET('Calculating parameters'!N$192,6*(ROW()-51),0)","v":0.92135200000000017}]
[null,"Fishing and fish processing on board",{"$f":"OFFSET('Calculating parameters'!D$192,6*(ROW()-51),0)","v":0.90549999999999997},{"$f":"OFFSET('Calculating parameters'!H$192,6*(ROW()-51),0)","v":0.94172},{"$f":"OFFSET('Calculating parameters'!L$192,6*(ROW()-51),0)","v":1},null,null,"Fishing and fish processing on board",{"$f":"OFFSET('Calculating parameters'!E$192,6*(ROW()-51),0)","v":0.81099999999999994},{"$f":"OFFSET('Calculating parameters'!I$192,6*(ROW()-51),0)","v":0.84343999999999997},{"$f":"OFFSET('Calculating parameters'!M$192,6*(ROW()-51),0)","v":0.8771776},null,null,"Fishing and fish processing on board",{"$f":"OFFSET('Calculating parameters'!F$192,6*(ROW()-51),0)","v":0.71650000000000003},{"$f":"OFFSET('Calculating parameters'!J$192,6*(ROW()-51),0)","v":0.75949000000000011},{"$f":"OFFSET('Calculating parameters'!N$192,6*(ROW()-51),0)","v":0.8050594000000002}]
[null,"Mining and quarrying",{"$f":"OFFSET('Calculating parameters'!D$192,6*(ROW()-51),0)","v":0.81},{"$f":"OFFSET('Calculating parameters'!H$192,6*(ROW()-51),0)","v":1},{"$f":"OFFSET('Calculating parameters'!L$192,6*(ROW()-51),0)","v":1},null,null,"Mining and quarrying",{"$f":"OFFSET('Calculating parameters'!E$192,6*(ROW()-51),0)","v":0.7},{"$f":"OFFSET('Calculating parameters'!I$192,6*(ROW()-51),0)","v":0.9},{"$f":"OFFSET('Calculating parameters'!M$192,6*(ROW()-51),0)","v":1},null,null,"Mining and quarrying",{"$f":"OFFSET('Calculating parameters'!F$192,6*(ROW()-51),0)","v":0.5},{"$f":"OFFSET('Calculating parameters'!J$192,6*(ROW()-51),0)","v":0.75},{"$f":"OFFSET('Calculating parameters'!N$192,6*(ROW()-51),0)","v":0.9}]
[null,"Manufacturing",{"$f":"OFFSET('Calculating parameters'!D$192,6*(ROW()-51),0)","v":0.69},{"$f":"OFFSET('Calculating parameters'!H$192,6*(ROW()-51),0)","v":1},{"$f":"OFFSET('Calculating parameters'!L$192,6*(ROW()-51),0)","v":1},null,null,"Manufacturing",{"$f":"OFFSET('Calculating parameters'!E$192,6*(ROW()-51),0)","v":0.46},{"$f":"OFFSET('Calculating parameters'!I$192,6*(ROW()-51),0)","v":0.91},{"$f":"OFFSET('Calculating parameters'!M$192,6*(ROW()-51),0)","v":1},null,null,"Manufacturing",{"$f":"OFFSET('Calculating parameters'!F$192,6*(ROW()-51),0)","v":0.36},{"$f":"OFFSET('Calculating parameters'!J$192,6*(ROW()-51),0)","v":0.56999999999999995},{"$f":"OFFSET('Calculating parameters'!N$192,6*(ROW()-51),0)","v":0.94}]
[null,"Electricity and water",{"$f":"OFFSET('Calculating parameters'!D$192,6*(ROW()-51),0)","v":0.9375},{"$f":"OFFSET('Calculating parameters'!H$192,6*(ROW()-51),0)","v":1},{"$f":"OFFSET('Calculating parameters'!L$192,6*(ROW()-51),0)","v":1},null,null,"Electricity and water",{"$f":"OFFSET('Calculating parameters'!E$192,6*(ROW()-51),0)","v":0.875},{"$f":"OFFSET('Calculating parameters'!I$192,6*(ROW()-51),0)","v":0.91},{"$f":"OFFSET('Calculating parameters'!M$192,6*(ROW()-51),0)","v":0.97},null,null,"Electricity and water",{"$f":"OFFSET('Calculating parameters'!F$192,6*(ROW()-51),0)","v":0.75},{"$f":"OFFSET('Calculating parameters'!J$192,6*(ROW()-51),0)","v":0.78},{"$f":"OFFSET('Calculating parameters'!N$192,6*(ROW()-51),0)","v":0.81120000000000003}]
[null,"Construction",{"$f":"OFFSET('Calculating parameters'!D$192,6*(ROW()-51),0)","v":0.8},{"$f":"OFFSET('Calculating parameters'!H$192,6*(ROW()-51),0)","v":0.85},{"$f":"OFFSET('Calculating parameters'!L$192,6*(ROW()-51),0)","v":0.96},null,null,"Construction",{"$f":"OFFSET('Calculating parameters'!E$192,6*(ROW()-51),0)","v":0.7},{"$f":"OFFSET('Calculating parameters'!I$192,6*(ROW()-51),0)","v":0.8},{"$f":"OFFSET('Calculating parameters'!M$192,6*(ROW()-51),0)","v":0.95},null,null,"Construction",{"$f":"OFFSET('Calculating parameters'!F$192,6*(ROW()-51),0)","v":0.6},{"$f":"OFFSET('Calculating parameters'!J$192,6*(ROW()-51),0)","v":0.75},{"$f":"OFFSET('Calculating parameters'!N$192,6*(ROW()-51),0)","v":0.9}]
[null,"Wholesale and retail trade, repairs",{"$f":"OFFSET('Calculating parameters'!D$192,6*(ROW()-51),0)","v":0.88568360686269954},{"$f":"OFFSET('Calculating parameters'!H$192,6*(ROW()-51),0)","v":0.94284180343134971},{"$f":"OFFSET('Calculating parameters'!L$192,6*(ROW()-51),0)","v":1},null,null,"Wholesale and retail trade, repairs",{"$f":"OFFSET('Calculating parameters'!E$192,6*(ROW()-51),0)","v":0.77136721372539907},{"$f":"OFFSET('Calculating parameters'!I$192,6*(ROW()-51),0)","v":0.88568360686269954},{"$f":"OFFSET('Calculating parameters'!M$192,6*(ROW()-51),0)","v":1},null,null,"Wholesale and retail trade, repairs",{"$f":"OFFSET('Calculating parameters'!F$192,6*(ROW()-51),0)","v":0.54273442745079814},{"$f":"OFFSET('Calculating parameters'!J$192,6*(ROW()-51),0)","v":0.77136721372539907},{"$f":"OFFSET('Calculating parameters'!N$192,6*(ROW()-51),0)","v":1}]
[null,"Hotels and restaurants",{"$f":"OFFSET('Calculating parameters'!D$192,6*(ROW()-51),0)","v":0.75},{"$f":"OFFSET('Calculating parameters'!H$192,6*(ROW()-51),0)","v":0.93},{"$f":"OFFSET('Calculating parameters'!L$192,6*(ROW()-51),0)","v":1},null,null,"Hotels and restaurants",{"$f":"OFFSET('Calculating parameters'!E$192,6*(ROW()-51),0)","v":0.5},{"$f":"OFFSET('Calculating parameters'!I$192,6*(ROW()-51),0)","v":0.85},{"$f":"OFFSET('Calculating parameters'!M$192,6*(ROW()-51),0)","v":0.95},null,null,"Hotels and restaurants",{"$f":"OFFSET('Calculating parameters'!F$192,6*(ROW()-51),0)","v":0.2},{"$f":"OFFSET('Calculating parameters'!J$192,6*(ROW()-51),0)","v":0.6},{"$f":"OFFSET('Calculating parameters'!N$192,6*(ROW()-51),0)","v":0.8}]
[null,{"$f":"B36","v":"Transport"},{"$f":"OFFSET('Calculating parameters'!D$192,6*(ROW()-51),0)","v":0.75},{"$f":"OFFSET('Calculating parameters'!H$192,6*(ROW()-51),0)","v":0.8},{"$f":"OFFSET('Calculating parameters'!L$192,6*(ROW()-51),0)","v":0.97},null,null,{"$f":"H36","v":"Transport"},{"$f":"OFFSET('Calculating parameters'!E$192,6*(ROW()-51),0)","v":0.65},{"$f":"OFFSET('Calculating parameters'!I$192,6*(ROW()-51),0)","v":0.75},{"$f":"OFFSET('Calculating parameters'!M$192,6*(ROW()-51),0)","v":0.95},null,null,{"$f":"N36","v":"Transport"},{"$f":"OFFSET('Calculating parameters'!F$192,6*(ROW()-51),0)","v":0.55000000000000004},{"$f":"OFFSET('Calculating parameters'!J$192,6*(ROW()-51),0)","v":0.7},{"$f":"OFFSET('Calculating parameters'!N$192,6*(ROW()-51),0)","v":0.93500000000000005}]
[null,"Communication",{"$f":"OFFSET('Calculating parameters'!D$192,6*(ROW()-51),0)","v":0.75},{"$f":"OFFSET('Calculating parameters'!H$192,6*(ROW()-51),0)","v":0.8},{"$f":"OFFSET('Calculating parameters'!L$192,6*(ROW()-51),0)","v":0.97},null,null,"Communication",{"$f":"OFFSET('Calculating parameters'!E$192,6*(ROW()-51),0)","v":0.65},{"$f":"OFFSET('Calculating parameters'!I$192,6*(ROW()-51),0)","v":0.75},{"$f":"OFFSET('Calculating parameters'!M$192,6*(ROW()-51),0)","v":0.95},null,null,"Communication",{"$f":"OFFSET('Calculating parameters'!F$192,6*(ROW()-51),0)","v":0.55000000000000004},{"$f":"OFFSET('Calculating parameters'!J$192,6*(ROW()-51),0)","v":0.7},{"$f":"OFFSET('Calculating parameters'!N$192,6*(ROW()-51),0)","v":0.93500000000000005}]
[null,"Financial intermediation",{"$f":"OFFSET('Calculating parameters'!D$192,6*(ROW()-51),0)","v":0.7},{"$f":"OFFSET('Calculating parameters'!H$192,6*(ROW()-51),0)","v":0.85},{"$f":"OFFSET('Calculating parameters'!L$192,6*(ROW()-51),0)","v":1},null,null,"Financial intermediation",{"$f":"OFFSET('Calculating parameters'!E$192,6*(ROW()-51),0)","v":0.65},{"$f":"OFFSET('Calculating parameters'!I$192,6*(ROW()-51),0)","v":0.8},{"$f":"OFFSET('Calculating parameters'!M$192,6*(ROW()-51),0)","v":1},null,null,"Financial intermediation",{"$f":"OFFSET('Calculating parameters'!F$192,6*(ROW()-51),0)","v":0.55000000000000004},{"$f":"OFFSET('Calculating parameters'!J$192,6*(ROW()-51),0)","v":0.7},{"$f":"OFFSET('Calculating parameters'!N$192,6*(ROW()-51),0)","v":1}]
[null,"Real estate and business services",{"$f":"OFFSET('Calculating parameters'!D$192,6*(ROW()-51),0)","v":0.95},{"$f":"OFFSET('Calculating parameters'!H$192,6*(ROW()-51),0)","v":1},{"$f":"OFFSET('Calculating parameters'!L$192,6*(ROW()-51),0)","v":1},null,null,"Real estate and business services",{"$f":"OFFSET('Calculating parameters'!E$192,6*(ROW()-51),0)","v":0.9},{"$f":"OFFSET('Calculating parameters'!I$192,6*(ROW()-51),0)","v":0.98},{"$f":"OFFSET('Calculating parameters'!M$192,6*(ROW()-51),0)","v":1},null,null,"Real estate and business services",{"$f":"OFFSET('Calculating parameters'!F$192,6*(ROW()-51),0)","v":0.85},{"$f":"OFFSET('Calculating parameters'!J$192,6*(ROW()-51),0)","v":0.95},{"$f":"OFFSET('Calculating parameters'!N$192,6*(ROW()-51),0)","v":1}]
[null,"Community, social and personal service activities",{"$f":"OFFSET('Calculating parameters'!D$192,6*(ROW()-51),0)","v":0.85},{"$f":"OFFSET('Calculating parameters'!H$192,6*(ROW()-51),0)","v":1},{"$f":"OFFSET('Calculating parameters'!L$192,6*(ROW()-51),0)","v":1},null,null,"Community, social and personal service activities",{"$f":"OFFSET('Calculating parameters'!E$192,6*(ROW()-51),0)","v":0.7},{"$f":"OFFSET('Calculating parameters'!I$192,6*(ROW()-51),0)","v":0.95},{"$f":"OFFSET('Calculating parameters'!M$192,6*(ROW()-51),0)","v":1},null,null,"Community, social and personal service activities",{"$f":"OFFSET('Calculating parameters'!F$192,6*(ROW()-51),0)","v":0.5},{"$f":"OFFSET('Calculating parameters'!J$192,6*(ROW()-51),0)","v":0.8},{"$f":"OFFSET('Calculating parameters'!N$192,6*(ROW()-51),0)","v":1}]
[null,"Public administration and defence",{"$f":"OFFSET('Calculating parameters'!D$192,6*(ROW()-51),0)","v":0.93750000000000011},{"$f":"OFFSET('Calculating parameters'!H$192,6*(ROW()-51),0)","v":1},{"$f":"OFFSET('Calculating parameters'!L$192,6*(ROW()-51),0)","v":1},null,null,"Public administration and defence",{"$f":"OFFSET('Calculating parameters'!E$192,6*(ROW()-51),0)","v":0.91346153846153866},{"$f":"OFFSET('Calculating parameters'!I$192,6*(ROW()-51),0)","v":0.98653846153846148},{"$f":"OFFSET('Calculating parameters'!M$192,6*(ROW()-51),0)","v":1},null,null,"Public administration and defence",{"$f":"OFFSET('Calculating parameters'!F$192,6*(ROW()-51),0)","v":0.91249999999999998},{"$f":"OFFSET('Calculating parameters'!J$192,6*(ROW()-51),0)","v":0.9671052631578948},{"$f":"OFFSET('Calculating parameters'!N$192,6*(ROW()-51),0)","v":0.99539473684210533}]
[null,"Education",{"$f":"OFFSET('Calculating parameters'!D$192,6*(ROW()-51),0)","v":1},{"$f":"OFFSET('Calculating parameters'!H$192,6*(ROW()-51),0)","v":1},{"$f":"OFFSET('Calculating parameters'!L$192,6*(ROW()-51),0)","v":1},null,null,"Education",{"$f":"OFFSET('Calculating parameters'!E$192,6*(ROW()-51),0)","v":1},{"$f":"OFFSET('Calculating parameters'!I$192,6*(ROW()-51),0)","v":1},{"$f":"OFFSET('Calculating parameters'!M$192,6*(ROW()-51),0)","v":1},null,null,"Education",{"$f":"OFFSET('Calculating parameters'!F$192,6*(ROW()-51),0)","v":1},{"$f":"OFFSET('Calculating parameters'!J$192,6*(ROW()-51),0)","v":1},{"$f":"OFFSET('Calculating parameters'!N$192,6*(ROW()-51),0)","v":1}]
[null,"Health",{"$f":"OFFSET('Calculating parameters'!D$192,6*(ROW()-51),0)","v":1.27},{"$f":"OFFSET('Calculating parameters'!H$192,6*(ROW()-51),0)","v":1.1000000000000001},{"$f":"OFFSET('Calculating parameters'!L$192,6*(ROW()-51),0)","v":1.1000000000000001},null,null,"Health",{"$f":"OFFSET('Calculating parameters'!E$192,6*(ROW()-51),0)","v":1.4},{"$f":"OFFSET('Calculating parameters'!I$192,6*(ROW()-51),0)","v":1.2},{"$f":"OFFSET('Calculating parameters'!M$192,6*(ROW()-51),0)","v":1},null,null,"Health",{"$f":"OFFSET('Calculating parameters'!F$192,6*(ROW()-51),0)","v":1.3},{"$f":"OFFSET('Calculating parameters'!J$192,6*(ROW()-51),0)","v":1.2},{"$f":"OFFSET('Calculating parameters'!N$192,6*(ROW()-51),0)","v":1.1000000000000001}]
[null,"Private household with employed persons",{"$f":"OFFSET('Calculating parameters'!D$192,6*(ROW()-51),0)","v":0.85},{"$f":"OFFSET('Calculating parameters'!H$192,6*(ROW()-51),0)","v":1},{"$f":"OFFSET('Calculating parameters'!L$192,6*(ROW()-51),0)","v":1},null,null,"Private household with employed persons",{"$f":"OFFSET('Calculating parameters'!E$192,6*(ROW()-51),0)","v":0.6},{"$f":"OFFSET('Calculating parameters'!I$192,6*(ROW()-51),0)","v":0.92},{"$f":"OFFSET('Calculating parameters'!M$192,6*(ROW()-51),0)","v":1},null,null,"Private household with employed persons",{"$f":"OFFSET('Calculating parameters'!F$192,6*(ROW()-51),0)","v":0.5},{"$f":"OFFSET('Calculating parameters'!J$192,6*(ROW()-51),0)","v":0.85},{"$f":"OFFSET('Calculating parameters'!N$192,6*(ROW()-51),0)","v":1}]
[null,"Financial intermediation services indirectly measured",{"$f":"OFFSET('Calculating parameters'!D$192,6*(ROW()-51),0)","v":1},{"$f":"OFFSET('Calculating parameters'!H$192,6*(ROW()-51),0)","v":1},{"$f":"OFFSET('Calculating parameters'!L$192,6*(ROW()-51),0)","v":1},null,null,"Financial intermediation services indirectly measured",{"$f":"OFFSET('Calculating parameters'!E$192,6*(ROW()-51),0)","v":1},{"$f":"OFFSET('Calculating parameters'!I$192,6*(ROW()-51),0)","v":1},{"$f":"OFFSET('Calculating parameters'!M$192,6*(ROW()-51),0)","v":1},null,null,"Financial intermediation services indirectly measured",{"$f":"OFFSET('Calculating parameters'!F$192,6*(ROW()-51),0)","v":1},{"$f":"OFFSET('Calculating parameters'!J$192,6*(ROW()-51),0)","v":1},{"$f":"OFFSET('Calculating parameters'!N$192,6*(ROW()-51),0)","v":1}]
[null,{"$f":"B46","v":"Less subsidies on products"},{"$f":"OFFSET('Calculating parameters'!D$192,6*(ROW()-51),0)","v":1},{"$f":"OFFSET('Calculating parameters'!H$192,6*(ROW()-51),0)","v":1},{"$f":"OFFSET('Calculating parameters'!L$192,6*(ROW()-51),0)","v":1},null,null,"Less subsidies on products",{"$f":"OFFSET('Calculating parameters'!E$192,6*(ROW()-51),0)","v":1},{"$f":"OFFSET('Calculating parameters'!I$192,6*(ROW()-51),0)","v":1},{"$f":"OFFSET('Calculating parameters'!M$192,6*(ROW()-51),0)","v":1},null,null,"Less subsidies on products",{"$f":"OFFSET('Calculating parameters'!F$192,6*(ROW()-51),0)","v":1},{"$f":"OFFSET('Calculating parameters'!J$192,6*(ROW()-51),0)","v":1},{"$f":"OFFSET('Calculating parameters'!N$192,6*(ROW()-51),0)","v":1}]
[]
[]
[]
[]
[null,{"$f":"B50","v":"3 months"},{"$f":"C50","v":2022},{"$f":"D50","v":2023},2024,null,null,{"$f":"R17","v":"6 months"},{"$f":"I50","v":2022},{"$f":"J50","v":2023},2024,null,null,{"$f":"N50","v":"12 months"},{"$f":"O50","v":2022},{"$f":"P50","v":2023},2024]
[{"$f":"Labels!F191","v":"High Stringency"},{"$f":"B51","v":"Agriculture and forestry"},{"$f":"OFFSET('Calculating parameters'!D$193,6*(ROW()-75),0)","v":0.94},{"$f":"OFFSET('Calculating parameters'!H$193,6*(ROW()-75),0)","v":0.97760000000000002},{"$f":"OFFSET('Calculating parameters'!L$193,6*(ROW()-75),0)","v":1},null,{"$f":"A75","v":"High Stringency"},{"$f":"H51","v":"Agriculture and forestry"},{"$f":"OFFSET('Calculating parameters'!E$193,6*(ROW()-75),0)","v":0.91},{"$f":"OFFSET('Calculating parameters'!I$193,6*(ROW()-75),0)","v":0.94640000000000002},{"$f":"OFFSET('Calculating parameters'!M$193,6*(ROW()-75),0)","v":0.98425600000000002},null,{"$f":"G75","v":"High Stringency"},{"$f":"N51","v":"Agriculture and forestry"},{"$f":"OFFSET('Calculating parameters'!F$193,6*(ROW()-75),0)","v":0.77},{"$f":"OFFSET('Calculating parameters'!J$193,6*(ROW()-75),0)","v":0.8},{"$f":"OFFSET('Calculating parameters'!N$193,6*(ROW()-75),0)","v":0.88}]
[null,{"$f":"B52","v":"Fishing and fish processing on board"},{"$f":"OFFSET('Calculating parameters'!D$193,6*(ROW()-75),0)","v":0.55000000000000004},{"$f":"OFFSET('Calculating parameters'!H$193,6*(ROW()-75),0)","v":0.75},{"$f":"OFFSET('Calculating parameters'!L$193,6*(ROW()-75),0)","v":0.95},null,null,{"$f":"H52","v":"Fishing and fish processing on board"},{"$f":"OFFSET('Calculating parameters'!E$193,6*(ROW()-75),0)","v":0.5},{"$f":"OFFSET('Calculating parameters'!I$193,6*(ROW()-75),0)","v":0.7},{"$f":"OFFSET('Calculating parameters'!M$193,6*(ROW()-75),0)","v":0.84},null,null,{"$f":"N52","v":"Fishing and fish processing on board"},{"$f":"OFFSET('Calculating parameters'!F$193,6*(ROW()-75),0)","v":0.45},{"$f":"OFFSET('Calculating parameters'!J$193,6*(ROW()-75),0)","v":0.64999999999999991},{"$f":"OFFSET('Calculating parameters'!N$193,6*(ROW()-75),0)","v":0.71}]
[null,"Mining and quarrying",{"$f":"OFFSET('Calculating parameters'!D$193,6*(ROW()-75),0)","v":0.55000000000000004},{"$f":"OFFSET('Calculating parameters'!H$193,6*(ROW()-75),0)","v":0.8},{"$f":"OFFSET('Calculating parameters'!L$193,6*(ROW()-75),0)","v":0.95},null,null,"Mining and quarrying",{"$f":"OFFSET('Calculating parameters'!E$193,6*(ROW()-75),0)","v":0.35},{"$f":"OFFSET('Calculating parameters'!I$193,6*(ROW()-75),0)","v":0.75},{"$f":"OFFSET('Calculating parameters'!M$193,6*(ROW()-75),0)","v":0.93},null,null,"Mining and quarrying",{"$f":"OFFSET('Calculating parameters'!F$193,6*(ROW()-75),0)","v":0.2},{"$f":"OFFSET('Calculating parameters'!J$193,6*(ROW()-75),0)","v":0.65},{"$f":"OFFSET('Calculating parameters'!N$193,6*(ROW()-75),0)","v":0.85}]
[null,"Manufacturing",{"$f":"OFFSET('Calculating parameters'!D$193,6*(ROW()-75),0)","v":0.63},{"$f":"OFFSET('Calculating parameters'!H$193,6*(ROW()-75),0)","v":1},{"$f":"OFFSET('Calculating parameters'!L$193,6*(ROW()-75),0)","v":1},null,null,"Manufacturing",{"$f":"OFFSET('Calculating parameters'!E$193,6*(ROW()-75),0)","v":0.44},{"$f":"OFFSET('Calculating parameters'!I$193,6*(ROW()-75),0)","v":0.91},{"$f":"OFFSET('Calculating parameters'!M$193,6*(ROW()-75),0)","v":1},null,null,"Manufacturing",{"$f":"OFFSET('Calculating parameters'!F$193,6*(ROW()-75),0)","v":0.31},{"$f":"OFFSET('Calculating parameters'!J$193,6*(ROW()-75),0)","v":0.54},{"$f":"OFFSET('Calculating parameters'!N$193,6*(ROW()-75),0)","v":0.94}]
[null,"Electricity and water",{"$f":"OFFSET('Calculating parameters'!D$193,6*(ROW()-75),0)","v":0.9375},{"$f":"OFFSET('Calculating parameters'!H$193,6*(ROW()-75),0)","v":1},{"$f":"OFFSET('Calculating parameters'!L$193,6*(ROW()-75),0)","v":1},null,null,"Electricity and water",{"$f":"OFFSET('Calculating parameters'!E$193,6*(ROW()-75),0)","v":0.875},{"$f":"OFFSET('Calculating parameters'!I$193,6*(ROW()-75),0)","v":0.91},{"$f":"OFFSET('Calculating parameters'!M$193,6*(ROW()-75),0)","v":0.97},null,null,"Electricity and water",{"$f":"OFFSET('Calculating parameters'!F$193,6*(ROW()-75),0)","v":0.73},{"$f":"OFFSET('Calculating parameters'!J$193,6*(ROW()-75),0)","v":0.74},{"$f":"OFFSET('Calculating parameters'!N$193,6*(ROW()-75),0)","v":0.78}]
[null,"Construction",{"$f":"OFFSET('Calculating parameters'!D$193,6*(ROW()-75),0)","v":0.7},{"$f":"OFFSET('Calculating parameters'!H$193,6*(ROW()-75),0)","v":0.85},{"$f":"OFFSET('Calculating parameters'!L$193,6*(ROW()-75),0)","v":0.96},null,null,"Construction",{"$f":"OFFSET('Calculating parameters'!E$193,6*(ROW()-75),0)","v":0.6},{"$f":"OFFSET('Calculating parameters'!I$193,6*(ROW()-75),0)","v":0.8},{"$f":"OFFSET('Calculating parameters'!M$193,6*(ROW()-75),0)","v":0.95},null,null,"Construction",{"$f":"OFFSET('Calculating parameters'!F$193,6*(ROW()-75),0)","v":0.5},{"$f":"OFFSET('Calculating parameters'!J$193,6*(ROW()-75),0)","v":0.7},{"$f":"OFFSET('Calculating parameters'!N$193,6*(ROW()-75),0)","v":0.88}]
[null,"Wholesale and retail trade, repairs",{"$f":"OFFSET('Calculating parameters'!D$193,6*(ROW()-75),0)","v":0.8450731976728999},{"$f":"OFFSET('Calculating parameters'!H$193,6*(ROW()-75),0)","v":0.92253659883645001},{"$f":"OFFSET('Calculating parameters'!L$193,6*(ROW()-75),0)","v":1},null,null,"Wholesale and retail trade, repairs",{"$f":"OFFSET('Calculating parameters'!E$193,6*(ROW()-75),0)","v":0.6901463953457998},{"$f":"OFFSET('Calculating parameters'!I$193,6*(ROW()-75),0)","v":0.8450731976728999},{"$f":"OFFSET('Calculating parameters'!M$193,6*(ROW()-75),0)","v":1},null,null,"Wholesale and retail trade, repairs",{"$f":"OFFSET('Calculating parameters'!F$193,6*(ROW()-75),0)","v":0.38029279069159955},{"$f":"OFFSET('Calculating parameters'!J$193,6*(ROW()-75),0)","v":0.6901463953457998},{"$f":"OFFSET('Calculating parameters'!N$193,6*(ROW()-75),0)","v":1}]
[null,"Hotels and restaurants",{"$f":"OFFSET('Calculating parameters'!D$193,6*(ROW()-75),0)","v":0.5},{"$f":"OFFSET('Calculating parameters'!H$193,6*(ROW()-75),0)","v":0.75},{"$f":"OFFSET('Calculating parameters'!L$193,6*(ROW()-75),0)","v":0.95},null,null,"Hotels and restaurants",{"$f":"OFFSET('Calculating parameters'!E$193,6*(ROW()-75),0)","v":0.15},{"$f":"OFFSET('Calculating parameters'!I$193,6*(ROW()-75),0)","v":0.65},{"$f":"OFFSET('Calculating parameters'!M$193,6*(ROW()-75),0)","v":0.85},null,null,"Hotels and restaurants",{"$f":"OFFSET('Calculating parameters'!F$193,6*(ROW()-75),0)","v":0.05},{"$f":"OFFSET('Calculating parameters'!J$193,6*(ROW()-75),0)","v":0.5},{"$f":"OFFSET('Calculating parameters'!N$193,6*(ROW()-75),0)","v":0.75}]
[null,"Transport",{"$f":"OFFSET('Calculating parameters'!D$193,6*(ROW()-75),0)","v":0.65},{"$f":"OFFSET('Calculating parameters'!H$193,6*(ROW()-75),0)","v":0.75},{"$f":"OFFSET('Calculating parameters'!L$193,6*(ROW()-75),0)","v":0.95},null,null,"Transport",{"$f":"OFFSET('Calculating parameters'!E$193,6*(ROW()-75),0)","v":0.55000000000000004},{"$f":"OFFSET('Calculating parameters'!I$193,6*(ROW()-75),0)","v":0.65},{"$f":"OFFSET('Calculating parameters'!M$193,6*(ROW()-75),0)","v":0.93500000000000005},null,null,"Transport",{"$f":"OFFSET('Calculating parameters'!F$193,6*(ROW()-75),0)","v":0.45},{"$f":"OFFSET('Calculating parameters'!J$193,6*(ROW()-75),0)","v":0.55000000000000004},{"$f":"OFFSET('Calculating parameters'!N$193,6*(ROW()-75),0)","v":0.91}]
[null,"Communication",{"$f":"OFFSET('Calculating parameters'!D$193,6*(ROW()-75),0)","v":0.65},{"$f":"OFFSET('Calculating parameters'!H$193,6*(ROW()-75),0)","v":0.75},{"$f":"OFFSET('Calculating parameters'!L$193,6*(ROW()-75),0)","v":0.95},null,null,"Communication",{"$f":"OFFSET('Calculating parameters'!E$193,6*(ROW()-75),0)","v":0.55000000000000004},{"$f":"OFFSET('Calculating parameters'!I$193,6*(ROW()-75),0)","v":0.65},{"$f":"OFFSET('Calculating parameters'!M$193,6*(ROW()-75),0)","v":0.93500000000000005},null,null,"Communication",{"$f":"OFFSET('Calculating parameters'!F$193,6*(ROW()-75),0)","v":0.45},{"$f":"OFFSET('Calculating parameters'!J$193,6*(ROW()-75),0)","v":0.55000000000000004},{"$f":"OFFSET('Calculating parameters'!N$193,6*(ROW()-75),0)","v":0.91}]
[null,"Financial intermediation",{"$f":"OFFSET('Calculating parameters'!D$193,6*(ROW()-75),0)","v":0.55000000000000004},{"$f":"OFFSET('Calculating parameters'!H$193,6*(ROW()-75),0)","v":0.7},{"$f":"OFFSET('Calculating parameters'!L$193,6*(ROW()-75),0)","v":1},null,null,"Financial intermediation",{"$f":"OFFSET('Calculating parameters'!E$193,6*(ROW()-75),0)","v":0.5},{"$f":"OFFSET('Calculating parameters'!I$193,6*(ROW()-75),0)","v":0.65},{"$f":"OFFSET('Calculating parameters'!M$193,6*(ROW()-75),0)","v":1},null,null,"Financial intermediation",{"$f":"OFFSET('Calculating parameters'!F$193,6*(ROW()-75),0)","v":0.4},{"$f":"OFFSET('Calculating parameters'!J$193,6*(ROW()-75),0)","v":0.55000000000000004},{"$f":"OFFSET('Calculating parameters'!N$193,6*(ROW()-75),0)","v":0.95}]
[null,"Real estate and business services",{"$f":"OFFSET('Calculating parameters'!D$193,6*(ROW()-75),0)","v":0.92500000000000004},{"$f":"OFFSET('Calculating parameters'!H$193,6*(ROW()-75),0)","v":0.97499999999999998},{"$f":"OFFSET('Calculating parameters'!L$193,6*(ROW()-75),0)","v":1},null,null,"Real estate and business services",{"$f":"OFFSET('Calculating parameters'!E$193,6*(ROW()-75),0)","v":0.85},{"$f":"OFFSET('Calculating parameters'!I$193,6*(ROW()-75),0)","v":0.95},{"$f":"OFFSET('Calculating parameters'!M$193,6*(ROW()-75),0)","v":1},null,null,"Real estate and business services",{"$f":"OFFSET('Calculating parameters'!F$193,6*(ROW()-75),0)","v":0.8},{"$f":"OFFSET('Calculating parameters'!J$193,6*(ROW()-75),0)","v":0.9},{"$f":"OFFSET('Calculating parameters'!N$193,6*(ROW()-75),0)","v":1}]
[null,"Community, social and personal service activities",{"$f":"OFFSET('Calculating parameters'!D$193,6*(ROW()-75),0)","v":0.75},{"$f":"OFFSET('Calculating parameters'!H$193,6*(ROW()-75),0)","v":1},{"$f":"OFFSET('Calculating parameters'!L$193,6*(ROW()-75),0)","v":1},null,null,"Community, social and personal service activities",{"$f":"OFFSET('Calculating parameters'!E$193,6*(ROW()-75),0)","v":0.65},{"$f":"OFFSET('Calculating parameters'!I$193,6*(ROW()-75),0)","v":0.95},{"$f":"OFFSET('Calculating parameters'!M$193,6*(ROW()-75),0)","v":1},null,null,"Community, social and personal service activities",{"$f":"OFFSET('Calculating parameters'!F$193,6*(ROW()-75),0)","v":0.5},{"$f":"OFFSET('Calculating parameters'!J$193,6*(ROW()-75),0)","v":0.85},{"$f":"OFFSET('Calculating parameters'!N$193,6*(ROW()-75),0)","v":1}]
[null,"Public administration and defence",{"$f":"OFFSET('Calculating parameters'!D$193,6*(ROW()-75),0)","v":0.87500000000000011},{"$f":"OFFSET('Calculating parameters'!H$193,6*(ROW()-75),0)","v":1},{"$f":"OFFSET('Calculating parameters'!L$193,6*(ROW()-75),0)","v":1},null,null,"Public administration and defence",{"$f":"OFFSET('Calculating parameters'!E$193,6*(ROW()-75),0)","v":0.82692307692307698},{"$f":"OFFSET('Calculating parameters'!I$193,6*(ROW()-75),0)","v":0.97307692307692284},{"$f":"OFFSET('Calculating parameters'!M$193,6*(ROW()-75),0)","v":1},null,null,"Public administration and defence",{"$f":"OFFSET('Calculating parameters'!F$193,6*(ROW()-75),0)","v":0.81249999999999989},{"$f":"OFFSET('Calculating parameters'!J$193,6*(ROW()-75),0)","v":0.9013157894736844},{"$f":"OFFSET('Calculating parameters'!N$193,6*(ROW()-75),0)","v":0.986184210526316}]
[null,"Education",{"$f":"OFFSET('Calculating parameters'!D$193,6*(ROW()-75),0)","v":0.98},{"$f":"OFFSET('Calculating parameters'!H$193,6*(ROW()-75),0)","v":0.99},{"$f":"OFFSET('Calculating parameters'!L$193,6*(ROW()-75),0)","v":1},null,null,"Education",{"$f":"OFFSET('Calculating parameters'!E$193,6*(ROW()-75),0)","v":0.95},{"$f":"OFFSET('Calculating parameters'!I$193,6*(ROW()-75),0)","v":0.97},{"$f":"OFFSET('Calculating parameters'!M$193,6*(ROW()-75),0)","v":1},null,null,"Education",{"$f":"OFFSET('Calculating parameters'!F$193,6*(ROW()-75),0)","v":0.9},{"$f":"OFFSET('Calculating parameters'!J$193,6*(ROW()-75),0)","v":0.95},{"$f":"OFFSET('Calculating parameters'!N$193,6*(ROW()-75),0)","v":1}]
[null,"Health",{"$f":"OFFSET('Calculating parameters'!D$193,6*(ROW()-75),0)","v":1.27},{"$f":"OFFSET('Calculating parameters'!H$193,6*(ROW()-75),0)","v":1.1000000000000001},{"$f":"OFFSET('Calculating parameters'!L$193,6*(ROW()-75),0)","v":1.1000000000000001},null,null,"Health",{"$f":"OFFSET('Calculating parameters'!E$193,6*(ROW()-75),0)","v":1.35},{"$f":"OFFSET('Calculating parameters'!I$193,6*(ROW()-75),0)","v":1.1499999999999999},{"$f":"OFFSET('Calculating parameters'!M$193,6*(ROW()-75),0)","v":1},null,null,"Health",{"$f":"OFFSET('Calculating parameters'!F$193,6*(ROW()-75),0)","v":1.25},{"$f":"OFFSET('Calculating parameters'!J$193,6*(ROW()-75),0)","v":1.1499999999999999},{"$f":"OFFSET('Calculating parameters'!N$193,6*(ROW()-75),0)","v":1}]
[null,"Private household with employed persons",{"$f":"OFFSET('Calculating parameters'!D$193,6*(ROW()-75),0)","v":0.77500000000000002},{"$f":"OFFSET('Calculating parameters'!H$193,6*(ROW()-75),0)","v":1},{"$f":"OFFSET('Calculating parameters'!L$193,6*(ROW()-75),0)","v":1},null,null,"Private household with employed persons",{"$f":"OFFSET('Calculating parameters'!E$193,6*(ROW()-75),0)","v":0.55000000000000004},{"$f":"OFFSET('Calculating parameters'!I$193,6*(ROW()-75),0)","v":0.9},{"$f":"OFFSET('Calculating parameters'!M$193,6*(ROW()-75),0)","v":1},null,null,"Private household with employed persons",{"$f":"OFFSET('Calculating parameters'!F$193,6*(ROW()-75),0)","v":0.35},{"$f":"OFFSET('Calculating parameters'!J$193,6*(ROW()-75),0)","v":0.8},{"$f":"OFFSET('Calculating parameters'!N$193,6*(ROW()-75),0)","v":1}]
[null,"Financial intermediation services indirectly measured",{"$f":"OFFSET('Calculating parameters'!D$193,6*(ROW()-75),0)","v":1},{"$f":"OFFSET('Calculating parameters'!H$193,6*(ROW()-75),0)","v":1},{"$f":"OFFSET('Calculating parameters'!L$193,6*(ROW()-75),0)","v":1},null,null,"Financial intermediation services indirectly measured",{"$f":"OFFSET('Calculating parameters'!E$193,6*(ROW()-75),0)","v":1},{"$f":"OFFSET('Calculating parameters'!I$193,6*(ROW()-75),0)","v":1},{"$f":"OFFSET('Calculating parameters'!M$193,6*(ROW()-75),0)","v":1},null,null,"Financial intermediation services indirectly measured",{"$f":"OFFSET('Calculating parameters'!F$193,6*(ROW()-75),0)","v":1},{"$f":"OFFSET('Calculating parameters'!J$193,6*(ROW()-75),0)","v":1},{"$f":"OFFSET('Calculating parameters'!N$193,6*(ROW()-75),0)","v":1}]
[null,"Less subsidies on products",{"$f":"OFFSET('Calculating parameters'!D$193,6*(ROW()-75),0)","v":1},{"$f":"OFFSET('Calculating parameters'!H$193,6*(ROW()-75),0)","v":1},{"$f":"OFFSET('Calculating parameters'!L$193,6*(ROW()-75),0)","v":1},null,null,"Less subsidies on products",{"$f":"OFFSET('Calculating parameters'!E$193,6*(ROW()-75),0)","v":1},{"$f":"OFFSET('Calculating parameters'!I$193,6*(ROW()-75),0)","v":1},{"$f":"OFFSET('Calculating parameters'!M$193,6*(ROW()-75),0)","v":1},null,null,"Less subsidies on products",{"$f":"OFFSET('Calculating parameters'!F$193,6*(ROW()-75),0)","v":1},{"$f":"OFFSET('Calculating parameters'!J$193,6*(ROW()-75),0)","v":1},{"$f":"OFFSET('Calculating parameters'!N$193,6*(ROW()-75),0)","v":1}]

{"sheet":"What-If Table","index":21,"n_rows":584,"n_cols":38,"rows_kept":584,"cut":false,"hidden":true,"merged":[[0,13,0,19],[14,30,14,31],[15,30,15,31],[27,30,27,31],[28,30,28,31],[1,13,1,19]]}
[null,null,null,null,null,null,null,null,null,null,null,null,null,{"$f":"Labels!F282","v":"IMF Fiscal Affairs Department Fiscal Stress Test\n Supply Shock Macro-Fiscal Scenarios"}]
[null,null,"GDP at constant prices"]
[null,null,2020]
[null,null,0,1,2,3,4,5,6,7,8,9,10,null,{"$f":"Labels!F53","v":"GDP at constant prices"},null,null,null,null,null,null,null,null,null,null,null,null,null,null,null,{"$f":"Labels!F275","v":"Fiscal Framework Comparisons"}]
[null,0,9322.8173098199586,9285.397425301886,9196.8390949848726,9100.2487297022144,8995.0006371859654,8889.8077916210914,8760.9043141778475,8632.1257221113974,8503.5216215587116,8375.1549054866919,8246.7881894146758,null,2020,2021,2022,2023,2024,2025,null,null,null,null,null,null,null,null,null,null,{"$f":"Labels!F51","v":"Shock Scenario"},null,{"$f":"FISCAL!M1","v":2020},{"$f":"FISCAL!N1","v":2021},{"$f":"FISCAL!O1","v":2022},{"$f":"FISCAL!P1","v":2023},{"$f":"FISCAL!Q1","v":2024},{"$f":"FISCAL!R1","v":2025}]
[null,1,9322.8173098199586,9244.6972597901367,9152.1902718677557,9058.1371040302729,8964.1985631232928,8870.2057711009675,8739.6127553933838,8609.2400801652766,8479.7746919009278,8350.9658635749056,8222.1578160105437,{"$f":"AE18","v":"Baseline"},{"$f":"TRENDGDP","v":0},0,0,0,0,0,null,null,null,null,null,null,null,null,null,null,{"$f":"Labels!F108","v":"Total Revenue"},null,{"$f":"FISCAL!M3","v":0},{"$f":"FISCAL!N3","v":0},{"$f":"FISCAL!O3","v":""},{"$f":"FISCAL!P3","v":""},{"$f":"FISCAL!Q3","v":""},{"$f":"FISCAL!R3","v":""}]
[null,2,9197.8893510032594,9094.0812160874539,8981.5741132021576,8863.3680231103554,8745.3260631747762,8627.655119029414,8499.4643347147248,8348.0277217867351,8198.2225402679105,8049.499162401682,7900.7785616747642,{"$f":"Labels!F51","v":"Shock Scenario"},{"$f":"O6","v":0},0,7334.9819388519063,9150.6209556615631,10944.296882074515,11923.746844421185,null,null,null,null,null,null,null,null,null,null,{"$f":"Labels!F107","v":"Total Revenue excl. Grants"},null,{"$f":"FISCAL!M4","v":0},{"$f":"FISCAL!N4","v":0},{"$f":"FISCAL!O4","v":""},{"$f":"FISCAL!P4","v":""},{"$f":"FISCAL!Q4","v":""},{"$f":"FISCAL!R4","v":""}]
[null,3,9072.9613921865621,8942.5660808302455,8805.4544428045774,8667.7310883677746,8525.5388039491772,8383.8803824671813,8242.9932862463629,8086.5716377581557,7916.4533016083487,7747.8485437504596,7579.249303620245,{"$f":"Labels!F279","v":"Average"},0,0,7953.2672157183533,9651.8808568307904,11115.444568294939,12056.28791453669,null,null,null,null,null,null,null,null,null,null,{"$f":"Labels!F104","v":"Tax Revenue"},null,{"$f":"FISCAL!M5","v":0},{"$f":"FISCAL!N5","v":0},{"$f":"FISCAL!O5","v":""},{"$f":"FISCAL!P5","v":""},{"$f":"FISCAL!Q5","v":""},{"$f":"FISCAL!R5","v":""}]
[null,4,8948.0334333698647,8790.122853132827,8628.1986028759402,8466.4321272289853,8304.8115818039496,8139.1607079458408,7979.7764490042746,7820.5229105472126,7628.7087882551778,7439.5970832274425,7250.4980173109179,{"$f":"Labels!F280","v":"Max"},0,0,9322.8173098199586,10486.924064442956,11448.667958728,12431.50336153637,null,null,null,null,null,null,null,null,null,null,{"$f":"Labels!F105","v":"Non-Tax Revenue"},null,{"$f":"FISCAL!M6","v":0},{"$f":"FISCAL!N6","v":0},{"$f":"FISCAL!O6","v":0},{"$f":"FISCAL!P6","v":0},{"$f":"FISCAL!Q6","v":0},{"$f":"FISCAL!R6","v":0}]
[null,5,8823.1054745531655,8633.7060128216526,8446.0371479993501,8258.0499377600863,8070.8255405683622,7885.0515700272172,7706.2935541485185,7529.643145574245,7334.9819388519063,7125.9318040979624,6916.8988764617916,{"$f":"Labels!F281","v":"Min"},0,0,6036.062629397421,7915.3755863825081,10353.966869416536,11468.230559609328,null,null,null,null,null,null,null,null,null,null,{"$f":"Labels!F106","v":"Grants"},null,{"$f":"FISCAL!M7","v":""},{"$f":"FISCAL!N7","v":""},{"$f":"FISCAL!O7","v":0},{"$f":"FISCAL!P7","v":0},{"$f":"FISCAL!Q7","v":0},{"$f":"FISCAL!R7","v":0}]
[null,6,8713.0240227170107,8487.2971811239968,8289.826394910413,8092.8514077303553,7896.9437127166739,7702.1213725230682,7516.746161327831,7335.9668307096863,7175.5600295092681,6964.8431451973383,6752.3915079325852]
[null,7,8602.9425708808558,8339.6990325533079,8131.877814370855,7924.7795948932871,7719.0856559849635,7515.8079150244066,7323.7774330038537,7135.5129006021043,6970.7361753112655,6797.8353876254287,6587.5420570852593,null,null,null,null,null,null,null,null,null,null,null,null,null,null,null,null,null,{"$f":"Labels!F140","v":"Expenditure"},null,{"$f":"FISCAL!M9","v":0},{"$f":"FISCAL!N9","v":0},{"$f":"FISCAL!O9","v":0},{"$f":"FISCAL!P9","v":0},{"$f":"FISCAL!Q9","v":0},{"$f":"FISCAL!R9","v":0}]
[null,8,8492.8611190447009,8190.8566496691792,7972.4894291785859,7755.1200859098608,7539.544484864653,7326.9364859131656,7126.8660103644252,6933.520092984083,6764.4436833306818,6612.8421764147361,6411.3590233159575,null,{"$f":"Labels!F52","v":"GDP at current prices"},null,null,null,null,null,null,null,null,null,null,null,null,null,null,null,{"$f":"Labels!F141","v":"Expenses"},null,{"$f":"FISCAL!M10","v":0},{"$f":"FISCAL!N10","v":0},{"$f":"FISCAL!O10","v":0},{"$f":"FISCAL!P10","v":0},{"$f":"FISCAL!Q10","v":0},{"$f":"FISCAL!R10","v":0}]
[null,9,8382.779667208546,8040.7071272973835,7811.5854511678199,7583.7848882592834,7358.2193208043991,7136.2291208243314,6927.6592722792893,6727.0451080302555,6556.5240418511139,6402.9551278893105,6230.8314150103506,null,{"$f":"O5","v":2020},{"$f":"P5","v":2021},2022,2023,2024,2025,null,null,null,null,null,null,null,null,null,null,{"$f":"Labels!F267","v":"o/w interest"},null,{"$f":"FISCAL!M11","v":0},{"$f":"FISCAL!N11","v":0},{"$f":"FISCAL!O11","v":0},{"$f":"FISCAL!P11","v":0},{"$f":"FISCAL!Q11","v":0},{"$f":"FISCAL!R11","v":0}]
[null,10,8272.6982153723911,7889.1780300302471,7649.077651449441,7410.670433205074,7174.9904010674945,6943.5482345447972,6726.4727012276908,6518.5937694875638,6344.2094093250362,6191.3782857159877,6036.062629397421,{"$f":"$N$6","v":"Baseline"},{"$f":"TRENDGDPZ","v":""},"","","","","",null,null,null,null,null,null,null,null,null,null,{"$f":"Labels!F216","v":"Acquisition of Nonfinancial Assets"},null,{"$f":"FISCAL!M12","v":0},{"$f":"FISCAL!N12","v":0},{"$f":"FISCAL!O12","v":0},{"$f":"FISCAL!P12","v":0},{"$f":"FISCAL!Q12","v":0},{"$f":"FISCAL!R12","v":0}]
[null,null,2021,null,null,null,null,null,null,null,null,null,null,{"$f":"$N$7","v":"Shock Scenario"},8290,9104,7624.7961668710686,9987.4294480983044,12559.825669046477,14369.131068906225,null,null,null,null,null,null,null,null,null,null,{"$f":"Labels!F217","v":"Net Lending or Borrowing Balance"},null,{"$f":"FISCAL!M14","v":0},{"$f":"FISCAL!N14","v":0},{"$f":"FISCAL!O14","v":""},{"$f":"FISCAL!P14","v":""},{"$f":"FISCAL!Q14","v":""},{"$f":"FISCAL!R14","v":""}]
[null,null,0,1,2,3,4,5,6,7,8,9,10,{"$f":"$N$8","v":"Average"},{"$f":"O16","v":8290},9104,8265.5072351934632,10531.999739078192,12755.052951766402,14528.854353319442]
[null,0,10486.924064442956,10421.354547094928,10376.138016868459,10315.35952193023,10252.91595910268,10189.170651638795,10086.632169472105,9957.9275805174639,9826.4203331455737,9694.6390975379854,9562.8244963622456,{"$f":"$N$9","v":"Max"},8290,9104,9685.7018831123314,11457.924562550288,13139.638596412578,14981.020942174793,null,null,null,null,null,null,null,null,null,null,{"$f":"Labels!F178","v":"Baseline"},null,{"$f":"AG5","v":2020},{"$f":"AH5","v":2021},2022,2023,2024,2025]
[null,1,10486.924064442956,10408.147587688967,10362.501465328092,10298.092899150393,10231.606194393275,10163.230659764729,10059.902356730117,9940.6762700084419,9808.3835246158069,9672.2217532530049,9534.0974618723722,{"$f":"$N$10","v":"Min"},8290,9104,6291.4602518228021,8635.4297218894008,11891.984909598887,13820.195127386702,null,null,null,null,null,null,null,null,null,null,{"$f":"AE6","v":"Total Revenue"},null,{"$f":"FISCAL!M20","v":0},{"$f":"FISCAL!N20","v":0},{"$f":"FISCAL!O20","v":0},{"$f":"FISCAL!P20","v":0},{"$f":"FISCAL!Q20","v":0},{"$f":"FISCAL!R20","v":0}]
[null,2,10431.066742502007,10338.397140291918,10291.260051651501,10220.325259140407,10146.634108780952,10070.029838249679,9948.0820103923033,9801.2956928637632,9643.766788150866,9482.2407932546121,9319.4251990504963,null,null,null,null,null,null,null,null,null,null,null,null,null,null,null,null,null,{"$f":"AE7","v":"Total Revenue excl. Grants"},null,{"$f":"FISCAL!M21","v":0},{"$f":"FISCAL!N21","v":0},{"$f":"FISCAL!O21","v":0},{"$f":"FISCAL!P21","v":0},{"$f":"FISCAL!Q21","v":0},{"$f":"FISCAL!R21","v":0}]
[null,3,10375.209420561056,10267.970609297583,10219.336656625317,10141.965035716656,10061.077977366569,9976.1120108236828,9835.851203381033,9661.7942238394135,9479.2517183799227,9291.2096535902365,9101.4685164343646,null,null,null,null,null,null,null,null,null,null,null,null,null,null,null,null,null,"Tax Revenue",null,{"$f":"FISCAL!M22","v":0},{"$f":"FISCAL!N22","v":0},{"$f":"FISCAL!O22","v":0},{"$f":"FISCAL!P22","v":0},{"$f":"FISCAL!Q22","v":0},{"$f":"FISCAL!R22","v":0}]
[null,4,10319.352098620107,10196.87806869847,10145.003375480806,10063.051737550171,9975.0002446709168,9881.7514709517091,9719.8439248962204,9522.2221894946106,9314.8661440980777,9100.5709435336248,8884.2459556810154,null,{"$f":"Labels!F55","v":"GDP at constant prices (growth)"},null,null,null,null,null,null,null,null,null,null,null,null,null,null,null,"Non-Tax Revenue",null,{"$f":"FISCAL!M23","v":0},{"$f":"FISCAL!N23","v":0},{"$f":"FISCAL!O23","v":0},{"$f":"FISCAL!P23","v":0},{"$f":"FISCAL!Q23","v":0},{"$f":"FISCAL!R23","v":0}]
[null,5,10263.494776679156,10125.129566826798,10068.357999270336,9983.623113481699,9888.4585750433434,9787.0228421174997,9602.8333028459147,9382.6159827005067,9150.6209556615631,8910.2845449405668,8667.6411369578509,null,{"$f":"O14","v":2020},{"$f":"P14","v":2021},2022,2023,2024,2025,null,null,null,null,null,null,null,null,null,null,"Grants",null,{"$f":"FISCAL!M24","v":""},{"$f":"FISCAL!N24","v":""},{"$f":"FISCAL!O24","v":0},{"$f":"FISCAL!P24","v":0},{"$f":"FISCAL!Q24","v":0},{"$f":"FISCAL!R24","v":0}]
[null,6,10210.869794246584,10078.602554118668,10012.341565976802,9921.7282980615619,9820.273578455699,9709.7553643127576,9512.0693099698165,9279.5877478433667,9033.3533622037066,8777.3920234351554,8518.8832611772614,{"$f":"$N$6","v":"Baseline"},{"$f":"'GDP (P)'!M5","v":""},{"$f":"'GDP (P)'!N5","v":""},{"$f":"'GDP (P)'!O29/'GDP (P)'!N29*100-100","v":{"$error":"#DIV/0!"}},{"$f":"'GDP (P)'!P29/'GDP (P)'!O29*100-100","v":{"$error":"#DIV/0!"}},{"$f":"'GDP (P)'!Q29/'GDP (P)'!P29*100-100","v":{"$error":"#DIV/0!"}},{"$f":"'GDP (P)'!R29/'GDP (P)'!Q29*100-100","v":{"$error":"#DIV/0!"}}]
[null,7,10158.24481181402,10027.803811565313,9954.2607229866007,9859.0585132942579,9751.5670064165606,9632.2419415072964,9421.2445490671544,9176.5658441352662,8916.2135853993495,8644.7491454324554,8370.523854707928,{"$f":"$N$7","v":"Shock Scenario"},{"$f":"O24","v":""},{"$f":"P24","v":""},-19.739775261495723,24.753149114009204,19.601685340306773,8.9494096596638713,null,null,null,null,null,null,null,null,null,null,{"$f":"AE12","v":"Expenditure"},null,{"$f":"FISCAL!M26","v":0},{"$f":"FISCAL!N26","v":0},{"$f":"FISCAL!O26","v":0},{"$f":"FISCAL!P26","v":0},{"$f":"FISCAL!Q26","v":0},{"$f":"FISCAL!R26","v":0}]
[null,8,10105.619829381452,9976.3954211313539,9895.5811399013146,9795.9341344606401,9680.0766930647133,9553.9916689595357,9330.380823253081,9073.5583087046834,8799.1843723341699,8512.3008082354809,8222.4655489866491,{"$f":"$N$8","v":"Average"},{"$f":"O25","v":""},"",-12.974425914012981,21.973118951531486,15.462507654334836,8.4755935389090293,null,null,null,null,null,null,null,null,null,null,{"$f":"AE13","v":"Expenses"},null,{"$f":"FISCAL!M27","v":0},{"$f":"FISCAL!N27","v":0},{"$f":"FISCAL!O27","v":0},{"$f":"FISCAL!P27","v":0},{"$f":"FISCAL!Q27","v":0},{"$f":"FISCAL!R27","v":0}]
[null,9,10052.994846948885,9924.3868478440927,9836.3260747665809,9732.3890937432443,9608.2809289192028,9472.8898926846505,9239.4944687777261,8970.5671649115448,8682.2441929472698,8379.9923651145818,8074.6201069674516,{"$f":"$N$9","v":"Max"},"","",2.0113503645908537,36.028228863219937,30.808282644595465,10.761708089718695,null,null,null,null,null,null,null,null,null,null,"o/w interest",null,{"$f":"FISCAL!M28","v":0},{"$f":"FISCAL!N28","v":0},{"$f":"FISCAL!O28","v":0},{"$f":"FISCAL!P28","v":0},{"$f":"FISCAL!Q28","v":0},{"$f":"FISCAL!R28","v":0}]
[null,10,10000.369864516317,9871.7874025049041,9776.518072834855,9668.4554169102867,9536.2200618675379,9391.6559515959943,9145.6650660802625,8867.1276514221372,8563.3625661921687,8241.3103821458662,7915.3755863825081,{"$f":"$N$10","v":"Min"},"","",-33.952701286821082,12.233801847809559,8.6814272008098925,7.6263041145981987,null,null,null,null,null,null,null,null,null,null,{"$f":"AE15","v":"Acquisition of Nonfinancial Assets"},null,{"$f":"FISCAL!M29","v":0},{"$f":"FISCAL!N29","v":0},{"$f":"FISCAL!O29","v":0},{"$f":"FISCAL!P29","v":0},{"$f":"FISCAL!Q29","v":0},{"$f":"FISCAL!R29","v":0}]
[null,null,2022,null,null,null,null,null,null,null,null,null,null,null,null,null,null,null,null,null,null,null,null,null,null,null,null,null,null,null,{"$f":"AE16","v":"Net Lending or Borrowing Balance"},null,{"$f":"FISCAL!M31","v":0},{"$f":"FISCAL!N31","v":0},{"$f":"FISCAL!O31","v":0},{"$f":"FISCAL!P31","v":0},{"$f":"FISCAL!Q31","v":0},{"$f":"FISCAL!R31","v":0}]
[null,null,0,1,2,3,4,5,6,7,8,9,10]
[null,0,11448.667958728,11326.076855439265,11336.571011811087,11331.818844494977,11323.944178677781,11316.15445709887,11310.133572427019,11293.241831002635,11273.940582592513,11247.26507617499,11220.151953084045,null,{"$f":"Labels!F54","v":"GDP at current prices (growth)"}]
[null,1,11448.667958728,11320.667473152331,11328.195386309413,11321.197532997683,11308.586481669807,11294.84907027273,11282.906952949354,11260.636539396033,11235.00666759382,11208.108102256147,11179.253154280092,null,{"$f":"O23","v":2020},{"$f":"P23","v":2021},2022,2023,2024,2025]
[null,2,11439.22866415868,11321.590793417558,11313.949848919772,11298.979726419244,11281.171819936415,11261.147221446015,11239.921866124716,11209.721060337859,11171.550258613659,11120.032177935676,11067.085375296811,{"$f":"$N$6","v":"Baseline"},{"$f":"'GDP (P)'!M4","v":""},{"$f":"'GDP (P)'!N4","v":""},{"$f":"'GDP (P)'!O29/'GDP (P)'!N29*100-100","v":{"$error":"#DIV/0!"}},{"$f":"'GDP (P)'!P29/'GDP (P)'!O29*100-100","v":{"$error":"#DIV/0!"}},{"$f":"'GDP (P)'!Q29/'GDP (P)'!P29*100-100","v":{"$error":"#DIV/0!"}},{"$f":"'GDP (P)'!R29/'GDP (P)'!Q29*100-100","v":{"$error":"#DIV/0!"}}]
[null,3,11429.78936958936,11310.467811250559,11294.607749836745,11275.637374356644,11251.947606223093,11224.854499003273,11194.320071392578,11157.021240383921,11095.284580987536,11026.355064121921,10955.563032517359,{"$f":"$N$7","v":"Shock Scenario"},{"$f":"O33","v":""},{"$f":"P33","v":""},-16.24784526723343,30.986182837157372,25.756339349540823,14.405497715774487]
[null,4,11420.35007502004,11293.363495483794,11274.181223730626,11250.490795796532,11221.015228961713,11187.535746844176,11148.411262971735,11101.60264225012,11019.531237265226,10933.656803966771,10845.546304510544,{"$f":"$N$8","v":"Average"},{"$f":"O34","v":""},"",-9.2101577856605399,28.051248848635037,21.424369198215494,13.91792628766086]
[null,5,11410.91078045072,11275.239780457954,11252.709928875485,11223.908281763885,11189.286211108038,11145.180887033664,11102.349295789003,11039.914768376841,10944.296882074515,10841.833081387744,10736.759237535467,{"$f":"$N$9","v":"Max"},"","",6.389519805715409,42.540578873594569,37.711559153271224,16.21436818534319]
[null,6,11403.487122903569,11262.322492067351,11235.394408571883,11202.189217118359,11163.42869845216,11113.746253115536,11063.47204091086,10989.013832899194,10887.790410819414,10778.175976898534,10664.338095400826,{"$f":"$N$10","v":"Min"},"","",-30.893450660997345,18.021294888079353,14.161847952645829,13.014001296980695]
[null,7,11396.063465356416,11246.855646741495,11215.706751744408,11178.886108879726,11136.276145832795,11081.817417849123,11023.606369804118,10938.416024544887,10828.794473574007,10715.155242625971,10592.661427768853]
[null,8,11388.639807809262,11228.28163527463,11193.928003163421,11153.420307035229,11106.654926702771,11047.46627723804,10983.875725725364,10888.131172138228,10770.293447263968,10648.027400665673,10520.99285191158]
[null,9,11381.216150262111,11208.784746190408,11171.294541090527,11127.271712841288,11076.606775758602,11012.581725771191,10944.331545840918,10838.15529893177,10712.225842348565,10581.262754327625,10444.801429506377,null,{"$f":"Labels!F211","v":"Total Revenue"}]
[null,10,11373.79249271496,11188.377812779518,11147.840296140008,11100.497472092979,11046.203292630016,10977.608076220642,10896.557224369362,10778.685559898586,10643.224958373845,10501.854202313685,10353.966869416536,null,{"$f":"O32","v":2020},{"$f":"P32","v":2021},2022,2023,2024,2025]
[null,null,2023,null,null,null,null,null,null,null,null,null,null,{"$f":"$N$6","v":"Baseline"},{"$f":"FISCAL!M20","v":0},{"$f":"FISCAL!N20","v":0},{"$f":"FISCAL!O20","v":0},{"$f":"FISCAL!P20","v":0},{"$f":"FISCAL!Q20","v":0},{"$f":"FISCAL!R20","v":0}]
[null,null,0,1,2,3,4,5,6,7,8,9,10,{"$f":"$N$7","v":"Shock Scenario"},{"$f":"O42","v":0},{"$f":"P42","v":0},1922.7631306778007,2392.8077374867948,2712.6456750149791,3100.4183287017222]
[null,0,12431.50336153637,12199.131676487685,12201.132393339181,12203.231791759124,12205.434148494976,12207.743742101291,12210.164799096472,12212.701424319002,12215.357511538094,12218.136629418033,12221.04187674881,{"$f":"$N$8","v":"Average"},{"$f":"O43","v":0},0,2047.8376381927317,2499.6826827139193,2751.9963441650016,3133.0366617643936]
[null,1,12431.50336153637,12194.385877562619,12193.077838462648,12190.44522427021,12186.375916131545,12180.772815330252,12173.554992887457,12164.658389638509,12154.036045872057,12141.65785319253,12127.50983397237,{"$f":"$N$9","v":"Max"},0,0,2325.0591192817751,2681.6924268964053,2829.7388731772608,3224.4098228664411]
[null,2,12431.50336153637,12188.127292470164,12183.371292404363,12175.933796347168,12165.637337618116,12152.354753470627,12136.010128324797,12116.57714245942,12094.075034481584,12068.562532957745,12040.130221077741,{"$f":"$N$10","v":"Min"},0,0,1662.2495107910752,2126.6568316707012,2575.5690664890121,2985.2768495653545]
[null,3,12431.50336153637,12180.375155465428,12172.072262720838,12159.818867292735,12143.418238679731,12122.771042944636,12097.870513263671,12068.79102661839,12035.671541408046,11998.695759122464,11958.071023368801]
[null,4,12431.50336153637,12171.148951252377,12159.239434129759,12142.216870098142,12119.903511926059,12092.269519460755,12059.414480317369,12021.537497650977,11978.900370117664,11931.788884263227,11880.476891659986]
[null,5,12431.50336153637,12160.468375771508,12144.930590290569,12123.239293918838,12095.263678883604,12061.066987479857,12020.866104499688,11974.975710824347,11923.746844421185,11867.509528682151,11806.527086998954,null,{"$f":"Labels!F212","v":"Tax Revenue"}]
[null,6,12431.50336153637,12148.353293589193,12129.202535240656,12102.992676924607,12069.655463575944,12029.351733049476,11982.402235938733,11929.201658889186,11870.133082342742,11805.497768378973,11735.469732586751,null,{"$f":"O41","v":2020},{"$f":"P41","v":2021},2022,2023,2024,2025]
[null,7,12431.50336153637,12134.823690933994,12112.111013114101,12081.578606416297,12043.222369016048,11997.285915217752,11944.158865672642,11884.261100169228,11817.938791415161,11745.391549061975,11666.63937922985,{"$f":"$N$6","v":"Baseline"},{"$f":"FISCAL!M22","v":0},{"$f":"FISCAL!N22","v":0},{"$f":"FISCAL!O22","v":0},{"$f":"FISCAL!P22","v":0},{"$f":"FISCAL!Q22","v":0},{"$f":"FISCAL!R22","v":0}]
[null,8,12431.50336153637,12119.899623100133,12093.710624348656,12059.093722693742,12016.095248353138,11965.007824819153,11906.236850937308,11840.160511801536,11767.017488515414,11686.843793539058,11599.463121331246,{"$f":"$N$7","v":"Shock Scenario"},{"$f":"O51","v":0},{"$f":"P51","v":0},1224.9725414040699,1609.010979444336,2027.2965683184068,2318.4185643489377]
[null,9,12431.50336153637,12103.601154478494,12074.054735994478,12035.629722544501,11988.392862473944,11932.634001973518,11868.707031237258,11796.876290092398,11717.208926191488,11629.53318671641,11533.459145695051,{"$f":"$N$8","v":"Average"},{"$f":"O52","v":0},0,1332.2302508226639,1700.7425950126546,2061.2183862262868,2346.5953360739436]
[null,10,12431.50336153637,12085.948288817181,12053.195382890253,12011.273357298176,11960.22241547468,11900.261205140645,11831.614768494799,11754.362402867329,11668.348395283563,11573.170222796285,11468.230559609328,{"$f":"$N$9","v":"Max"},0,0,1569.9591703648607,1857.0043594148262,2128.2664148308158,2425.3947159228628]
[null,null,null,null,null,null,null,null,null,null,null,null,null,{"$f":"$N$10","v":"Min"},0,0,1001.5361283388374,1380.4562809346617,1908.7911763046457,2218.5418142322887]
[null,null,"GDP at current prices"]
[null,null,0,1,2,3,4,5,6,7,8,9,10]
[null,0,9685.7018831123314,9647.762396769238,9553.8270471026317,9451.7508934488997,9340.8997891961353,9230.1047390910589,9094.6774132685205,8959.376797484827,8824.2532226570384,8689.370500661973,8554.4877786669076,null,{"$f":"Labels!F276","v":"Expenditure to GDP"}]
[null,1,9685.7018831123314,9606.3810288091627,9508.5582431845178,9409.0517562535824,9309.6614879299577,9210.2163194437308,9073.0747700299598,8936.1567804230272,8800.1593338722178,8664.8280400562126,8529.4975384093341,null,{"$f":"O50","v":2020},{"$f":"P50","v":2021},2022,2023,2024,2025]
[null,2,9555.6835250566219,9450.0037085227541,9331.8015912726769,9207.3973691109368,9083.1595561698814,8959.2979108382915,8825.1528575652137,8667.4475031200072,8511.3974164293631,8356.4449392936513,8201.4952798731847,{"$f":"$N$6","v":"Baseline"},{"$f":"FISCAL!M61","v":""},{"$f":"FISCAL!N61","v":""},{"$f":"FISCAL!O61","v":""},{"$f":"FISCAL!P61","v":""},{"$f":"FISCAL!Q61","v":""},{"$f":"FISCAL!R61","v":""}]
[null,3,9425.6651670009069,9292.6985926317138,9149.1157796945554,9004.8630773754048,8855.7301630467518,8707.1385247229009,8560.6869519147785,8398.4909391660112,8222.4152401678075,8047.8752338910654,7873.3408259598345,{"$f":"$N$7","v":"Shock Scenario"},{"$f":"O60","v":""},{"$f":"P60","v":""},41.90706317000906,35.280823299580561,31.529020526933721,29.206814703889471]
[null,4,9295.6468089451919,9134.4357543792848,8965.253974662759,8796.2350066074905,8627.3477549474537,8454.0210795098865,8289.2834349892055,8124.5212710525657,7926.8836204534018,7732.0656483899083,7537.2608420269025,{"$f":"$N$8","v":"Average"},{"$f":"O61","v":""},"",39.027387352103908,33.45082164762232,30.92376398075989,28.764066572899708]
[null,5,9165.6284508894805,8971.8534328177993,8776.0740472878879,8579.9101951709126,8384.5387610690432,8190.6740450434118,8006.6741042452413,7824.7850750327589,7624.7961668710686,7410.322589551236,7195.8669362574783,{"$f":"$N$9","v":"Max"},"","",50.934402759254304,41.120371802003739,33.55642586293699,30.703529414965956]
[null,6,9051.8981133863836,8820.5880627504357,8615.1150760891433,8410.1582411744421,8206.3125111198588,8003.5265742432721,7812.6723580086164,7626.5923896402328,7461.67561371599,7245.466897671271,7027.4352153621339,{"$f":"$N$10","v":"Min"},"","",32.730654750833516,30.334765027284362,29.711399282769761,27.62230157263485]
[null,7,8938.1677758832884,8668.0845539620423,8452.3165181853856,8237.3011604477651,8023.7477294576702,7812.7096821341665,7615.0240653252849,7421.0956994565067,7251.5667084413217,7074.1893997175093,6858.6471598109656]
[null,8,8824.4374383801896,8514.2857346332439,8288.019051175339,8062.7912081267905,7839.4307410087877,7619.1596970245064,7413.0827251977234,7214.0004075364104,7039.9321671797743,6884.0170349616656,6677.546892020383]
[null,9,8710.7071008770909,8359.1261173117746,8122.143775764137,7886.5367795688717,7653.2565261242244,7423.6984101627604,7208.712304966286,7002.0084675174412,6826.60732633508,6668.5757383655746,6491.7404285533948,null,{"$f":"Labels!F217","v":"Net Lending or Borrowing Balance"}]
[null,10,8596.9767633739939,8202.5302930926955,7954.5988412378047,7708.4300545069036,7465.1004057676091,7226.182588417676,7002.2807789752751,6787.9530946231671,6608.4949450057584,6451.3790668021429,6291.4602518228021,null,{"$f":"O59","v":2020},{"$f":"P59","v":2021},2022,2023,2024,2025]
[null,null,2021,null,null,null,null,null,null,null,null,null,null,{"$f":"$N$6","v":"Baseline"},{"$f":"FISCAL!M66","v":""},{"$f":"FISCAL!N66","v":""},{"$f":"FISCAL!O66","v":""},{"$f":"FISCAL!P66","v":""},{"$f":"FISCAL!Q66","v":""},{"$f":"FISCAL!R66","v":""}]
[null,null,0,1,2,3,4,5,6,7,8,9,10,{"$f":"$N$7","v":"Shock Scenario"},{"$f":"O69","v":""},{"$f":"P69","v":""},-16.689823409135148,-11.322629152412823,-9.9312233401442747,-7.6298779090765532]
[null,0,11457.924562550288,11386.414108392255,11331.439673584391,11259.405665500022,11185.530554706327,11110.180750997572,10997.510153648018,10856.61408869737,10712.532880602152,10568.159781543218,10423.7511367689,{"$f":"$N$8","v":"Average"},{"$f":"O70","v":""},"",-14.192071967751541,-9.7006229358167086,-9.3475156850527448,-7.1995628256928965]
[null,1,11457.924562550288,11372.010530276008,11316.67485554606,11240.572083477871,11162.35928889087,11082.07420184838,10968.369479512396,10837.664216728572,10692.904243572049,10543.793853813509,10392.463725446889,{"$f":"$N$9","v":"Max"},"","",-8.7255888574089919,-6.9300688953042586,-8.1755035089708983,-6.0990032920147703]
[null,2,11393.026870398509,11291.960923771001,11236.239047973537,11154.444371253059,11069.707660178485,10981.793461045252,10848.235019219856,10688.135885484588,10516.339467689069,10340.092378647028,10162.409349384543,{"$f":"$N$10","v":"Min"},"","",-24.513676182948313,-16.49326116407018,-11.898400848037394,-9.102699455267345]
[null,3,11328.129178246731,11211.173977004137,11155.087147289629,11067.670298215806,10976.418983060166,10880.718595669061,10727.652848633365,10538.472943814493,10339.887895414446,10135.179209704098,9928.5786446067323]
[null,4,11263.231486094952,11129.660676723674,11071.304654052725,10980.2929584793,10882.561368944789,10779.160841353338,10603.043406726385,10388.731429225521,10163.580513494166,9930.7030024236374,9695.5653682371521]
[null,5,11198.333793943177,11047.431981692598,10984.925753965816,10892.353526620498,10788.197715265575,10677.201593720118,10477.360065300611,10238.951864372339,9987.4294480983044,9726.6190861420582,9463.2399339140102,null,{"$f":"Labels!F277","v":"Debt to GDP"}]
[null,6,11142.55374333661,10997.352183026878,10925.04805931282,10825.765004109264,10714.49798524307,10593.271675719376,10378.461574061275,10126.358080351483,9858.9411227564979,9580.6934186381404,9299.6092149772085,null,{"$f":"O68","v":2020},{"$f":"P68","v":2021},2022,2023,2024,2025]
[null,7,11086.773692730041,10943.481176689411,10862.883604744928,10758.317432475083,10640.222701768898,10509.073493020722,10279.495418972454,10013.77134592463,9730.5951184228434,9435.0457236363272,9136.4221827787296,{"$f":"$N$6","v":"Baseline"},{"$f":"FISCAL!M68","v":""},{"$f":"FISCAL!N68","v":""},{"$f":"FISCAL!O68","v":""},{"$f":"FISCAL!P68","v":""},{"$f":"FISCAL!Q68","v":""},{"$f":"FISCAL!R68","v":""}]
[null,8,11030.993642123476,10888.941340903333,10800.06228738722,10690.372259437388,10562.808260492486,10424.049087902087,10180.485877319192,9901.2006102560445,9602.3722243599786,9289.6146455059352,8973.5704195834987,{"$f":"$N$7","v":"Shock Scenario"},{"$f":"O78","v":""},{"$f":"P78","v":""},82.299304825380517,74.313440892213961,70.807431586223146,71.35924414184646]
[null,9,10975.213591516909,10833.743059513467,10736.609623060112,10621.966627367607,10485.059470937258,10335.802015491861,10081.451139153585,9788.6481263121113,9474.2484673227355,9144.3393363258019,8810.9556753983052,{"$f":"$N$8","v":"Average"},{"$f":"O79","v":""},"",75.403388886875859,68.513665922772191,67.320767230087824,68.037615478592429]
[null,10,10919.433540910341,10777.896547167231,10672.550345596443,10553.135591864553,10407.020498143955,10247.410274680311,9979.0838065929493,9675.5876347439389,9343.9249235588177,8991.8447787986588,8635.4297218894008,{"$f":"$N$9","v":"Max"},"","",104.02763675641739,92.476593115408107,81.063928574434584,80.914677074685358]
[null,null,2022,null,null,null,null,null,null,null,null,null,null,{"$f":"$N$10","v":"Min"},"","",60.3748062760476,58.097694527824231,60.381742207234993,60.646306567576794]
[null,null,0,1,2,3,4,5,6,7,8,9,10]
[null,0,13139.638596412578,12998.940761681379,13010.250168063758,13003.674823067922,12993.056495950925,12982.534562787429,12974.937062769317,12955.310126018889,12932.991509710981,12902.432967773188,12871.424022941554]
[null,1,13139.638596412578,12992.732412506046,13000.622011051084,12991.621854822683,12975.628720256342,12958.357402468449,12943.913400320143,12918.183287141221,12888.606457516224,12857.584997950655,12824.34891650246,null,{"$f":"Labels!F278","v":"Revenue to GDP"}]
[null,2,13127.374308300426,12993.029735422853,12983.760333057118,12965.480618947884,12943.902136202214,12919.808171410516,12894.860510324683,12860.252157309615,12816.580647813102,12757.942570835556,12697.654899607878,null,{"$f":"O77","v":2020},{"$f":"P77","v":2021},2022,2023,2024,2025]
[null,3,13115.110020188276,12979.48981574171,12960.553426775017,12938.063259026219,12910.203718833523,12878.505970472519,12843.066762961096,12800.494685317844,12730.401555947672,12652.202259301126,12571.8525137301,{"$f":"$N$6","v":"Baseline"},{"$f":"FISCAL!M55","v":""},{"$f":"FISCAL!N55","v":""},{"$f":"FISCAL!O55","v":""},{"$f":"FISCAL!P55","v":""},{"$f":"FISCAL!Q55","v":""},{"$f":"FISCAL!R55","v":""}]
[null,4,13102.845732076126,12958.513508139056,12936.11396690724,12908.666981917519,12874.651154208335,12836.075390796639,12790.923872484751,12737.643947446139,12644.814001893665,12547.592126633659,12447.788502105586,{"$f":"$N$7","v":"Shock Scenario"},{"$f":"O87","v":""},{"$f":"P87","v":""},25.217239760873905,23.958194147167735,21.59779718678945,21.576936794812919]
[null,5,13090.581443963976,12936.378557137401,12910.487028822499,12877.649634368767,12838.192631359183,12788.322203252608,12738.606806299498,12667.75271867126,12559.825669046477,12443.991730077623,12325.144250114581,{"$f":"$N$8","v":"Average"},{"$f":"O88","v":""},"",24.835315384352352,23.750198711805581,21.57624829570716,21.564503747206825]
[null,6,13082.276799798359,12921.086769687377,12890.424690737542,12852.73325519667,12808.693608377227,12752.625079809322,12694.609763200857,12610.29130911281,12495.937861703111,12371.892831803776,12242.970695304555,{"$f":"$N$9","v":"Max"},{"$f":"O89","v":""},"",26.420726576305999,24.627110637933562,21.6580250148996,21.600829959698611]
[null,7,13073.972155632746,12903.17292674971,12867.931710303368,12826.198004581356,12777.837223736442,12716.412965024712,12649.744415428122,12553.179916598403,12429.173912684164,12300.528682962689,12161.656706521087,{"$f":"$N$10","v":"Min"},{"$f":"O90","v":""},"",24.005065893424522,23.404696131980103,21.535895773798863,21.511230614882678]
[null,8,13065.667511467131,12882.104394813745,12843.345575161457,12797.542155578984,12744.575521316459,12677.984217918731,12605.033399156844,12496.429890346773,12362.981431044143,12224.419644821777,12080.351729650429]
[null,9,13057.362867301516,12859.979438443308,12817.7810435341,12768.104709420013,12710.825107076151,12638.906101106366,12560.535505395232,12440.03663845809,12297.289415590403,12148.729922355144,11993.821684833863]
[null,10,13049.0582231359,12836.81274799562,12791.276956031716,12737.951081293961,12676.667941610207,12599.722953800021,12507.438715444237,12373.731355633161,12220.185721484328,12059.836278586125,11891.984909598887,null,"Total Expenditure"]
[null,null,2023,null,null,null,null,null,null,null,null,null,null,null,{"$f":"O86","v":2020},{"$f":"P86","v":2021},2022,2023,2024,2025]
[null,null,0,1,2,3,4,5,6,7,8,9,10,{"$f":"$N$6","v":"Baseline"},{"$f":"FISCAL!M26","v":0},{"$f":"FISCAL!N26","v":0},{"$f":"FISCAL!O26","v":0},{"$f":"FISCAL!P26","v":0},{"$f":"FISCAL!Q26","v":0},{"$f":"FISCAL!R26","v":0}]
[null,0,14981.020942174793,14700.993259372271,14703.404293676007,14705.934247679192,14708.588275226977,14711.371532342213,14714.289112339764,14717.345961899788,14720.546773346015,14723.895847223035,14727.396917836841,{"$f":"$N$7","v":"Shock Scenario"},{"$f":"O96","v":0},{"$f":"P96","v":0},3195.3281462350878,3523.6473357538366,3959.9900133407546,4196.7654858544538]
[null,1,14981.020942174793,14695.274167238675,14693.697868654346,14690.525344205564,14685.62148111898,14678.86926716672,14670.171176032629,14659.450010964283,14646.649181507682,14631.73240448037,14614.682835650003,{"$f":"$N$8","v":"Average"},{"$f":"O97","v":0},0,3188.6895457013579,3508.0309850783738,3942.1463804887667,4177.4931374097769]
[null,2,14981.020942174793,14687.732038856315,14682.000653478812,14673.037836919157,14660.629726703988,14644.623080887086,14624.926414725269,14601.508010711561,14574.39105300699,14543.646314538875,14509.382955770325,{"$f":"$N$9","v":"Max"},{"$f":"O98","v":0},0,3204.5177041018214,3550.9208083416593,3991.9094440418185,4243.2876761428679]
[null,3,14981.020942174793,14678.390053141704,14668.384359826106,14653.61797412178,14633.853819009499,14608.97218862989,14578.964928383637,14543.921668871795,14504.009866807264,14459.450898140005,14410.494629586117,{"$f":"$N$10","v":"Min"},{"$f":"O99","v":0},0,3170.1936435564776,3475.7344930531294,3903.9704876930655,4138.1027833071039]
[null,4,14981.020942174793,14667.271690823585,14652.919707782086,14632.406067490103,14605.516569386393,14572.215253543975,14532.62213152577,14486.977139600875,14435.595767459919,14378.822412244812,14316.98708843737]
[null,5,14981.020942174793,14654.40068718871,14635.676331580587,14609.536470957351,14575.823470805677,14534.613543480415,14486.168053638596,14430.866218558696,14369.131068906225,14301.360310992513,14227.871271944539]
[null,6,14981.020942174793,14639.800980732367,14616.722684927401,14585.137572097121,14544.96338907149,14496.393959171888,14439.81581419734,14375.704585190158,14304.521916728296,14226.630855290685,14142.241104491231]
[null,7,14981.020942174793,14623.49665656318,14596.125944254525,14559.331792264022,14513.109257543558,14457.751916090334,14393.729293991877,14321.547382174809,14241.623348252067,14154.197738864157,14059.29466309079]
[null,8,14981.020942174793,14605.511883019759,14573.951907742399,14532.235591254883,14480.418765417769,14418.854066476186,14348.030034586358,14268.402415014776,14180.258838831251,14083.642704119129,13978.341547676795]
[null,9,14981.020942174793,14585.870839402973,14550.264887234323,14503.959471512959,14447.035029683249,14379.840851105202,14302.803403620546,14216.24123924768,14120.235276630148,14014.57853898563,13898.801132288903]
[null,10,14981.020942174793,14564.597631933972,14525.127589145217,14474.60797578321,14413.087240411671,14340.828872167032,14258.104066076481,14165.008382180482,14061.354173074953,13946.656364306176,13820.195127386702]
[]
[null,null,"GDP at constant prices growth"]
[null,null,0,1,2,3,4,5,6,7,8,9,10]
[null,0,2.0113503645908537,1.601897639806154,0.6328820985323631,-0.42402090270036297,-1.5756577613965987,-2.7266901015308918,-4.1371669309787933,-5.5462772501214914,-6.9534782628437313,-8.3580817869931963,-9.7626853111426328]
[null,1,2.0113503645908537,1.1565516992027227,0.14432948755613495,-0.88481120439574568,-1.912697635153819,-2.9411776879202591,-4.3701416413898215,-5.7966946037282412,-7.21331992667767,-8.6227610944862079,-10.032193719109927]
[null,2,0.64437412193083787,-0.49150655337068372,-1.7225723470603072,-3.0159971210159142,-4.3076259637293361,-5.595195108552204,-6.9978735669687637,-8.6549105833599356,-10.294096287691104,-11.921444770744259,-13.548762866016361]
[null,3,-0.72260212072914953,-2.1494027702128733,-3.6496942465852129,-5.1566791950128561,-6.7125636946145306,-8.2626066039262298,-9.8042095825980624,-11.515793437376558,-13.377248040175644,-15.222140893418754,-17.066973371044483]
[null,4,-2.0895783633891511,-3.8174542823850857,-5.5892482451478287,-7.3593158197944604,-9.1277866089949669,-10.940357720255605,-12.684358802885711,-14.426929526783965,-16.52578194271608,-18.595064194907067,-20.664208148474472]
[null,5,-3.4565546060491812,-5.5289855255317661,-7.5824800525292773,-9.6394579520725898,-11.688089062606821,-13.720849436183201,-15.676840418552146,-17.609769716881004,-19.739775261495723,-22.027226128701585,-24.314488713625209]
[null,6,-4.6610786440856771,-7.1310079754459252,-9.2917562653418031,-11.44707946459836,-13.590724228945462,-15.72249291472734,-17.750890017202863,-19.728998460338261,-21.484188319189528,-23.78987695374397,-26.114547456695647]
[null,7,-5.8656026821221587,-8.7460440687897147,-11.020047988063737,-13.286140771492654,-15.536867753748069,-17.761156417284099,-19.862376266507781,-21.922388657379315,-23.725394733436204,-25.617295244278054,-27.91834930424271]
[null,8,-7.0701267201586546,-10.374694718577743,-12.764094220608541,-15.142574834119031,-17.501428111777514,-19.827809542475478,-22.017003935174245,-24.132617430965269,-25.98267115296332,-27.641512458532276,-29.846164533144133]
[null,9,-8.2746507581951505,-12.017648240536346,-14.524724245893211,-17.017344476865276,-19.485509127865214,-21.914551692479151,-24.19674721217541,-26.391890709812287,-28.257752031391675,-29.938120933479482,-31.821518601484286]
[null,10,-9.4791747962316322,-13.675697231313634,-16.302903474675119,-18.91158296088112,-21.490421259793251,-24.022888340685014,-26.398154051562642,-28.672789479291353,-30.580923412572091,-32.253219326884917,-33.952701286821082]
[null,null,2021]
[null,null,0,1,2,3,4,5,6,7,8,9,10]
[null,0,12.486641279528385,12.233801847809559,12.822872181450578,13.352500885629937,13.984605145178136,14.616321190233066,15.132317484038964,15.358926654763522,15.557068829377215,15.754743726434,15.958167916047543]
[null,1,12.486641279528385,12.585056007829081,13.224279189000512,13.688860975270757,14.138549278502282,14.577169031144948,15.106957691254181,15.465199918290622,15.66797327744851,15.8215937085928,15.95614770744443]
[null,2,13.407177934405553,13.68270080987692,14.581919849931609,15.309724615878736,16.023508277259893,16.718038671236627,17.043634970746652,17.408518748497698,17.632410449737762,17.799140070044444,17.955782791550789]
[null,3,14.353064805235064,14.821299797924283,16.056890907840653,17.008302776343911,18.011051368461352,18.991583320848207,19.323780352853049,19.479485950834373,19.741143631252982,19.919866800760815,20.084036714388432]
[null,4,15.325363673052323,16.003817455910422,17.579622843860903,18.858234334463987,20.111096397736389,21.409956450481033,21.805967711151524,21.759405328924842,22.102788330822548,22.326126559338078,22.532906490967179]
[null,5,16.325196454697675,17.27443060709129,19.208071464086231,20.895649562875576,22.521029916190955,24.121228062985494,24.610271272062235,24.609039250623681,24.753149114009204,25.040272485016814,25.311086539863055]
[null,6,17.190883069119508,18.749259499641212,20.778663979307652,22.598671323487409,24.355370073637886,26.065987468748844,26.545038316014029,26.494407103878004,25.890569168877704,26.024259849809738,26.160979427354519]
[null,7,18.078723972859407,20.241794966732371,22.410357733058731,24.407983783516414,26.330597184858547,28.159767391767048,28.639143328021959,28.604151824333968,27.909210177520634,27.169145065929243,27.065964545986844]
[null,8,18.989580634025003,21.799170072574654,24.121596244259507,26.315698866593934,28.390736502677271,30.395448183946002,30.918426271577715,30.865104406145321,30.079941296837319,28.723785947823245,28.248402859429746]
[null,9,19.924359771423156,23.426791832173663,25.919714202141449,28.331555247700777,30.578887500037553,32.743634380259408,33.37108690880828,33.35078063031176,32.421449803698067,30.876949747998452,29.59137503729167]
[null,10,20.884016365223545,25.130747017342387,27.813032084754425,30.466676450604666,32.909168219217975,35.25730122924233,35.965244672903083,36.028228863219937,34.979191475068774,33.109462898741583,31.13474912987607]
[null,null,2022]
[null,null,0,1,2,3,4,5,6,7,8,9,10]
[null,0,9.17088641411965,8.6814272008098925,9.256170199174818,9.8538429068204323,10.4460840588889,11.060603890060605,12.129929815998722,13.409559767211945,14.730900982978483,16.015304572104228,17.330940846527682]
[null,1,9.17088641411965,8.7673611252661061,9.3191197532028127,9.9348941970769857,10.526013871279531,11.134435972096668,12.15722134122943,13.278374967002833,14.544936374048362,15.879354177199104,17.255494806790367]
[null,2,9.6649934905397146,9.5101168951406549,9.9374594766376845,10.554013105543362,11.181419365202387,11.828340157166522,12.985818315358543,14.369787542473162,15.842185984214737,17.272197789431161,18.752875192607092]
[null,3,10.164420844733897,10.152904031581485,10.521926513834117,11.178034381380414,11.836401939588455,12.517326257210783,13.81140116825452,15.475666133058397,17.048105806433895,18.67512923746375,20.371377572037815]
[null,4,10.669254870634347,10.753148359704582,11.130384155207864,11.799989597742439,12.491377982235846,13.214097518349206,14.697430834423272,16.58625918746111,18.300478684250649,20.14253690023304,22.076159964654948]
[null,5,11.17958384291029,11.358967863475939,11.763109036160429,12.423197011587177,13.155009207883467,13.877131655108272,15.615349612480387,17.663504386538136,19.601685340306773,21.677742463835756,23.87175550860232]
[null,6,11.679879899447727,11.744881610248143,12.215452644475988,12.905623703754969,13.677369670669421,14.459590753058606,16.309834173674304,18.421358054975116,20.528777899631649,22.79474299565743,25.184695792240205]
[null,7,12.185359542652634,12.156718041992605,12.672423034337925,13.386953671141839,14.199862837481319,15.049201267415313,17.007963357618408,19.199450102955652,21.450595253870802,23.949869017164445,26.547174485514475]
[null,8,12.696103753057386,12.548482305458862,13.120471096203403,13.857649040321277,14.737261685748095,15.631943799268015,17.721622876865425,19.998470299052812,22.401043000385727,25.089886278030946,27.954234520425629]
[null,9,13.212195206847682,12.941836287098468,13.571819967910372,14.332376209607006,15.281878805395891,16.25366546565219,18.451627227271032,20.819064164920491,23.380840302214523,26.268167001879419,29.353471632600218]
[null,10,13.733718320478047,13.336899961404526,14.026693482166451,14.811487393095149,15.83419028678297,16.886820948281596,19.144503386449884,21.557802973208211,24.28791699644826,27.429422207724443,30.808282644595465]
[null,null,2023]
[null,null,0,1,2,3,4,5,6,7,8,9,10]
[null,0,8.5847140152151695,7.7083603810187924,7.6263041145981987,7.6899653905734766,7.7843016170724439,7.8789069942670125,7.9577417977064329,8.1416798389301448,8.3503804375124417,8.6320678553192067,8.9204667445671646]
[null,1,8.5847140152151695,7.7179053839569605,7.6347769671988601,7.6780542759628219,7.7621499016216973,7.8436085293889732,7.8937816615184175,8.0281593947171501,8.1800519169167956,8.3292357855512051,8.4822900654077102]
[null,2,8.6743147331837207,7.6538404793469113,7.6845085500144847,7.7613562565957324,7.8401918860826925,7.9140030273946849,7.9723709192387275,8.0899076546176758,8.257804463231281,8.5299245527736787,8.7922412521809434]
[null,3,8.7640634447054424,7.6911703276284555,7.7688799143713254,7.8415211804072413,7.9228117980534734,7.9993602057032831,8.0715080157493873,8.1721614272296108,8.4755551203429462,8.8183328883031322,9.1506752129113238]
[null,4,8.8539605167449906,7.7725777277921395,7.8503103048956291,7.9261082070729145,8.0107571785865872,8.0869799488398399,8.1715967939883569,8.2865049763157543,8.7060793439932951,9.1289867442549451,9.5424477300790898]
[null,5,8.9440063174811542,7.8510844341227966,7.9289403801795686,8.0126368603363147,8.0968298663784992,8.2177769004335914,8.2731752013879429,8.4698203026524368,8.9494096596638713,9.4603600663728571,9.9636009879368714]
[null,6,9.0149287455068077,7.8672121327188194,7.9552892774894985,8.041316231560387,8.1178174699089851,8.2384954549170857,8.3059837963147913,8.5557070023447608,9.0224245182673144,9.5314995197921775,10.044051750833631]
[null,7,9.0859435745303614,7.8952559905022497,7.9924010248419961,8.0749771376553667,8.144070884257232,8.2609960338645578,8.3507380886721734,8.6470022122210821,9.1343899845454359,9.6147585649307246,10.13888680181492]
[null,8,9.157050985245931,7.9408231534236364,8.0381312165930865,8.1201406449933842,8.1882468452664199,8.305447824462675,8.3974104245524188,8.7437350323209557,9.2543814718869015,9.7559515371686842,10.250651099185148]
[null,9,9.2282511588190062,7.9831705983310428,8.0810705651291954,8.163348870639453,8.2316372258587762,8.354555717386944,8.4461575521953591,8.845794922823444,9.3816457814950951,9.9068557007532263,10.422962308438315]
[null,10,9.2995442768881702,8.0223468590097582,8.1213496309570274,8.2048204370562559,8.2745093371085545,8.4048649078538773,8.5812199658278132,9.0519093218442777,9.631699423051046,10.201208280406092,10.761708089718695]
[]
[null,null,"GDP at current prices growth"]
[null,null,0,1,2,3,4,5,6,7,8,9,10]
[null,0,6.389519805715409,5.9727855532649272,4.9409825033241503,3.8197593744387035,2.6021505843160782,1.3851575031970498,-0.1024009966111521,-1.5885676901930168,-3.0727897335562631,-4.5543662053825358,-6.0359426772088369]
[null,1,6.389519805715409,5.5182450440373714,4.4437416870004114,3.3507442470736208,2.2590233735715941,1.1666994666490638,-0.33968837840554045,-1.8436206016802856,-3.3374414117726587,-4.8239450784686682,-6.3104400438342054]
[null,2,4.961374396491891,3.8005679758650501,2.502214315385288,1.1357356009549164,-0.22891524417968867,-1.5894341955372226,-3.0629079792924756,-4.7951724173988595,-6.5092550919446097,-8.2112814225214095,-9.9132768027989471]
[null,3,3.5332289872683162,2.0726998311919402,0.49555997028289767,-1.0889380780381686,-2.7270412670611535,-4.3591989815147087,-5.9678498251891625,-7.7494404748900365,-9.6834881352393722,-11.60066746604717,-13.51778530360464]
[null,4,2.1050835780447272,0.33431188905190368,-1.5240117018589672,-3.380546939724411,-5.2356353806299012,-7.1394872637314677,-8.9489956613663821,-10.758773384747741,-12.929661462506573,-15.069577675857772,-17.209349274748433]
[null,5,0.67693816882116664,-1.4515220472561623,-3.6019986018465744,-5.7566982077008788,-7.9026937492416209,-10.032139224039852,-12.053228204687599,-14.051130546652473,-16.24784526723343,-18.603662241308911,-20.959282334605916]
[null,6,-0.57229664558015259,-3.1130485198765854,-5.3700013610594937,-7.6212846971172894,-9.8603634543073468,-12.087801249524688,-14.184178844369328,-16.228115228029068,-18.03959123774176,-20.414467292714505,-22.809367142331567]
[null,7,-1.8215314599814576,-4.7881749345118294,-7.1582104768740606,-9.5199784660834297,-11.86568838469168,-14.183768869352292,-16.355183816725784,-18.485328433034852,-20.347465856312368,-22.295810635791852,-24.663365995046519]
[null,8,-3.0707662743828052,-6.4775292768756145,-8.9628838842779004,-11.436827678747903,-13.890259874683792,-16.309757282243993,-18.57334440687913,-20.76010097170024,-22.672098339413722,-24.384698649366584,-26.652604437385946]
[null,9,-4.3200010887841529,-8.1818308731131992,-10.78488822754683,-13.372838537248782,-15.93523147930334,-18.456739782922227,-20.818186456872951,-23.088659188077315,-25.015297382083929,-26.75114522884914,-28.693536593218425]
[null,10,-5.5692359031854721,-9.9019080284194274,-12.625232411711281,-15.329195359106947,-18.00197269587423,-20.626289670280357,-23.08566806925225,-25.439882528304409,-27.411083644488599,-29.13687316781477,-30.893450660997345]
[null,null,2021]
[null,null,0,1,2,3,4,5,6,7,8,9,10]
[null,0,18.297307730769049,18.021294888079353,18.606288534612432,19.125078437097031,19.747891607227473,20.368956420874312,20.922487449674605,21.175996211535121,21.398747410112733,21.621696079573496,21.851259905514638]
[null,1,18.297307730769049,18.379757123643031,19.015675837686047,19.465514428773318,19.90080738556334,20.323712467566708,20.889221763529875,21.278805677081337,21.508075455117833,21.684975224795195,21.84145289506678]
[null,2,19.227754252472494,19.491603094155678,20.408036305464677,21.146551235793225,21.870672773321573,22.574263857888852,22.924046691388341,23.313534712926696,23.555967994040671,23.737934657187481,23.909226337342716]
[null,3,20.183870077480776,20.644975894231663,21.925303121063394,22.907702239506293,23.947080375852451,24.963196172594863,25.312990755185808,25.48055382984063,25.752441264489391,25.936087664766674,26.103757783105294]
[null,4,21.166732316640463,21.842891843514536,23.491255075896362,24.82946340373131,26.140288742899671,27.503358933879653,27.912665671085151,27.868843992571854,28.21659810003402,28.435316693043916,28.635131136444045]
[null,5,22.177479197909577,23.134334108520079,25.169018569989603,26.951836078087553,28.667754097066876,30.358033233924488,30.857830965611299,30.852819166147782,30.986182837157372,31.257701248483642,31.509379171980299]
[null,6,23.096323044759686,24.678219919020734,26.812560979420795,28.722488848170514,30.564098926582773,32.357549855714211,32.84137742474914,32.776967261379639,32.127710090128744,32.230173071626666,32.332905675858086]
[null,7,24.038549854077033,26.250281807499462,28.519602660089021,30.604881658718909,32.609138030416062,34.512530486733766,34.989664258314491,34.936561277036247,34.186107770280358,33.372817584062602,33.210266833883054]
[null,8,25.00506371257498,27.890250342560051,30.309332310905376,32.588975498486946,34.739480575259876,36.813631718114124,37.331340478837774,37.2497927767281,36.398646980241125,34.944678351709882,34.384236676897729]
[null,9,25.996815923380126,29.603775651581003,32.189356892417294,34.68480429692832,37.001280894567373,39.227127025291622,39.850929162593843,39.797719064779614,38.784142904687371,37.125822590822366,35.725631244342878]
[null,10,27.014808129187841,31.397217225070619,34.168303878108588,36.903824997340791,39.408982230210711,41.809456781581218,42.511906071457247,42.540578873594569,41.392631776472911,39.378645801009924,37.256366189192534]
[null,null,2022]
[null,null,0,1,2,3,4,5,6,7,8,9,10]
[null,0,14.677300628762183,14.161847952645829,14.815509263072485,15.491662787428638,16.159501173451972,16.852595414541199,17.980678185283239,19.331036547632593,20.727671540029078,22.08779233548934,23.481689595779926]
[null,1,14.677300628762183,14.251849995347328,14.880229192762911,15.577941748344102,16.24449979109788,16.93079442030016,18.011281663129864,19.197116913820295,20.534198791353646,21.944578737190383,23.400468409631102]
[null,2,15.222885521389571,15.064423470248542,15.552546342441403,16.236005913142378,16.930839851948804,17.647524671082309,18.865976700161951,20.322685780735156,21.873021379648392,23.383255232627789,24.947288217403639]
[null,3,15.774721613989556,15.772798124127434,16.18513827499828,16.89960859343573,17.617628652457171,18.36080362926262,19.719261465449293,21.464416652803891,23.119338282123692,24.834519425044419,26.622882929564256]
[null,4,16.332916963060512,16.432242496307239,16.843627477741663,17.562136372227414,18.305339319733193,19.082325421401293,20.634457314118066,22.610195809015423,24.412986005327269,26.351499219857416,28.386412027964525]
[null,5,16.897582129979511,17.098512836060877,17.529124165099702,18.226511863540608,19.002200091242429,19.772227685334357,21.582218487343823,23.721186372115156,25.756339349540823,27.937483928070407,30.242330704774616]
[null,6,17.408245014045633,17.492706922940584,17.989638313301342,18.723556721561991,19.545438582549224,20.384197348958381,22.316873966448881,24.529383703910156,26.747261253643885,29.133584503765405,31.650378121125812]
[null,7,17.924046417631629,17.907389051251982,18.457788728240004,19.221226600584984,20.089941553687325,21.004130130690669,23.058028627368159,25.359162726511158,27.732926521134644,30.370631401900482,33.111807480226048]
[null,8,18.445064292068423,18.30447048532875,18.919180588064506,19.710912258283614,20.655181908246163,21.622453146661684,23.815636611600553,26.211258434684083,28.749241772578415,31.592322300856921,34.621462414635289]
[null,9,18.971378173395777,18.703013056512702,19.383879022704178,20.204714977383361,21.227973406429641,22.282780592763743,24.590550824707805,27.086360424163018,29.796990843173575,32.855195717578283,36.123958929025861]
[null,10,19.503069222838249,19.103135679749457,19.852111649297328,20.70299836869043,21.808811118139289,22.955191761296916,25.336543492909257,27.886096666630294,30.782147988727928,34.119711530400309,37.711559153271224]
[null,null,2023]
[null,null,0,1,2,3,4,5,6,7,8,9,10]
[null,0,14.013949715975855,13.093778400069709,13.014001296980695,13.090602831682148,13.203450472263171,13.316636756818241,13.405475811989859,13.600877313944821,13.821668886837315,14.117204747347827,14.419328363258572]
[null,1,14.013949715975855,13.103800653154835,13.023037329783719,13.076916095369739,13.178496377544761,13.277237316903509,13.336444105611747,13.479191966228882,13.64028554821941,13.798449761852581,13.960427393266954]
[null,2,14.12046758430823,13.043164973394923,13.079726341666316,13.170026381249841,13.262828878320533,13.350158814999375,13.416708951720352,13.539826685375189,13.715127720074264,13.996800297450847,14.268209921332755]
[null,3,14.227184668022545,13.089114144837538,13.177145117298039,13.259749011496808,13.351068176108626,13.436855347389965,13.516227840758432,13.619996933037754,13.932068859453679,14.28406376850559,14.625069088648473]
[null,4,14.334101526516818,13.186374977433047,13.271417871446744,13.35334692565236,13.443979137347654,13.525472622201434,13.616672856506312,13.733569562567908,14.162183526764977,14.594276472568495,15.016310616264121]
[null,5,14.441218721285225,13.280549285591391,13.362697308836033,13.448780528757396,13.534855640053834,13.655359260369977,13.718621462394893,13.918123751253432,14.405497715774487,14.925826223634942,15.437766757271575]
[null,6,14.51386613686158,13.301622701559907,13.392095571764173,13.478878636184248,13.555400993889791,13.673803381261479,13.747614803059861,13.999781867065792,14.473375868553546,14.991546149826249,15.513150006273293]
[null,7,14.586605844348696,13.332563545258296,13.430240949813182,13.512451523542765,13.58032665014413,13.693633227035093,13.786720279002026,14.087008051547059,14.582219609287719,15.069832392399206,15.603449450700154]
[null,8,14.65943801973107,13.378307110287409,13.474731505534422,13.554895264944861,13.620251543081636,13.731440413823478,13.827782761338042,14.179830081204329,14.699345929808018,15.209090601572342,15.711378778548934]
[null,9,14.732362839440867,13.420638883763132,13.516254005401123,13.595242219561939,13.659301485003866,13.774410032577421,13.870968299695051,14.278129979927016,14.823964854633971,15.35838419781723,15.883006246990305]
[null,10,14.805380480359375,13.459609623176377,13.554945601392092,13.633722436252555,13.697758013379826,13.818604780051146,13.996993233079081,14.476449949205005,15.066615954564952,15.645486739072538,16.21436818534319]
[]
[null,null,"Total revenue"]
[null,null,0,1,2,3,4,5,6,7,8,9,10]
[null,0,2325.0591192817751,2317.6376737152036,2299.33965192903,2279.4491342287588,2257.8420691426372,2236.2459682170797,2209.8424693409634,2183.4637548789942,2157.1196695309618,2130.8226948649954,2104.5257201990285]
[null,1,2325.0591192817751,2309.5451049414755,2290.4844987225802,2271.096691703754,2251.7316185211266,2232.3558042351574,2205.6170041641844,2178.9219322688923,2152.4069180908173,2126.0222030225427,2099.6376429021147]
[null,2,2299.6881190017548,2279.0237842729857,2255.9786045339242,2231.7280784713407,2207.5101041666267,2183.3657130256984,2157.2026617410115,2126.4307620220384,2095.9826317685838,2065.7491933424608,2035.5163060598954]
[null,3,2274.3171187217336,2248.3212758418854,2220.3193689877271,2192.187344720985,2163.1071665857094,2134.1328689141224,2105.5520060062472,2073.8912226417938,2039.5152629421398,2005.4396838970708,1971.3651998853154]
[null,4,2248.9461184417123,2217.431735298328,2184.4305402205223,2151.4611403791705,2118.5178071669784,2084.712616270489,2052.5460859279092,2020.3776723913445,1981.7758506818643,1943.7241149411568,1905.6749480666635]
[null,5,2223.5751181616911,2185.7026408433267,2147.5078070168265,2109.2389110888676,2071.1246695368891,2033.3044906379766,1997.3629531397949,1961.8348183086173,1922.7631306778007,1880.8561275928776,1838.9526218095264]
[null,6,2201.3673477470352,2156.1655847656416,2116.0700256747959,2076.0751826105447,2036.2971480088827,1996.7271760859433,1959.4475483683439,1923.0996994726047,1890.8822214907227,1848.6366424495047,1806.035657460189]
[null,7,2179.1595773323802,2126.3869322714395,2084.2738376786301,2042.3076121837112,2000.6266505751507,1959.4365125469292,1920.8221288868776,1882.9438425426781,1849.8275252859678,1815.1687703421196,1773.0491657766063]
[null,8,2156.9518069177243,2096.3555274971241,2052.1851694759957,2008.2175190481041,1964.6142472842878,1921.613810683876,1881.362417790082,1842.4759902400228,1808.4750742636463,1778.0170580671302,1737.669481878713]
[null,9,2134.7440365030679,2066.0585919603441,2019.7886255489427,1973.7870285075985,1928.2394457872315,1883.4181589676748,1841.4294377035183,1801.056824694818,1766.7927314136925,1735.9229674721944,1701.3747948180851]
[null,10,2112.5362660884125,2035.4814112184465,1987.0662831857633,1938.9951017321189,1891.477917623939,1844.8216085016068,1801.0942767004585,1759.2351316168442,1724.1800340073987,1693.4862844386578,1662.2495107910752]
[null,null,2021]
[null,null,0,1,2,3,4,5,6,7,8,9,10]
[null,0,2681.6924268964053,2667.7468235450278,2657.0768605971343,2643.076283171828,2628.7032103788342,2614.0363283058578,2591.9925589527106,2564.4527714056403,2536.2929365655696,2508.0729678250068,2479.8422585386907]
[null,1,2681.6924268964053,2664.9142216448854,2654.1655701027398,2639.3741304803266,2624.1645984245529,2608.5472890017513,2586.3031021166321,2560.7425204303631,2532.4453431276675,2503.3036116984704,2473.7297731736926]
[null,2,2669.0336198987661,2649.279495297772,2638.4012184168769,2622.4368458106273,2605.8889408251612,2588.7135446391776,2562.5845897626095,2531.2496211473413,2497.6416678430801,2463.1702305187605,2428.417491358106]
[null,3,2656.3608189302695,2633.4799994709374,2622.4603692546989,2605.3316927669625,2587.4331572527126,2568.6529407617127,2538.6824193040316,2501.6591686576789,2462.7809448360795,2422.717259310009,2382.2839840415882]
[null,4,2643.6734367892454,2617.5164695859444,2605.97316406245,2588.0546409628905,2568.8054504300785,2548.4189089191445,2513.8986875097985,2471.9623965779056,2427.842339398594,2382.2308730184386,2336.1777404077047]
[null,5,2630.9708529551963,2601.3845276185311,2588.9380892536292,2570.6017289468455,2549.9805512237299,2527.9942567980097,2488.7782605089424,2442.0875653793455,2392.8077374867948,2341.6822801687808,2290.0539230950367]
[null,6,2619.9506300915077,2591.4064444396663,2576.9917370885742,2557.299752445761,2535.2407804752934,2511.2081962959178,2469.0481015530504,2419.6772861417267,2367.4367764727363,2312.9280817916965,2257.8630213380816]
[null,7,2608.9176596868574,2580.6460909498728,2564.56436291399,2543.783628268553,2520.330761695579,2494.3056238622794,2449.2364394638876,2397.1837975319163,2341.8758015400085,2284.1751447060906,2225.7336162371707]
[null,8,2597.8714488660435,2569.7225778695342,2551.9693857509283,2530.1223218256387,2504.7577495463906,2477.1746588024289,2429.3363812497432,2374.6193228838392,2316.2645449260981,2255.3446711150209,2193.5832728848327]
[null,9,2586.8114790131872,2558.6352958925936,2539.2082391481781,2516.3183486588891,2489.0572452210777,2459.3503232759545,2409.3488395532786,2351.959872450273,2290.5889420556687,2226.3644979020974,2161.4172272177721]
[null,10,2575.7372040691107,2547.383274533056,2526.2817213138451,2502.3731277959414,2473.2309646905678,2441.4172808689159,2388.6311738755194,2329.1050834703042,2264.3812529730349,2195.9143975414104,2126.6568316707012]
[null,null,2022]
[null,null,0,1,2,3,4,5,6,7,8,9,10]
[null,0,2829.7388731772608,2802.3258453917738,2804.4711885385759,2803.1245772460888,2800.975398931163,2798.8291905243032,2797.1894813679987,2793.1792473370151,2788.6155837575029,2782.4174609339566,2776.100238630283]
[null,1,2829.7388731772608,2801.0863807334963,2802.5577332502648,2800.7348293195737,2797.5479115034786,2794.0996495765785,2791.1241101719506,2785.9199287316683,2779.9422804666938,2773.6550651321108,2766.9056843476433]
[null,2,2827.2748781058467,2801.0262631307269,2799.1091360492055,2795.4276539675798,2791.0855018039192,2786.2339292126512,2781.176087828655,2774.1556855373869,2765.3377367530388,2753.5702518658454,2741.4416042665066]
[null,3,2824.7897810235932,2798.2398870868183,2794.3832114043312,2789.8135060762265,2784.1607330616725,2777.7301834208506,2770.5572723918722,2761.91803989458,2747.8412809924985,2732.1409837562646,2715.9682442487019]
[null,4,2822.2825596981038,2793.9812670844703,2789.368300247997,2783.7386555851594,2776.7891236915229,2768.8970045680671,2759.7313141903091,2748.9367457486846,2730.2877103136825,2710.7276438853055,2690.5924524856177]
[null,5,2819.7521306782992,2789.45442955099,2784.0604606060278,2777.2582249826528,2769.1099475598871,2758.8712022231784,2748.6909535135014,2734.3411641166585,2712.6456750149791,2689.2712364891945,2665.2132475062449]
[null,6,2817.9658717599955,2786.2166960094337,2779.8208368807459,2771.9949746487382,2762.8687066854018,2751.328901628026,2739.4479112935664,2722.4016771741094,2699.5547781597697,2674.5108814027485,2648.4049355704042]
[null,7,2816.1599297783009,2782.4239308376586,2775.0535967593646,2766.3494799122318,2756.2815402104034,2743.5950666696726,2729.9307180629289,2710.4025973433891,2685.6018885374033,2659.7908542720479,2631.6877825172387]
[null,8,2814.3334335868931,2777.9668999003529,2769.8201831499282,2760.219684796446,2749.1422332587899,2735.3246805937206,2720.325424093945,2698.3564451828693,2671.6337473905483,2643.9605151302148,2614.8099363331989]
[null,9,2812.4854642755863,2773.2566456743671,2764.3372995877057,2753.8650195393184,2741.8200347036545,2726.8264740274431,2710.6375496911219,2686.2278600470577,2657.6203494497227,2627.9296104703349,2596.7908695595725]
[null,10,2810.6150519522735,2768.2919387134566,2758.6068684975003,2747.2906218913631,2734.3209869326506,2718.1911580124424,2699.1382706536724,2672.0144188115182,2641.2051016338442,2609.1674099551919,2575.5690664890121]
[null,null,2023]
[null,null,0,1,2,3,4,5,6,7,8,9,10]
[null,0,3224.4098228664411,3169.8743474875578,3170.2647790374517,3170.6610894661603,3171.0553386660795,3171.456285484323,3171.8278437363574,3172.2014126956205,3172.5692094424285,3172.9325935970146,3173.287628782346]
[null,1,3224.4098228664411,3168.7263517524193,3168.331237507789,3167.6156046440874,3166.5498659021714,3165.1100121180784,3163.2166375769211,3160.9035063754709,3158.1564359951863,3154.9640072589445,3151.3199227770956]
[null,2,3224.296134471861,3167.1093901832555,3165.8567092079529,3163.9523871768229,3161.3552589267824,3158.0353081869125,3153.9608208311301,3149.0791701979938,3143.4390319153686,3137.053239129747,3129.9327679630219]
[null,3,3224.1577706809294,3165.1058513361836,3162.9512850413871,3159.8458406989057,3155.7248815501202,3150.573613649055,3144.4120141992603,3137.1917763366087,3128.9344057764188,3119.7159980110591,3109.5733302921567]
[null,4,3223.9934792919767,3162.7178380130963,3159.6296845557622,3155.3051986276987,3149.6933442276131,3142.7706858254469,3134.6279336821917,3125.2649366158053,3114.608551983943,3102.8277168330251,3089.9676121136072]
[null,5,3223.8019324795746,3159.939623896782,3155.8907903230579,3150.3384758609568,3143.2467042919588,3134.6299819150368,3124.6132203759912,3113.2174390098562,3100.4183287017222,3086.2662129753885,3070.873147375853]
[null,6,3223.6102532672976,3156.7917486300153,3151.8166138163629,3145.1177199031245,3136.6728650791738,3126.5184425355123,3114.8247730078142,3101.6287740004009,3087.1004796044372,3070.8895708701493,3053.2647159627418]
[null,7,3223.3955004126115,3153.2666437202183,3147.3654650265462,3139.549677958621,3129.8140061698277,3118.2206575439409,3104.9712989874179,3090.0864987175746,3073.7611493699355,3055.8379940205186,3036.0862089986172]
[null,8,3223.1566197014545,3149.3644319675982,3142.5454017443399,3133.6547127082317,3122.7032466386231,3109.7618267912826,3095.0566129184281,3078.6034476041473,3060.5703235766964,3040.9252047875971,3019.101124124531]
[null,9,3222.8924988006224,3145.0851774574244,3137.3629647735233,3127.446337213385,3115.3563765006047,3101.1623717817106,3085.0902841281281,3067.1337982904961,3047.4709149960599,3025.9687392427363,3002.2317873438465]
[null,10,3222.6019633350893,3140.4288760508639,3131.8238696473477,3120.9361309132951,3107.7870647269688,3092.4281291249986,3075.0752005650702,3055.6692123126063,3034.3855067174368,3011.0444290624255,2985.2768495653545]
[]
[null,null,"Tax revenue"]
[null,null,0,1,2,3,4,5,6,7,8,9,10]
[null,0,1569.9591703648607,1563.5927403918602,1547.9068588384139,1530.8548596373801,1512.3303255716742,1493.8151969211301,1471.1776409796735,1448.5613459184492,1425.9747568425903,1403.428580849047,1380.8824048555032]
[null,1,1569.9591703648607,1556.6508985438045,1540.3105337985876,1523.6897883689521,1507.0885449857681,1490.4780871547991,1467.5528988931578,1444.6652220893386,1421.9320046783421,1399.3105621009722,1376.6892524429279]
[null,2,1548.2037012483042,1530.4780951401781,1510.7198622976612,1489.9287503425805,1469.1655626625097,1448.4654977332875,1426.0327321389143,1399.6462794611768,1373.5375668094239,1347.6130238217436,1321.6889536230146]
[null,3,1526.4482321317469,1504.1499039761256,1480.1407266293625,1456.0200600543187,1431.0869478204781,1406.2446643276876,1381.736304975035,1354.5858442100368,1325.1061713607667,1295.8841748512834,1266.6631176971543]
[null,4,1504.6927630151893,1477.6613129006021,1449.3646995911131,1421.0953540756163,1392.8484124393506,1363.8630639549269,1336.2775335301046,1308.6908017435694,1275.5848584277303,1242.9505918793084,1210.3185280872597]
[null,5,1482.9372938986321,1450.4532834630654,1417.7026536715362,1384.88865296822,1352.207271198575,1319.7780534898234,1288.9531589794435,1258.4829672206445,1224.9725414040699,1189.0295876590651,1153.0896327869809]
[null,6,1463.8921197943951,1425.1225922988417,1390.7407954615201,1356.4453615797897,1322.3358387219507,1288.4049079717613,1256.43252591388,1225.2591611032574,1197.6276642985611,1161.3943850768596,1124.8563926818154]
[null,7,1444.8469456901587,1399.5847346955102,1363.4716855508641,1327.4845751451437,1291.7420755842154,1256.4204521887332,1223.3032807595484,1190.8177255708813,1162.4156452826408,1132.6893721588403,1096.5635341435168]
[null,8,1425.8017715859216,1373.8301446149237,1335.9517768752382,1298.2472288091903,1260.8551316950718,1223.9799595253385,1189.4591244147209,1156.1087483451047,1126.9482961077724,1100.8259447190567,1066.2198595576924]
[null,9,1406.7565974816841,1347.8478646400647,1308.1678679365486,1268.7179952040829,1229.6574350762367,1191.219666203654,1155.2092465783821,1120.5846231388443,1091.1980587046853,1064.7228136577464,1035.0920509985608]
[null,10,1387.7114233774473,1321.6252772878929,1280.1045901940813,1238.8788337496983,1198.1281243237679,1158.1156063325718,1120.6145027479656,1084.7153500343215,1054.650597959014,1028.3259033638542,1001.5361283388374]
[null,null,2021]
[null,null,0,1,2,3,4,5,6,7,8,9,10]
[null,0,1857.0043594148262,1845.0473081370799,1835.9060660960945,1823.908599654136,1811.5898349548079,1799.018269016751,1780.1076268774459,1756.4858561493556,1732.3326101151099,1708.1273470408792,1683.9123318708614]
[null,1,1857.0043594148262,1842.615238794981,1833.4053534657708,1820.7301684104286,1807.6955661141105,1794.3108124511589,1775.2285095737011,1753.3025603954134,1729.0308468964165,1704.0355550087588,1678.6698821865971]
[null,2,1846.1502177884499,1829.2065199999538,1819.8777487538405,1806.1879103526887,1791.9963512260763,1777.2656600143007,1754.8506784241547,1727.9677227085986,1699.1370586394853,1669.5666741543982,1639.7549182450618]
[null,3,1835.2820821912167,1815.6535355735441,1806.1935595763339,1791.4957578263234,1776.1347253123104,1760.0157309605709,1734.3016390313203,1702.5390750418524,1669.1830747110366,1634.8118978713189,1600.1237403898699]
[null,4,1824.3993654214557,1801.9567154194533,1792.0361654952278,1776.6484820902012,1760.1169970637566,1742.6058020455489,1712.9830280647434,1677.0062927290373,1639.1471987281741,1600.0115555404991,1560.4970952897108]
[null,5,1813.5014469586695,1788.1113767737681,1777.4031022930765,1761.6409767162438,1743.9161483044174,1725.01641751842,1691.3575847296436,1651.2965093935234,1609.010979444336,1565.1380978818395,1520.8337491014411]
[null,6,1804.032347446202,1779.5259051879395,1767.1218201554516,1750.1906839455849,1731.2258086872448,1710.5642676933774,1674.377580309176,1632.0172213561266,1587.2130026715913,1540.441778763495,1493.193066040237]
[null,7,1794.5505003927731,1770.2635886302598,1756.4231058879066,1738.5501318090487,1718.3812259435779,1696.0030658016094,1657.3179543417009,1612.6545279124762,1565.22105433875,1515.7389911186326,1465.6015416602468]
[null,8,1785.05541292318,1760.8567111918685,1745.5750545746491,1726.7782346326276,1704.9609430637217,1681.2364467538016,1640.1711387363755,1593.2204035394693,1543.1754008926257,1490.9526433185629,1437.9797559182512]
[null,9,1775.5465664215446,1751.3043748142966,1734.5783902243297,1714.8764751086528,1691.4224655149508,1665.8660726921144,1622.9375403095974,1573.6907958397283,1521.0626444023185,1466.0122642968377,1410.335676872153]
[null,10,1766.0234148286891,1741.6053249641516,1723.4332232503082,1702.8452974438828,1677.7662811333096,1650.3910146672511,1605.0664901908119,1553.9799761940442,1498.4789730419325,1439.8027099116794,1380.4562809346617]
[null,null,2022]
[null,null,0,1,2,3,4,5,6,7,8,9,10]
[null,0,2128.2664148308158,2104.7658915078491,2106.5967443639934,2105.4329792872136,2103.5790738335168,2101.7254577791628,2100.2970187734022,2096.832567680503,2092.8895368638814,2087.5411814296353,2082.0862512519461]
[null,1,2128.2664148308158,2103.6990677000849,2104.9510274339159,2103.3783985090504,2100.6362154003518,2097.6682317097716,2095.0943489686583,2090.6056666888717,2085.4504865032109,2080.0259113024727,2074.2007545277861]
[null,2,2126.1434632591831,2103.6306821858652,2101.971317266712,2098.7981547563331,2095.0560538315431,2090.8744826297593,2086.5103820948266,2080.4523637369757,2072.8488257935373,2062.7119398298209,2052.2597628255266]
[null,3,2123.9994096767114,2101.2208222146865,2097.890726820217,2093.946424731957,2089.0683656675924,2083.5192622988557,2077.3318394815578,2069.8764449877162,2057.748825402361,2044.2230825768618,2030.2846968438942]
[null,4,2121.8332318510038,2097.5455082543922,2093.5554245290582,2088.6890215426838,2082.6853967268839,2075.8659866950907,2067.9558630232618,2058.6428948129028,2042.5752606974268,2025.7187257166806,2008.358858664292]
[null,5,2119.6438463309805,2093.6341961462826,2088.9602149699103,2083.07111672767,2076.0200537762398,2067.1680978871977,2058.3703275419293,2045.9908380758773,2027.2965683184068,2007.1432227397368,1986.3901268036705]
[null,6,2118.0885217225027,2090.8216943558223,2085.2784817582665,2078.5007373600138,2070.5991173455109,2060.6184575916004,2050.3507485528962,2035.649229464218,2015.9822541079066,1994.3877830933766,1971.8668848584919]
[null,7,2116.5135140506336,2087.5270746641704,2081.1367230914666,2073.5931309260873,2064.8700006253998,2053.8916037354279,2042.0811642403967,2025.2382947424846,2003.8859264502009,1981.6522395998134,1957.410899111763]
[null,8,2114.9179521690517,2083.655914329463,2076.5869970714134,2068.2601933974374,2058.6556301477403,2046.6898385435743,2033.7191875621115,2014.7702388716611,1991.7584559881268,1967.9383292710697,1942.7939696322294]
[null,9,2113.3009171675703,2079.5609075996294,2071.8150082025272,2062.7241202649302,2052.271958092173,2039.2783104376113,2025.268703970936,2004.2098288971238,1979.5718118428074,1954.0121931563731,1927.181117475435]
[null,10,2111.6614391540829,2075.2404165211565,2066.8215988356924,2056.9882302232204,2045.7227476983248,2031.7325935552803,2015.2459325714726,1991.8401951049386,1965.3006520851648,1937.7219338661996,1908.7911763046457]
[null,null,2023]
[null,null,0,1,2,3,4,5,6,7,8,9,10]
[null,0,2425.3947159228628,2378.6462086994402,2378.9695945660037,2379.2955524100662,2379.6159988066643,2379.9395492249951,2380.2299758463832,2380.5185403877194,2380.7973294458807,2381.067583052195,2381.3252609866045]
[null,1,2425.3947159228628,2377.6572486277641,2377.3059678597274,2376.6785560840549,2375.7491832375099,2374.4970940147591,2372.8455946982103,2370.8305960604448,2368.4394892418495,2365.6618640226434,2362.491891415084]
[null,2,2425.2810275282827,2376.2500174429329,2375.1567139797912,2373.5016286185319,2371.2495432519231,2368.3747029382957,2364.8479375456986,2360.6175024084068,2355.7314284525837,2350.2005807816849,2344.0328999996805]
[null,3,2425.1426637373511,2374.5062591451997,2372.629929681998,2369.9351067970097,2366.3637463341065,2361.9043831100462,2356.5772210902646,2350.3314609762097,2343.1839518718343,2335.2046332800146,2326.4233341958989]
[null,4,2424.9783723483984,2372.4274235878443,2369.7383679403888,2365.9843222706154,2361.1202070345807,2355.1235866705279,2348.0818341757554,2339.9881262561353,2330.7605471789284,2320.5584570460537,2309.417859814439]
[null,5,2424.7868255359963,2370.0071244263322,2366.4789749485258,2361.6535538429107,2355.4992683680689,2348.0285055211443,2339.358908958427,2329.5009527972711,2318.4185643489377,2306.1510077792705,2292.8015144477149]
[null,6,2424.5951463237193,2367.2652356253207,2362.9318586290278,2357.1112788357882,2349.7835817183945,2340.9797706577551,2330.8594177707641,2319.4462142844577,2306.8973569462369,2292.8524312638369,2277.5742739955554]
[null,7,2424.3803934690332,2364.1935189371134,2359.0534609405336,2352.2608401788457,2343.8105177609814,2333.756537853048,2322.2875108498924,2309.4099344483984,2295.3071007491544,2279.8150637429744,2262.7023293374496]
[null,8,2424.1415127578762,2360.7914250923523,2354.8500099677599,2347.1193620561589,2337.608810572824,2326.379372717267,2313.6436229896995,2299.404730677621,2283.822690107278,2266.8642584227446,2247.9683766568137]
[null,9,2423.8773918570441,2357.0583458019041,2350.3262581403123,2341.6972846936496,2331.1902703930205,2318.8647913983796,2304.9349496268374,2289.3855715818827,2272.3924078171553,2253.8283189101521,2233.3108879173615]
[null,10,2423.586856391511,2352.9936065847232,2345.4861772607828,2336.0032804214279,2324.5649736944674,2311.2153880498131,2296.1628585941689,2279.3456612735654,2260.9443565089359,2240.7927784614094,2218.5418142322887]
[]
[null,null,"Expenditure to GDP"]
[null,null,0,1,2,3,4,5,6,7,8,9,10]
[null,0,32.730654750833516,32.863696738098142,33.229607384728183,33.632690371201811,34.077592945115526,34.532967393183377,35.050118360936224,35.582413327208599,36.130256776823153,36.694091419082646,37.275706562881993]
[null,1,32.730663678129872,33.010006097469201,33.393059976566562,33.790325655646754,34.195643532764713,34.60992201887818,35.13619754241472,35.677738349748942,36.232197836195503,36.801149209867432,37.38815127400386]
[null,2,33.18618407540491,33.569629417027002,34.038638008845297,34.543697376231272,35.061959488919825,35.593025448196769,36.136913413359409,36.800343042249999,37.480857557879212,38.181630872148794,38.908870136592633]
[null,3,33.654273975770195,34.151588579150157,34.732347819997351,35.334402103630609,35.976444496251069,36.638135348925161,37.269465021214216,37.995932337730643,38.818287334200456,39.668851609791872,40.557097709826046]
[null,4,34.135458239050706,34.757348900450609,35.459158774816288,36.187275547325171,36.943340852931698,37.749986066795699,38.507345860324918,39.295538567853669,40.287314646683164,41.31433762020928,42.394376259020184]
[null,5,34.630280278108287,35.402033583049764,36.238982188440936,37.115836526861216,38.030025778001288,38.980460710735699,39.886307392103014,40.823453264906924,41.90706317000906,43.135351887051051,44.436746072784558]
[null,6,35.079220687822179,36.028033055246468,36.934852970430633,37.883592735711701,38.874316264603792,39.910080860579896,40.896295346646582,41.904961805365851,42.839101101821129,44.133448532723243,45.51951081421867]
[null,7,35.53958578105857,36.681273762640551,37.665656138469508,38.697975751534756,39.778182908246947,40.903933965391623,41.978337761000084,43.087625221904602,44.103831060473922,45.220029359990512,46.657934123066049]
[null,8,36.011817348135544,37.363762745244827,38.432312232846954,39.555603291194465,40.733486971505009,41.962990981324992,43.143650942792902,44.347721018485807,45.454123954949381,46.490797101627173,47.944058559803707]
[null,9,36.49638019323217,38.077738596767311,39.237813259885428,40.460367970108358,41.745188847183364,43.088631040837754,44.389553963387094,45.715016102275243,46.900000422585755,48.019203956856984,49.338425769804807]
[null,10,36.993763708915722,38.825710518387361,40.085544138959037,41.416712086713645,42.818996624749623,44.288049872332358,45.721940118935308,47.182360855222043,48.475042068319098,49.663473010365102,50.934402759254304]
[null,null,2021]
[null,null,0,1,2,3,4,5,6,7,8,9,10]
[null,0,30.334765027284362,30.53625929371271,30.731608329836906,30.978322200788256,31.234466466929788,31.498350167534461,31.833818697099009,32.262916073700204,32.713244437103249,33.176774398224559,33.653265214675841]
[null,1,30.334805667071269,30.580610203467074,30.777872577486633,31.036582385040695,31.304946197420808,31.583221929923532,31.923713371961242,32.323824166223453,32.778021908519534,33.258795565422204,33.760813809752285]
[null,2,30.527137983148922,30.821430179040753,31.020475963298505,31.297859725443306,31.588126934227766,31.892295005045611,32.303138493567552,32.810894286659149,33.372245283715536,33.967217545700393,34.587871440298343]
[null,3,30.721692137861318,31.067854962857844,31.269291572451465,31.565335808375185,31.878050826848188,32.209587302086796,32.694231306480987,33.312293447122073,33.986447801562328,34.70846651052566,35.467225777078667]
[null,4,30.918495872268526,31.320086976524742,31.529766051285357,31.839429362341885,32.174821507910607,32.534484662577476,33.108033140220797,33.829014635784368,34.622278119897913,35.479611261371119,36.386862877565569]
[null,5,31.117526947708381,31.578628197009941,31.802481006457683,32.120491906633106,32.479937716824395,32.868014383847296,33.536541968515721,34.364011966876518,35.280823299580561,36.282461439744196,37.349739046597946]
[null,6,31.29096400610873,31.743753642175975,31.998669770192528,32.340150463078146,32.725678419894201,33.151401790575086,33.88199111576801,34.774642030974626,35.767537823662231,36.865045344006205,38.040386030004257]
[null,7,31.466152651934397,31.921992572138226,32.204253542855831,32.565579147006446,32.977173192968209,33.440639199420183,34.234771383486354,35.195377193245555,36.272319436744901,37.465337965722384,38.753897242376169]
[null,8,31.643120024814703,32.104192603750278,32.414427219344319,32.79563793209801,33.242638713188505,33.737654968118598,34.595097917432675,35.625853224835531,36.790339133121776,38.085983033896177,39.493491574446651]
[null,9,31.82189354023145,32.290423726636618,32.629240186837158,33.03034117658985,33.513369989641753,34.050775187907909,34.962920246987053,36.066799979794055,37.322237660316667,38.729032971254966,40.25997479293401]
[null,10,32.002501155609565,32.480759900734917,32.848746783126501,33.269710528302625,33.789380743111408,34.370068925935655,35.350508792856878,36.520288302237873,37.878560777778006,39.425651151965255,41.120371802003739]
[null,null,2022]
[null,null,0,1,2,3,4,5,6,7,8,9,10]
[null,0,29.711399282769761,30.049374137503932,30.0608853920575,30.111282586485316,30.172519854331647,30.233777492923952,30.274630761801824,30.347603481044498,30.427481441024668,30.52788391902526,30.629895623237879]
[null,1,29.711508479808774,30.069308407120332,30.089777645562517,30.146209113643803,30.219829083744145,30.296942071185061,30.354824459214356,30.442229955720983,30.540499032681932,30.643151659907492,30.752036265206868]
[null,2,29.773511891833742,30.112991954458806,30.162023361539909,30.236120838994253,30.318938775481474,30.408262368032741,30.497046069591168,30.614877256116706,30.756863705770261,30.937770391742919,31.124699057068433]
[null,3,29.835676620410105,30.183330727834324,30.250498823147414,30.329914649928508,30.423404323053742,30.527129828115406,30.648714530493766,30.793774535769391,31.01152316444584,31.252895409747598,31.503065549317625]
[null,4,29.897974918770359,30.272030058531175,30.342911821126624,30.429462072938087,30.533197450725456,30.649787670479235,30.803655695184336,30.982763348948613,31.26890005411823,31.571214037271982,31.885357853535496]
[null,5,29.960242028860279,30.364356465307623,30.439191586783672,30.534323928342882,30.647396956118776,30.77432428017265,30.961647386747959,31.194342275507438,31.529020526933721,31.892941315395333,32.272175705479142]
[null,6,29.996187915847784,30.421225696211103,30.509761162642029,30.61862307575095,30.745006897411486,30.888321629942013,31.099017277995213,31.367278392232357,31.717299470021267,32.106297602770475,32.517116338934358]
[null,7,30.032193624810994,30.485178284044927,30.586984028513754,30.707708747635447,30.847011117256983,31.004700954100368,31.240016004173999,31.541711774939863,31.920126430735902,32.320856728439779,32.763012050601837]
[null,8,30.068260850102472,30.557303301225787,30.669919482008655,30.802725752611821,30.956105697562357,31.127807166507715,31.38214314894277,31.717040299711073,32.12384600825736,32.553059912648287,33.013551863192632]
[null,9,30.104390435955242,30.632510129527979,30.755871582480577,30.900406390648172,31.067296776341973,31.253897879595797,31.525071155394023,31.893630114933401,32.328669590902045,32.789817197481604,33.28304813043512]
[null,10,30.140583173694598,30.710806498626059,30.844792152944194,31.000635359396316,31.180420936413871,31.381351118619605,31.666530124095164,32.068754133261507,32.532842629417026,33.026990194886565,33.55642586293699]
[null,null,2023]
[null,null,0,1,2,3,4,5,6,7,8,9,10]
[null,0,27.62230157263485,28.179719486687688,28.191426397084307,28.206297376534049,28.222266383388963,28.23812763331312,28.25431597091325,28.274048757203051,28.293716708361305,28.313814747426104,28.333677516322997]
[null,1,27.622512093799617,28.196397878988805,28.216684365038979,28.243067021592722,28.273659653539607,28.308216251265144,28.348089821444063,28.394807115928955,28.4469120566425,28.503779401782953,28.565422466040967]
[null,2,27.641398068715951,28.233802561700681,28.264260903111449,28.304962852895382,28.353399413486024,28.40920173569809,28.473794991179446,28.5513938594049,28.63833867144724,28.734514877523754,28.838528225804446]
[null,3,27.660364779630076,28.275474543614237,28.316877345718332,28.37148663066305,28.437074755094581,28.51371892322976,28.603361919869158,28.708844038050973,28.829256661093687,28.960957976616687,29.102921979745439]
[null,4,27.679357752361327,28.321513012978102,28.374086298035262,28.442293196019584,28.524563628527194,28.621322309517371,28.735712590205409,28.867147248414476,29.018755151691799,29.183456438694488,29.36052853113264]
[null,5,27.698052771762573,28.371682064318342,28.435517409513849,28.517600258506587,28.616704018668806,28.732077205228045,28.870496949207002,29.028286142250597,29.206814703889471,29.402552120679822,29.612860536354045]
[null,6,27.713930640703481,28.420378186171675,28.495100107145134,28.59003443302986,28.704219763130318,28.837141065385445,28.995637663923628,29.175344006544822,29.373379185957432,29.594607577119053,29.833202748637643]
[null,7,27.729829456963333,28.473281942368018,28.55875358480181,28.666111554560924,28.794780742483745,28.944138515673952,29.121581086129694,29.322244652366901,29.542863888751402,29.784412399428341,30.050392667116959]
[null,8,27.745752296893965,28.530150773478724,28.626185728931187,28.745520404334147,28.888185316621296,29.052874547560094,29.248063026466586,29.468392292736205,29.710815693096976,29.974522722346464,30.267104491694351]
[null,9,27.761700336370843,28.590798461970824,28.697220125830707,28.827973109656817,28.983780939047186,29.163084014440759,29.374727451929296,29.61415806012392,29.877620047713645,30.165991403046018,30.484241086709552]
[null,10,27.777674620887421,28.655222431963679,28.771779903346218,28.913305527055577,29.081343869766073,29.274247932735442,29.501132058894559,29.758725534689983,30.043401539028693,30.356887559955471,30.703529414965956]
[]
[null,null,"NLB to GDP"]
[null,null,0,1,2,3,4,5,6,7,8,9,10]
[null,0,-8.7255888574089919,-8.8411557757366008,-9.162397034438813,-9.5160038448073525,-9.9060236092138521,-10.305225331425413,-10.751923175728752,-11.211703129017584,-11.684905820751663,-12.171915794246932,-12.67428360629922]
[null,1,-8.7255977847053483,-8.9682249312293898,-9.3043975301400632,-9.6529656906077239,-10.008602774725201,-10.372100378115839,-10.82672076559211,-11.294527694331766,-11.773471165121441,-12.264918448053605,-12.771957489467331]
[null,2,-9.1200028025364386,-9.4529850794424224,-9.8634711617086275,-10.305272672651485,-10.758630999362024,-11.223194968685364,-11.693114007757208,-12.266813865908402,-12.855258150163213,-13.461200014896319,-14.090026296553631]
[null,3,-9.5252912628675617,-9.9570959521687428,-10.464217189106453,-10.989919284909847,-11.550370905933955,-12.127983559626049,-12.673868688430478,-13.302314904981042,-14.013954259670447,-14.749980160942865,-15.518613495026576]
[null,4,-9.9419172766557775,-10.481829372764029,-11.093641117490883,-11.728389003672666,-12.387499737658587,-13.090565458971193,-13.745904150368697,-14.427886616594805,-15.286621491956232,-16.175853244486092,-17.110987664574324]
[null,5,-10.370349493483218,-11.040259762176493,-11.768953842674176,-12.532375125644862,-13.328313154839453,-14.155831144766937,-14.940082191295012,-15.75139314445174,-16.689823409135148,-17.7537830705337,-18.881067540936201]
[null,6,-10.759820268460993,-11.583341052553553,-12.372557435367485,-13.198264314107238,-14.060526328507352,-14.961988821855929,-15.815920046385168,-16.689248138999027,-17.497846410784721,-18.619059072967854,-19.819727008141687]
[null,7,-11.159202329182369,-12.150053294797953,-13.006453738816589,-13.904568634285511,-14.844364971396454,-15.823819737831107,-16.754226682569403,-17.714770339025542,-18.594481154988788,-19.560993846824807,-20.806638314090883]
[null,8,-11.56887895144548,-12.742137481133046,-13.671447702920814,-14.648378643929055,-15.672812131848488,-16.7421807201315,-17.764702838043377,-18.807439813134028,-19.765310038605513,-20.662606249728285,-21.921486049602173]
[null,9,-11.98925336895727,-13.361535455848902,-14.370134463360809,-15.433070391011819,-16.550169717676486,-17.71828253113339,-18.84505503207442,-19.993013150550993,-21.019022552393686,-21.987813813305007,-23.130125953399244]
[null,10,-12.420750145723067,-14.010423789943161,-15.105449946345312,-16.262496662543811,-17.481388088867575,-18.758365479101865,-20.00040261492175,-21.265341289922468,-22.384683395798447,-23.413484180021964,-24.513676182948313]
[null,null,2021]
[null,null,0,1,2,3,4,5,6,7,8,9,10]
[null,0,-6.9300688953042586,-7.1070497273858626,-7.2828945111395802,-7.5039367696772148,-7.7335408959670087,-7.9700531317625982,-8.2649151658491373,-8.6418059333347355,-9.037303697092149,-9.4444215603611887,-9.862959536797014]
[null,1,-6.9301095350911641,-7.1466341747779261,-7.3242909911782634,-7.5558012390361116,-7.7958964480886568,-8.0447828120310394,-8.3440636624256772,-8.6956468281794645,-9.0946026480316657,-9.5168327918132682,-9.9577018766642666]
[null,2,-7.1002326465743284,-7.3597877487990377,-7.5392986124774186,-7.7876179013942091,-8.0474064308360393,-8.3195192665299231,-8.6810047066200013,-9.128096385623877,-9.6221402636469069,-10.145667985801211,-10.69179121100532]
[null,3,-7.2724466611126317,-7.5780758828737609,-7.7601935741280466,-8.0253167929283435,-8.3053978400600457,-8.6022040380426912,-9.0293863014765261,-9.5739474647848919,-10.168192035672655,-10.804426836611089,-11.473016038551192]
[null,4,-7.4467822698889723,-7.8017017748971647,-7.9916804733718596,-8.2694330903906899,-8.5700343319742984,-8.8923946480899705,-9.3988150310595628,-10.034363542737585,-10.734610420752396,-11.491069136638931,-12.291540411264993]
[null,5,-7.6232205502851755,-8.0312143552279682,-8.2343828031633954,-8.5204340985166862,-8.843176336233066,-9.1914523689007037,-9.7826741526010093,-10.513059274376005,-11.322629152412823,-12.207474443439608,-13.150268895914927]
[null,6,-7.7779463403131128,-8.1798411538663096,-8.4107484805294241,-8.7178036684169271,-9.0638999215730909,-9.4457112997722561,-10.091874594800169,-10.879799808905579,-11.754444054310097,-12.723493363100935,-13.761268820414985]
[null,7,-7.9343504162884271,-8.3404096253253002,-8.5957490588918919,-8.9207699634636572,-9.290349783937657,-9.70585776965099,-10.408344699707406,-11.256506265185928,-12.205180962283482,-13.255861810414945,-14.392789888641321]
[null,8,-8.0924632739514983,-8.504813220406545,-8.7852173329233114,-9.1283393533037707,-9.5296479272551462,-9.9736201107100584,-10.732421709983765,-11.642707984609643,-12.66854411407394,-13.807853561581673,-15.048558617798099]
[null,9,-8.2523159876577523,-8.6731449907728244,-8.979239597317159,-9.3405816722098525,-9.7742843686177885,-10.256295382763167,-11.06409054184639,-12.039377172265091,-13.145238820186488,-14.382118273351255,-15.728955606754033]
[null,10,-8.4139404997939469,-8.8455054391156143,-9.1779123573493138,-9.5575815026410105,-10.024356304736783,-10.545344284030158,-11.414131263915731,-12.448312817185661,-13.644833821519454,-15.004473389655265,-16.49326116407018]
[null,null,2022]
[null,null,0,1,2,3,4,5,6,7,8,9,10]
[null,0,-8.1755035089708983,-8.4912649286940542,-8.5050263400716481,-8.5548793744219509,-8.6150410593765017,-8.6753585494709125,-8.7162257550111555,-8.7874924519205102,-8.8654508646988539,-8.9628235317038278,-9.0619616193369623]
[null,1,-8.1756127060099111,-8.5104377107813978,-8.5326726788311476,-8.5882014944495939,-8.6598109002999148,-8.7347983303099443,-8.7916076495058082,-8.8763497788637835,-8.9715087028893716,-9.0710207692760214,-9.1766276237032791]
[null,2,-8.2362660442908471,-8.5550772866096398,-8.6034835837948318,-8.6755806930137478,-8.7560014754716207,-8.842664084784662,-8.9289485659243564,-9.0433275570652025,-9.1806117182724112,-9.3545861394445815,-9.5345579960512037]
[null,3,-8.2972390726094876,-8.6243948466021259,-8.6898206685289878,-8.7670775372724243,-8.8578210549902572,-8.9583998078044083,-9.076318127618622,-9.217123728183827,-9.4266480219276492,-9.6587023375671279,-9.8995012274922569]
[null,4,-8.3585122905179468,-8.7110596175187034,-8.7802670625563781,-8.8645812104553414,-8.9653189083707439,-9.0785759077831116,-9.2279560686161801,-9.401560756927358,-9.6767460698461054,-9.9676456671184361,-10.270334011906959]
[null,5,-8.4199296848392482,-8.8014869401887754,-8.8748582321189868,-8.9678245760813269,-9.0780839922680343,-9.2009610322441464,-9.3840055354097238,-9.609289071189222,-9.9312233401442747,-10.281939839163886,-10.647980536473568]
[null,6,-8.4558557941223853,-8.8578947963223662,-8.9447553263471562,-9.0512652257935997,-9.1747453925347369,-9.3137133872509779,-9.5194022886894345,-9.7785489137406945,-10.113840745780786,-10.488660610898675,-10.885071294620689]
[null,7,-8.4919922517723005,-8.9213044474835002,-9.0213302837291458,-9.1397469952585819,-9.2762124605777192,-9.4294731424865876,-9.6590999918836733,-9.9503491453039459,-10.312882800515995,-10.697470264115758,-11.123790964003282]
[null,8,-8.5283477066149089,-8.9927606243418339,-9.1037304626408719,-9.2343679285811255,-9.3850284289581598,-9.5524160508784295,-9.8008800300690915,-10.124021582683005,-10.513898906970564,-10.9245442697794,-11.368404479649815]
[null,9,-8.5649303408493367,-9.0674939570754685,-9.1894453016839552,-9.3320915764096881,-9.4965489168873116,-9.6790364777158846,-9.9444821070465323,-10.300222168347092,-10.717237513192197,-11.158505716644216,-11.631976955655157]
[null,10,-8.6017486931412783,-9.1455473251937285,-9.278478813159289,-9.4328761149300977,-9.6107071951755447,-9.8079310681997853,-10.086266314201255,-10.474504654141539,-10.919381411799543,-11.39180917183965,-11.898400848037394]
[null,null,2023]
[null,null,0,1,2,3,4,5,6,7,8,9,10]
[null,0,-6.0990032920147703,-6.6174053521194072,-6.6299926249000292,-6.645878051481402,-6.6630570335226142,-6.6802716678646554,-6.6982093896147745,-6.7198811721791998,-6.7417372996419909,-6.7642695284177918,-6.7868444508063615]
[null,1,-6.0992138131795368,-6.6335041507675978,-6.6541664350446421,-6.6807639015514688,-6.7114134117081452,-6.7458604968085885,-6.7858558187159801,-6.8325827213484791,-6.8845984048445334,-6.9413019039518273,-7.0027244710492962]
[null,2,-6.1188586709184714,-6.6708452459988106,-6.7014181820969769,-6.7419271520268689,-6.789828694770927,-6.8447320273003971,-6.9081424101481321,-6.9845860482675031,-7.0701028495683271,-7.1645923747073663,-7.2667441085600952]
[null,3,-6.1387489757015716,-6.7124431765690691,-6.7538257685855116,-6.8078984009222587,-6.8725236766164892,-6.9477006368705396,-7.0352188476717812,-7.1383773663890402,-7.2563645125779077,-7.3853392343284519,-7.5243890409252376]
[null,4,-6.158838611935173,-6.758417267013189,-6.8109456573498397,-6.8784766639041095,-6.9594698554697825,-7.0544525430203215,-7.1661162344162488,-7.2942207054938164,-7.4428631541841153,-7.604306019598285,-7.7780014741018029]
[null,5,-6.1788122278562545,-6.8086056113912008,-6.8725180726582211,-6.9540244248475895,-7.0519072811969545,-7.1654220441687899,-7.3008643948534777,-7.4549627404569581,-7.6298779090765532,-7.8223237657366944,-8.0293566608923381]
[null,6,-6.1959695771010512,-6.857299884870244,-6.9320132117052902,-7.0261807884810388,-7.1388656183688033,-7.2695812202188499,-7.4245538420282431,-7.5998535280071886,-7.7920883355847623,-8.0091063990370426,-8.2435219236296522]
[null,7,-6.2133018928234289,-6.9102678577373178,-6.9957342120795269,-7.1022807225251148,-7.2293535784663101,-7.3763271737625686,-7.5498866658138155,-7.7457598197040278,-7.9599229963622609,-8.1947889506199836,-8.4555240641484701]
[null,8,-6.2308192883726568,-6.967302054502829,-7.063431702860429,-7.1820473032375531,-7.3231788259507118,-7.4855446303964648,-7.6767629562987567,-7.8920212453055321,-8.1274979387297268,-8.3826287168403528,-8.6686830063765452]
[null,9,-6.2485303645734778,-7.0282519943225568,-7.134980612747416,-7.265265744430363,-7.4197965637084859,-7.5970430276702974,-7.8048981180017751,-8.0393004963477406,-8.2953244606152428,-8.5744128134714277,-8.8835882047193753]
[null,10,-6.2664440060047424,-7.0931514746085789,-7.2103591831055693,-7.3518502107196344,-7.5190858129820999,-7.7104446359340635,-7.9339223771990319,-8.1867706874438344,-8.4637907179901521,-8.7671649023540166,-9.102699455267345]
[]
[null,null,"Debt to GDP"]
[null,null,0,1,2,3,4,5,6,7,8,9,10]
[null,0,60.3748062760476,60.693481925529504,61.524546772610869,62.443649532096956,63.461776663282087,64.503843500329268,65.757603936119693,67.04805578174053,68.376266527460288,69.743280989789653,71.153404198478526]
[null,1,60.374815203343957,61.04391513264126,61.915835523019645,62.820801873514974,63.74406061726603,64.68775432827195,65.963367943397117,67.275967445806728,68.620046713755727,69.999350118291446,71.422413763153003]
[null,2,61.471979623579365,62.390416412068625,63.471439303770303,64.6375559833794,65.834061450561947,67.060039260670607,68.378695604697782,69.983797122271795,71.630438997358468,73.326241434683595,75.086089251152018]
[null,3,62.599415321972074,63.790642518464047,65.142607370074018,66.54422567629517,68.040226988097558,69.58186705907417,71.110641954750278,72.867649443838459,74.854827385262752,76.910352666011647,79.056942835926165]
[null,4,63.758389943365486,65.248093635244516,66.893390218497714,68.600325921820655,70.372750433749616,72.264645782176189,74.095984629145036,76.001843496416669,78.395775904440526,80.875112816494251,83.482436510234521]
[null,5,64.95023183253204,66.798964043179154,68.771540616378942,70.838221111602877,72.992766581398868,75.232479984885046,77.420322538250375,79.68400185075437,82.299304825380517,85.262169698447238,88.401380637938445]
[null,6,66.025458054770041,68.298258340845493,70.440141906923984,72.680964647118714,75.020783659082639,77.466800641048948,79.847649458432087,82.283277143685979,84.541624284673304,87.663460141692894,91.006284704100054]
[null,7,67.128046834738726,69.862794708277349,72.192467577350172,74.635494051342022,77.191654452642283,79.855243247264838,82.447902516227728,85.125155903737138,87.580804045827037,90.277070862371332,93.745063451968079]
[null,8,68.259056190076734,71.497379906002763,74.030734925124236,76.69375592081505,79.485981600402553,82.400198442000644,85.247953862959363,88.153003183267685,90.825500752544173,93.332229214391973,96.838058033662946]
[null,9,69.419599335086062,73.207375247277412,75.96211513054881,78.86508578577596,81.915667490469446,85.105034359326041,88.241488299128733,91.438074197492696,94.299775128147061,97.005170148466988,100.19095854809723]
[null,10,70.610848384008079,74.998790127858612,77.994720970242923,81.160137151672828,84.494408037866691,87.98702338968593,91.442685237326799,94.963393624616472,98.084056184310171,100.95642767054569,104.02763675641739]
[null,null,2021]
[null,null,0,1,2,3,4,5,6,7,8,9,10]
[null,0,58.097694527824231,58.665030339937061,59.289018801763291,60.057043253761108,60.865663616241072,61.695918573316078,62.784272169100888,64.114710683930724,65.505251006940668,66.935658405515369,68.406031388091705]
[null,1,58.09774273148355,58.845258676640157,59.481118974404957,60.275638685239549,61.096277079754039,61.944079165260469,63.049057469793524,64.30992031187445,65.712872991560701,67.189135255055405,68.726824670768423]
[null,2,58.791085027535829,59.70704481056994,60.38817798240553,61.279297950847024,62.205487641377552,63.169415219218031,64.450250384698535,66.0260945520984,67.744542099130356,69.556505525024605,71.444326249277339]
[null,3,59.492515279495152,60.588411321692448,61.325488190934585,62.305695898806746,63.340582491861994,64.42663655217487,65.921011268149073,67.793328622743502,69.845883079742904,72.031375124681887,74.325057377046804]
[null,4,60.202165716256062,61.4900239969542,62.299017255423408,63.365409994164658,64.502096955328199,65.714025349094314,67.473916385065436,69.623577682154476,72.033977229453612,74.621294267599552,77.355689466165927]
[null,5,60.920112095268017,62.419095570350301,63.318031120665388,64.46252200657834,65.717906573187292,67.051138676820855,69.097479083886412,71.564408680850349,74.313440892213961,77.330921273897374,80.542120839686277]
[null,6,61.552675654850056,63.099778445835987,64.099583278943783,65.325520083143758,66.669726964750879,68.12363337610779,70.352817934458827,73.008941734223455,75.902373184242833,79.188533824457437,82.707104681935661]
[null,7,62.191725669069832,63.818820679086144,64.911786079597874,66.212870944988822,67.648945750157736,69.22379121074033,71.641348287627309,74.50265588907159,77.639654741229734,81.11600745673752,84.945654659660079]
[null,8,62.837365623704621,64.553123601435843,65.742007606685277,67.119353773348379,68.672594022036193,70.35532322469227,72.965326879938019,76.034500828403779,79.426382497291797,83.147224254919735,87.292443267880998]
[null,9,63.489701020159892,65.303128983290421,66.590704539274583,68.045388342085545,69.718733427610388,71.538895998968741,74.321665952030642,77.613331402960455,81.265236669381991,85.303786740601424,89.735377038552755]
[null,10,64.148839742830916,66.069315160854927,67.458380619517115,68.991455663721297,70.78791250775862,72.749379058851758,75.742449955282581,79.239841674610929,83.191247279008493,87.621813112586935,92.476593115408107]
[null,null,2022]
[null,null,0,1,2,3,4,5,6,7,8,9,10]
[null,0,60.381742207234993,61.444768887661894,61.716207190385497,62.138783234426462,62.607140066282305,63.078285179109649,63.548361291894963,64.146646941742432,64.769658578683206,65.450107368405995,66.13717790883446]
[null,1,60.381894582880889,61.584511354229555,61.885898398654092,62.326698039485784,62.816587009784008,63.319785148836708,63.840463616804335,64.466240262737458,65.142717124597013,65.838572568616172,66.556974819089248]
[null,2,60.814500477840994,62.024985817115997,62.453948859621498,62.998245361217961,63.570887186272529,64.166703724904096,64.794901127634105,65.580865710253349,66.450190474739017,67.434681869784157,68.442710263398737]
[null,3,61.248249269825138,62.550465618154881,63.077133295230368,63.684745591623141,64.345567001483872,65.041893327004814,65.808125141107695,66.72035220315216,67.872793645855936,69.103718007085405,70.369337631972158]
[null,4,61.683117078705628,63.12848872773327,63.718342358175242,64.400190677898252,65.140651514864501,65.934554418076189,66.853872852666896,67.903436961724978,69.324940549707875,70.808279937719064,72.338733654937627]
[null,5,62.118891178009896,63.725661060112394,64.384593043585369,65.146104290885404,65.975599003705184,66.878025569361881,67.934672336213765,69.199958339170351,70.807431586223146,72.547796412532904,74.349572615503263]
[null,6,62.475607436297096,64.193787701599049,64.919302394902971,65.742202223557982,66.63288044237089,67.614211857957926,68.774414341477041,70.176101414255811,71.804233734817075,73.658233856345731,75.597830476774689]
[null,7,62.83304724474764,64.689962340707424,65.480064739004632,66.359779738605695,67.312751211224466,68.36673655443353,69.634625225167568,71.174195991988114,72.92680163744059,74.789184316016261,76.856844255222612]
[null,8,63.191224641506793,65.212782300471744,66.06166483311226,66.999389927367901,68.022572460984236,69.147280190995559,70.509675149242554,72.183408714068833,74.061591987394351,76.009731555041526,78.158399555659102]
[null,9,63.550153135648245,65.748771498610779,66.657050646825169,67.65239773003799,68.744888975930934,69.947950804342611,71.395813398801451,73.210589684562549,75.209785745249178,77.295438334957083,79.531713917483415]
[null,10,63.909846801588486,66.298212422478343,67.266384137512375,68.31881026735897,69.479601693527144,70.760180161647042,72.338216952332886,74.300141020709702,76.441535607828939,78.683765324834212,81.063928574434584]
[null,null,2023]
[null,null,0,1,2,3,4,5,6,7,8,9,10]
[null,0,60.646306567576794,62.575522605389054,62.874290915494235,63.236067714935949,63.622030856180231,64.009650588020222,64.408657903085626,64.872366083827586,65.344013531214145,65.827706528131941,66.311584062980728]
[null,1,60.646654297266956,62.71367765255895,63.048330754127036,63.448669903125513,63.873247635480332,64.314441863930114,64.796538819360364,65.337126650764304,65.918107763111593,66.521320960521734,67.146072701736699]
[null,2,61.005000327789936,63.181470015139226,63.58364524869765,64.073113327846826,64.593723383386461,65.144403441200467,65.742932266239436,66.467145737272631,67.246834142563515,68.08049875025624,68.944901903852298]
[null,3,61.363891850580465,63.677675262961571,64.153092294112014,64.716747171728002,65.334001139434591,65.995987507549486,66.736075613097057,67.610016333410584,68.602299493041997,69.649698312122638,70.738716766811336]
[null,4,61.723258425793212,64.199620403375022,64.744331493344959,65.38833159169684,66.093571300476611,66.865024825390776,67.760449118324161,68.77491590460528,69.97294151028369,71.229479070818442,72.537826507490976]
[null,5,62.082591044632608,64.743921447234101,65.36338798601453,66.090550257302283,66.894694350750981,67.761097463519064,68.817961191648862,70.006159207457657,71.35924414184646,72.820157952656061,74.343746047596852]
[null,6,62.38444508155969,65.206542604524842,65.892457851374246,66.687018928595762,67.565862322274285,68.521222061315115,69.684953265842537,70.986614297366842,72.378986938301466,73.962701142770129,75.625756587484517]
[null,7,62.686716346836093,65.693618079819643,66.444548554356942,67.304769448307994,68.258445247376883,69.297738993028688,70.566105717822197,71.983528177994828,73.492768927515939,75.11406529799487,76.90494124019942]
[null,8,62.989426288481241,66.200967022217867,67.015823367793459,67.941077097990046,68.973072009009016,70.091935724096857,71.460583137185779,72.986313461146906,74.610645590182941,76.310315075295833,78.210816040496326]
[null,9,63.292594336663996,66.725603972224093,67.604623294431505,68.593679139903756,69.701836361649271,70.903269777208379,72.364568687580004,74.001721800251346,75.734430505848266,77.560128698031676,79.541265642073611]
[null,10,63.596240680134727,67.267818466173821,68.211024768786899,69.262388187766248,70.444374206348755,71.725727405729472,73.272198297401587,75.013548274989475,76.861389957808427,78.816063557263234,80.914677074685358]
[]
[null,null,"Revenue to GDP"]
[null,null,0,1,2,3,4,5,6,7,8,9,10]
[null,0,24.005065893424522,24.022540962361539,24.067210350289372,24.11668652639446,24.171569335901673,24.227742061757965,24.298195185207476,24.370710198191013,24.445350956071493,24.522175624835711,24.601422956582773]
[null,1,24.005065893424522,24.041781166239812,24.088662446426497,24.137359965039032,24.187040758039512,24.237821640762341,24.30947677682261,24.38321065541718,24.458726671074057,24.53623076181383,24.616193784536531]
[null,2,24.066181272868473,24.116644337584582,24.175166847136666,24.238424703579785,24.303328489557803,24.369830479511403,24.443799405602203,24.533529176341599,24.625599407715995,24.720430857252477,24.818843840039005]
[null,3,24.12898271290263,24.194492626981411,24.268130630890898,24.34448281872076,24.426073590317113,24.510151789299112,24.595596332783735,24.693617432749601,24.80433307453001,24.918871448849007,25.038484214799471]
[null,4,24.193540962394934,24.27551952768658,24.365517657325405,24.458886543652504,24.555841115273108,24.659420607824508,24.761441709956227,24.867651951258861,25.000693154726932,25.138484375723184,25.283388594445853]
[null,5,24.259930784625073,24.361773820873271,24.47002834576676,24.583461401216347,24.701712623161839,24.824629565968763,24.946225200808001,25.072060120455181,25.217239760873905,25.381568816517351,25.555678531848358]
[null,6,24.319400419361184,24.444692002692914,24.56229553506315,24.685328421604467,24.813789936096441,24.948092038723974,25.080375300261409,25.215713666366828,25.341254691036401,25.514389459755392,25.699783806076987]
[null,7,24.380383451876199,24.531220467842601,24.659202399652912,24.793407117249249,24.933817936850495,25.080114227560518,25.224111078430685,25.372854882879061,25.509349905485134,25.659035513165705,25.851295808975166]
[null,8,24.44293839669006,24.621625264111778,24.760864529926145,24.907224647265405,25.060674839656517,25.220810261193492,25.378948104749522,25.540281205351782,25.688813916343868,25.828190851898892,26.022572510201531]
[null,9,24.507126824274899,24.71620314091841,24.867678796524622,25.02729757909654,25.195019129506875,25.370348509704371,25.544498931312674,25.722002951724249,25.880977870192069,26.031390143551974,26.20829981640556]
[null,10,24.573013563192657,24.815286728444196,24.980094192613723,25.154215424169834,25.337608535882044,25.529684393230497,25.721537504013565,25.917019565299576,26.090358672520651,26.249988830343135,26.420726576305999]
[null,null,2021]
[null,null,0,1,2,3,4,5,6,7,8,9,10]
[null,0,23.404696131980103,23.429209566326843,23.448713818697325,23.474385431111038,23.500925570962782,23.528297035771864,23.56890353124987,23.621110140365467,23.6759407400111,23.732352837863367,23.790305677878827]
[null,1,23.404696131980103,23.433976028689148,23.453581586308367,23.480781146004585,23.509049749332149,23.538439117892494,23.579649709535563,23.62817733804399,23.68341926048787,23.741962773608936,23.803111933088022]
[null,2,23.426905336574595,23.461642430241721,23.481177350821085,23.5102418240491,23.540720503391725,23.572775738515688,23.622133786947551,23.682797901035268,23.750105020068631,23.821549559899186,23.896080229293027]
[null,3,23.449245476748683,23.489779079984086,23.509097998323416,23.540019015446838,23.572652986788139,23.607383264044106,23.664845005004462,23.738345982337183,23.818255765889674,23.904039673914575,23.994209738527481]
[null,4,23.471713602379552,23.518385201627577,23.538085577913495,23.569996271951194,23.604787175936309,23.642090014487501,23.709218109161238,23.794651093046788,23.887667699145517,23.988542124732191,24.095322466300576]
[null,5,23.494306397423202,23.547413841781971,23.568098203294291,23.600057808116421,23.636761380591334,23.676562014946594,23.753867815914713,23.85095269250051,23.958194147167735,24.074986996304588,24.199470150683023]
[null,6,23.513017665795616,23.563912488309665,23.587921289663104,23.622346794661222,23.661778498321112,23.70569049080283,23.790116520967842,23.894842222069045,24.013093769352135,24.14155198090527,24.279117209589277]
[null,7,23.531802235645973,23.581582946812926,23.608504483963941,23.644809183542787,23.686823409030559,23.734781429769196,23.826426683778951,23.938870928059625,24.067138474461416,24.209476155307435,24.361107353734845]
[null,8,23.550656750863205,23.599379383343734,23.629209886421012,23.667298578794238,23.712990785933357,23.764034857408539,23.86267620744891,23.983145240225888,24.121795019047834,24.278129472314504,24.444932956648554]
[null,9,23.569577552573701,23.617278735863795,23.650000589520005,23.68975950438,23.73908562102396,23.794479805144743,23.898829705140663,24.027422807528968,24.176998840130175,24.346914697903713,24.531019186179982]
[null,10,23.58856065581562,23.635254461619308,23.670834425777187,23.712129025661614,23.765024438374631,23.824724641905497,23.936377528941147,24.071975485052214,24.233726956258554,24.421177762309995,24.627110637933562]
[null,null,2022]
[null,null,0,1,2,3,4,5,6,7,8,9,10]
[null,0,21.535895773798863,21.558109208809874,21.555859051985852,21.556403212063366,21.557478794955149,21.558418943453038,21.558405006790672,21.560111029123988,21.562030576325814,21.565060387321431,21.56793400390092]
[null,1,21.535895773798863,21.558870696338932,21.557104966731369,21.558007619194207,21.560018183444228,21.562143740875118,21.56321680970855,21.565880176857199,21.568990329792562,21.57213089063147,21.575408641503586]
[null,2,21.537245847542895,21.557914667849165,21.558539777745079,21.560540145980504,21.562937300009853,21.565598283248079,21.568097503666809,21.571549699051506,21.576251987497848,21.583184252298338,21.590141061017228]
[null,3,21.538437547800619,21.558935881232198,21.560678154618429,21.56283711265608,21.565583268063488,21.568730020311001,21.572396402875142,21.576650807585565,21.584875142518197,21.59419307218047,21.60356432182537]
[null,4,21.539462628252416,21.560970441012472,21.562644758570244,21.564880862482742,21.567878542354713,21.571211762696123,21.575699626568152,21.581202592021256,21.592153984272127,21.603568370153543,21.615023841628535]
[null,5,21.540312344021036,21.562869525118845,21.564333354664686,21.566499352261555,21.569312963850741,21.573363247928501,21.577641851338232,21.585053204318218,21.59779718678945,21.611001476231447,21.624195169005571]
[null,6,21.540332121725399,21.563330899888737,21.565005836294869,21.567357849957354,21.570261504876751,21.574608242691031,21.579614989305774,21.588729478491661,21.603458724240479,21.617636991871798,21.632045044313671]
[null,7,21.540201373038691,21.563873836561431,21.565653744784612,21.567961752376867,21.570798656679262,21.575227811613786,21.580916012290327,21.591362629635917,21.607243630219905,21.623386464324021,21.639221086598557]
[null,8,21.539913143487567,21.564542676883949,21.566189019367783,21.568357824030691,21.571077268604199,21.575391115629284,21.581263118873679,21.59301871702807,21.609947101286792,21.628515642868884,21.645147383542813]
[null,9,21.539460095105905,21.565016172452513,21.566426280796623,21.568314814238484,21.570747859454663,21.574861401879915,21.580589048347491,21.593407946586311,21.61143207770985,21.631311480837383,21.651071174779958]
[null,10,21.538834480553319,21.565259173432334,21.566313339784905,21.56775924446622,21.569713741238328,21.573420050419823,21.580263809893911,21.59424947911997,21.613461217617481,21.635181023046908,21.6580250148996]
[null,null,2023]
[null,null,0,1,2,3,4,5,6,7,8,9,10]
[null,0,21.523298280620079,21.562314134568282,21.561433772184277,21.560419325052649,21.559209349866347,21.557855965448464,21.556106581298479,21.554167585023851,21.551979408719312,21.549545219008309,21.546833065516637]
[null,1,21.523298280620079,21.562893728221205,21.562517929994335,21.562303120041253,21.562246241831463,21.562355754456558,21.562234002728079,21.562224394580475,21.562313651797968,21.562477497831122,21.562697994991677]
[null,2,21.52253939779748,21.562957315701873,21.562842721014469,21.563035700868515,21.563570718715098,21.564469708397695,21.565652581031316,21.566807811137398,21.568235821878911,21.569922502816389,21.571784117244349]
[null,3,21.521615803928505,21.56303136704517,21.563051577132818,21.563588229740795,21.564551078478093,21.56601828635922,21.568143072197373,21.570466671661933,21.572892148515781,21.575618742288231,21.578532938820203]
[null,4,21.520519140426153,21.563095745964912,21.563140640685418,21.563816532115474,21.565093773057409,21.566869766497049,21.569596355789162,21.572926542920658,21.575891997507686,21.579150419096202,21.582527057030841]
[null,5,21.519240543906321,21.563076452927142,21.562999336855626,21.563575833658994,21.564796737471852,21.566655161059259,21.569632554353525,21.57332340179364,21.576936794812919,21.580228354943124,21.583503875461709]
[null,6,21.517961063602428,21.563078301301434,21.563086895439838,21.563853644548821,21.565354144761518,21.567559845166599,21.571083821895385,21.575490478537635,21.581290850372671,21.585501178082009,21.589680825007992]
[null,7,21.516527564139906,21.563014084630701,21.56301937272228,21.563830832035809,21.565427164017436,21.56781134191138,21.571694420315879,21.576484832662874,21.582940892389143,21.589623448808361,21.594868602968486]
[null,8,21.514933008521307,21.562848718975893,21.562754026070756,21.563473101096591,21.565006490670584,21.567329917163626,21.57130007016783,21.576371047430673,21.583317754367247,21.591894005506113,21.598421485317807]
[null,9,21.513169971797367,21.562546467648268,21.562239513083291,21.562707365226458,21.563984375338702,21.566040986770464,21.569829333927519,21.574857563776177,21.5822955870984,21.591578589574585,21.600652881990179]
[null,10,21.511230614882678,21.562070957355104,21.561420720240648,21.561455316335941,21.562258056783975,21.563803296801378,21.567209681695527,21.571954847246154,21.579610821038539,21.589722657601452,21.600829959698611]
[]
[null,null,"Expenditure"]
[null,null,0,1,2,3,4,5,6,7,8,9,10]
[null,0,3170.1936435564776,3170.611376086511,3174.6992179681747,3178.8781126509693,3183.1538075734134,3187.4290599069891,3187.6951978959496,3187.962483623076,3188.2253479830802,3188.4855552557037,3188.7457623334785]
[null,1,3170.1945082277889,3171.0669633560292,3175.1985570533698,3179.3492295464357,3183.4986565196077,3187.6486859294673,3187.9334743687168,3188.218634642677,3188.4911397490059,3188.7562957995187,3189.0214425729173]
[null,2,3171.1667242884314,3172.3312248463972,3176.4181633569715,3180.575483412762,3184.7337238982336,3188.8851853844344,3189.137846734955,3189.6504141550949,3190.1447418369007,3190.6269607554605,3191.1091477046321]
[null,3,3172.1391793412222,3173.6041912560595,3177.7027150577755,3181.8145286411909,3185.9768468462789,3190.1331977063819,3190.5222291195278,3191.0849346359564,3191.8007737394282,3192.4996842734372,3193.1985318121551]
[null,4,3173.1116345171358,3174.8877052371154,3179.0036414411957,3183.117799631329,3187.2304876779881,3191.3917795989537,3191.9830416539153,3192.5743895199357,3193.5285458484523,3194.4517069920303,3195.3747209926778]
[null,5,3174.0828217930621,3176.2185653081606,3180.3599108410453,3184.5054421911345,3188.6422522010671,3192.7624780725737,3193.5666451031675,3194.3474781854102,3195.3281462350878,3196.4687249685594,3197.6091182001974]
[null,6,3175.3353156316216,3177.8843829148509,3181.9800865869283,3186.0700965154201,3190.1478792344833,3194.2139274784904,3195.0935619970214,3195.9206279296786,3196.5147600497248,3197.6744042392502,3198.8541328189776]
[null,7,3176.587803964976,3179.563825215977,3183.6204754747655,3187.6688056509674,3191.7010479199835,3195.7056092879175,3196.6605227236878,3197.5739023406995,3198.21873032853,3198.9505235335946,3200.1030735581407]
[null,8,3177.8402923099648,3181.2575213405908,3185.2773596655461,3189.2857044839384,3193.2734995289729,3197.2272965151424,3198.2745350597852,3199.2447750066767,3199.9394936142489,3200.434392165479,3201.4869922686048]
[null,9,3179.0927810549747,3182.9661919240825,3186.9516074337398,3190.921801111499,3194.8663897899423,3198.7700175395703,3199.9152386783353,3200.969298408274,3201.6788648994225,3202.1969848232466,3202.9225325102252]
[null,10,3180.3452699529662,3184.6906667792,3188.6442295815041,3192.5782820808281,3196.4810907798028,3200.3353486242177,3201.5786247227925,3202.7165237883146,3203.4707046742824,3203.9789016376262,3204.5177041018214]
[null,null,2021]
[null,null,0,1,2,3,4,5,6,7,8,9,10]
[null,0,3475.7344930531294,3476.984936394545,3482.3336586177047,3487.9749649524038,3493.7407902579334,3499.5236371952251,3500.9274435073644,3502.6602918819444,3504.4170666364398,3506.1745287664944,3507.932615374626]
[null,1,3475.7391495292554,3477.630212560935,3483.0317670484355,3488.6894152384948,3494.3705697500905,3500.0760896085758,3501.5108342172143,3503.147525141062,3504.9224956150615,3506.7388426793864,3508.5803285941706]
[null,2,3477.9650331837865,3480.3438519646447,3485.5348330553916,3491.1023524673892,3496.7133069451143,3502.3459674413607,3504.3203823662843,3506.8729666008285,3509.5386020253809,3512.2416726814231,3514.9610810019853]
[null,3,3480.1929711201997,3483.071270809307,3488.1167252470523,3493.5472957956181,3499.0684223877324,3504.6345551664185,3507.3236360884889,3510.6070318890484,3514.1606023150921,3517.7652817819062,3521.3914043374871]
[null,4,3482.4217621123166,3485.819404141927,3490.7564562478915,3496.0626202932167,3501.4446959468191,3506.9444306846585,3510.4591249709679,3514.4054756650326,3518.8631123216987,3523.3748207812168,3527.9120757451878]
[null,5,3484.6445360246021,3488.6274708162728,3493.4789264784572,3498.6775329600032,3503.9998986861315,3509.3841556163011,3513.7442554920453,3518.5146439556365,3523.6473357538366,3529.0568193202917,3534.495420670331]
[null,6,3486.6124811887794,3490.9723841425139,3495.8700507343365,3501.0686911081943,3506.3921549566903,3511.8180559849166,3516.429428476838,3521.404773216902,3526.3004950945206,3531.9269730511683,3537.6072446591788]
[null,7,3488.5811343289392,3493.3772483561388,3498.3105781373738,3503.5083783588648,3508.8446684798514,3514.3013500029638,3519.1617560611726,3524.3845964673155,3529.5125444506393,3534.871767580787,3540.7196643437305]
[null,8,3490.5505581068105,3495.8067005929947,3500.7783297889841,3505.9757797985312,3511.3561880023481,3516.8297149837199,3521.9490577289794,3527.3871969063384,3532.7453061667252,3538.0410578017249,3543.9762775852464]
[null,9,3492.5207849055237,3498.2615393719843,3503.2741418313562,3508.4718166830348,3513.8967741291772,3519.4207081623886,3524.7697215212356,3530.4521404428478,3536.0015295031003,3541.5141965690573,3547.2885339319464]
[null,10,3494.4918451158501,3500.7426998349874,3505.7990383266679,3510.9976630726128,3516.4677801315106,3522.0419745310351,3527.6568984961973,3533.5524991441648,3539.344281200174,3545.0933546153615,3550.9208083416593]
[null,null,2022]
[null,null,0,1,2,3,4,5,6,7,8,9,10]
[null,0,3903.9704876930655,3906.1003433901406,3910.9963922416146,3915.5732726016267,3920.3325509253209,3925.1106126550985,3928.1142873295857,3931.6261467838185,3935.1835913866043,3938.8397591318444,3942.5037434513642]
[null,1,3903.9848357893497,3906.8247796283285,3911.8582556653291,3916.4814916086953,3921.2128218026837,3925.9860356029876,3929.1021908199036,3932.5830623730462,3936.2447304839234,3939.9692707235326,3943.7484295795002]
[null,2,3908.480350767355,3912.5899988683241,3916.1648248630399,3920.2583873014619,3924.4537638333877,3928.6891662090429,3932.5515504432369,3937.1504127874396,3941.9782415880027,3947.0229792755281,3952.106874808057]
[null,3,3912.9818140343768,3917.6423378708942,3920.6320618399686,3924.1035438164108,3927.7234763106435,3931.4382375277401,3936.2348691406723,3941.7554728599207,3947.8914274496865,3954.1795391291034,3960.5189381639293]
[null,4,3917.485530621293,3922.8051043226778,3925.1936540591087,3928.0379233844724,3931.042658006535,3934.2298525018077,3940.0721499133415,3946.4740804689136,3953.8942522812777,3961.4271668233996,3969.0219087476116]
[null,5,3921.9698835966801,3928.0480987908195,3929.8478814901355,3932.1032537152223,3934.5718577238395,3935.5197448222771,3944.082521350726,3951.6221416772114,3959.9900133407546,3968.754979766305,3977.5922083507367]
[null,6,3924.1843325388736,3930.7529686098696,3932.8377859942611,3935.3299503403641,3938.0337333638827,3939.0718509121525,3947.8988836319013,3955.5051810008972,3963.3740331841473,3972.1567316747478,3981.0610243338233]
[null,7,3926.4006322335017,3933.5552710182674,3935.9122170305482,3938.6315266418724,3941.5808689509813,3942.6858118943601,3951.7821798668519,3959.4878278831047,3967.4080272248293,3975.6362524610113,3984.5250523103305]
[null,8,3928.6189891550293,3936.4237115037722,3939.0437466981402,3941.9918132578814,3945.2242690843823,3946.3784799540235,3955.7296252954475,3963.4977043464269,3971.4651169380722,3979.4226509523796,3988.1531835242322]
[null,9,3930.8394982118889,3939.3345041363618,3942.2202774728867,3945.3962435942722,3948.9097587371352,3950.1508059377866,3959.7177555743774,3967.5792716320184,3975.5500638031908,3983.5463333560001,3991.9094440418185]
[null,10,3933.0622471281104,3942.2887236278975,3945.4427907954296,3948.8457669702211,3952.6384249054945,3953.9633001052944,3960.6718485788906,3968.1014855482845,3975.5737897929857,3983.0009452480117,3990.525099821205]
[null,null,2023]
[null,null,0,1,2,3,4,5,6,7,8,9,10]
[null,0,4138.1027833071039,4142.6986622479717,4145.0993993174052,4147.9995458979583,4151.0969642704731,4154.2158699136862,4157.4217386741639,4161.1895730338001,4164.9898019723423,4168.8965937866951,4172.8131492487828]
[null,1,4138.1343215268853,4143.5379736028754,4146.0743491506564,4149.0549187880424,4152.162635578683,4155.3260553900545,4158.7133019413259,4162.5225548693343,4166.519411908439,4170.5967272322769,4174.7458940753995]
[null,2,4140.9636333842354,4146.9052646423461,4149.7589704957791,4153.1979091312514,4156.7869029446465,4160.420514481817,4164.2715649397232,4168.9340615508154,4173.8634690612471,4179.0462139856081,4184.2924990898846]
[null,3,4143.8050403183224,4150.3844428884868,4153.6284077704895,4157.4492644363991,4161.4399500629943,4165.5612674387339,4170.0741026363648,4175.391788932704,4181.3982306522194,4187.5954982598505,4193.8750089438545]
[null,4,4146.6503815407323,4153.9932605654549,4157.6320830679051,4161.7918353476944,4166.1598671097036,4170.7606953534751,4176.0525275358286,4181.9770227327281,4189.0301904471789,4196.2373750747047,4203.5430788992307]
[null,5,4149.4510863123769,4157.6999714004633,4161.7302912666955,4166.2892104083476,4171.1202609241191,4176.0963847943249,4182.2287059827304,4189.0331387285969,4196.7654858544538,4204.9649194057911,4213.2796770529194]
[null,6,4151.8297531835851,4160.6868044270086,4165.0497614538544,4169.8958539673422,4175.0182556659283,4180.3455754004117,4186.9166728226046,4194.1612660938663,4201.7214633389885,4210.315573068614,4219.0834619040406]
[null,7,4154.2115581770322,4163.7894328559951,4168.471641346976,4173.5942931690588,4179.0179896267782,4184.6717408456907,4191.6815476678476,4199.3991614059451,4207.3834013227488,4215.744626373862,4224.8732524858005]
[null,8,4156.5969621616287,4166.9745614638887,4171.9665411554488,4177.3667470900809,4183.1302075766907,4189.0915831290931,4196.5208675721733,4204.668797562801,4213.0705684092463,4221.5046824802785,4230.8392424412614]
[null,9,4158.9861412955261,4170.2169356170762,4175.5215435810869,4181.1975362832791,4187.2969851908038,4193.6050685506834,4201.409517798802,4210.020150799327,4218.790245794783,4227.636557243537,4236.9440453292664]
[null,10,4161.3792522043168,4173.5178477511945,4179.1377406290803,4185.0876278817541,4191.519462633496,4198.169799647485,4206.3021096278371,4215.32596641892,4224.5090960418756,4233.7707908857992,4243.2876761428679]

{"sheet":"   -- RESULTS --   ","index":22,"n_rows":91,"n_cols":20,"rows_kept":91,"cut":false,"hidden":false,"merged":[[32,9,32,13],[31,9,31,13],[31,2,31,6],[32,2,32,6]]}
[]
[null,null,null,null,null,null,null,null,null,{"$f":"Labels!F198","v":"Parameters for the Shock"}]
[null,null,null,null,null,null,null,null,null,"STRINGENCY",null,null,null,null,null,null,null,null,-1]
[null,null,null,null,null,null,null,null,null,{"$f":"Labels!F47","v":"Index=15"},null,null,null,{"$f":"Labels!F48","v":"Index=100"}]
[]
[]
[null,null,null,null,null,null,null,null,null,null,null,null,null,{"$f":"'Calculating parameters'!S4/10*85+15","v":15}]
[null,null,null,null,null,null,null,null,null,"LENGTH"]
[null,null,null,null,null,null,null,null,null,{"$f":"Labels!F47","v":"Index=15"},null,null,null,{"$f":"Labels!F48","v":"Index=100"}]
[]
[]
[null,null,null,null,null,null,null,null,null,null,null,null,null,{"$f":"'Calculating parameters'!T4/10*9+3","v":3}]
[]
[]
[]
[]
[]
[]
[]
[]
[]
[]
[]
[]
[]
[]
[]
[]
[]
[]
[null,null,{"$f":"Labels!F199","v":"Select Macroeconomic Parameters"},null,null,null,null,null,null,{"$f":"Labels!F200","v":"Select Fiscal Variables"}]
[null,null,"Nominal GDP",null,null,null,null,null,null,"Total Revenue"]
[null,null,"Real GDP",null,null,null,null,null,null,"Tax Revenue"]
[]
[]
[]
[]
[]
[]
[]
[]
[]
[]
[]
[]
[]
[]
[]
[]
[]
[]
[null,null,null,null,null,null,null,null,null,null,null,null,{"$f":"J32&IF(J33=\"Blank\",\"\",\" and \"&J33)","v":"Total Revenue and Tax Revenue"}]
[null,null,{"$f":"C32&IF(C33=\"Blank\",\"\",\" and \"&C33)","v":"Nominal GDP and Real GDP"},null,null,null,null,null,null,null,null,null,null,2017,2018,2019,2020,2021,2022,2023]
[null,null,null,2017,2018,2019,2020,2021,2022,2023,null,null,{"$f":"\"=\"&VLOOKUP(J32,M58:N93,2,FALSE)","v":"=RevTotal"},{"$f":"eval(M54)","v":0},0,0,"","","",""]
[null,null,{"$f":"\"=\"&VLOOKUP(C32,C59:D67,2,FALSE)","v":"=GDPZ"},{"$f":"eval(C55)","v":0},0,0,0,0,0,0,null,null,{"$f":"\"=\"&VLOOKUP(J33,M57:N93,2,FALSE)","v":"=RevTax"},{"$f":"eval(M55)","v":0},0,0,"","","",""]
[null,null,{"$f":"\"=\"&VLOOKUP(C33,C59:D67,2,FALSE)","v":"=GDP"},{"$f":"eval(C56)","v":0},0,0,0,0,0,0]
[null,null,null,null,null,null,null,null,null,null,null,null,{"$f":"Labels!F201","v":"Blank"},0]
[null,null,{"$f":"Labels!F201","v":"Blank"},0,null,null,null,null,null,null,null,null,{"$f":"Labels!F211","v":"Total Revenue"},"RevTotal"]
[null,null,{"$f":"Labels!F202","v":"Real GDP"},"GDP",null,null,null,null,null,null,null,null,{"$f":"Labels!F212","v":"Tax Revenue"},"RevTax"]
[null,null,{"$f":"Labels!F203","v":"Nominal GDP"},"GDPZ",null,null,null,null,null,null,null,null,{"$f":"Labels!F213","v":"Non-Tax Revenue"},"RevNonTax"]
[null,null,{"$f":"Labels!F204","v":"Consumption (Real)"},"CON",null,null,null,null,null,null,null,null,{"$f":"Labels!F214","v":"Expenditure"},"Expenditure"]
[null,null,{"$f":"Labels!F205","v":"Consumption (Nominal)"},"CONZ",null,null,null,null,null,null,null,null,{"$f":"Labels!F215","v":"Expenses"},"Expense"]
[null,null,{"$f":"Labels!F206","v":"Investment (Real)"},"INV",null,null,null,null,null,null,null,null,{"$f":"Labels!F216","v":"Acquisition of Nonfinancial Assets"},"NANA"]
[null,null,{"$f":"Labels!F207","v":"Investment (Nominal)"},"INVZ",null,null,null,null,null,null,null,null,{"$f":"Labels!F217","v":"Net Lending or Borrowing Balance"},"NLB"]
[null,null,{"$f":"Labels!F208","v":"Excess Unemployment Rate"},"RNU",null,null,null,null,null,null,null,null,{"$f":"Labels!F218","v":"Debt"},"Debt"]
[null,null,{"$f":"Labels!F209","v":"%chg Real GDP"},"GDPD",null,null,null,null,null,null,null,null,{"$f":"Labels!F219","v":"Interest / Revenue"},"IntRev"]
[null,null,{"$f":"Labels!F210","v":"%chg Nominal GDP"},"GDPZD",null,null,null,null,null,null,null,null,{"$f":"Labels!F220","v":"Baseline Total Revenue"},"BaseRevTot"]
[null,null,null,null,null,null,null,null,null,null,null,null,{"$f":"Labels!F221","v":"Baseline Tax Revenue"},"BaseRevTax"]
[null,null,null,null,null,null,null,null,null,null,null,null,{"$f":"Labels!F222","v":"Baseline Non-Tax Revenue"},"BaseRevNonTax"]
[null,null,null,null,null,null,null,null,null,null,null,null,{"$f":"Labels!F223","v":"Baseline Expenditure"},"BaseExpenditure"]
[null,null,null,null,null,null,null,null,null,null,null,null,{"$f":"Labels!F224","v":"Baseline Expenses"},"BaseExpense"]
[null,null,null,null,null,null,null,null,null,null,null,null,{"$f":"Labels!F225","v":"Baseline Acquisition of Nonfinancial Assets"},"BaseNANA"]
[null,null,null,null,null,null,null,null,null,null,null,null,{"$f":"Labels!F226","v":"Baseline Net Lending or Borrowing Balance"},"BaseNLB"]
[null,null,null,null,null,null,null,null,null,null,null,null,{"$f":"Labels!F227","v":"Baseline Debt"},"BaseDebt"]
[null,null,null,null,null,null,null,null,null,null,null,null,{"$f":"Labels!F228","v":"Baseline Interest / Revenue"},"BaseIntRev"]
[null,null,null,null,null,null,null,null,null,null,null,null,{"$f":"Labels!F229","v":"%GDP Total Revenue"},"RevTotGDP"]
[null,null,null,null,null,null,null,null,null,null,null,null,{"$f":"Labels!F230","v":"%GDP Tax Revenue"},"RevTaxGDP"]
[null,null,null,null,null,null,null,null,null,null,null,null,{"$f":"Labels!F231","v":"%GDP Non-Tax Revenue"},"RevNonTaxGDP"]
[null,null,null,null,null,null,null,null,null,null,null,null,{"$f":"Labels!F232","v":"%GDP Expenditure"},"ExpenditureGDP"]
[null,null,null,null,null,null,null,null,null,null,null,null,{"$f":"Labels!F233","v":"%GDP Expenses"},"ExpenseGDP"]
[null,null,null,null,null,null,null,null,null,null,null,null,{"$f":"Labels!F234","v":"%GDP Acquisition of Nonfinancial Assets"},"NANAGDP"]
[null,null,null,null,null,null,null,null,null,null,null,null,{"$f":"Labels!F235","v":"%GDP Net Lending or Borrowing Balance"},"NLBGDP"]
[null,null,null,null,null,null,null,null,null,null,null,null,{"$f":"Labels!F236","v":"%GDP Debt"},"DebtGDP"]
[null,null,null,null,null,null,null,null,null,null,null,null,{"$f":"Labels!F237","v":"%GDP Baseline Total Revenue"},"BaseRevGDP"]
[null,null,null,null,null,null,null,null,null,null,null,null,{"$f":"Labels!F238","v":"%GDP Baseline Tax Revenue"},"BaseRevTaxGDP"]
[null,null,null,null,null,null,null,null,null,null,null,null,{"$f":"Labels!F239","v":"%GDP Baseline Non-Tax Revenue"},"BaseRevNonTaxGDP",null,"Interest Iteration Needed"]
[null,null,null,null,null,null,null,null,null,null,null,null,{"$f":"Labels!F240","v":"%GDP Baseline Expenditure"},"BaseExpenditureGDP"]
[null,null,null,null,null,null,null,null,null,null,null,null,{"$f":"Labels!F241","v":"%GDP Baseline Expenses"},"BaseExpenseGDP"]
[null,null,null,null,null,null,null,null,null,null,null,null,{"$f":"Labels!F242","v":"%GDP Baseline Acquisition of Nonfinancial Assets"},"BaseNANAGDP"]
[null,null,null,null,null,null,null,null,null,null,null,null,{"$f":"Labels!F243","v":"%GDP Baseline Net Lending or Borrowing Balance"},"BaseNLBGDP"]
[null,null,null,null,null,null,null,null,null,null,null,null,{"$f":"Labels!F244","v":"%GDP Baseline Debt"},"BaseDebtGDP"]

{"sheet":"Results - Sector By Sector","index":23,"n_rows":21,"n_cols":14,"rows_kept":21,"cut":false,"hidden":false,"merged":[[4,6,4,10]]}
[]
[null,"Select sector:"]
[null,"Administrative and support service activities",null,null,null,null,{"$f":"Labels!F195","v":"Remember: Sector will be constrained by the overall production function"}]
[]
[null,null,null,null,null,null,{"$f":"Labels!F196","v":"Changes here will affect ALL sectors"}]
[null,null,null,null,null,null,null,"STRINGENCY"]
[null,null,null,null,null,null,null,{"$f":"Labels!F47","v":"Index=15"},null,null,{"$f":"Labels!F48","v":"Index=100"}]
[]
[]
[null,null,null,null,null,null,null,null,null,null,{"$f":"'   -- RESULTS --   '!N7","v":15}]
[null,null,null,null,null,null,null,"LENGTH"]
[null,null,null,null,null,null,null,{"$f":"Labels!F47","v":"Index=15"},null,null,{"$f":"Labels!F48","v":"Index=100"}]
[]
[]
[null,null,null,null,null,null,null,null,null,null,{"$f":"'   -- RESULTS --   '!N12","v":3}]
[]
[]
[null,null,null,null,null,null,null,11,12,13,14,15,16,17]
[null,null,null,null,null,null,null,{"$f":"'GDP (P)'!L1","v":2019},{"$f":"'GDP (P)'!M1","v":2020},{"$f":"'GDP (P)'!N1","v":2021},{"$f":"'GDP (P)'!O1","v":2022},{"$f":"'GDP (P)'!P1","v":2023},{"$f":"'GDP (P)'!Q1","v":2024},{"$f":"'GDP (P)'!R1","v":2025}]
[null,null,null,null,null,null,"COVID-19",{"$f":"VLOOKUP($B$3,'GDP (P)'!$B$81:$R$101,H$18,FALSE)","v":0},{"$f":"VLOOKUP($B$3,'GDP (P)'!$B$81:$R$101,I$18,FALSE)","v":0},{"$f":"VLOOKUP($B$3,'GDP (P)'!$B$81:$R$101,J$18,FALSE)","v":0},{"$f":"VLOOKUP($B$3,'GDP (P)'!$B$81:$R$101,K$18,FALSE)","v":0},{"$f":"VLOOKUP($B$3,'GDP (P)'!$B$81:$R$101,L$18,FALSE)","v":0},{"$f":"VLOOKUP($B$3,'GDP (P)'!$B$81:$R$101,M$18,FALSE)","v":0},{"$f":"VLOOKUP($B$3,'GDP (P)'!$B$81:$R$101,N$18,FALSE)","v":0}]
[null,null,null,null,null,null,{"$f":"Labels!F178","v":"Baseline"},{"$f":"VLOOKUP($B$3,'GDP (P)'!$B$9:$R$29,H$18,FALSE)","v":0},{"$f":"VLOOKUP($B$3,'GDP (P)'!$B$9:$R$29,I$18,FALSE)","v":0},{"$f":"VLOOKUP($B$3,'GDP (P)'!$B$9:$R$29,J$18,FALSE)","v":0},{"$f":"VLOOKUP($B$3,'GDP (P)'!$B$9:$R$29,K$18,FALSE)","v":0},{"$f":"VLOOKUP($B$3,'GDP (P)'!$B$9:$R$29,L$18,FALSE)","v":0},{"$f":"VLOOKUP($B$3,'GDP (P)'!$B$9:$R$29,M$18,FALSE)","v":0},{"$f":"VLOOKUP($B$3,'GDP (P)'!$B$9:$R$29,N$18,FALSE)","v":0}]

{"sheet":"Policy Responses","index":24,"n_rows":25,"n_cols":20,"rows_kept":25,"cut":false,"hidden":false,"merged":[]}
[null,null,null,null,{"$f":"'GDP (P)'!E1","v":2012},{"$f":"'GDP (P)'!F1","v":2013},{"$f":"'GDP (P)'!G1","v":2014},{"$f":"'GDP (P)'!H1","v":2015},{"$f":"'GDP (P)'!I1","v":2016},{"$f":"'GDP (P)'!J1","v":2017},{"$f":"'GDP (P)'!K1","v":2018},{"$f":"'GDP (P)'!L1","v":2019},{"$f":"'GDP (P)'!M1","v":2020},{"$f":"'GDP (P)'!N1","v":2021},{"$f":"'GDP (P)'!O1","v":2022},{"$f":"'GDP (P)'!P1","v":2023},{"$f":"'GDP (P)'!Q1","v":2024},{"$f":"'GDP (P)'!R1","v":2025}]
[null,{"$f":"Labels!F265","v":"Stream"},{"$f":"Labels!F266","v":"Description"}]
[null,"Net acquisition of non-financial assets","New road development",null,null,null,null,null,null,null,null,null,null,null,0]
[null,"Company Tax (non-mining)","Extra mining royalty",null,null,null,null,null,null,null,null,null,null,null,0]
[null,null,null,null,null,null,null,null,null,null,null,null,null,null,null,null,null,null,null,{"$f":"Labels!F247","v":"Company Tax (mining)"}]
[null,null,null,null,null,null,null,null,null,null,null,null,null,null,null,null,null,null,null,{"$f":"Labels!F248","v":"Company Tax (non-mining)"}]
[null,null,null,null,null,null,null,null,null,null,null,null,null,null,null,null,null,null,null,{"$f":"Labels!F249","v":"PAYE"}]
[null,null,null,null,null,null,null,null,null,null,null,null,null,null,null,null,null,null,null,{"$f":"Labels!F250","v":"Other income tax"}]
[null,null,null,null,null,null,null,null,null,null,null,null,null,null,null,null,null,null,null,{"$f":"Labels!F251","v":"VAT (Domestic)"}]
[null,null,null,null,null,null,null,null,null,null,null,null,null,null,null,null,null,null,null,{"$f":"Labels!F252","v":"VAT (Imports)"}]
[null,null,null,null,null,null,null,null,null,null,null,null,null,null,null,null,null,null,null,{"$f":"Labels!F253","v":"Customs Duty"}]
[null,null,null,null,null,null,null,null,null,null,null,null,null,null,null,null,null,null,null,{"$f":"Labels!F254","v":"Excise Duty"}]
[null,null,null,null,null,null,null,null,null,null,null,null,null,null,null,null,null,null,null,{"$f":"Labels!F255","v":"Other taxes"}]
[null,null,null,null,null,null,null,null,null,null,null,null,null,null,null,null,null,null,null,{"$f":"Labels!F256","v":"Non-tax revenue (non-commodity)"}]
[null,null,null,null,null,null,null,null,null,null,null,null,null,null,null,null,null,null,null,{"$f":"Labels!F257","v":"Non-tax revenue (commodity)"}]
[null,null,null,null,null,null,null,null,null,null,null,null,null,null,null,null,null,null,null,"Other revenue"]
[null,null,null,null,null,null,null,null,null,null,null,null,null,null,null,null,null,null,null,"-------------"]
[null,null,null,null,null,null,null,null,null,null,null,null,null,null,null,null,null,null,null,{"$f":"Labels!F141","v":"Expenses"}]
[null,null,null,null,null,null,null,null,null,null,null,null,null,null,null,null,null,null,null,"-------------"]
[null,null,null,null,null,null,null,null,null,null,null,null,null,null,null,null,null,null,null,{"$f":"Labels!F259","v":"Wages and Salaries"}]
[null,null,null,null,null,null,null,null,null,null,null,null,null,null,null,null,null,null,null,{"$f":"Labels!F260","v":"Goods and Services"}]
[null,null,null,null,null,null,null,null,null,null,null,null,null,null,null,null,null,null,null,{"$f":"Labels!F261","v":"Grants and Transfers"}]
[null,null,null,null,null,null,null,null,null,null,null,null,null,null,null,null,null,null,null,{"$f":"Labels!F262","v":"Social Benefits"}]
[null,null,null,null,null,null,null,null,null,null,null,null,null,null,null,null,null,null,null,{"$f":"Labels!F263","v":"Other Expense"}]
[null,null,null,null,null,null,null,null,null,null,null,null,null,null,null,null,null,null,null,{"$f":"Labels!F264","v":"Net acquisition of non-financial assets"}]

{"sheet":"Qt","index":25,"n_rows":82,"n_cols":15,"rows_kept":82,"cut":false,"hidden":true,"merged":[[0,5,2,5],[0,8,2,8],[1,1,1,2]]}
[null,null,null,null,null,"Qt, Fraction of employees as of december 2019 not allowed to work during LD",null,null,"Qt (monthly for 2020 consistent with supply side tool)"]
[null,"Scale 1 to 10"]
[null,"Stringency","Length",null,"Stringency",null,null,null,null,"Stringency by month","Months of lockdown"]
[null,{"$f":"+'PF - monthly estimates'!C20","v":0},{"$f":"+'PF - monthly estimates'!C21","v":0},null,0,4,{"$f":"+F4","v":4},"2020-01-20",{"$f":"+J4*K4","v":0},null,0]
[null,null,null,null,1,{"$f":"+F4+($G$14-$G$4)/10","v":8.6},null,"2020-02-20",{"$f":"+J5*K5","v":0},null,0]
[null,null,null,null,2,{"$f":"+F5+($G$14-$G$4)/10","v":13.2},null,"2020-03-20",{"$f":"+J6*K6","v":0},{"$f":"+SUM(C22:M22)","v":4},{"$f":"+SUM(C39:M39)","v":0}]
[null,null,null,null,3,17.799999999999997,null,"2020-04-20",{"$f":"+J7*K7","v":0},{"$f":"+SUM(C23:M23)","v":4},{"$f":"+SUM(C40:M40)","v":0}]
[null,null,null,null,4,22.4,null,"2020-05-20",0,4,0]
[null,null,null,null,5,27,null,"2020-06-20",0,4,0]
[null,null,null,null,6,31.6,null,"2020-07-20",0,4,0]
[null,null,null,null,7,36.200000000000003,null,"2020-08-20",0,4,0]
[null,null,null,null,8,40.800000000000004,null,"2020-09-20",0,4,0]
[null,null,null,null,9,45.400000000000006,null,"2020-10-20",0,4,0]
[null,null,null,null,10,50.000000000000007,50,"2020-11-20",0,4,0]
[null,null,null,null,null,null,null,"2020-12-20",0,4,0]
[null,null,null,null,null,null,null,"2021-01-20",0,4,0]
[null,null,null,null,null,null,null,"2021-02-20",0,4,0]
[]
[]
[null,"Estimates of fraction of employees not allowed to work during LD, different scenarios"]
[null,null,"Stringency=0","Stringency=1","Stringency=2","Stringency=3","Stringency=4","Stringency=5","Stringency=6","Stringency=7","Stringency=8","Stringency=9","Stringency=10"]
[null,1,{"$f":"+IF($B$4=$E$4,C54,0)","v":4},{"$f":"+IF($B$4=$E$5,D54,0)","v":0},{"$f":"+IF($B$4=$E$6,E54,0)","v":0},{"$f":"+IF($B$4=$E$7,F54,0)","v":0},{"$f":"+IF($B$4=$E$8,G54,0)","v":0},{"$f":"+IF($B$4=$E$9,H54,0)","v":0},{"$f":"+IF($B$4=$E$10,I54,0)","v":0},{"$f":"+IF($B$4=$E$11,J54,0)","v":0},{"$f":"+IF($B$4=$E$12,K54,0)","v":0},{"$f":"+IF($B$4=$E$13,L54,0)","v":0},{"$f":"+IF($B$4=$E$14,M54,0)","v":0},null,{"$f":"+SUM(C22:M22)","v":4}]
[null,2,{"$f":"+IF($B$4=$E$4,C55,0)","v":4},{"$f":"+IF($B$4=$E$5,D55,0)","v":0},{"$f":"+IF($B$4=$E$6,E55,0)","v":0},{"$f":"+IF($B$4=$E$7,F55,0)","v":0},{"$f":"+IF($B$4=$E$8,G55,0)","v":0},{"$f":"+IF($B$4=$E$9,H55,0)","v":0},{"$f":"+IF($B$4=$E$10,I55,0)","v":0},{"$f":"+IF($B$4=$E$11,J55,0)","v":0},{"$f":"+IF($B$4=$E$12,K55,0)","v":0},{"$f":"+IF($B$4=$E$13,L55,0)","v":0},{"$f":"+IF($B$4=$E$14,M55,0)","v":0}]
[null,3,4,0,0,0,0,0,0,0,0,0,0]
[null,4,4,0,0,0,0,0,0,0,0,0,0]
[null,5,4,0,0,0,0,0,0,0,0,0,0]
[null,6,4,0,0,0,0,0,0,0,0,0,0]
[null,7,4,0,0,0,0,0,0,0,0,0,0]
[null,8,4,0,0,0,0,0,0,0,0,0,0]
[null,9,4,0,0,0,0,0,0,0,0,0,0]
[null,10,4,0,0,0,0,0,0,0,0,0,0]
[null,11,4,0,0,0,0,0,0,0,0,0,0]
[null,12,4,0,0,0,0,0,0,0,0,0,0]
[]
[null,"Duration of the lockdown, different scenarios"]
[null,null,"Length=0","Length=1","Length=2","Length=3","Length=4","Length=5","Length=6","Length=7","Length=8","Length=9","Length=10"]
[null,1,0,0,0,0,0,0,0,0,0,0,0]
[null,2,0,0,0,0,0,0,0,0,0,0,0]
[null,3,{"$f":"+IF($C$4=$E$4, C70, 0)","v":0},{"$f":"+IF($C$4=$E$5, D70, 0)","v":0},{"$f":"+IF($C$4=$E$6, E70, 0)","v":0},{"$f":"+IF($C$4=$E$7, F70, 0)","v":0},{"$f":"+IF($C$4=$E$8, G70, 0)","v":0},{"$f":"+IF($C$4=$E$9, H70, 0)","v":0},{"$f":"+IF($C$4=$E$10, I70, 0)","v":0},{"$f":"+IF($C$4=$E$11, J70, 0)","v":0},{"$f":"+IF($C$4=$E$12, K70, 0)","v":0},{"$f":"+IF($C$4=$E$13, L70, 0)","v":0},{"$f":"+IF($C$4=$E$14, M70, 0)","v":0}]
[null,4,0,0,0,0,0,0,0,0,0,0,{"$f":"+IF($C$4=$E$14, M71, 0)","v":0}]
[null,5,0,0,0,0,0,0,0,0,0,0,0]
[null,6,0,0,0,0,0,0,0,0,0,0,0]
[null,7,0,0,0,0,0,0,0,0,0,0,0]
[null,8,0,0,0,0,0,0,0,0,0,0,0]
[null,9,0,0,0,0,0,0,0,0,0,0,0]
[null,10,0,0,0,0,0,0,0,0,0,0,0]
[null,11,0,0,0,0,0,0,0,0,0,0,0]
[null,12,0,0,0,0,0,0,0,0,0,0,0]
[null,1,0,0,0,0,0,0,0,0,0,0,0]
[null,2,0,0,0,0,0,0,0,0,0,0,0]
[]
[]
[null,null,"Stringency=0 ","Stringency=1","Stringency=2","Stringency=3","Stringency=4","Stringency=5","Stringency=6","Stringency=7","Stringency=8","Stringency=9","Stringency=10"]
[null,1,{"$f":"+$F$4","v":4},{"$f":"+$F$5","v":8.6},{"$f":"+$F$6","v":13.2},{"$f":"+$F$7","v":17.799999999999997},{"$f":"+$F$8","v":22.4},{"$f":"+$F$9","v":27},{"$f":"+$F$10","v":31.6},{"$f":"+$F$11","v":36.200000000000003},{"$f":"+$F$12","v":40.800000000000004},{"$f":"+$F$13","v":45.400000000000006},{"$f":"+$F$14","v":50.000000000000007}]
[null,2,{"$f":"+$F$4","v":4},{"$f":"+$F$5","v":8.6},{"$f":"+$F$6","v":13.2},{"$f":"+$F$7","v":17.799999999999997},{"$f":"+$F$8","v":22.4},{"$f":"+$F$9","v":27},{"$f":"+$F$10","v":31.6},{"$f":"+$F$11","v":36.200000000000003},{"$f":"+$F$12","v":40.800000000000004},{"$f":"+$F$13","v":45.400000000000006},{"$f":"+$F$14","v":50.000000000000007}]
[null,3,4,8.6,13.2,17.799999999999997,22.4,27,31.6,36.200000000000003,40.800000000000004,45.400000000000006,50.000000000000007]
[null,4,4,8.6,13.2,17.799999999999997,22.4,27,31.6,36.200000000000003,40.800000000000004,45.400000000000006,50.000000000000007]
[null,5,4,8.6,13.2,17.799999999999997,22.4,27,31.6,36.200000000000003,40.800000000000004,45.400000000000006,50.000000000000007]
[null,6,4,8.6,13.2,17.799999999999997,22.4,27,31.6,36.200000000000003,40.800000000000004,45.400000000000006,50.000000000000007]
[null,7,4,8.6,13.2,17.799999999999997,22.4,27,31.6,36.200000000000003,40.800000000000004,45.400000000000006,50.000000000000007]
[null,8,4,8.6,13.2,17.799999999999997,22.4,27,31.6,36.200000000000003,40.800000000000004,45.400000000000006,50.000000000000007]
[null,9,4,8.6,13.2,17.799999999999997,22.4,27,31.6,36.200000000000003,40.800000000000004,45.400000000000006,50.000000000000007]
[null,10,4,8.6,13.2,17.799999999999997,22.4,27,31.6,36.200000000000003,40.800000000000004,45.400000000000006,50.000000000000007]
[null,11,4,8.6,13.2,17.799999999999997,22.4,27,31.6,36.200000000000003,40.800000000000004,45.400000000000006,50.000000000000007]
[null,12,4,8.6,13.2,17.799999999999997,22.4,27,31.6,36.200000000000003,40.800000000000004,45.400000000000006,50.000000000000007]
[]
[null,null,"Length=0","Length=1","Length=2","Length=3","Length=4","Length=5","Length=6","Length=7","Length=8","Length=9","Length=10"]
[null,1,0,0,0,0,0,0,0,0,0,0,0]
["2020-10-11",2,0,0,0,0,0,0,0,0,0,0,0]
[{"$f":"10/11","v":0.90909090909090906},3,0,0.8,0.8,0.8,0.8,0.8,0.8,0.8,0.8,0.8,0.8]
[null,4,0,0.8,0.8,0.8,0.8,0.8,0.8,0.8,0.8,0.8,0.8]
[null,5,0,0.8,0.8,0.8,0.8,0.8,0.8,0.8,0.8,0.8,0.8]
[null,6,0,0,0.8,0.8,0.8,0.8,0.8,0.8,0.8,0.8,0.8]
[null,7,0,0,0,0.8,0.8,0.8,0.8,0.8,0.8,0.8,0.8]
[null,8,0,0,0,0,0.8,0.8,0.8,0.8,0.8,0.8,0.8]
[null,9,0,0,0,0,0,0.8,0.8,0.8,0.8,0.8,0.8]
[null,10,0,0,0,0,0,0,0.8,0.8,0.8,0.8,0.8]
[null,11,0,0,0,0,0,0,0,0.8,0.8,0.8,0.8]
[null,12,0,0,0,0,0,0,0,0,0.8,0.8,0.8]
[null,1,0,0,0,0,0,0,0,0,0,0.8,0.8]
[null,2,0,0,0,0,0,0,0,0,0,0,0.8]
[null,null,{"$f":"+SUM(C70:C81)","v":0},2.4000000000000004,3.2,4,4.8,5.6,6.3999999999999995,7.1999999999999993,7.9999999999999991,{"$f":"+SUM(L70:L81)","v":8.7999999999999989},{"$f":"+SUM(M70:M81)","v":9.6}]

{"sheet":"PF - monthly estimates","index":26,"n_rows":104,"n_cols":48,"rows_kept":104,"cut":false,"hidden":true,"merged":[[8,7,10,12],[15,7,17,13],[19,3,20,6],[23,12,23,17],[23,20,23,24],[23,39,23,42],[23,45,23,47],[26,20,26,24],[31,7,43,8],[94,28,94,36],[23,28,23,36]]}
[]
[]
[null,"PARAMETERS",null,null,"Monthly","Annual","Source","Instructions I"]
[1,"Long-run GDP growth",null,null,{"$f":"+(((1+(F4/100))^(1/12))-1)*100","v":0.62785842352273136},{"$f":"'Setup File and Task Panel'!H4","v":7.8},"National Statistics or WDI","GDP growth, 20-year, 10-year average"]
[2,"Long-run employment growth rate",null,"%",{"$f":"+(((1+(F5/100))^(1/12))-1)*100","v":0.28466715655732777},{"$f":"'Setup File and Task Panel'!H5","v":3.47},"PWT","Name: emp, Column: H, 20-year, 10-year average of the annual growth rate"]
[3,"Investment to GDP ratio",null,"%",null,{"$f":"'Setup File and Task Panel'!H6","v":14.24},"WDI","Gross Capital Formation (% of GDP), 20-year, 10-year average"]
[4,"Capital share in output","α","%",null,{"$f":"'Setup File and Task Panel'!H7","v":44.9},"PWT","Name: labsh, Column: Z, 20-year, 10-year average of (100 - labsh)"]
[5,"Capital-output ratio",null,"times",{"$f":"+F8*12","v":48.36},{"$f":"'Setup File and Task Panel'!H8","v":4.03},"PWT","Names: rnna and rgdpna, Columns: V and S, 20- year, 10-year average of (rnna/rgdpna)"]
[6,"Employment growth rate during LD (OxCGRT-CH Index)",null,"%",{"$f":"VLOOKUP(C20*10,index_containmenthealth!FK13:FM113,3,FALSE)","v":2.3039138595752906E-3},{"$f":"VLOOKUP(C20*10,index_containmenthealth!FK13:FM113,2,FALSE)","v":2.8000000000000001E-2},"OxCGRT","Go to the OXCGRT tab and find the weighted average of the containment-health index for your country. In the BOX, find the employment growth rate corresponding to the this average index. Link to that cell in F9."]
[7,"Initial GDP (December 2020)","Y0 = Y2019,12","level",100,{"$f":"+(((1+($E$12/100))*(1+($E$5/100))/(((1+($E$12/100))*(1+($E$5/100)))-1))*(1-(((1+($E$12/100))*(1+($E$5/100)))^(-12))))*E10","v":1159.6644574265501},"Normalization"]
[8,"Depreciation rate","δ","%",{"$f":"+(((1+(F11/100))^(1/12))-1)*100","v":-0.36268993121157944},{"$f":"+F6/F8-F4","v":-4.2665012406947884},"Calibrated"]
[9,"Long-run productivity growth rate",null,"%",{"$f":"+(((1+(F12/100))^(1/12))-1)*100","v":0.34221708731367873},{"$f":"((1+F4/100)/(1+F5/100)-1)*100","v":4.1847878612158329},"Calibrated"]
[10,"Initial capital stock (December 2020)","K0 = K2019,12","level",{"$f":"+F8*F10","v":4673.447763428997},null,"Calibrated"]
[11,"Production function scale parameter","A","level",{"$f":"+E10/(($E$13)^($F$7/100))","v":2.250778772691306},null,"Calibrated"]
[12,"% of work force not returning immediately to the production function",null,"%",0.15,null,"Judgement","Instructions II"]
[13,"Permanent capital loss (percentage of idle capital during LD)",null,null,0.15,null,"Judgement","Use your judgment for changing the speed of adjustment of exogeneous variables to their long-term trend after the shock, the percentage of idle capital that does not return to the production process and the percentage of work force that does not return immediately to the production process once the lockdown ends"]
[14,"Speed of adjustment parameter (productivity)","θZ","0 < θZ < 1",0.05,null,"Judgement"]
[15,"Speed of adjustment parameter (employment)","θE","0 < θE < 1",0.05,null,"Judgement"]
[16,"Speed of adjustment parameter (investment ratio)","θI/Y","0 < θI/Y < 1",0.05,null,"Judgement"]
[null,"Stringency",{"$f":"IF('Setup File and Task Panel'!C10=\"Pandemic\",'Calculating parameters'!S4,0)","v":0},"Parameters linked to the Sectoral Component of the Tool"]
[null,"Length",{"$f":"IF('Setup File and Task Panel'!C10=\"Pandemic\",'Calculating parameters'!T4,0)","v":0}]
[]
[null,"Pandemic",1]
[null,null,null,null,null,null,null,null,null,null,null,null,"EXOGENOUS SHOCKS DURING LOCKDOWN AND TRANSITION PERIOD",null,null,null,null,null,null,null,"TRAJECTORIES FOR EXOGENOUS PROCESSES FOR PF",null,null,null,null,null,null,null,"MACROECONOMIC AGGREGATES",null,null,null,null,null,null,null,null,null,null,"EMPLOYMENT",null,null,null,null,null,"CAPITAL STOCK"]
[null,null,null,null,null,null,null,null,null,null,null,"Period"," % of potential  employees not working during lockdown","% of potential employees not working during the simulation period","% increase in idle capital","Monthly growth rate of productivity","Monthly growth rate of employment","Investment to GDP ratio",null,null," % of potential  employees not working during and after lockdown","% increase in idle capital","Monthly growth rate of productivity","Monthly growth rate of employment","Investment to GDP ratio",null,null,null,"Capital stock","Labor input","Investment","Productivity Index","Employment Index","GDP","GDP Monthly rate","GDP Trend","Detrended GDP",null,null," Employment Index (assuming 100% of the workforce returns immediately to the production process)","Employemnt Index (assuming a percentage of of the work force does not return immediately to the production process)","Employment trend index","Deviation employment with respect to trend ",null,null,"Capital Stock","Capital Stock trend","Capital Stock: deviation from trend"]
[null,null,null,null,null,null,null,null,null,null,null,null,"Qt",null,null,null,null,null,null,null,"Qt",null,null,null,null,null,null,null,"Kt","(1-Qt)","It","Zt = (1+nZ,t) Zt-1","Et = (1+nE,t) Et-1","Yt"]
[null,null,null,null,null,null,null,null,null,null,null,null,"(%)","(%)","(%)","(%)","(%)","(%)",null,null,"levels"]
[null,"Instructions III",null,null,null,null,null,null,null,null,null,"Initial long-run values",null,null,0,{"$f":"+$E$12","v":0.34221708731367873},{"$f":"+$E$5","v":0.28466715655732777},{"$f":"+$F$6","v":14.24},null,null," % of potential  employees not working during and after lockdown","Monthly rate of capital destruction (% of capital stock)","Monthly growth rate of productivity","Monthly growth rate of employment","Investment to GDP ratio",null,null,null,null,null,null,null,null,null,null,null,null,null,null,null,null,null,null,null,null,"Capital Stock","Capital Stock Trend"]
[null,null,null,null,null,null,null,null,null,null,null,null,null,null,{"$f":"+$O$28","v":0},{"$f":"+$P$28","v":0.34221708731367873},{"$f":"+$Q$28","v":0.28466715655732777},{"$f":"+$R$28","v":14.24},null,"2019-12-01",0,0,{"$f":"+$P$28/100","v":3.4221708731367873E-3},{"$f":"+Q29/100","v":2.8466715655732777E-3},{"$f":"+R28/100","v":0.1424},null,null,null,{"$f":"+E13","v":4673.447763428997},{"$f":"1-U29","v":1},{"$f":"+Y29*AH29","v":14.24},1,1,{"$f":"+$E$14*((AF29*AG29)^(1-($F$7/100)))*(AC29^($F$7/100))*((AD29)^(1-($F$7/100)))","v":100},null,{"$f":"+AH29","v":100},{"$f":"+(AH29/AJ29)*100","v":100},null,null,100,100,100,null,null,"2019-12-01",{"$f":"+AC29","v":4673.447763428997},{"$f":"+AC29","v":4673.447763428997},{"$f":"+AT29/AU29-1","v":0}]
[null,null,null,null,null,null,null,null,null,"2021-01-01",1,null,null,null,{"$f":"+$O$28","v":0},{"$f":"+$P$28","v":0.34221708731367873},{"$f":"+$Q$28","v":0.28466715655732777},{"$f":"+$R$28","v":14.24},null,{"$f":"J30","v":"2021-01-01"},0,0,{"$f":"+$P$28/100","v":3.4221708731367873E-3},{"$f":"+Q30/100","v":2.8466715655732777E-3},{"$f":"+Y29","v":0.1424},null,null,null,{"$f":"+(1-V29)*(1-($E$11/100))*AC29+AE29","v":4704.6378879073864},{"$f":"1-U30","v":1},{"$f":"+Y30*AH30","v":14.331934322115655},{"$f":"+(1+W30)*AF29","v":1.0034221708731368},{"$f":"+(1+X30)*AG29","v":1.0028466715655733},{"$f":"IF($C$23=1,(+$E$14*((AF30*AG30)^(1-($F$7/100)))*(AC30^($F$7/100))*((AD30)^(1-($F$7/100)))),AJ30)","v":100.64560619463241},{"$f":"+(AH30/AH29-1)","v":6.4560619463240876E-3},{"$f":"+AJ29*(1+($E$12/100))*(1+($E$5/100))","v":100.62785842352272},{"$f":"+(AH30/AJ30)*100","v":100.01763703549666},null,{"$f":"T30","v":"2021-01-01"},100,100,100,{"$f":"+(1-AO30/$AP30)","v":0},null,{"$f":"AM30","v":"2021-01-01"},{"$f":"+AC30","v":4704.6378879073864},{"$f":"+AU29*(1+$E$5/100)*(1+$E$12/100)","v":4702.7903988806202},{"$f":"+AT30/AU30-1","v":3.9284953614049378E-4}]
[null,null,null,null,null,null,null,null,null,{"$f":"EDATE(J30,1)","v":"2021-02-01"},2,null,null,null,{"$f":"+$O$28","v":0},{"$f":"+$P$28","v":0.34221708731367873},{"$f":"+$Q$28","v":0.28466715655732777},{"$f":"+$R$28","v":14.24},null,{"$f":"J31","v":"2021-02-01"},0,0,{"$f":"+$P$28/100","v":3.4221708731367873E-3},2.8466715655732777E-3,{"$f":"+Y29","v":0.1424},null,null,null,4736.0330701489074,1,14.424457935863666,{"$f":"+(1+W31)*AF30","v":1.0068560529997586},{"$f":"+(1+X31)*AG30","v":1.0057014466701488},{"$f":"IF($C$23=1,(+$E$14*((AF31*AG31)^(1-($F$7/100)))*(AC31^($F$7/100))*((AD31)^(1-($F$7/100)))),AJ31)","v":101.29535067319991},{"$f":"+(AH31/AH30-1)","v":6.4557659607216156E-3},101.25965890904533,100.03524776257309,null,{"$f":"T31","v":"2021-02-01"},100,100,100,0,null,{"$f":"AM31","v":"2021-02-01"},{"$f":"+AC31","v":4736.0330701489074},{"$f":"+AU30*(1+$E$5/100)*(1+$E$12/100)","v":4732.3172645406094},7.8519790634934417E-4]
[null,"Column M (green cells)",null,null,null,null,null,"Please make sure to ERASE ALL in cells M31 to M42 that do not have any value (there are formulas behind that need to be erased)",null,{"$f":"EDATE(J31,1)","v":"2021-03-01"},3,1,null,{"$f":"+IF(M32=\"\",N31*0.95*(1-$E$15),M32)","v":0},{"$f":"+IF(AND(M31=\"\",M32>0),2*($C$20/10*$C$21/10),IF(AND(M31>0,M32>0),2*($C$20/10*$C$21/10),IF(AND(M31>0,M32=\"\"),-(1-$E$16)*SUM(O$31:O31), IF(AND(M31=\"\", M32=\"\"), 0))))","v":0},{"$f":"+IF(AND(M31=\"\",M32>0,$P$28<0),$P$28*(1+($C$20/50)*($C$21/50)),IF(AND(M31>0,M32>0,$P$28<0),$P$28*(1+($C$20/50*$C$21/50)),IF(AND(M31>0,M32=\"\",$P$28<0),(1-$E$17)*(P31)+($E$18*$P$28),IF(AND(M31=\"\",M32=\"\",$P$28<0),(1-$E$17)*(P31)+($E$18*$P$28),IF(AND(M31=\"\",M32>0,$P$28>0),$P$28*(1-($C$20/50*$C$21/50)),IF(AND(M31>0,M32>0,$P$28>0),$P$28*(1-($C$20/50*$C$21/50)),IF(AND(M31>0,M32=\"\",$P$28>0),(1-$E$17)*(P31)+($E$18*$P$28),IF(AND(M31=\"\",M32=\"\",$P$28>0),(1-$E$17)*(P31)+($E$18*$P$28)))))))))","v":0.34221708731367873},{"$f":"+IF(AND(M32>0,M31=\"\"),Q31*(1-$C$20/20*$C$20/10),IF(AND(M32>0,M31>0),Q31*(1-$C$20/20*$C$21/20),IF(AND(M32=\"\",M31>0),$Q$28*(1-$E$18)*(Q31)+($E$18*$Q$28),IF(AND(M32=\"\",M31=\"\"),(1-$E$18)*(Q31)+($E$18*$Q$28),$E$9))))","v":0.28466715655732777},{"$f":"+IF(AND(M32>0,M31=\"\"),R31*(1-($C$20/50*$C$21/50)),IF(AND(M32>0,M31>0),R31*(1-($C$20/50*$C$21/50)),IF(AND(M32=\"\",M31>0),(1-$E$19)*(R31)+($E$19*$R$28),IF(AND(M32=\"\",M31=\"\"),(1-$E$19)*(R31)+($E$19*$R$28)))))","v":14.239999999999998},null,"2021-03-01",{"$f":"+N32/100","v":0},{"$f":"+O32/100","v":0},{"$f":"+P32/100","v":3.4221708731367873E-3},2.8466715655732777E-3,{"$f":"+R32/100","v":0.14239999999999997},null,null,null,4767.6346431690517,1,14.517574599015715,{"$f":"+(1+W32)*AF31","v":1.0103016864577758},1.0085643483818407,101.94925982454858,6.4554705324859629E-3,101.89542620713614,100.0528322216377,null,"2021-03-01",{"$f":"+AN31*(1+X32)","v":100.28466715655733},{"$f":"+IF(AND(M32>0), AN32*(1-U32), AN32*(1-(U32*$E$15)))","v":100.28466715655733},{"$f":"AP31*(1+$E$5/100)","v":100.28466715655733},0,null,"2021-03-01",4767.6346431690517,4762.0295171138469,1.1770456346524849E-3]
[null,"Qt comes from the worksheet \"Qt\"",null,null,null,null,null,null,null,"2021-04-01",4,2,null,0,{"$f":"+IF(AND(M32=\"\",M33>0),2*($C$20/10*$C$21/10),IF(AND(M32>0,M33>0),2*($C$20/10*$C$21/10),IF(AND(M32>0,M33=\"\"),-(1-$E$16)*SUM(O$31:O32), IF(AND(M32=\"\", M33=\"\"), 0))))","v":0},0.34221708731367873,0.28466715655732777,14.239999999999998,null,"2021-04-01",0,0,3.4221708731367873E-3,2.8466715655732777E-3,{"$f":"+R33/100","v":0.14239999999999997},null,null,null,4799.4439485757966,1,14.611288093214624,1.0137591114622526,1.0114353998344303,102.6073602051589,6.4551756603519195E-3,102.53518522376201,100.07039045303266,null,"2021-04-01",100.57014466701489,100.57014466701489,100.57014466701489,0,null,"2021-04-01",4799.4439485757966,4791.9283205676838,1.5683932449186422E-3]
[null,null,null,null,null,null,null,null,null,"2021-05-01",5,3,null,0,{"$f":"+IF(AND(M33=\"\",M34>0),2*($C$20/10*$C$21/10),IF(AND(M33>0,M34>0),2*($C$20/10*$C$21/10),IF(AND(M33>0,M34=\"\"),-(1-$E$16)*SUM(O$31:O33), IF(AND(M33=\"\", M34=\"\"), 0))))","v":0},0.34221708731367873,0.28466715655732777,14.239999999999998,null,"2021-05-01",0,0,3.4221708731367873E-3,2.8466715655732777E-3,0.14239999999999997,null,null,null,4831.4623366246387,1,14.705602224125624,1.0172283683658758,1.0143146242275531,103.26967854020805,6.4548813430622687E-3,103.17896102126403,100.08792249703437,null,"2021-05-01",100.85643483818407,100.85643483818407,100.85643483818407,0,null,"2021-05-01",4831.4623366246387,4822.0148461775389,1.9592412608577803E-3]
[null,"Column N, O, P and Q (green cells) are linked to the lockdown length",null,null,null,null,null,null,null,"2021-06-01",6,4,null,0,{"$f":"+IF(AND(M34=\"\",M35>0),2*($C$20/10*$C$21/10),IF(AND(M34>0,M35>0),2*($C$20/10*$C$21/10),IF(AND(M34>0,M35=\"\"),-(1-$E$16)*SUM(O$31:O34), IF(AND(M34=\"\", M35=\"\"), 0))))","v":0},0.34221708731367873,0.28466715655732777,14.239999999999998,null,"2021-06-01",0,0,3.4221708731367873E-3,2.8466715655732777E-3,0.14239999999999997,null,null,null,4863.6911662739822,1,14.800520821588531,1.020709497659426,1.0172020448268868,103.93624172463858,6.4545875793637908E-3,103.82677881933927,100.10542839385374,null,"2021-06-01",101.14353998344302,101.14353998344302,101.14353998344302,0,null,"2021-06-01",4863.6911662739822,4852.2902725727809,2.3495902060195473E-3]
[null,null,null,null,null,null,null,null,null,"2021-07-01",7,5,null,0,{"$f":"+IF(AND(M35=\"\",M36>0),2*($C$20/10*$C$21/10),IF(AND(M35>0,M36>0),2*($C$20/10*$C$21/10),IF(AND(M35>0,M36=\"\"),-(1-$E$16)*SUM(O$31:O35), IF(AND(M35=\"\", M36=\"\"), 0))))","v":0},0.34221708731367873,0.28466715655732777,14.239999999999998,null,"2021-07-01",0,0,3.4221708731367873E-3,2.8466715655732777E-3,0.14239999999999997,null,null,null,4896.1318052408733,1,14.896047739770804,1.0242025399722501,1.0200976849643384,104.60707682423319,6.4542943680019338E-3,104.47866399602879,100.12290818363574,null,"2021-07-01",101.43146242275532,101.43146242275532,101.43146242275532,0,null,"2021-07-01",4896.1318052408733,4882.7557857829024,2.7394406037912766E-3]
[null,null,null,null,null,null,null,null,null,"2021-08-01",8,6,null,0,{"$f":"+IF(AND(M36=\"\",M37>0),2*($C$20/10*$C$21/10),IF(AND(M36>0,M37>0),2*($C$20/10*$C$21/10),IF(AND(M36>0,M37=\"\"),-(1-$E$16)*SUM(O$31:O36), IF(AND(M36=\"\", M37=\"\"), 0))))","v":0},0.34221708731367873,0.28466715655732777,14.239999999999998,null,"2021-08-01",0,0,3.4221708731367873E-3,2.8466715655732777E-3,0.14239999999999997,null,null,null,4928.7856300571002,1,14.992186857321769,1.0277075360727359,1.0230015680382336,105.28221107669783,6.454001707733914E-3,105.13464208871184,100.14036190646036,null,"2021-08-01",101.72020448268869,101.72020448268869,101.72020448268869,0,null,"2021-08-01",4928.7856300571002,4913.4125792839832,3.128792977396877E-3]
[null,null,null,null,null,null,null,null,null,"2021-09-01",9,7,null,0,{"$f":"+IF(AND(M37=\"\",M38>0),2*($C$20/10*$C$21/10),IF(AND(M37>0,M38>0),2*($C$20/10*$C$21/10),IF(AND(M37>0,M38=\"\"),-(1-$E$16)*SUM(O$31:O37), IF(AND(M37=\"\", M38=\"\"), 0))))","v":0},0.34221708731367873,0.28466715655732777,14.239999999999998,null,"2021-09-01",0,0,3.4221708731367873E-3,2.8466715655732777E-3,0.14239999999999997,null,null,null,4961.6540261256423,1,15.08894207752753,1.0312245268687872,1.0259137175135049,105.96167189274954,6.4537095973100644E-3,105.79473879510627,100.15778960234172,null,"2021-09-01",102.00976849643385,102.00976849643385,102.00976849643385,0,null,"2021-09-01",4961.6540261256423,4944.2618540454423,3.5176478498948338E-3]
[null,null,null,null,null,null,null,null,null,"2021-10-01",10,8,null,{"$f":"+IF(M39=\"\",N38*0.95*(1-$E$15),M39)","v":0},{"$f":"+IF(AND(M38=\"\",M39>0),2*($C$20/10*$C$21/10),IF(AND(M38>0,M39>0),2*($C$20/10*$C$21/10),IF(AND(M38>0,M39=\"\"),-(1-$E$16)*SUM(O$31:O38), IF(AND(M38=\"\", M39=\"\"), 0))))","v":0},0.34221708731367873,0.28466715655732777,14.239999999999998,null,"2021-10-01",0,0,3.4221708731367873E-3,2.8466715655732777E-3,0.14239999999999997,null,null,null,4994.738387777481,1,15.18631732846718,1.0347535534083019,1.0288341569218822,106.64548685721336,6.4534180354944848E-3,106.45897997427519,100.17519131122921,null,"2021-10-01",102.30015680382336,102.30015680382336,102.30015680382336,0,null,"2021-10-01",4994.738387777481,4975.3048185770876,3.906005744176877E-3]
[null,null,null,null,null,null,null,null,null,"2021-11-01",11,9,null,{"$f":"+IF(M40=\"\",N39*0.95*(1-$E$15),M40)","v":0},{"$f":"+IF(AND(M39=\"\",M40>0),2*($C$20/10*$C$21/10),IF(AND(M39>0,M40>0),2*($C$20/10*$C$21/10),IF(AND(M39>0,M40=\"\"),-(1-$E$16)*SUM(O$31:O39), IF(AND(M39=\"\", M40=\"\"), 0))))","v":0},0.34221708731367873,0.28466715655732777,14.239999999999998,null,"2021-11-01",0,0,3.4221708731367873E-3,2.8466715655732777E-3,0.14239999999999997,null,null,null,5028.0401183287768,1,15.284316563169716,1.0382946568796505,1.0317629098620822,107.33368373012443,6.4531270210477221E-3,107.12739164764005,100.19256707300678,null,"2021-11-01",102.59137175135049,102.59137175135049,102.59137175135049,0,null,"2021-11-01",5028.0401183287768,5006.5426889764558,4.2938671829673147E-3]
[null,null,null,null,null,null,null,null,null,"2021-12-01",12,10,null,0,{"$f":"+IF(AND(M40=\"\",M41>0),2*($C$20/10*$C$21/10),IF(AND(M40>0,M41>0),2*($C$20/10*$C$21/10),IF(AND(M40>0,M41=\"\"),-(1-$E$16)*SUM(O$31:O40), IF(AND(M40=\"\", M41=\"\"), 0))))","v":0},0.34221708731367873,0.28466715655732777,14.239999999999998,null,"2021-12-01",0,0,3.4221708731367873E-3,2.8466715655732777E-3,0.14239999999999997,null,null,null,5061.5606301384032,1,15.382943759772116,1.0418478786121577,1.0346999999999997,108.02629044783792,6.4528365527354303E-3,107.79999999999994,100.20991692749348,null,"2021-12-01",102.88341569218822,102.88341569218822,102.88341569218822,0,null,"2021-12-01",5061.5606301384032,5037.9766889764551,4.6812326888197031E-3]
[null,null,null,null,null,null,null,null,null,"2022-01-01",1,11,null,0,{"$f":"+IF(AND(M41=\"\",M42>0),2*($C$20/10*$C$21/10),IF(AND(M41>0,M42>0),2*($C$20/10*$C$21/10),IF(AND(M41>0,M42=\"\"),-(1-$E$16)*SUM(O$31:O41), IF(AND(M41=\"\", M42=\"\"), 0))))","v":0},0.34221708731367873,0.28466715655732777,14.239999999999998,null,"2022-01-01",0,0,3.4221708731367873E-3,2.8466715655732777E-3,0.14239999999999997,null,null,null,5095.301344665857,1,15.482202921678414,1.0454132600765835,1.0376454510688984,108.72333512414619,6.452546629330369E-3,108.47683138055743,100.22724091444373,null,"2022-01-01",103.17629098620823,103.17629098620823,103.17629098620823,0,null,"2022-01-01",5095.301344665857,5069.6080499933041,5.0681027841170678E-3]
[null,null,null,null,null,null,null,null,null,"2022-02-01",2,12,null,0,{"$f":"+IF(AND(M42=\"\",M43>0),2*($C$20/10*$C$21/10),IF(AND(M42>0,M43>0),2*($C$20/10*$C$21/10),IF(AND(M42>0,M43=\"\"),-(1-$E$16)*SUM(O$31:O42), IF(AND(M42=\"\", M43=\"\"), 0))))","v":0},0.34221708731367873,0.28466715655732777,14.239999999999998,null,"2022-02-01",0,0,3.4221708731367873E-3,2.8466715655732777E-3,0.14239999999999997,null,null,null,5129.2636925295265,1,15.582098077719632,1.0489908428856085,1.0405992868696026,109.42484605140193,6.4522572496026331E-3,109.15791230395079,100.24453907354682,null,"2022-02-01",103.46999999999998,103.46999999999998,103.46999999999998,0,null,"2022-02-01",5129.2636925295265,5101.4380111747732,5.4544779910685737E-3]
[null,null,null,null,null,null,null,null,null,"2022-03-01",3,null,null,0,{"$f":"+IF(AND(M43=\"\",M44>0),2*($C$20/10*$C$21/10),IF(AND(M43>0,M44>0),2*($C$20/10*$C$21/10),IF(AND(M43>0,M44=\"\"),-(1-$E$16)*SUM(O$31:O43), IF(AND(M43=\"\", M44=\"\"), 0))))","v":0},0.34221708731367873,0.28466715655732777,14.239999999999998,null,"2022-03-01",0,0,3.4221708731367873E-3,2.8466715655732777E-3,0.14239999999999997,null,null,null,5163.4491135653425,1,15.682633282314937,1.0525806687943189,1.0435615312706901,110.13085170164986,6.4519684123318655E-3,109.84326945129268,100.26181144442783,null,"2022-03-01",103.76454510688986,103.76454510688986,103.76454510688986,0,null,"2022-03-01",5163.4491135653425,5133.4678194487242,5.8403588317104127E-3]
[null,null,null,null,null,null,null,null,null,"2022-04-01",4,null,null,0,{"$f":"+IF(AND(M44=\"\",M45>0),2*($C$20/10*$C$21/10),IF(AND(M44>0,M45>0),2*($C$20/10*$C$21/10),IF(AND(M44>0,M45=\"\"),-(1-$E$16)*SUM(O$31:O44), IF(AND(M44=\"\", M45=\"\"), 0))))","v":0},0.34221708731367873,0.28466715655732777,14.239999999999998,null,"2022-04-01",0,0,3.4221708731367873E-3,2.8466715655732777E-3,0.14239999999999997,null,null,null,5197.8590568857926,1,15.783812615633613,1.0561827797006937,1.0465322082086845,110.84138072776416,6.4516801162961546E-3,110.53292967121538,100.27905806664698,null,"2022-04-01",104.05992868696029,104.05992868696029,104.05992868696029,0,null,"2022-04-01",5197.8590568857926,5165.6987295719609,6.2257458279020295E-3]
[null,null,null,null,null,null,null,null,null,"2022-05-01",5,null,null,0,{"$f":"+IF(AND(M45=\"\",M46>0),2*($C$20/10*$C$21/10),IF(AND(M45>0,M46>0),2*($C$20/10*$C$21/10),IF(AND(M45>0,M46=\"\"),-(1-$E$16)*SUM(O$31:O45), IF(AND(M45=\"\", M46=\"\"), 0))))","v":0},0.34221708731367873,0.28466715655732777,14.239999999999998,null,"2022-05-01",0,0,3.4221708731367873E-3,2.8466715655732777E-3,0.14239999999999997,null,null,null,5232.4949809393202,1,15.885640183758204,1.0597972176460941,1.0495113416882489,111.55646196459415,6.4513923602800283E-3,111.22691998092255,100.29627897970035,null,"2022-05-01",104.35615312706905,104.35615312706905,104.35615312706905,0,null,"2022-05-01",5232.4949809393202,5198.1320041793842,6.610639501326121E-3]
[null,null,null,null,null,null,null,null,null,"2022-06-01",6,null,null,0,{"$f":"+IF(AND(M46=\"\",M47>0),2*($C$20/10*$C$21/10),IF(AND(M46>0,M47>0),2*($C$20/10*$C$21/10),IF(AND(M46>0,M47=\"\"),-(1-$E$16)*SUM(O$31:O46), IF(AND(M46=\"\", M47=\"\"), 0))))","v":0},0.34221708731367873,0.28466715655732777,14.239999999999998,null,"2022-06-01",0,0,3.4221708731367873E-3,2.8466715655732777E-3,0.14239999999999997,null,null,null,5267.3583535700964,1,15.98812011884861,1.063424024815754,1.0524989557823794,112.27612443011667,6.4511051430702349E-3,111.92526756724763,100.3134742230196,null,"2022-06-01",104.65322082086848,104.65322082086848,104.65322082086848,0,null,"2022-06-01",5267.3583535700964,5230.7689138334545,6.9950403734861943E-3]
[null,null,null,null,null,null,null,null,null,"2022-07-01",7,null,null,0,{"$f":"+IF(AND(M47=\"\",M48>0),2*($C$20/10*$C$21/10),IF(AND(M47>0,M48>0),2*($C$20/10*$C$21/10),IF(AND(M47>0,M48=\"\"),-(1-$E$16)*SUM(O$31:O47), IF(AND(M47=\"\", M48=\"\"), 0))))","v":0},0.34221708731367873,0.28466715655732777,14.239999999999998,null,"2022-07-01",0,0,3.4221708731367873E-3,2.8466715655732777E-3,0.14239999999999997,null,null,null,5302.4506520781752,1,16.091256579307249,{"$f":"+(1+W48)*AF47","v":1.0670632435392724},1.0554950746326006,113.00039732659587,6.4508184634570753E-3,112.62799978771892,100.33064383597228,null,"2022-07-01",104.95113416882491,104.95113416882491,104.95113416882491,0,null,"2022-07-01",5302.4506520781752,5263.6107370739655,7.3789489657056784E-3]
[null,null,null,null,null,null,null,null,null,"2022-08-01",8,null,null,0,{"$f":"+IF(AND(M48=\"\",M49>0),2*($C$20/10*$C$21/10),IF(AND(M48>0,M49>0),2*($C$20/10*$C$21/10),IF(AND(M48>0,M49=\"\"),-(1-$E$16)*SUM(O$31:O48), IF(AND(M48=\"\", M49=\"\"), 0))))","v":0},0.34221708731367873,0.28466715655732777,14.239999999999998,null,"2022-08-01",0,0,3.4221708731367873E-3,2.8466715655732777E-3,0.14239999999999997,null,null,null,5337.7733632800328,1,16.195053749945284,1.0707149162911074,1.0584997224491599,113.72931004175062,6.4505323202361797E-3,113.33514417163127,100.34778785786203,null,"2022-08-01",105.24989557823797,105.24989557823797,105.24989557823797,0,null,"2022-08-01",5337.7733632800328,5296.6587604681299,7.7623657991268136E-3]
[null,null,null,null,null,null,null,null,null,"2022-09-01",9,null,null,0,{"$f":"+IF(AND(M49=\"\",M50>0),2*($C$20/10*$C$21/10),IF(AND(M49>0,M50>0),2*($C$20/10*$C$21/10),IF(AND(M49>0,M50=\"\"),-(1-$E$16)*SUM(O$31:O49), IF(AND(M49=\"\", M50=\"\"), 0))))","v":0},0.34221708731367873,0.28466715655732777,14.239999999999998,null,"2022-09-01",0,0,3.4221708731367873E-3,2.8466715655732777E-3,0.14239999999999997,null,null,null,5373.3279835694884,1,16.299515842149795,1.074379085691072,1.0615129235112231,114.46289214992836,6.4502467122014018E-3,114.04672842112447,100.36490632792831,null,"2022-09-01",105.5495074632601,105.5495074632601,105.5495074632601,0,null,"2022-09-01",5373.3279835694884,5329.9142786609827,8.1452913947075434E-3]
[null,null,null,null,null,null,null,null,null,"2022-10-01",10,null,null,0,{"$f":"+IF(AND(M50=\"\",M51>0),2*($C$20/10*$C$21/10),IF(AND(M50>0,M51>0),2*($C$20/10*$C$21/10),IF(AND(M50>0,M51=\"\"),-(1-$E$16)*SUM(O$31:O50), IF(AND(M50=\"\", M51=\"\"), 0))))","v":0},0.34221708731367873,0.28466715655732777,14.239999999999998,null,"2022-10-01",0,0,3.4221708731367873E-3,2.8466715655732777E-3,0.14239999999999997,null,null,null,5409.1160189790189,1,16.404647094052208,1.0780557945048312,1.064534702167071,115.201173413288,6.4499616381579195E-3,114.76278041226858,100.38199928534719,null,"2022-10-01",105.84997224491603,105.84997224491603,105.84997224491603,0,null,"2022-10-01",5409.1160189790189,5363.3785944260962,8.5277262732217363E-3]
[null,null,null,null,null,null,null,null,null,"2022-11-01",11,null,null,0,{"$f":"+IF(AND(M51=\"\",M52>0),2*($C$20/10*$C$21/10),IF(AND(M51>0,M52>0),2*($C$20/10*$C$21/10),IF(AND(M51>0,M52=\"\"),-(1-$E$16)*SUM(O$31:O51), IF(AND(M51=\"\", M52=\"\"), 0))))","v":0},0.34221708731367873,0.28466715655732777,14.239999999999998,null,"2022-11-01",0,0,3.4221708731367873E-3,2.8466715655732777E-3,0.14239999999999997,null,null,null,5445.1389852414604,1,16.5104517706975,1.081745085644402,1.067565082834296,115.94418378298809,6.4496770969033612E-3,115.48332819615588,100.39906676923047,null,"2022-11-01",106.15129235112235,106.15129235112235,106.15129235112235,0,null,"2022-11-01",5445.1389852414604,5397.053018716615,8.9096709552576314E-3]
[null,null,null,null,null,null,null,null,null,"2022-12-01",12,null,null,0,{"$f":"+IF(AND(M52=\"\",M53>0),2*($C$20/10*$C$21/10),IF(AND(M52>0,M53>0),2*($C$20/10*$C$21/10),IF(AND(M52>0,M53=\"\"),-(1-$E$16)*SUM(O$31:O52), IF(AND(M52=\"\", M53=\"\"), 0))))","v":0},0.34221708731367873,0.28466715655732777,14.239999999999998,null,"2022-12-01",0,0,3.4221708731367873E-3,2.8466715655732777E-3,0.14239999999999997,null,null,null,5481.3984078521053,1,16.61693416421485,1.0854470021686531,1.0706040899999993,116.6919534003852,6.4493930872522309E-3,116.20839999999983,100.41610881862704,null,"2022-12-01",106.45347021670715,106.45347021670715,106.45347021670715,0,null,"2022-12-01",5481.3984078521053,5430.9388707166145,9.2911259612158403E-3]
[null,null,null,null,null,null,null,null,null,"2023-01-01",1,null,null,0,{"$f":"+IF(AND(M53=\"\",M54>0),2*($C$20/10*$C$21/10),IF(AND(M53>0,M54>0),2*($C$20/10*$C$21/10),IF(AND(M53>0,M54=\"\"),-(1-$E$16)*SUM(O$31:O53), IF(AND(M53=\"\", M54=\"\"), 0))))","v":0},0.34221708731367873,0.28466715655732777,14.239999999999998,null,"2023-01-01",0,0,3.4221708731367873E-3,2.8466715655732777E-3,0.14239999999999997,null,null,null,5517.8958221311914,1,16.724098593988952,1.0891615872838083,1.0736517482209889,117.44451259823704,6.4491096080097066E-3,116.93802422824079,100.43312547252181,null,"2023-01-01",106.75650828342965,106.75650828342965,106.75650828342965,0,null,"2023-01-01",5517.8958221311914,5465.037477892778,9.6720918113071264E-3]
[null,null,null,null,null,null,null,null,null,"2023-02-01",2,null,null,0,{"$f":"+IF(AND(M54=\"\",M55>0),2*($C$20/10*$C$21/10),IF(AND(M54>0,M55>0),2*($C$20/10*$C$21/10),IF(AND(M54>0,M55=\"\"),-(1-$E$16)*SUM(O$31:O54), IF(AND(M54=\"\", M55=\"\"), 0))))","v":0},0.34221708731367873,0.28466715655732777,14.239999999999998,null,"2023-02-01",0,0,3.4221708731367873E-3,2.8466715655732777E-3,0.14239999999999997,null,null,null,5554.6327732867949,1,16.831949406832749,1.0928888843439504,1.0767080821239776,118.2018919019154,6.4488266579918463E-3,117.67222946365884,100.45011676983661,null,"2023-02-01",107.06040899999998,107.06040899999998,107.06040899999998,0,null,"2023-02-01",5554.6327732867949,5499.3501760464014,1.0052569025553071E-2]
[null,null,null,null,null,null,null,null,null,"2023-03-01",3,null,null,0,{"$f":"+IF(AND(M55=\"\",M56>0),2*($C$20/10*$C$21/10),IF(AND(M55>0,M56>0),2*($C$20/10*$C$21/10),IF(AND(M55>0,M56=\"\"),-(1-$E$16)*SUM(O$31:O55), IF(AND(M55=\"\", M56=\"\"), 0))))","v":0},0.34221708731367873,0.28466715655732777,14.239999999999998,null,"2023-03-01",0,0,3.4221708731367873E-3,2.8466715655732777E-3,0.14239999999999997,null,null,null,5591.6108164781172,1,16.940490977161097,1.0966289368515272,1.0797731164057829,118.96412203062572,6.4485442360162626E-3,118.4110444684934,100.46708274943008,null,"2023-03-01",107.36517482209892,107.36517482209892,107.36517482209892,0,null,"2023-03-01",5591.6108164781172,5533.8783093657203,1.043255812378252E-2]
[null,null,null,null,null,null,null,null,null,"2023-04-01",4,null,null,0,{"$f":"+IF(AND(M56=\"\",M57>0),2*($C$20/10*$C$21/10),IF(AND(M56>0,M57>0),2*($C$20/10*$C$21/10),IF(AND(M56>0,M57=\"\"),-(1-$E$16)*SUM(O$31:O56), IF(AND(M56=\"\", M57=\"\"), 0))))","v":0},0.34221708731367873,0.28466715655732777,14.239999999999998,null,"2023-04-01",0,0,3.4221708731367873E-3,2.8466715655732777E-3,0.14239999999999997,null,null,null,5628.8315168791823,1,17.049727707165523,1.1003817884578595,1.0828468758335257,119.73123389863431,6.4482623409023443E-3,119.15449818557006,100.48402345009757,null,"2023-04-01",107.6708082123978,107.6708082123978,107.6708082123978,0,null,"2023-04-01",5628.8315168791823,5568.623230478569,1.0812059625632031E-2]
[null,null,null,null,null,null,null,null,null,"2023-05-01",5,null,null,0,{"$f":"+IF(AND(M57=\"\",M58>0),2*($C$20/10*$C$21/10),IF(AND(M57>0,M58>0),2*($C$20/10*$C$21/10),IF(AND(M57>0,M58=\"\"),-(1-$E$16)*SUM(O$31:O57), IF(AND(M57=\"\", M58=\"\"), 0))))","v":0},0.34221708731367873,0.28466715655732777,14.239999999999998,null,"2023-05-01",0,0,3.4221708731367873E-3,2.8466715655732777E-3,0.14239999999999997,null,null,null,5666.296449742933,1,17.159664026990161,1.1041474829636502,1.0859293852448308,120.50325861650396,6.4479809714752534E-3,119.90261973943439,100.50093891057163,null,"2023-05-01",107.97731164057832,107.97731164057832,107.97731164057832,0,null,"2023-05-01",5666.296449742933,5603.5863005053707,1.119107405054276E-2]
[null,null,null,null,null,null,null,null,null,"2023-06-01",6,null,null,0,{"$f":"+IF(AND(M58=\"\",M59>0),2*($C$20/10*$C$21/10),IF(AND(M58>0,M59>0),2*($C$20/10*$C$21/10),IF(AND(M58>0,M59=\"\"),-(1-$E$16)*SUM(O$31:O58), IF(AND(M58=\"\", M59=\"\"), 0))))","v":0},0.34221708731367873,0.28466715655732777,14.239999999999998,null,"2023-06-01",0,0,3.4221708731367873E-3,2.8466715655732777E-3,0.14239999999999997,null,null,null,5704.0072004657395,1,17.270304394908731,1.1079260643194957,1.0890206695480278,121.28022749233662,6.4477001265612621E-3,120.65543843749283,100.51782916952183,null,"2023-06-01",108.28468758335261,108.28468758335261,108.28468758335261,0,null,"2023-06-01",5704.0072004657395,5638.768889112459,1.156960191776002E-2]
[null,null,null,null,null,null,null,null,null,"2023-07-01",7,null,null,0,{"$f":"+IF(AND(M59=\"\",M60>0),2*($C$20/10*$C$21/10),IF(AND(M59>0,M60>0),2*($C$20/10*$C$21/10),IF(AND(M59>0,M60=\"\"),-(1-$E$16)*SUM(O$31:O59), IF(AND(M59=\"\", M60=\"\"), 0))))","v":0},0.34221708731367873,0.28466715655732777,14.239999999999998,null,"2023-07-01",0,0,3.4221708731367873E-3,2.8466715655732777E-3,0.14239999999999997,null,null,null,5741.9653646523211,1,17.38165329750267,1.1117175766263989,1.0921207537223516,122.06217203302438,6.4474198049897513E-3,121.4129837711609,100.53469426555488,null,"2023-07-01",108.59293852448312,108.59293852448312,108.59293852448312,0,null,"2023-07-01",5741.9653646523211,5674.17237456573,1.1947643746332171E-2]
[null,null,null,null,null,null,null,null,null,"2023-08-01",8,null,null,0,{"$f":"+IF(AND(M60=\"\",M61>0),2*($C$20/10*$C$21/10),IF(AND(M60>0,M61>0),2*($C$20/10*$C$21/10),IF(AND(M60>0,M61=\"\"),-(1-$E$16)*SUM(O$31:O60), IF(AND(M60=\"\", M61=\"\"), 0))))","v":0},0.34221708731367873,0.28466715655732777,14.239999999999998,null,"2023-08-01",0,0,3.4221708731367873E-3,2.8466715655732777E-3,0.14239999999999997,null,null,null,5780.1725481810736,1,17.493715249840399,1.115522064136284,1.0952296628181455,122.84912394550845,6.447140005596097E-3,122.1752854170184,100.55153423721504,null,"2023-08-01",108.90206695480281,108.90206695480281,108.90206695480281,0,null,"2023-08-01",5780.1725481810736,5709.7981437846402,1.232520005510862E-2]
[null,null,null,null,null,null,null,null,null,"2023-09-01",9,null,null,0,{"$f":"+IF(AND(M61=\"\",M62>0),2*($C$20/10*$C$21/10),IF(AND(M61>0,M62>0),2*($C$20/10*$C$21/10),IF(AND(M61>0,M62=\"\"),-(1-$E$16)*SUM(O$31:O61), IF(AND(M61=\"\", M62=\"\"), 0))))","v":0},0.34221708731367873,0.28466715655732777,14.239999999999998,null,"2023-09-01",0,0,3.4221708731367873E-3,2.8466715655732777E-3,0.14239999999999997,null,null,null,5818.6303672698223,1,17.606494795657714,1.1193395712525125,1.0983474219570624,123.64111513804576,6.4468607272170075E-3,122.94237323797208,100.56834912298396,null,"2023-09-01",109.2120753722352,109.2120753722352,109.2120753722352,0,null,"2023-09-01",5818.6303672698223,5745.6475923965354,1.2702271362738715E-2]
[null,null,null,null,null,null,null,null,null,"2023-10-01",10,null,null,0,{"$f":"+IF(AND(M62=\"\",M63>0),2*($C$20/10*$C$21/10),IF(AND(M62>0,M63>0),2*($C$20/10*$C$21/10),IF(AND(M62>0,M63=\"\"),-(1-$E$16)*SUM(O$31:O62), IF(AND(M62=\"\", M63=\"\"), 0))))","v":0},0.34221708731367873,0.28466715655732777,14.239999999999998,null,"2023-10-01",0,0,3.4221708731367873E-3,2.8466715655732777E-3,0.14239999999999997,null,null,null,5857.3404485419869,1,17.71999650753926,1.1231701425304021,1.1014740563322682,124.4381777214836,6.4465819686914116E-3,123.71427728442542,100.58513896128083,null,"2023-10-01",109.52296628181459,109.52296628181459,109.52296628181459,0,null,"2023-10-01",5857.3404485419869,5781.7221247913276,1.3078858187669962E-2]
[null,null,null,null,null,null,null,null,null,"2023-11-01",11,null,null,0,{"$f":"+IF(AND(M63=\"\",M64>0),2*($C$20/10*$C$21/10),IF(AND(M63>0,M64>0),2*($C$20/10*$C$21/10),IF(AND(M63>0,M64=\"\"),-(1-$E$16)*SUM(O$31:O63), IF(AND(M63=\"\", M64=\"\"), 0))))","v":0},0.34221708731367873,0.28466715655732777,14.239999999999998,null,"2023-11-01",{"$f":"+N64/100","v":0},0,3.4221708731367873E-3,2.8466715655732777E-3,0.14239999999999997,null,null,null,5896.3044290931712,1,17.834224987101269,{"$f":"+(1+W64)*AF63","v":1.1270138226777466},1.104609591208646,125.24034401054266,6.4463037288642333E-3,124.49102779545593,100.60190379046261,null,"2023-11-01",109.83474219570627,109.83474219570627,109.83474219570627,0,null,"2023-11-01",5896.3044290931712,5818.023154176507,1.3454961048147362E-2]
[null,null,null,null,null,null,null,null,null,"2023-12-01",12,null,null,0,{"$f":"+IF(AND(M64=\"\",M65>0),2*($C$20/10*$C$21/10),IF(AND(M64>0,M65>0),2*($C$20/10*$C$21/10),IF(AND(M64>0,M65=\"\"),-(1-$E$16)*SUM(O$31:O64), IF(AND(M64=\"\", M65=\"\"), 0))))","v":0},0.34221708731367873,0.28466715655732777,14.239999999999998,null,"2023-12-01",0,0,3.4221708731367873E-3,2.8466715655732777E-3,0.14239999999999997,null,null,null,5935.523956558176,1,17.949184865175347,1.130870656555337,1.1077540519229991,126.04764652510781,6.4460260065812847E-3,125.27265519999972,100.61864364882409,null,"2023-12-01",110.14740563322685,110.14740563322685,110.14740563322685,0,null,"2023-12-01",5935.523956558176,5854.5521026325068,1.3830580462211639E-2]
[null,null,null,null,null,null,null,null,null,"2024-01-01",1,null,null,0,{"$f":"+IF(AND(M65=\"\",M66>0),2*($C$20/10*$C$21/10),IF(AND(M65>0,M66>0),2*($C$20/10*$C$21/10),IF(AND(M65>0,M66=\"\"),-(1-$E$16)*SUM(O$31:O65), IF(AND(M65=\"\", M66=\"\"), 0))))","v":0},0.34221708731367873,0.28466715655732777,14.239999999999998,null,"2024-01-01",0,0,3.4221708731367873E-3,2.8466715655732777E-3,0.14239999999999997,null,null,null,5975.0006891784387,1,18.064880801993432,1.1347406891774858,1.1109074638842569,126.86011799152695,6.4457488006910424E-3,126.05919011804349,100.63535857459773,null,"2024-01-01",110.46095912086463,110.46095912086463,110.46095912086463,0,null,"2024-01-01",5975.0006891784387,5891.3104011684109,1.4205716947698122E-2]
[null,null,null,null,null,null,null,null,null,"2024-02-01",2,null,null,0,{"$f":"+IF(AND(M66=\"\",M67>0),2*($C$20/10*$C$21/10),IF(AND(M66>0,M67>0),2*($C$20/10*$C$21/10),IF(AND(M66>0,M67=\"\"),-(1-$E$16)*SUM(O$31:O66), IF(AND(M66=\"\", M67=\"\"), 0))))","v":0},0.34221708731367873,0.28466715655732777,14.239999999999998,null,"2024-02-01",0,0,3.4221708731367873E-3,2.8466715655732777E-3,0.14239999999999997,null,null,null,6014.736295869905,1,18.181317487374006,1.1386239657125521,1.1140698525736794,127.67779134391861,6.4454721100470902E-3,126.85066336182415,100.65204860595422,null,"2024-02-01",110.77540519229994,110.77540519229994,110.77540519229994,0,null,"2024-02-01",6014.736295869905,5928.2994897780163,1.458037102223475E-2]
[null,null,null,null,null,null,null,null,null,"2024-03-01",3,null,null,0,{"$f":"+IF(AND(M67=\"\",M68>0),2*($C$20/10*$C$21/10),IF(AND(M67>0,M68>0),2*($C$20/10*$C$21/10),IF(AND(M67>0,M68=\"\"),-(1-$E$16)*SUM(O$31:O67), IF(AND(M67=\"\", M68=\"\"), 0))))","v":0},0.34221708731367873,0.28466715655732777,14.239999999999998,null,"2024-03-01",0,0,3.4221708731367873E-3,2.8466715655732777E-3,0.14239999999999997,null,null,null,6054.7324562913273,1,18.29849964090943,1.142520531483469,1.1172412435450634,128.50069972548761,6.4451959335070086E-3,127.6471059370358,100.66871378100248,null,"2024-03-01",111.09074638842571,111.09074638842571,111.09074638842571,0,null,"2024-03-01",6054.7324562913273,5965.5208174962418,1.4954543203241633E-2]
[null,null,null,null,null,null,null,null,null,"2024-04-01",4,null,null,0,{"$f":"+IF(AND(M68=\"\",M69>0),2*($C$20/10*$C$21/10),IF(AND(M68>0,M69>0),2*($C$20/10*$C$21/10),IF(AND(M68>0,M69=\"\"),-(1-$E$16)*SUM(O$31:O68), IF(AND(M68=\"\", M69=\"\"), 0))))","v":0},0.34221708731367873,0.28466715655732777,14.239999999999998,null,"2024-04-01",0,0,3.4221708731367873E-3,2.8466715655732777E-3,0.14239999999999997,null,null,null,6094.9908609130052,1,18.416432012154424,1.1464304319682725,1.1204216624249488,129.32887648984851,6.4449202699294883E-3,128.44854904404443,100.6853541377896,null,"2024-04-01",111.40698525736796,111.40698525736796,111.40698525736796,0,null,"2024-04-01",6094.9908609130052,6002.9758424558931,1.5328234007929487E-2]
[null,null,null,null,null,null,null,null,null,"2024-05-01",5,null,null,0,{"$f":"+IF(AND(M69=\"\",M70>0),2*($C$20/10*$C$21/10),IF(AND(M69>0,M70>0),2*($C$20/10*$C$21/10),IF(AND(M69>0,M70=\"\"),-(1-$E$16)*SUM(O$31:O69), IF(AND(M69=\"\", M70=\"\"), 0))))","v":0},0.34221708731367873,0.28466715655732777,14.239999999999998,null,"2024-05-01",0,0,3.4221708731367873E-3,2.8466715655732777E-3,0.14239999999999997,null,null,null,6135.5132110859568,1,18.53511938081575,1.150353712800632,1.1236111349128262,130.16235520235782,6.4446451181745523E-3,129.25502407911014,100.70196971430087,null,"2024-05-01",111.72412435450636,111.72412435450636,111.72412435450636,0,null,"2024-05-01",6135.5132110859568,6040.6660319447865,1.5701443953297645E-2]
[null,null,null,null,null,null,null,null,null,"2024-06-01",6,null,null,0,{"$f":"+IF(AND(M70=\"\",M71>0),2*($C$20/10*$C$21/10),IF(AND(M70>0,M71>0),2*($C$20/10*$C$21/10),IF(AND(M70>0,M71=\"\"),-(1-$E$16)*SUM(O$31:O70), IF(AND(M70=\"\", M71=\"\"), 0))))","v":0},0.34221708731367873,0.28466715655732777,14.239999999999998,null,"2024-06-01",0,0,3.4221708731367873E-3,2.8466715655732777E-3,0.14239999999999997,null,null,null,6176.3012191115376,1,18.654566556943195,1.1542904197703832,1.126809686781344,131.00116964145505,6.4443704771104393E-3,130.06656263561717,100.71856054846025,null,"2024-06-01",112.0421662424949,112.0421662424949,112.0421662424949,0,null,"2024-06-01",6176.3012191115376,6078.592862463227,1.6074173556133831E-2]
[null,null,null,null,null,null,null,null,null,"2024-07-01",7,null,null,0,{"$f":"+IF(AND(M71=\"\",M72>0),2*($C$20/10*$C$21/10),IF(AND(M71>0,M72>0),2*($C$20/10*$C$21/10),IF(AND(M71>0,M72=\"\"),-(1-$E$16)*SUM(O$31:O71), IF(AND(M71=\"\", M72=\"\"), 0))))","v":0},0.34221708731367873,0.28466715655732777,14.239999999999998,null,"2024-07-01",0,0,3.4221708731367873E-3,2.8466715655732777E-3,0.14239999999999997,null,null,null,6217.3566083114965,1,18.774778381121656,1.1582405988240623,1.1300173438765169,131.84535380001165,6.444096345605832E-3,130.88319650531136,100.73512667813034,null,"2024-07-01",112.36111349128265,112.36111349128265,112.36111349128265,0,null,"2024-07-01",6217.3566083114965,6116.757819781853,1.6446423333011939E-2]
[null,null,null,null,null,null,null,null,null,"2024-08-01",8,null,null,0,{"$f":"+IF(AND(M72=\"\",M73>0),2*($C$20/10*$C$21/10),IF(AND(M72>0,M73>0),2*($C$20/10*$C$21/10),IF(AND(M72>0,M73=\"\"),-(1-$E$16)*SUM(O$31:O72), IF(AND(M72=\"\", M73=\"\"), 0))))","v":0},0.34221708731367873,0.28466715655732777,14.239999999999998,null,"2024-08-01",0,0,3.4221708731367873E-3,2.8466715655732777E-3,0.14239999999999997,null,null,null,6258.6811130984815,1,18.895759724664376,1.1622042960654424,1.1332341321179349,132.69494188668807,6.4438227225291911E-3,131.70495767954574,100.75166814111212,null,"2024-08-01",112.68096867813443,112.68096867813443,112.68096867813443,0,null,"2024-08-01",6258.6811130984815,6155.1623989998379,1.6818193800291148E-2]
[null,null,null,null,null,null,null,null,null,"2024-09-01",9,null,null,0,{"$f":"+IF(AND(M73=\"\",M74>0),2*($C$20/10*$C$21/10),IF(AND(M73>0,M74>0),2*($C$20/10*$C$21/10),IF(AND(M73>0,M74=\"\"),-(1-$E$16)*SUM(O$31:O73), IF(AND(M73=\"\", M74=\"\"), 0))))","v":0},0.34221708731367873,0.28466715655732777,14.239999999999998,null,"2024-09-01",0,0,3.4221708731367873E-3,2.8466715655732777E-3,0.14239999999999997,null,null,null,6300.2764790469946,1,19.017515489807685,1.1661815577560719,1.1364600774989722,133.5499683273012,6.4435496067609677E-3,132.53187835053379,100.76818497514589,null,"2024-09-01",113.00173438765174,113.00173438765174,113.00173438765174,0,null,"2024-09-01",6300.2764790469946,6193.8081046034613,1.7189485474114363E-2]
[null,null,null,null,null,null,null,null,null,"2024-10-01",10,null,null,0,{"$f":"+IF(AND(M74=\"\",M75>0),2*($C$20/10*$C$21/10),IF(AND(M74>0,M75>0),2*($C$20/10*$C$21/10),IF(AND(M74>0,M75=\"\"),-(1-$E$16)*SUM(O$31:O74), IF(AND(M74=\"\", M75=\"\"), 0))))","v":0},0.34221708731367873,0.28466715655732777,14.239999999999998,null,"2024-10-01",0,0,3.4221708731367873E-3,2.8466715655732777E-3,0.14239999999999997,null,null,null,6342.1444629647976,1,19.140050609906545,1.1701724303158141,1.1396952060869976,134.41046776619768,6.4432769971729531E-3,133.36399091261049,100.78467721791029,null,"2024-10-01",113.32341321179354,113.32341321179354,113.32341321179354,0,null,"2024-10-01",6342.1444629647976,6232.6964505250462,1.7560298870407998E-2]
[null,null,null,null,null,null,null,null,null,"2024-11-01",11,null,null,0,{"$f":"+IF(AND(M75=\"\",M76>0),2*($C$20/10*$C$21/10),IF(AND(M75>0,M76>0),2*($C$20/10*$C$21/10),IF(AND(M75>0,M76=\"\"),-(1-$E$16)*SUM(O$31:O75), IF(AND(M75=\"\", M76=\"\"), 0))))","v":0},0.34221708731367873,0.28466715655732777,14.239999999999998,null,"2024-11-01",0,0,3.4221708731367873E-3,2.8466715655732777E-3,0.14239999999999997,null,null,null,6384.2868329647699,1,19.263370049631778,1.1741769603233885,1.1429395440235857,135.27647506763893,6.4430048926518158E-3,134.20132796350137,100.80114490702354,null,"2024-11-01",113.64600774989727,113.64600774989727,113.64600774989727,0,null,"2024-11-01",6384.2868329647699,6271.8289602022687,1.7930634504878862E-2]
[null,null,null,null,null,null,null,null,null,"2024-12-01",12,null,null,0,{"$f":"+IF(AND(M76=\"\",M77>0),2*($C$20/10*$C$21/10),IF(AND(M76>0,M77>0),2*($C$20/10*$C$21/10),IF(AND(M76>0,M77=\"\"),-(1-$E$16)*SUM(O$31:O76), IF(AND(M76=\"\", M77=\"\"), 0))))","v":0},0.34221708731367873,0.28466715655732777,14.239999999999998,null,"2024-12-01",0,0,3.4221708731367873E-3,2.8466715655732777E-3,0.14239999999999997,null,null,null,6426.7053685372312,1,19.387478805168147,1.1781951945169156,1.1461931175247269,136.14802531719207,6.4427332920773406E-3,135.04392230559955,100.81758808004255,null,"2024-12-01",113.96952060869982,113.96952060869982,113.96952060869982,0,null,"2024-12-01",6426.7053685372312,6311.2071666378361,1.8300492893014164E-2]
[null,null,null,null,null,null,null,null,null,"2025-01-01",1,null,null,0,{"$f":"+IF(AND(M77=\"\",M78>0),2*($C$20/10*$C$21/10),IF(AND(M77>0,M78>0),2*($C$20/10*$C$21/10),IF(AND(M77>0,M78=\"\"),-(1-$E$16)*SUM(O$31:O77), IF(AND(M77=\"\", M78=\"\"), 0))))","v":0},0.34221708731367873,0.28466715655732777,14.239999999999998,null,"2025-01-01",0,0,3.4221708731367873E-3,2.8466715655732777E-3,0.14239999999999997,null,null,null,6469.4018606227173,1,19.512381904414021,1.182227179794461,1.1494559528810402,137.0251538231322,6.4424621943406368E-3,135.89180694725073,100.8340067744639,null,"2025-01-01",114.29395440235862,114.29395440235862,114.29395440235862,0,null,"2025-01-01",6469.4018606227173,6350.8326124595405,1.8669874550079957E-2]
[null,null,null,null,null,null,null,null,null,"2025-02-01",2,null,null,0,{"$f":"+IF(AND(M78=\"\",M79>0),2*($C$20/10*$C$21/10),IF(AND(M78>0,M79>0),2*($C$20/10*$C$21/10),IF(AND(M78>0,M79=\"\"),-(1-$E$16)*SUM(O$31:O78), IF(AND(M78=\"\", M79=\"\"), 0))))","v":0},0.34221708731367873,0.28466715655732777,14.239999999999998,null,"2025-02-01",0,0,3.4221708731367873E-3,2.8466715655732777E-3,0.14239999999999997,null,null,null,6512.3781116852242,1,19.638084407182003,1.1862729632145843,1.1527280764579855,137.90789611785118,6.4421915983279288E-3,136.74501510404627,100.85040102772309,null,"2025-02-01",114.61931175247274,114.61931175247274,114.61931175247274,0,null,"2025-02-01",6512.3781116852242,6390.7068499806956,1.9038779991120469E-2]
[null,null,null,null,null,null,null,null,null,"2025-03-01",3,null,null,0,{"$f":"+IF(AND(M79=\"\",M80>0),2*($C$20/10*$C$21/10),IF(AND(M79>0,M80>0),2*($C$20/10*$C$21/10),IF(AND(M79>0,M80=\"\"),-(1-$E$16)*SUM(O$31:O79), IF(AND(M79=\"\", M80=\"\"), 0))))","v":0},0.34221708731367873,0.28466715655732777,14.239999999999998,null,"2025-03-01",0,0,3.4221708731367873E-3,2.8466715655732777E-3,0.14239999999999997,null,null,null,6555.6359357859155,1,19.764591405401102,{"$f":"+(1+W80)*AF79","v":1.190332591996887},1.1560095146960765,138.79628795927744,6.4419215029360988E-3,137.60358020012444,100.86677087719546,null,"2025-03-01",114.94559528810409,114.94559528810409,114.94559528810409,0,null,"2025-03-01",6555.6359357859155,6430.8314412609425,1.9407209730955444E-2]
[null,null,null,null,null,null,null,null,null,"2025-04-01",4,null,null,0,{"$f":"+IF(AND(M80=\"\",M81>0),2*($C$20/10*$C$21/10),IF(AND(M80>0,M81>0),2*($C$20/10*$C$21/10),IF(AND(M80>0,M81=\"\"),-(1-$E$16)*SUM(O$31:O80), IF(AND(M80=\"\", M81=\"\"), 0))))","v":0},0.34221708731367873,0.28466715655732777,14.239999999999998,null,"2025-04-01",0,0,3.4221708731367873E-3,2.8466715655732777E-3,0.14239999999999997,null,null,null,6599.1771586573004,1,19.891908023319939,1.1944061135225641,1.1593002941110939,139.69036533230297,6.4416519070586986E-3,138.46753586947975,100.88311636019571,null,"2025-04-01",115.27280764579862,115.27280764579862,115.27280764579862,0,null,"2025-04-01",6599.1771586573004,6471.2079581674461,1.9775164284179914E-2]
[null,null,null,null,null,null,null,null,null,"2025-05-01",5,null,null,0,{"$f":"+IF(AND(M81=\"\",M82>0),2*($C$20/10*$C$21/10),IF(AND(M81>0,M82>0),2*($C$20/10*$C$21/10),IF(AND(M81>0,M82=\"\"),-(1-$E$16)*SUM(O$31:O81), IF(AND(M81=\"\", M82=\"\"), 0))))","v":0},0.34221708731367873,0.28466715655732777,14.239999999999998,null,"2025-05-01",0,0,3.4221708731367873E-3,2.8466715655732777E-3,0.14239999999999997,null,null,null,6643.0036177778848,1,20.020039417711452,1.1984935753349575,1.1626004412943007,140.5901644502209,6.4413828095977177E-3,139.33691595728061,100.89943751397837,null,"2025-05-01",115.60095146960772,115.60095146960772,115.60095146960772,0,null,"2025-05-01",6643.0036177778848,6511.837982436472,2.0142644165163315E-2]
[null,null,null,null,null,null,null,null,null,"2025-06-01",6,null,null,0,{"$f":"+IF(AND(M82=\"\",M83>0),2*($C$20/10*$C$21/10),IF(AND(M82>0,M83>0),2*($C$20/10*$C$21/10),IF(AND(M82>0,M83=\"\"),-(1-$E$16)*SUM(O$31:O82), IF(AND(M82=\"\", M83=\"\"), 0))))","v":0},0.34221708731367873,0.28466715655732777,14.239999999999998,null,"2025-06-01",0,0,3.4221708731367873E-3,2.8466715655732777E-3,0.14239999999999997,null,null,null,6687.1171624472981,1,20.14899077807868,1.2025950251401103,1.1659099829126562,141.49572175617052,6.441114209452925E-3,140.21175452119516,100.91573437573757,null,"2025-06-01",115.93002941110947,115.93002941110947,115.93002941110947,0,null,"2025-06-01",6687.1171624472981,6552.7231057353511,2.0509649888046821E-2]
[null,null,null,null,null,null,null,null,null,"2025-07-01",7,null,null,0,{"$f":"+IF(AND(M83=\"\",M84>0),2*($C$20/10*$C$21/10),IF(AND(M83>0,M84>0),2*($C$20/10*$C$21/10),IF(AND(M83>0,M84=\"\"),-(1-$E$16)*SUM(O$31:O83), IF(AND(M83=\"\", M84=\"\"), 0))))","v":0},0.34221708731367873,0.28466715655732777,14.239999999999998,null,"2025-07-01",0,0,3.4221708731367873E-3,2.8466715655732777E-3,0.14239999999999997,null,null,null,6731.5196538618948,1,20.278767326862088,1.2067105108073239,1.1692289457090317,142.40707392459333,6.4408461055329713E-3,141.09208583272547,100.93200698260772,null,"2025-07-01",116.26004412943016,116.26004412943016,116.26004412943016,0,null,"2025-07-01",6731.5196538618948,6593.8649297248294,2.087618196674379E-2]
[null,null,null,null,null,null,null,null,null,"2025-08-01",8,null,null,0,{"$f":"+IF(AND(M84=\"\",M85>0),2*($C$20/10*$C$21/10),IF(AND(M84>0,M85>0),2*($C$20/10*$C$21/10),IF(AND(M84>0,M85=\"\"),-(1-$E$16)*SUM(O$31:O84), IF(AND(M84=\"\", M85=\"\"), 0))))","v":0},0.34221708731367873,0.28466715655732777,14.239999999999998,null,"2025-08-01",0,0,3.4221708731367873E-3,2.8466715655732777E-3,0.14239999999999997,null,null,null,6776.2129651908426,1,20.40937431964792,1.2108400803697168,1.1725573565024268,143.3242578626961,6.4405784967425106E-3,141.97794437855015,100.94825537166274,null,"2025-08-01",116.59099829126571,116.59099829126571,116.59099829126571,0,null,"2025-08-01",6776.2129651908426,6635.2650661218167,2.1242240914937094E-2]
[null,null,null,null,null,null,null,null,null,"2025-09-01",9,null,null,0,{"$f":"+IF(AND(M85=\"\",M86>0),2*($C$20/10*$C$21/10),IF(AND(M85>0,M86>0),2*($C$20/10*$C$21/10),IF(AND(M85>0,M86=\"\"),-(1-$E$16)*SUM(O$31:O85), IF(AND(M85=\"\", M86=\"\"), 0))))","v":0},0.34221708731367873,0.28466715655732777,14.239999999999998,null,"2025-09-01",0,0,3.4221708731367873E-3,2.8466715655732777E-3,0.14239999999999997,null,null,null,6821.1989816526911,1,20.540817045378169,1.2149837820247846,1.1758952421881861,144.24731071192537,6.4403113819961888E-3,142.86936486187525,100.96447957991714,null,"2025-09-01",116.92289457090325,116.92289457090325,116.92289457090325,0,null,"2025-09-01",6821.1989816526911,6676.9251367625229,2.1607827246079125E-2]
[null,null,null,null,null,null,null,null,null,"2025-10-01",10,null,null,0,{"$f":"+IF(AND(M86=\"\",M87>0),2*($C$20/10*$C$21/10),IF(AND(M86>0,M87>0),2*($C$20/10*$C$21/10),IF(AND(M86>0,M87=\"\"),-(1-$E$16)*SUM(O$31:O86), IF(AND(M86=\"\", M87=\"\"), 0))))","v":0},0.34221708731367873,0.28466715655732777,14.239999999999998,null,"2025-10-01",0,0,3.4221708731367873E-3,2.8466715655732777E-3,0.14239999999999997,null,null,null,6866.4796005924309,1,20.673100826561615,1.2191416641349635,1.1792426297382161,145.17626984944957,6.4400447602064315E-3,143.76638220379397,100.98067964432535,null,"2025-10-01",117.25573565024277,117.25573565024277,117.25573565024277,0,null,"2025-10-01",6866.4796005924309,6718.8467736659913,2.197294147339024E-2]
[null,null,null,null,null,null,null,null,null,"2025-11-01",11,null,null,0,{"$f":"+IF(AND(M87=\"\",M88>0),2*($C$20/10*$C$21/10),IF(AND(M87>0,M88>0),2*($C$20/10*$C$21/10),IF(AND(M87>0,M88=\"\"),-(1-$E$16)*SUM(O$31:O87), IF(AND(M87=\"\", M88=\"\"), 0))))","v":0},0.34221708731367873,0.28466715655732777,14.239999999999998,null,"2025-11-01",0,0,3.4221708731367873E-3,2.8466715655732777E-3,0.14239999999999997,null,null,null,6912.0567315590379,1,20.806231019486368,1.2233137752281937,1.1825995462012038,146.1111728896515,6.4397786302916593E-3,144.66903154465436,100.99685560178233,null,"2025-11-01",117.5895242188187,117.5895242188187,117.5895242188187,0,null,"2025-11-01",6912.0567315590379,6761.0316190980375,2.2337584109856312E-2]
[null,null,null,null,null,null,null,null,null,"2025-12-01",12,null,null,0,{"$f":"+IF(AND(M88=\"\",M89>0),2*($C$20/10*$C$21/10),IF(AND(M88>0,M89>0),2*($C$20/10*$C$21/10),IF(AND(M88>0,M89=\"\"),-(1-$E$16)*SUM(O$31:O88), IF(AND(M88=\"\", M89=\"\"), 0))))","v":0},0.34221708731367873,0.28466715655732777,14.239999999999998,null,"2025-12-01",0,0,3.4221708731367873E-3,2.8466715655732777E-3,0.14239999999999997,null,null,null,6957.9322963835211,1,20.940213014433656,1.2275001639984866,1.1859660187028347,147.05205768562965,6.4395129911709592E-3,145.57734824543621,101.01300748912334,null,"2025-12-01",117.9242629738217,117.9242629738217,117.9242629738217,0,null,"2025-12-01",6957.9322963835211,6803.4813256355783,2.270175566822985E-2]
[]
[]
[]
[]
[]
[null,null,null,null,null,null,null,null,null,null,null,null,null,null,null,null,null,null,null,null,null,null,null,null,null,null,null,null,"MACROECONOMIC AGGREGATES"]
[null,null,null,null,null,null,null,null,null,null,null,null,null,null,null,null,null,null,null,null,null,null,null,null,null,null,null,null,"Capital stock","Labor input","Investment","Productivity Index","Employment Index","GDP",null,"GDP Trend","Detrended GDP"]
[null,null,null,null,null,null,null,null,null,null,null,null,null,null,null,null,null,null,null,null,null,null,null,null,null,null,null,null,"Kt","(1-Qt)","It","Zt = (1+nZ,t) Zt-1","Et = (1+nE,t) Et-1","Yt"]
[null,null,null,null,null,null,null,null,null,null,null,null,null,null,null,null,null,null,null,null,null,null,null,null,null,null,null,null,null,null,null,null,null,null,null,null,null,null,null,2018,2019,2020,2021,2022,2023,2024,2025]
[null,null,null,null,null,null,null,null,null,null,null,null,null,null,null,null,null,null,null,null,null,null,null,null,null,null,null,null,{"$f":"+AC29","v":4673.447763428997},null,{"$f":"+($F$6/100)*AH99","v":165.13621873754073},null,{"$f":"+AN29","v":100},{"$f":"+$F$10","v":1159.6644574265501},null,{"$f":"+AH99","v":1159.6644574265501},{"$f":"+(AH99/AJ99)*100","v":100},null,null,0,0,{"$f":"AVERAGE(AQ30:AQ41)","v":0},{"$f":"AVERAGE(AQ30:AQ41)","v":0},{"$f":"AVERAGE(AQ42:AQ53)","v":0},{"$f":"AVERAGE(AQ54:AQ65)","v":0},{"$f":"AVERAGE(AQ66:AQ77)","v":0},{"$f":"AVERAGE(AQ78:AQ89)","v":0}]
[null,null,null,null,null,null,null,null,null,null,null,null,null,null,null,null,null,null,null,null,null,null,null,null,null,null,null,null,{"$f":"+AC41","v":5061.5606301384032},null,{"$f":"+SUM(AE30:AE41)","v":178.2221323219529},null,{"$f":"+AN41","v":102.88341569218822},{"$f":"+SUM(AH30:AH41)","v":1251.5599179912429},null,{"$f":"+SUM(AJ30:AJ41)","v":1250.1182851058315},100.11531971834884]
[null,null,null,null,null,null,null,null,null,null,null,null,null,null,null,null,null,null,null,null,null,null,null,null,null,null,null,null,{"$f":"+AC53","v":5481.3984078521053},null,{"$f":"+SUM(AE42:AE53)","v":192.52236640032032},null,{"$f":"+AN53","v":106.45347021670715},{"$f":"+SUM(AH42:AH53)","v":1351.9829101146092},null,{"$f":"+SUM(AJ42:AJ53)","v":1347.6275113440854},100.32319010511887]
[null,null,null,null,null,null,null,null,null,null,null,null,null,null,null,null,null,null,null,null,null,null,null,null,null,null,null,null,{"$f":"+AC65","v":5935.523956558176},null,{"$f":"+SUM(AE54:AE65)","v":207.96150480986387},null,{"$f":"+AN65","v":110.14740563322685},{"$f":"+SUM(AH54:AH65)","v":1460.4038259119657},null,{"$f":"+SUM(AJ54:AJ65)","v":1452.7424572289228},100.52737280754201]
[null,null,null,null,null,null,null,null,null,null,null,null,null,null,null,null,null,null,null,null,null,null,null,null,null,null,null,null,{"$f":"+AC77","v":6426.7053685372312},null,{"$f":"+SUM(AE66:AE77)","v":224.62976894049044},null,{"$f":"+AN77","v":113.96952060869982},{"$f":"+SUM(AH66:AH77)","v":1577.4562425596241},null,{"$f":"+SUM(AJ66:AJ77)","v":1566.0563688927778},100.72793507904866]
[null,null,null,null,null,null,null,null,null,null,null,null,null,null,null,null,null,null,null,null,null,null,null,null,null,null,null,null,{"$f":"+AC89","v":6957.9322963835211},null,{"$f":"+SUM(AE78:AE89)","v":242.62449948847703},null,{"$f":"+AN89","v":117.9242629738217},{"$f":"+SUM(AH78:AH89)","v":1703.8237323629007},null,{"$f":"+SUM(AJ78:AJ89)","v":1688.2087656664125},100.92494287519733]

{"sheet":"PF - annual estimates","index":27,"n_rows":29,"n_cols":15,"rows_kept":29,"cut":false,"hidden":true,"merged":[[5,1,5,8],[6,11,6,12],[8,13,9,15],[20,1,20,8],[21,10,22,10],[21,11,22,11],[21,12,22,12],[21,14,22,14]]}
["Annual Estimates"]
[]
[]
["Levels"]
[]
[null,"MACROECONOMIC AGGREGATES"]
[null,"Capital stock","Labor input","Investment","Productivity Index","Employment Index","GDP","GDP Trend","Detrended GDP",null,null,"Country's Real GDP"]
[null,"Kt","(1-Qt)","It","Zt = (1+nZ,t) Zt-1","Et = (1+nE,t) Et-1","Yt",null,null,null,null,"GDP(PF)","Pre-Covid-19 Trend"]
[2020,{"$f":"+'PF - monthly estimates'!AC99","v":4673.447763428997},null,{"$f":"+'PF - monthly estimates'!AE99","v":165.13621873754073},null,null,{"$f":"+'PF - monthly estimates'!AH99","v":1159.6644574265501},{"$f":"+'PF - monthly estimates'!AJ99","v":1159.6644574265501},{"$f":"+'PF - monthly estimates'!AK99","v":100},null,{"$f":"A9","v":2020},305543.37453443964,305543.37453443964,"Instruction IV. Link to the 2019 real GDP for your country"]
[{"$f":"A9+1","v":2021},{"$f":"+'PF - monthly estimates'!AC100","v":5061.5606301384032},null,{"$f":"+'PF - monthly estimates'!AE100","v":178.2221323219529},null,null,{"$f":"+'PF - monthly estimates'!AH100","v":1251.5599179912429},{"$f":"+'PF - monthly estimates'!AJ100","v":1250.1182851058315},{"$f":"+'PF - monthly estimates'!AK100","v":100.11531971834884},null,{"$f":"A10","v":2021},{"$f":"+L9*(1+G25/100)","v":329755.5929442732},329375.7577481257]
[{"$f":"A10+1","v":2022},{"$f":"+'PF - monthly estimates'!AC101","v":5481.3984078521053},null,{"$f":"+'PF - monthly estimates'!AE101","v":192.52236640032032},null,null,{"$f":"+'PF - monthly estimates'!AH101","v":1351.9829101146092},{"$f":"+'PF - monthly estimates'!AJ101","v":1347.6275113440854},{"$f":"+'PF - monthly estimates'!AK101","v":100.32319010511887},null,2022,356214.60847908555,355067.06685247924]
[2023,{"$f":"+'PF - monthly estimates'!AC102","v":5935.523956558176},null,{"$f":"+'PF - monthly estimates'!AE102","v":207.96150480986387},null,null,{"$f":"+'PF - monthly estimates'!AH102","v":1460.4038259119657},{"$f":"+'PF - monthly estimates'!AJ102","v":1452.7424572289228},{"$f":"+'PF - monthly estimates'!AK102","v":100.52737280754201},null,2023,384780.88234450395,382762.29806697235]
[2024,{"$f":"+'PF - monthly estimates'!AC103","v":6426.7053685372312},null,{"$f":"+'PF - monthly estimates'!AE103","v":224.62976894049044},null,null,{"$f":"+'PF - monthly estimates'!AH103","v":1577.4562425596241},{"$f":"+'PF - monthly estimates'!AJ103","v":1566.0563688927778},{"$f":"+'PF - monthly estimates'!AK103","v":100.72793507904866},null,2024,415621.34671408823,412617.7573161957]
[2025,{"$f":"+'PF - monthly estimates'!AC104","v":6957.9322963835211},null,{"$f":"+'PF - monthly estimates'!AE104","v":242.62449948847703},null,null,{"$f":"+'PF - monthly estimates'!AH104","v":1703.8237323629007},{"$f":"+'PF - monthly estimates'!AJ104","v":1688.2087656664125},{"$f":"+'PF - monthly estimates'!AK104","v":100.92494287519733},null,2025,448916.10626170936,444801.94238685846]
[]
[]
[]
[]
["Growth Rates"]
[]
[null,"MACROECONOMIC AGGREGATES"]
[null,"Capital stock","Labor input","Investment","Productivity Index","Employment Index","GDP","GDP Trend","Detrended GDP",null,null,"GDPIPF) ","Pre-Covid-19 Trend",null,"Deviation from trend"]
[null,"Kt","(1-Qt)","It","Zt = (1+nZ,t) Zt-1","Et = (1+nE,t) Et-1","Yt"]
[{"$f":"A9","v":2020},null,null,null,null,null,3,{"$f":"+G24","v":3},{"$f":"+((G9-H9)/H9)*100","v":0},null,{"$f":"A24","v":2020},{"$f":"+G24","v":3},3,null,{"$f":"+I24","v":0}]
[{"$f":"A10","v":2021},{"$f":"+((B10/B9)-1)*100","v":8.3046368838546769},null,{"$f":"+((D10/D9)-1)*100","v":7.9243146563809042},null,null,{"$f":"+((G10/G9)-1)*100","v":7.9243146563809486},{"$f":"+(H11/H10-1)*100","v":7.7999999999999181},0.11531971834883323,null,{"$f":"A25","v":2021},7.9243146563809486,7.7999999999999181,null,0.11531971834883323]
[2022,{"$f":"+((B11/B10)-1)*100","v":8.294631011902398},null,{"$f":"+((D11/D10)-1)*100","v":8.0238261612393345},null,null,{"$f":"+((G11/G10)-1)*100","v":8.0238261612392883},{"$f":"+(H12/H11-1)*100","v":7.7999999999999181},0.32319010511887541,null,2022,8.0238261612392883,7.7999999999999181,null,0.32319010511887541]
[2023,{"$f":"+((B12/B11)-1)*100","v":8.2848484075803697},null,{"$f":"+((D12/D11)-1)*100","v":8.0193998745269113},null,null,{"$f":"+((G12/G11)-1)*100","v":8.0193998745269326},{"$f":"+(H13/H12-1)*100","v":7.7999999999999181},0.527372807542002,null,2023,8.0193998745269326,7.7999999999999181,null,0.527372807542002]
[2024,{"$f":"+((B13/B12)-1)*100","v":8.275283118625909},null,{"$f":"+((D13/D12)-1)*100","v":8.0150718979775206},null,null,{"$f":"+((G13/G12)-1)*100","v":8.0150718979775206},{"$f":"+(H14/H13-1)*100","v":7.7999999999998737},0.72793507904866916,null,2024,8.0150718979775206,7.7999999999998737,null,0.72793507904866916]
[2025,{"$f":"+((B14/B13)-1)*100","v":8.2659293896835564},null,{"$f":"+((D14/D13)-1)*100","v":8.0108396286307837},null,null,{"$f":"+((G14/G13)-1)*100","v":8.0108396286307837},{"$f":"+(H14/H13-1)*100","v":7.7999999999998737},0.92494287519732465,null,2025,8.0108396286307837,7.7999999999998737,null,0.92494287519732465]

{"sheet":"index_containmenthealth","index":28,"n_rows":352,"n_cols":172,"rows_kept":352,"cut":false,"hidden":true,"merged":[[1,0,1,163],[2,168,2,171],[8,166,8,169],[9,166,9,169]]}
[]
["Containment-Health Index"]
[null,null,null,null,null,null,null,null,null,null,null,null,null,null,null,null,null,null,null,null,null,null,null,null,null,null,null,null,null,null,null,null,null,null,null,null,null,null,null,null,null,null,null,null,null,null,null,null,null,null,null,null,null,null,null,null,null,null,null,null,null,null,null,null,null,null,null,null,null,null,null,null,null,null,null,null,null,null,null,null,null,null,null,null,null,null,null,null,null,null,null,null,null,null,null,null,null,null,null,null,null,null,null,null,null,null,null,null,null,null,null,null,null,null,null,null,null,null,null,null,null,null,null,null,null,null,null,null,null,null,null,null,null,null,null,null,null,null,null,null,null,null,null,null,null,null,null,null,null,null,null,null,null,null,null,null,null,null,null,null,null,null,null,null,null,null,null,null,"Annual growth rate of employment"]
["CountryName","Group","CountryCode","01jan2020","02jan2020","03jan2020","04jan2020","05jan2020","06jan2020","07jan2020","08jan2020","09jan2020","10jan2020","11jan2020","12jan2020","13jan2020","14jan2020","15jan2020","16jan2020","17jan2020","18jan2020","19jan2020","20jan2020","21jan2020","22jan2020","23jan2020","24jan2020","25jan2020","26jan2020","27jan2020","28jan2020","29jan2020","30jan2020","31jan2020","01feb2020","02feb2020","03feb2020","04feb2020","05feb2020","06feb2020","07feb2020","08feb2020","09feb2020","10feb2020","11feb2020","12feb2020","13feb2020","14feb2020","15feb2020","16feb2020","17feb2020","18feb2020","19feb2020","20feb2020","21feb2020","22feb2020","23feb2020","24feb2020","25feb2020","26feb2020","27feb2020","28feb2020","29feb2020","01mar2020","02mar2020","03mar2020","04mar2020","05mar2020","06mar2020","07mar2020","08mar2020","09mar2020","10mar2020","11mar2020","12mar2020","13mar2020","14mar2020","15mar2020","16mar2020","17mar2020","18mar2020","19mar2020","20mar2020","21mar2020","22mar2020","23mar2020","24mar2020","25mar2020","26mar2020","27mar2020","28mar2020","29mar2020","30mar2020","31mar2020","01apr2020","02apr2020","03apr2020","04apr2020","05apr2020","06apr2020","07apr2020","08apr2020","09apr2020","10apr2020","11apr2020","12apr2020","13apr2020","14apr2020","15apr2020","16apr2020","17apr2020","18apr2020","19apr2020","20apr2020","21apr2020","22apr2020","23apr2020","24apr2020","25apr2020","26apr2020","27apr2020","28apr2020","29apr2020","30apr2020","01may2020","02may2020","03may2020","04may2020","05may2020","06may2020","07may2020","08may2020","09may2020","10may2020","11may2020","12may2020","13may2020","14may2020","15may2020","16may2020","17may2020","18may2020","19may2020","20may2020","21may2020","22may2020","23may2020","24may2020","25may2020","26may2020","27may2020","28may2020","29may2020","30may2020","31may2020","01jun2020","02jun2020","03jun2020","04jun2020","05jun2020","06jun2020","07jun2020"]
["Afghanistan","EME","AFG",0,0,0,0,0,0,0,0,0,0,0,0,0,0,0,0,0,0,0,0,0,0,0,0,0,0,0,0,0,0,0,0,0,0,0,0,0,0,0,0,0,0,0,0,0,0,0,0,0,0,0,0,0,3.0299999713897705,7.5799999237060547,7.5799999237060547,7.5799999237060547,7.5799999237060547,7.5799999237060547,7.5799999237060547,23.479999542236328,25.760000228881836,25.760000228881836,25.760000228881836,25.760000228881836,25.760000228881836,25.760000228881836,25.760000228881836,25.760000228881836,25.760000228881836,25.760000228881836,25.760000228881836,25.760000228881836,34.849998474121094,34.849998474121094,34.849998474121094,34.849998474121094,37.119998931884766,37.119998931884766,37.119998931884766,37.119998931884766,37.119998931884766,37.119998931884766,44.700000762939453,51.520000457763672,51.520000457763672,51.520000457763672,58.330001831054688,58.330001831054688,58.330001831054688,58.330001831054688,58.330001831054688,58.330001831054688,58.330001831054688,58.330001831054688,67.419998168945313,67.419998168945313,67.419998168945313,67.419998168945313,67.419998168945313,67.419998168945313,67.419998168945313,71.970001220703125,71.970001220703125,71.970001220703125,71.970001220703125,71.970001220703125,71.970001220703125,71.970001220703125,71.970001220703125,71.970001220703125,71.970001220703125,71.970001220703125,71.970001220703125,71.970001220703125,71.970001220703125,76.519996643066406,76.519996643066406,76.519996643066406,76.519996643066406,76.519996643066406,76.519996643066406,76.519996643066406,76.519996643066406,76.519996643066406,76.519996643066406,76.519996643066406,76.519996643066406,76.519996643066406,76.519996643066406,76.519996643066406,76.519996643066406,76.519996643066406,76.519996643066406,76.519996643066406,76.519996643066406,76.519996643066406,76.519996643066406,76.519996643066406,76.519996643066406,76.519996643066406,76.519996643066406,76.519996643066406,76.519996643066406,76.519996643066406,76.519996643066406,76.519996643066406,76.519996643066406,76.519996643066406,76.519996643066406,76.519996643066406,76.519996643066406,76.519996643066406,76.519996643066406,76.519996643066406,76.519996643066406,76.519996643066406,null,null,null,{"$f":"+AVERAGE(D5:EY5)","v":37.127433483537878},null,null,null,null,null,null,"Calibration"]
["Albania","EME","ALB",0,0,0,0,0,0,0,0,0,0,0,0,0,0,0,0,0,0,0,0,0,0,0,0,0,0,0,0,0,0,0,0,0,0,0,0,0,0,0,0,0,0,0,0,4.5500001907348633,4.5500001907348633,4.5500001907348633,4.5500001907348633,4.5500001907348633,4.5500001907348633,4.5500001907348633,4.5500001907348633,4.5500001907348633,4.5500001907348633,4.5500001907348633,6.820000171661377,6.820000171661377,6.820000171661377,6.820000171661377,6.820000171661377,6.820000171661377,6.820000171661377,6.820000171661377,6.820000171661377,6.820000171661377,6.820000171661377,6.820000171661377,14.390000343322754,37.119998931884766,41.669998168945313,50,50,71.970001220703125,71.970001220703125,74.239997863769531,74.239997863769531,74.239997863769531,74.239997863769531,74.239997863769531,74.239997863769531,74.239997863769531,74.239997863769531,76.519996643066406,76.519996643066406,76.519996643066406,76.519996643066406,76.519996643066406,76.519996643066406,76.519996643066406,76.519996643066406,76.519996643066406,76.519996643066406,76.519996643066406,76.519996643066406,76.519996643066406,76.519996643066406,76.519996643066406,76.519996643066406,76.519996643066406,76.519996643066406,76.519996643066406,76.519996643066406,76.519996643066406,76.519996643066406,76.519996643066406,76.519996643066406,76.519996643066406,76.519996643066406,81.05999755859375,81.05999755859375,81.05999755859375,84.089996337890625,84.089996337890625,84.089996337890625,84.089996337890625,84.089996337890625,84.089996337890625,84.089996337890625,84.089996337890625,84.089996337890625,84.089996337890625,84.089996337890625,84.089996337890625,84.089996337890625,84.089996337890625,84.089996337890625,84.089996337890625,84.089996337890625,84.089996337890625,84.089996337890625,84.089996337890625,84.089996337890625,84.089996337890625,84.089996337890625,84.089996337890625,84.089996337890625,84.089996337890625,84.089996337890625,78.790000915527344,78.790000915527344,78.790000915527344,78.790000915527344,78.790000915527344,78.790000915527344,78.790000915527344,78.790000915527344,82.580001831054688,82.580001831054688,82.580001831054688,82.580001831054688,82.580001831054688,82.580001831054688,67.419998168945313,67.419998168945313,67.419998168945313,67.419998168945313,null,null,null,null,44.025393498571297,null,null,"If stringency = min_S/max_S =  0/100 = 0","nE(0)",2.8000000000000001E-2,null,"A",{"$f":"+FM6-1","v":-0.97199999999999998}]
["Algeria","EME","DZA",0,0,0,0,0,0,0,0,0,0,0,0,0,0,0,0,0,0,0,0,0,0,0,0,0,0,0,0,0,0,0,0,0,0,0,0,0,0,0,0,0,0,0,0,0,0,0,0,0,0,0,0,0,0,0,0,0,0,0,0,0,0,0,0,4.5500001907348633,4.5500001907348633,4.5500001907348633,4.5500001907348633,4.5500001907348633,13.640000343322754,13.640000343322754,25,25,29.549999237060547,29.549999237060547,29.549999237060547,29.549999237060547,29.549999237060547,29.549999237060547,29.549999237060547,29.549999237060547,29.549999237060547,59.090000152587891,59.090000152587891,59.090000152587891,59.090000152587891,59.090000152587891,59.090000152587891,59.090000152587891,68.55999755859375,68.55999755859375,68.55999755859375,68.55999755859375,68.55999755859375,68.55999755859375,68.55999755859375,68.55999755859375,68.55999755859375,68.55999755859375,68.55999755859375,68.55999755859375,68.55999755859375,68.55999755859375,68.55999755859375,73.110000610351563,73.110000610351563,73.110000610351563,73.110000610351563,73.110000610351563,73.110000610351563,73.110000610351563,73.110000610351563,73.110000610351563,73.110000610351563,68.55999755859375,68.55999755859375,68.55999755859375,68.55999755859375,68.55999755859375,68.55999755859375,68.55999755859375,68.55999755859375,68.55999755859375,68.55999755859375,68.55999755859375,68.55999755859375,68.55999755859375,68.55999755859375,68.55999755859375,68.55999755859375,68.55999755859375,68.55999755859375,68.55999755859375,68.55999755859375,68.55999755859375,68.55999755859375,68.55999755859375,68.55999755859375,68.55999755859375,68.55999755859375,68.55999755859375,68.55999755859375,68.55999755859375,68.55999755859375,68.55999755859375,68.55999755859375,68.55999755859375,68.55999755859375,68.55999755859375,68.55999755859375,68.55999755859375,68.55999755859375,68.55999755859375,68.55999755859375,68.55999755859375,null,null,null,null,null,33.84467021415108,null,null,"If stringency = max_S/max_S =  100/100 = 1","nE(1)",-0.03,null,"C",{"$f":"+(1/(1+FP6-FM7))-1","v":16.241379310344822}]
["Andorra","EME","AND",0,0,0,0,0,0,0,0,0,0,0,0,0,0,0,0,0,0,0,0,0,0,0,0,0,0,0,0,0,0,0,0,0,0,0,0,0,0,0,0,0,0,0,0,0,0,0,0,0,0,0,0,0,0,0,0,0,0,0,0,0,3.0299999713897705,3.0299999713897705,3.0299999713897705,3.0299999713897705,3.0299999713897705,3.0299999713897705,3.0299999713897705,3.0299999713897705,3.0299999713897705,3.0299999713897705,3.0299999713897705,10.609999656677246,19.700000762939453,19.700000762939453,28.790000915527344,28.790000915527344,28.790000915527344,28.790000915527344,28.790000915527344,28.790000915527344,28.790000915527344,28.790000915527344,28.790000915527344,42.419998168945313,42.419998168945313,46.970001220703125,46.970001220703125,46.970001220703125,46.970001220703125,46.970001220703125,46.970001220703125,46.970001220703125,46.970001220703125,46.970001220703125,46.970001220703125,46.970001220703125,46.970001220703125,53.790000915527344,53.790000915527344,53.790000915527344,53.790000915527344,53.790000915527344,53.790000915527344,53.790000915527344,53.790000915527344,53.790000915527344,53.790000915527344,59.849998474121094,59.849998474121094,56.819999694824219,56.819999694824219,56.819999694824219,56.819999694824219,56.819999694824219,56.819999694824219,56.819999694824219,56.819999694824219,56.819999694824219,56.819999694824219,56.819999694824219,56.819999694824219,56.819999694824219,56.819999694824219,56.819999694824219,56.819999694824219,56.819999694824219,56.819999694824219,56.819999694824219,56.819999694824219,56.819999694824219,54.549999237060547,54.549999237060547,54.549999237060547,54.549999237060547,54.549999237060547,54.549999237060547,54.549999237060547,54.549999237060547,54.549999237060547,54.549999237060547,54.549999237060547,54.549999237060547,54.549999237060547,54.549999237060547,54.549999237060547,54.549999237060547,54.549999237060547,54.549999237060547,54.549999237060547,54.549999237060547,54.549999237060547,null,null,null,null,null,null,null,null,26.232236866888247]
["Angola","EME","AGO",0,0,0,0,0,0,0,0,0,0,0,0,0,0,0,0,0,0,0,0,0,0,0,0,0,0,0,0,0,0,0,0,0,0,0,0,4.5500001907348633,4.5500001907348633,4.5500001907348633,4.5500001907348633,4.5500001907348633,4.5500001907348633,4.5500001907348633,4.5500001907348633,4.5500001907348633,4.5500001907348633,4.5500001907348633,4.5500001907348633,4.5500001907348633,4.5500001907348633,4.5500001907348633,4.5500001907348633,4.5500001907348633,4.5500001907348633,4.5500001907348633,4.5500001907348633,7.5799999237060547,7.5799999237060547,7.5799999237060547,7.5799999237060547,9.8500003814697266,9.8500003814697266,9.8500003814697266,9.8500003814697266,9.8500003814697266,9.8500003814697266,9.8500003814697266,9.8500003814697266,9.8500003814697266,9.8500003814697266,9.8500003814697266,9.8500003814697266,9.8500003814697266,9.8500003814697266,9.8500003814697266,9.8500003814697266,9.8500003814697266,9.8500003814697266,9.8500003814697266,12.119999885559082,12.119999885559082,12.119999885559082,12.119999885559082,30.299999237060547,30.299999237060547,30.299999237060547,77.269996643066406,77.269996643066406,77.269996643066406,77.269996643066406,77.269996643066406,80.300003051757813,80.300003051757813,80.300003051757813,80.300003051757813,80.300003051757813,80.300003051757813,80.300003051757813,80.300003051757813,80.300003051757813,80.300003051757813,80.300003051757813,80.300003051757813,80.300003051757813,80.300003051757813,80.300003051757813,80.300003051757813,80.300003051757813,80.300003051757813,80.300003051757813,80.300003051757813,80.300003051757813,80.300003051757813,70.449996948242188,70.449996948242188,70.449996948242188,70.449996948242188,70.449996948242188,70.449996948242188,70.449996948242188,70.449996948242188,70.449996948242188,70.449996948242188,70.449996948242188,70.449996948242188,70.449996948242188,70.449996948242188,70.449996948242188,68.180000305175781,68.180000305175781,68.180000305175781,68.180000305175781,68.180000305175781,68.180000305175781,68.180000305175781,68.180000305175781,68.180000305175781,72.730003356933594,72.730003356933594,72.730003356933594,72.730003356933594,72.730003356933594,72.730003356933594,72.730003356933594,72.730003356933594,72.730003356933594,69.699996948242188,69.699996948242188,69.699996948242188,69.699996948242188,69.699996948242188,69.699996948242188,69.699996948242188,69.699996948242188,69.699996948242188,69.699996948242188,null,null,null,null,35.157500179190386,null,null,"BOX"]
["Argentina","EME","ARG",0,0,0,0,0,0,0,0,0,0,0,0,0,0,0,0,0,0,0,0,0,0,9.0900001525878906,9.0900001525878906,9.0900001525878906,9.0900001525878906,9.0900001525878906,9.0900001525878906,9.0900001525878906,9.0900001525878906,9.0900001525878906,9.0900001525878906,9.0900001525878906,9.0900001525878906,9.0900001525878906,9.0900001525878906,9.0900001525878906,9.0900001525878906,9.0900001525878906,9.0900001525878906,9.0900001525878906,9.0900001525878906,9.0900001525878906,9.0900001525878906,9.0900001525878906,9.0900001525878906,9.0900001525878906,9.0900001525878906,9.0900001525878906,9.0900001525878906,9.0900001525878906,9.0900001525878906,9.0900001525878906,9.0900001525878906,9.0900001525878906,9.0900001525878906,9.0900001525878906,9.0900001525878906,9.0900001525878906,9.0900001525878906,9.0900001525878906,9.0900001525878906,9.0900001525878906,21.209999084472656,21.209999084472656,21.209999084472656,21.209999084472656,21.209999084472656,21.209999084472656,21.209999084472656,32.580001831054688,32.580001831054688,32.580001831054688,32.580001831054688,32.580001831054688,46.209999084472656,46.209999084472656,46.209999084472656,73.480003356933594,84.849998474121094,84.849998474121094,84.849998474121094,93.94000244140625,93.94000244140625,93.94000244140625,93.94000244140625,93.94000244140625,93.94000244140625,93.94000244140625,93.94000244140625,93.94000244140625,93.94000244140625,93.94000244140625,93.94000244140625,93.94000244140625,93.94000244140625,93.94000244140625,93.94000244140625,93.94000244140625,93.94000244140625,93.94000244140625,93.94000244140625,93.94000244140625,93.94000244140625,93.94000244140625,93.94000244140625,93.94000244140625,93.94000244140625,93.94000244140625,93.94000244140625,93.94000244140625,93.94000244140625,93.94000244140625,93.94000244140625,93.94000244140625,93.94000244140625,93.94000244140625,81.819999694824219,81.819999694824219,81.819999694824219,81.819999694824219,81.819999694824219,81.819999694824219,81.819999694824219,81.819999694824219,81.819999694824219,81.819999694824219,81.819999694824219,81.819999694824219,81.819999694824219,81.819999694824219,86.360000610351563,86.360000610351563,86.360000610351563,86.360000610351563,86.360000610351563,86.360000610351563,86.360000610351563,86.360000610351563,86.360000610351563,86.360000610351563,86.360000610351563,86.360000610351563,86.360000610351563,86.360000610351563,86.360000610351563,86.360000610351563,86.360000610351563,86.360000610351563,null,null,null,null,null,null,null,null,null,null,null,47.909933538244871,null,null,"Stringency index and employment rate of growth"]
["Aruba","EME","ABW",0,0,0,0,0,0,0,0,0,0,0,0,0,0,0,0,0,0,0,0,0,0,0,0,0,0,0,0,0,0,0,0,0,0,0,0,0,0,0,0,0,0,0,0,0,0,0,0,0,0,0,0,0,0,0,0,0,0,0,0,0,0,0,0,0,0,0,0,0,3.0299999713897705,3.0299999713897705,3.0299999713897705,3.0299999713897705,3.0299999713897705,9.8500003814697266,18.940000534057617,18.940000534057617,28.030000686645508,32.580001831054688,32.580001831054688,41.669998168945313,41.669998168945313,41.669998168945313,41.669998168945313,41.669998168945313,41.669998168945313,41.669998168945313,41.669998168945313,75,75,75,75,75,75,75,75,75,75,75,75,78.029998779296875,75,78.029998779296875,78.029998779296875,75,75,75,75,77.269996643066406,77.269996643066406,75,75,75,75,75,75,75,75,75,75,75,75,75,75,71.970001220703125,71.970001220703125,71.970001220703125,71.970001220703125,71.970001220703125,71.970001220703125,71.970001220703125,71.970001220703125,71.970001220703125,71.970001220703125,71.970001220703125,71.970001220703125,71.970001220703125,71.970001220703125,44.700000762939453,44.700000762939453,44.700000762939453,44.700000762939453,44.700000762939453,44.700000762939453,44.700000762939453,44.700000762939453,44.700000762939453,44.700000762939453,41.669998168945313,41.669998168945313,41.669998168945313,41.669998168945313,41.669998168945313,null,null,null,null,null,null,null,31.738947355433513,null,null,"Lockdown stringency","annual","monthly"]
["Australia","AE","AUS",0,0,0,0,0,0,0,0,0,0,0,0,0,0,0,0,0,0,0,0,0,0,0,0,18.940000534057617,18.940000534057617,18.940000534057617,18.940000534057617,18.940000534057617,18.940000534057617,18.940000534057617,25.760000228881836,25.760000228881836,28.030000686645508,28.030000686645508,28.030000686645508,28.030000686645508,28.030000686645508,28.030000686645508,28.030000686645508,28.030000686645508,28.030000686645508,28.030000686645508,28.030000686645508,28.030000686645508,28.030000686645508,28.030000686645508,28.030000686645508,28.030000686645508,28.030000686645508,28.030000686645508,28.030000686645508,28.030000686645508,28.030000686645508,28.030000686645508,28.030000686645508,28.030000686645508,28.030000686645508,28.030000686645508,28.030000686645508,28.030000686645508,28.030000686645508,28.030000686645508,28.030000686645508,28.030000686645508,28.030000686645508,28.030000686645508,28.030000686645508,28.030000686645508,28.030000686645508,28.030000686645508,28.030000686645508,28.030000686645508,28.030000686645508,28.030000686645508,34.849998474121094,34.849998474121094,39.389999389648438,46.209999084472656,48.479999542236328,48.479999542236328,48.479999542236328,48.479999542236328,60.229999542236328,60.229999542236328,60.229999542236328,60.229999542236328,60.229999542236328,65.910003662109375,65.910003662109375,65.910003662109375,65.910003662109375,67.419998168945313,67.419998168945313,67.419998168945313,67.419998168945313,67.419998168945313,67.419998168945313,67.419998168945313,67.419998168945313,67.419998168945313,67.419998168945313,67.419998168945313,67.419998168945313,67.419998168945313,67.419998168945313,67.419998168945313,67.419998168945313,64.389999389648438,64.389999389648438,64.389999389648438,64.389999389648438,64.389999389648438,64.389999389648438,64.389999389648438,64.389999389648438,64.389999389648438,64.389999389648438,64.389999389648438,64.389999389648438,64.389999389648438,64.389999389648438,64.389999389648438,64.389999389648438,64.389999389648438,64.389999389648438,64.389999389648438,64.389999389648438,64.389999389648438,64.389999389648438,64.389999389648438,64.389999389648438,64.389999389648438,64.389999389648438,64.389999389648438,64.389999389648438,63.259998321533203,63.259998321533203,63.259998321533203,63.259998321533203,63.259998321533203,63.259998321533203,63.259998321533203,63.259998321533203,63.259998321533203,61.740001678466797,61.740001678466797,61.740001678466797,61.740001678466797,60.229999542236328,60.229999542236328,60.229999542236328,59.090000152587891,59.090000152587891,59.090000152587891,59.090000152587891,59.090000152587891,59.090000152587891,null,null,40.486841992328038,null,null,null,"nE(S)"]
["Austria","AE","AUT",0,0,0,0,0,0,0,0,0,0,0,0,0,0,0,0,0,0,0,0,0,0,0,0,0,0,0,0,0,0,0,3.0299999713897705,3.0299999713897705,3.0299999713897705,3.0299999713897705,3.0299999713897705,3.0299999713897705,3.0299999713897705,3.0299999713897705,3.0299999713897705,3.0299999713897705,3.0299999713897705,3.0299999713897705,3.0299999713897705,3.0299999713897705,3.0299999713897705,3.0299999713897705,3.0299999713897705,3.0299999713897705,3.0299999713897705,3.0299999713897705,3.0299999713897705,3.0299999713897705,3.0299999713897705,12.119999885559082,16.670000076293945,16.670000076293945,16.670000076293945,16.670000076293945,16.670000076293945,16.670000076293945,16.670000076293945,16.670000076293945,16.670000076293945,16.670000076293945,16.670000076293945,16.670000076293945,16.670000076293945,23.479999542236328,23.479999542236328,32.580001831054688,35.610000610351563,46.970001220703125,46.970001220703125,46.970001220703125,77.269996643066406,77.269996643066406,77.269996643066406,77.269996643066406,77.269996643066406,77.269996643066406,77.269996643066406,80.300003051757813,80.300003051757813,80.300003051757813,80.300003051757813,80.300003051757813,80.300003051757813,80.300003051757813,84.849998474121094,84.849998474121094,84.849998474121094,84.849998474121094,84.849998474121094,84.849998474121094,84.849998474121094,84.849998474121094,84.849998474121094,84.849998474121094,84.849998474121094,84.849998474121094,84.849998474121094,84.849998474121094,84.849998474121094,81.819999694824219,81.819999694824219,81.819999694824219,81.819999694824219,81.819999694824219,81.819999694824219,81.819999694824219,81.819999694824219,81.819999694824219,79.550003051757813,79.550003051757813,79.550003051757813,79.550003051757813,79.550003051757813,79.550003051757813,79.550003051757813,79.550003051757813,73.480003356933594,71.209999084472656,71.209999084472656,68.180000305175781,68.180000305175781,68.180000305175781,68.180000305175781,68.180000305175781,68.180000305175781,68.180000305175781,63.639999389648438,63.639999389648438,63.639999389648438,63.639999389648438,63.639999389648438,63.639999389648438,63.639999389648438,60.610000610351563,60.610000610351563,60.610000610351563,60.610000610351563,60.610000610351563,60.610000610351563,60.610000610351563,60.610000610351563,60.610000610351563,60.610000610351563,60.610000610351563,null,null,null,null,null,null,null,null,null,null,null,40.996308779556479,null,null,0,2.8000000000000001E-2,{"$f":"+((1+FL13)^(1/12))-1","v":2.3039138595752906E-3}]
["Azerbaijan","EME","AZE",0,0,0,0,0,0,0,0,0,0,0,0,0,0,0,0,0,0,0,0,0,0,0,0,0,0,0,0,0,2.2699999809265137,2.2699999809265137,2.2699999809265137,2.2699999809265137,2.2699999809265137,2.2699999809265137,2.2699999809265137,2.2699999809265137,2.2699999809265137,2.2699999809265137,2.2699999809265137,2.2699999809265137,2.2699999809265137,2.2699999809265137,2.2699999809265137,2.2699999809265137,2.2699999809265137,2.2699999809265137,2.2699999809265137,2.2699999809265137,2.2699999809265137,2.2699999809265137,2.2699999809265137,2.2699999809265137,2.2699999809265137,2.2699999809265137,2.2699999809265137,2.2699999809265137,14.390000343322754,23.479999542236328,28.030000686645508,28.030000686645508,28.030000686645508,40.150001525878906,40.150001525878906,40.150001525878906,35.610000610351563,35.610000610351563,35.610000610351563,35.610000610351563,40.150001525878906,40.150001525878906,40.150001525878906,40.150001525878906,53.790000915527344,53.790000915527344,53.790000915527344,53.790000915527344,53.790000915527344,60.610000610351563,60.610000610351563,60.610000610351563,60.610000610351563,66.669998168945313,66.669998168945313,66.669998168945313,66.669998168945313,66.669998168945313,66.669998168945313,66.669998168945313,66.669998168945313,83.330001831054688,83.330001831054688,83.330001831054688,83.330001831054688,83.330001831054688,83.330001831054688,83.330001831054688,83.330001831054688,83.330001831054688,83.330001831054688,83.330001831054688,83.330001831054688,83.330001831054688,83.330001831054688,83.330001831054688,83.330001831054688,85.610000610351563,85.610000610351563,85.610000610351563,85.610000610351563,85.610000610351563,85.610000610351563,85.610000610351563,85.610000610351563,85.610000610351563,85.610000610351563,85.610000610351563,82.580001831054688,82.580001831054688,82.580001831054688,82.580001831054688,82.580001831054688,82.580001831054688,82.580001831054688,82.580001831054688,82.580001831054688,82.580001831054688,82.580001831054688,82.580001831054688,80.300003051757813,80.300003051757813,80.300003051757813,80.300003051757813,80.300003051757813,80.300003051757813,80.300003051757813,80.300003051757813,80.300003051757813,74.239997863769531,74.239997863769531,74.239997863769531,74.239997863769531,74.239997863769531,74.239997863769531,74.239997863769531,74.239997863769531,74.239997863769531,74.239997863769531,74.239997863769531,74.239997863769531,74.239997863769531,74.239997863769531,74.239997863769531,74.239997863769531,80.300003051757813,80.300003051757813,null,null,null,null,43.959013568727592,null,null,1,{"$f":"1+$FP$6-((FK14/100)/($FP$7+(FK14/100)))","v":2.738466761442002E-2},2.2539041865992093E-3]
["Bahrain","EME","BHR",0,0,0,0,0,0,0,0,0,0,0,0,0,0,0,0,0,0,0,0,0,6.820000171661377,6.820000171661377,6.820000171661377,6.820000171661377,6.820000171661377,9.0900001525878906,9.0900001525878906,9.0900001525878906,9.0900001525878906,9.0900001525878906,9.0900001525878906,9.0900001525878906,9.0900001525878906,9.0900001525878906,9.0900001525878906,9.0900001525878906,9.0900001525878906,9.0900001525878906,12.119999885559082,12.119999885559082,12.119999885559082,16.670000076293945,16.670000076293945,16.670000076293945,16.670000076293945,16.670000076293945,16.670000076293945,16.670000076293945,18.940000534057617,18.940000534057617,18.940000534057617,18.940000534057617,28.030000686645508,32.580001831054688,32.580001831054688,40.150001525878906,40.150001525878906,40.150001525878906,40.150001525878906,40.150001525878906,40.150001525878906,40.150001525878906,40.150001525878906,40.150001525878906,40.150001525878906,40.150001525878906,40.150001525878906,40.150001525878906,40.150001525878906,40.150001525878906,40.150001525878906,40.150001525878906,40.150001525878906,40.150001525878906,40.150001525878906,40.150001525878906,69.699996948242188,69.699996948242188,69.699996948242188,69.699996948242188,71.970001220703125,71.970001220703125,71.970001220703125,71.970001220703125,75,75,79.550003051757813,79.550003051757813,79.550003051757813,82.580001831054688,82.580001831054688,82.580001831054688,82.580001831054688,82.580001831054688,82.580001831054688,82.580001831054688,82.580001831054688,82.580001831054688,79.550003051757813,79.550003051757813,79.550003051757813,79.550003051757813,79.550003051757813,79.550003051757813,79.550003051757813,79.550003051757813,79.550003051757813,79.550003051757813,79.550003051757813,79.550003051757813,79.550003051757813,79.550003051757813,79.550003051757813,79.550003051757813,79.550003051757813,79.550003051757813,79.550003051757813,79.550003051757813,79.550003051757813,79.550003051757813,79.550003051757813,79.550003051757813,79.550003051757813,79.550003051757813,79.550003051757813,79.550003051757813,79.550003051757813,79.550003051757813,79.550003051757813,79.550003051757813,79.550003051757813,79.550003051757813,79.550003051757813,79.550003051757813,79.550003051757813,79.550003051757813,79.550003051757813,79.550003051757813,79.550003051757813,79.550003051757813,79.550003051757813,79.550003051757813,79.550003051757813,79.550003051757813,79.550003051757813,79.550003051757813,79.550003051757813,79.550003051757813,79.550003051757813,79.550003051757813,79.550003051757813,79.550003051757813,null,null,null,null,null,null,null,47.579738300097617,null,null,{"$f":"+FK14+1","v":2},{"$f":"1+$FP$6-((FK15/100)/($FP$7+(FK15/100)))","v":2.67700920310446E-2},2.2039286077284448E-3]
["Bangladesh","LIDC","BGD",0,0,0,0,0,0,0,0,0,0,0,0,0,0,0,0,0,0,0,0,4.5500001907348633,6.820000171661377,6.820000171661377,11.359999656677246,11.359999656677246,11.359999656677246,11.359999656677246,15.909999847412109,15.909999847412109,15.909999847412109,15.909999847412109,15.909999847412109,15.909999847412109,15.909999847412109,15.909999847412109,15.909999847412109,15.909999847412109,15.909999847412109,15.909999847412109,15.909999847412109,15.909999847412109,15.909999847412109,15.909999847412109,15.909999847412109,15.909999847412109,15.909999847412109,15.909999847412109,15.909999847412109,15.909999847412109,15.909999847412109,15.909999847412109,15.909999847412109,15.909999847412109,15.909999847412109,15.909999847412109,15.909999847412109,15.909999847412109,15.909999847412109,15.909999847412109,15.909999847412109,18.940000534057617,18.940000534057617,18.940000534057617,18.940000534057617,18.940000534057617,18.940000534057617,18.940000534057617,21.969999313354492,21.969999313354492,21.969999313354492,21.969999313354492,21.969999313354492,21.969999313354492,21.969999313354492,21.969999313354492,37.880001068115234,37.880001068115234,37.880001068115234,72.730003356933594,72.730003356933594,77.269996643066406,77.269996643066406,77.269996643066406,77.269996643066406,78.029998779296875,79.550003051757813,79.550003051757813,79.550003051757813,79.550003051757813,79.550003051757813,81.819999694824219,81.819999694824219,81.819999694824219,81.819999694824219,81.819999694824219,81.819999694824219,81.819999694824219,81.819999694824219,81.819999694824219,81.819999694824219,84.849998474121094,87.120002746582031,87.120002746582031,87.120002746582031,87.120002746582031,87.120002746582031,87.120002746582031,87.120002746582031,87.120002746582031,87.120002746582031,87.120002746582031,87.120002746582031,87.120002746582031,87.120002746582031,87.120002746582031,87.120002746582031,87.120002746582031,87.120002746582031,87.120002746582031,87.120002746582031,87.120002746582031,84.089996337890625,84.089996337890625,84.089996337890625,84.089996337890625,84.089996337890625,84.089996337890625,84.089996337890625,84.089996337890625,84.089996337890625,84.089996337890625,84.089996337890625,84.089996337890625,84.089996337890625,84.089996337890625,84.089996337890625,84.089996337890625,87.120002746582031,87.120002746582031,87.120002746582031,87.120002746582031,87.120002746582031,87.120002746582031,87.120002746582031,87.120002746582031,87.120002746582031,87.120002746582031,87.120002746582031,87.120002746582031,87.120002746582031,null,null,null,null,null,null,null,null,null,null,47.096066869099936,null,null,3,2.6156271854536232E-2,2.1539870792335325E-3]
["Barbados","EME","BRB",0,0,0,0,0,0,0,0,0,0,0,0,0,0,0,0,0,0,0,0,0,9.0900001525878906,9.0900001525878906,9.0900001525878906,9.0900001525878906,12.119999885559082,12.119999885559082,12.119999885559082,12.119999885559082,12.119999885559082,12.119999885559082,12.119999885559082,12.119999885559082,12.119999885559082,12.119999885559082,12.119999885559082,12.119999885559082,12.119999885559082,12.119999885559082,12.119999885559082,12.119999885559082,12.119999885559082,12.119999885559082,12.119999885559082,12.119999885559082,14.390000343322754,14.390000343322754,14.390000343322754,14.390000343322754,14.390000343322754,14.390000343322754,14.390000343322754,14.390000343322754,14.390000343322754,14.390000343322754,14.390000343322754,14.390000343322754,14.390000343322754,14.390000343322754,14.390000343322754,14.390000343322754,14.390000343322754,14.390000343322754,16.670000076293945,16.670000076293945,16.670000076293945,16.670000076293945,16.670000076293945,16.670000076293945,16.670000076293945,16.670000076293945,16.670000076293945,16.670000076293945,16.670000076293945,16.670000076293945,16.670000076293945,34.849998474121094,34.849998474121094,43.939998626708984,53.029998779296875,53.029998779296875,53.029998779296875,53.029998779296875,53.029998779296875,53.029998779296875,53.029998779296875,53.029998779296875,71.970001220703125,71.970001220703125,71.970001220703125,71.970001220703125,71.970001220703125,71.970001220703125,80.300003051757813,80.300003051757813,80.300003051757813,80.300003051757813,80.300003051757813,84.849998474121094,84.849998474121094,84.849998474121094,84.849998474121094,84.849998474121094,84.849998474121094,84.849998474121094,84.849998474121094,84.849998474121094,84.849998474121094,84.849998474121094,87.879997253417969,87.879997253417969,87.879997253417969,87.879997253417969,87.879997253417969,87.879997253417969,87.879997253417969,87.879997253417969,87.879997253417969,87.879997253417969,87.879997253417969,87.879997253417969,87.879997253417969,87.879997253417969,87.879997253417969,81.819999694824219,81.819999694824219,81.819999694824219,81.819999694824219,81.819999694824219,81.819999694824219,81.819999694824219,81.819999694824219,81.819999694824219,81.819999694824219,81.819999694824219,81.819999694824219,81.819999694824219,81.819999694824219,81.819999694824219,81.819999694824219,81.819999694824219,81.819999694824219,81.819999694824219,81.819999694824219,81.819999694824219,81.819999694824219,81.819999694824219,81.819999694824219,81.819999694824219,81.819999694824219,81.819999694824219,81.819999694824219,76.519996643066406,76.519996643066406,76.519996643066406,76.519996643066406,76.519996643066406,76.519996643066406,76.519996643066406,null,43.869736495770908,null,null,4,2.5543205692985453E-2,2.1040795574678306E-3]
["Belarus","EME","BLR",0,0,0,0,0,0,0,0,0,0,0,0,0,0,0,0,0,0,0,0,0,0,0,0,0,0,0,0,0,0,0,0,0,0,0,0,0,0,0,0,0,0,0,0,0,0,0,0,0,0,0,0,0,0,0,0,0,0,0,0,0,0,0,0,0,0,0,0,0,0,0,0,0,6.820000171661377,6.820000171661377,6.820000171661377,6.820000171661377,6.820000171661377,6.820000171661377,6.820000171661377,6.820000171661377,6.820000171661377,6.820000171661377,6.820000171661377,6.820000171661377,6.820000171661377,6.820000171661377,6.820000171661377,6.820000171661377,6.820000171661377,6.820000171661377,6.820000171661377,6.820000171661377,6.820000171661377,15.909999847412109,15.909999847412109,15.909999847412109,15.909999847412109,15.909999847412109,25,25,25,25,25,25,25,25,25,25,25,29.549999237060547,29.549999237060547,29.549999237060547,29.549999237060547,29.549999237060547,29.549999237060547,29.549999237060547,29.549999237060547,29.549999237060547,29.549999237060547,29.549999237060547,29.549999237060547,29.549999237060547,29.549999237060547,29.549999237060547,29.549999237060547,29.549999237060547,29.549999237060547,29.549999237060547,29.549999237060547,29.549999237060547,29.549999237060547,29.549999237060547,29.549999237060547,29.549999237060547,29.549999237060547,29.549999237060547,29.549999237060547,29.549999237060547,29.549999237060547,29.549999237060547,29.549999237060547,29.549999237060547,29.549999237060547,29.549999237060547,null,null,null,null,null,null,null,null,null,null,null,null,null,null,null,10.565655007855646,null,null,5,2.4930892157900331E-2,2.0542059988677419E-3]
["Belgium","AE","BEL",0,0,0,0,0,0,0,0,0,0,0,0,0,0,0,0,0,0,0,0,0,0,0,0,0,0,0,4.5500001907348633,4.5500001907348633,4.5500001907348633,9.0900001525878906,9.0900001525878906,9.0900001525878906,9.0900001525878906,9.0900001525878906,9.0900001525878906,9.0900001525878906,9.0900001525878906,9.0900001525878906,9.0900001525878906,9.0900001525878906,9.0900001525878906,9.0900001525878906,9.0900001525878906,9.0900001525878906,9.0900001525878906,9.0900001525878906,9.0900001525878906,9.0900001525878906,9.0900001525878906,9.0900001525878906,9.0900001525878906,9.0900001525878906,9.0900001525878906,9.0900001525878906,9.0900001525878906,18.180000305175781,18.180000305175781,18.180000305175781,18.180000305175781,27.270000457763672,27.270000457763672,27.270000457763672,29.549999237060547,29.549999237060547,29.549999237060547,23.479999542236328,23.479999542236328,23.479999542236328,28.030000686645508,28.030000686645508,28.030000686645508,26.520000457763672,49.240001678466797,49.240001678466797,49.240001678466797,49.240001678466797,67.419998168945313,67.419998168945313,74.239997863769531,74.239997863769531,74.239997863769531,74.239997863769531,74.239997863769531,74.239997863769531,74.239997863769531,74.239997863769531,74.239997863769531,74.239997863769531,74.239997863769531,74.239997863769531,74.239997863769531,74.239997863769531,74.239997863769531,74.239997863769531,74.239997863769531,74.239997863769531,74.239997863769531,74.239997863769531,74.239997863769531,74.239997863769531,74.239997863769531,74.239997863769531,74.239997863769531,74.239997863769531,74.239997863769531,74.239997863769531,74.239997863769531,74.239997863769531,74.239997863769531,74.239997863769531,74.239997863769531,74.239997863769531,74.239997863769531,74.239997863769531,74.239997863769531,74.239997863769531,74.239997863769531,74.239997863769531,74.239997863769531,74.239997863769531,74.239997863769531,74.239997863769531,74.239997863769531,77.269996643066406,75,75,75,75,75,75,71.970001220703125,71.970001220703125,71.970001220703125,71.970001220703125,71.970001220703125,71.970001220703125,71.970001220703125,71.970001220703125,71.970001220703125,71.970001220703125,71.970001220703125,71.970001220703125,71.970001220703125,71.970001220703125,71.970001220703125,71.970001220703125,71.970001220703125,71.970001220703125,71.970001220703125,71.970001220703125,71.970001220703125,null,null,null,null,null,null,null,null,42.009604836765085,null,null,6,2.4319329864195986E-2,2.0043663599520478E-3]
["Belize","EME","BLZ",0,0,0,0,0,0,0,0,0,0,0,0,0,0,0,0,0,0,0,0,0,0,0,0,0,0,0,0,0,0,0,0,0,0,0,0,0,0,0,0,0,0,0,0,0,0,0,0,4.5500001907348633,4.5500001907348633,4.5500001907348633,4.5500001907348633,4.5500001907348633,4.5500001907348633,4.5500001907348633,4.5500001907348633,4.5500001907348633,4.5500001907348633,9.0900001525878906,9.0900001525878906,9.0900001525878906,9.0900001525878906,9.0900001525878906,9.0900001525878906,9.0900001525878906,9.0900001525878906,9.0900001525878906,9.0900001525878906,9.0900001525878906,9.0900001525878906,11.359999656677246,11.359999656677246,13.640000343322754,13.640000343322754,15.909999847412109,31.819999694824219,31.819999694824219,31.819999694824219,31.819999694824219,44.700000762939453,44.700000762939453,44.700000762939453,44.700000762939453,44.700000762939453,56.819999694824219,56.819999694824219,56.819999694824219,56.819999694824219,56.819999694824219,56.819999694824219,56.819999694824219,64.389999389648438,64.389999389648438,64.389999389648438,64.389999389648438,64.389999389648438,64.389999389648438,64.389999389648438,64.389999389648438,64.389999389648438,64.389999389648438,64.389999389648438,64.389999389648438,64.389999389648438,64.389999389648438,64.389999389648438,64.389999389648438,64.389999389648438,64.389999389648438,64.389999389648438,64.389999389648438,64.389999389648438,64.389999389648438,64.389999389648438,64.389999389648438,64.389999389648438,64.389999389648438,70.449996948242188,70.449996948242188,70.449996948242188,70.449996948242188,70.449996948242188,70.449996948242188,70.449996948242188,70.449996948242188,70.449996948242188,70.449996948242188,70.449996948242188,70.449996948242188,70.449996948242188,70.449996948242188,70.449996948242188,70.449996948242188,70.449996948242188,70.449996948242188,84.089996337890625,84.089996337890625,84.089996337890625,84.089996337890625,86.360000610351563,86.360000610351563,86.360000610351563,86.360000610351563,86.360000610351563,86.360000610351563,86.360000610351563,86.360000610351563,86.360000610351563,86.360000610351563,null,null,null,null,null,null,null,null,null,null,null,34.303422313408561,null,null,7,2.3708517430184154E-2,1.9545605973216862E-3]
["Benin","LIDC","BEN",0,0,0,0,0,0,0,0,0,0,0,0,0,0,0,0,0,0,0,0,0,0,0,0,0,0,0,0,0,0,0,2.2699999809265137,2.2699999809265137,2.2699999809265137,2.2699999809265137,2.2699999809265137,2.2699999809265137,2.2699999809265137,2.2699999809265137,2.2699999809265137,2.2699999809265137,2.2699999809265137,2.2699999809265137,2.2699999809265137,2.2699999809265137,2.2699999809265137,2.2699999809265137,2.2699999809265137,2.2699999809265137,2.2699999809265137,2.2699999809265137,2.2699999809265137,6.820000171661377,6.820000171661377,6.820000171661377,6.820000171661377,6.820000171661377,6.820000171661377,6.820000171661377,6.820000171661377,11.359999656677246,11.359999656677246,11.359999656677246,11.359999656677246,11.359999656677246,11.359999656677246,20.450000762939453,23.479999542236328,23.479999542236328,25.760000228881836,25.760000228881836,25.760000228881836,25.760000228881836,25.760000228881836,25.760000228881836,25.760000228881836,34.849998474121094,34.849998474121094,34.849998474121094,34.849998474121094,34.849998474121094,34.849998474121094,34.849998474121094,34.849998474121094,34.849998474121094,34.849998474121094,34.849998474121094,34.849998474121094,34.849998474121094,70.080001831054688,70.080001831054688,70.080001831054688,70.080001831054688,70.080001831054688,70.080001831054688,70.080001831054688,70.080001831054688,70.080001831054688,70.080001831054688,70.080001831054688,70.080001831054688,70.080001831054688,70.080001831054688,70.080001831054688,70.080001831054688,70.080001831054688,70.080001831054688,70.080001831054688,70.080001831054688,70.080001831054688,73.110000610351563,73.110000610351563,73.110000610351563,73.110000610351563,73.110000610351563,73.110000610351563,73.110000610351563,73.110000610351563,73.110000610351563,73.110000610351563,73.110000610351563,73.110000610351563,73.110000610351563,73.110000610351563,73.110000610351563,73.110000610351563,73.110000610351563,73.110000610351563,73.110000610351563,73.110000610351563,73.110000610351563,62.119998931884766,62.119998931884766,62.119998931884766,62.119998931884766,62.119998931884766,62.119998931884766,66.669998168945313,62.119998931884766,62.119998931884766,62.119998931884766,62.119998931884766,62.119998931884766,62.119998931884766,62.119998931884766,62.119998931884766,62.119998931884766,62.119998931884766,62.119998931884766,62.119998931884766,62.119998931884766,62.119998931884766,62.119998931884766,null,null,null,null,null,null,null,34.12651321448778,null,null,8,2.3098453477562772E-2,1.9047886676593073E-3]
["Bermuda","EME","BMU",0,0,0,0,0,0,0,0,0,0,0,0,0,0,0,0,0,0,0,0,0,9.0900001525878906,9.0900001525878906,9.0900001525878906,9.0900001525878906,9.0900001525878906,9.0900001525878906,9.0900001525878906,21.209999084472656,21.209999084472656,21.209999084472656,21.209999084472656,21.209999084472656,21.209999084472656,21.209999084472656,21.209999084472656,21.209999084472656,28.030000686645508,28.030000686645508,28.030000686645508,28.030000686645508,28.030000686645508,28.030000686645508,28.030000686645508,28.030000686645508,28.030000686645508,28.030000686645508,28.030000686645508,28.030000686645508,28.030000686645508,28.030000686645508,28.030000686645508,28.030000686645508,28.030000686645508,28.030000686645508,28.030000686645508,28.030000686645508,28.030000686645508,28.030000686645508,28.030000686645508,28.030000686645508,28.030000686645508,28.030000686645508,28.030000686645508,28.030000686645508,28.030000686645508,28.030000686645508,28.030000686645508,28.030000686645508,28.030000686645508,28.030000686645508,28.030000686645508,28.030000686645508,28.030000686645508,28.030000686645508,28.030000686645508,28.030000686645508,28.030000686645508,37.119998931884766,51.520000457763672,51.520000457763672,51.520000457763672,51.520000457763672,51.520000457763672,51.520000457763672,54.549999237060547,54.549999237060547,54.549999237060547,54.549999237060547,54.549999237060547,54.549999237060547,54.549999237060547,54.549999237060547,54.549999237060547,90.910003662109375,90.910003662109375,90.910003662109375,90.910003662109375,90.910003662109375,90.910003662109375,90.910003662109375,90.910003662109375,90.910003662109375,90.910003662109375,90.910003662109375,90.910003662109375,90.910003662109375,90.910003662109375,90.910003662109375,90.910003662109375,90.910003662109375,90.910003662109375,90.910003662109375,90.910003662109375,90.910003662109375,90.910003662109375,90.910003662109375,90.910003662109375,90.910003662109375,90.910003662109375,90.910003662109375,90.910003662109375,74.239997863769531,71.209999084472656,71.209999084472656,71.209999084472656,71.209999084472656,71.209999084472656,71.209999084472656,77.269996643066406,77.269996643066406,77.269996643066406,77.269996643066406,77.269996643066406,77.269996643066406,77.269996643066406,77.269996643066406,77.269996643066406,77.269996643066406,77.269996643066406,77.269996643066406,77.269996643066406,77.269996643066406,77.269996643066406,77.269996643066406,77.269996643066406,77.269996643066406,77.269996643066406,77.269996643066406,77.269996643066406,77.269996643066406,77.269996643066406,77.269996643066406,77.269996643066406,77.269996643066406,77.269996643066406,77.269996643066406,77.269996643066406,77.269996643066406,null,46.481118641401594,null,null,9,2.2489136631405608E-2,1.8550505277301621E-3]
["Bhutan","LIDC","BTN",0,0,0,0,0,0,0,0,0,0,0,0,0,0,6.820000171661377,6.820000171661377,6.820000171661377,6.820000171661377,6.820000171661377,6.820000171661377,6.820000171661377,6.820000171661377,11.359999656677246,11.359999656677246,11.359999656677246,11.359999656677246,11.359999656677246,11.359999656677246,11.359999656677246,11.359999656677246,11.359999656677246,11.359999656677246,11.359999656677246,11.359999656677246,11.359999656677246,11.359999656677246,11.359999656677246,11.359999656677246,11.359999656677246,11.359999656677246,14.390000343322754,14.390000343322754,14.390000343322754,14.390000343322754,14.390000343322754,14.390000343322754,14.390000343322754,14.390000343322754,14.390000343322754,14.390000343322754,14.390000343322754,14.390000343322754,14.390000343322754,14.390000343322754,14.390000343322754,14.390000343322754,14.390000343322754,14.390000343322754,14.390000343322754,14.390000343322754,14.390000343322754,14.390000343322754,14.390000343322754,14.390000343322754,14.390000343322754,37.880001068115234,37.880001068115234,37.880001068115234,37.880001068115234,37.880001068115234,37.880001068115234,37.880001068115234,37.880001068115234,37.880001068115234,37.880001068115234,37.880001068115234,37.880001068115234,39.389999389648438,39.389999389648438,39.389999389648438,39.389999389648438,39.389999389648438,39.389999389648438,39.389999389648438,43.939998626708984,43.939998626708984,72.730003356933594,72.730003356933594,72.730003356933594,72.730003356933594,72.730003356933594,72.730003356933594,72.730003356933594,72.730003356933594,72.730003356933594,72.730003356933594,72.730003356933594,72.730003356933594,72.730003356933594,72.730003356933594,72.730003356933594,72.730003356933594,72.730003356933594,72.730003356933594,72.730003356933594,72.730003356933594,72.730003356933594,75.760002136230469,75.760002136230469,75.760002136230469,75.760002136230469,75.760002136230469,75.760002136230469,75.760002136230469,75.760002136230469,75.760002136230469,75.760002136230469,75.760002136230469,75.760002136230469,75.760002136230469,75.760002136230469,75.760002136230469,75.760002136230469,75.760002136230469,75.760002136230469,75.760002136230469,75.760002136230469,75.760002136230469,75.760002136230469,75.760002136230469,75.760002136230469,75.760002136230469,75.760002136230469,75.760002136230469,75.760002136230469,75.760002136230469,75.760002136230469,75.760002136230469,75.760002136230469,75.760002136230469,75.760002136230469,75.760002136230469,75.760002136230469,75.760002136230469,75.760002136230469,75.760002136230469,75.760002136230469,75.760002136230469,75.760002136230469,75.760002136230469,75.760002136230469,75.760002136230469,75.760002136230469,75.760002136230469,75.760002136230469,75.760002136230469,null,null,null,null,41.93085642237412,null,null,10,2.1880565520151954E-2,1.8053461343803257E-3]
["Bolivia","EME","BOL",0,0,0,0,0,0,0,0,0,0,0,0,0,0,0,0,0,0,0,0,0,0,0,0,0,0,0,0,0,0,0,0,0,0,0,0,0,0,0,0,0,0,0,0,0,0,0,0,0,0,0,0,0,0,0,0,0,0,0,0,0,0,0,0,0,0,0,0,0,4.5500001907348633,4.5500001907348633,25,34.090000152587891,36.360000610351563,36.360000610351563,43.180000305175781,56.060001373291016,61.360000610351563,59.090000152587891,59.090000152587891,68.180000305175781,76.519996643066406,76.519996643066406,76.519996643066406,76.519996643066406,76.519996643066406,76.519996643066406,76.519996643066406,76.519996643066406,76.519996643066406,78.790000915527344,78.790000915527344,78.790000915527344,78.790000915527344,78.790000915527344,78.790000915527344,78.790000915527344,83.330001831054688,83.330001831054688,83.330001831054688,83.330001831054688,83.330001831054688,83.330001831054688,83.330001831054688,83.330001831054688,83.330001831054688,83.330001831054688,83.330001831054688,83.330001831054688,83.330001831054688,83.330001831054688,83.330001831054688,83.330001831054688,83.330001831054688,83.330001831054688,83.330001831054688,83.330001831054688,83.330001831054688,83.330001831054688,83.330001831054688,83.330001831054688,83.330001831054688,83.330001831054688,83.330001831054688,83.330001831054688,83.330001831054688,83.330001831054688,83.330001831054688,83.330001831054688,83.330001831054688,83.330001831054688,83.330001831054688,83.330001831054688,83.330001831054688,83.330001831054688,83.330001831054688,83.330001831054688,83.330001831054688,83.330001831054688,83.330001831054688,83.330001831054688,83.330001831054688,83.330001831054688,83.330001831054688,83.330001831054688,76.519996643066406,76.519996643066406,76.519996643066406,null,null,null,null,null,null,null,null,null,null,null,null,40.253243639662458,null,null,11,2.1272738775596302E-2,1.7556754445375855E-3]
["Bosnia and Herzegovina","EME","BIH",0,0,0,0,0,0,0,0,0,0,0,0,0,0,0,0,0,0,0,0,0,0,0,0,0,0,0,0,0,0,9.0900001525878906,9.0900001525878906,9.0900001525878906,9.0900001525878906,9.0900001525878906,9.0900001525878906,9.0900001525878906,9.0900001525878906,9.0900001525878906,9.0900001525878906,9.0900001525878906,9.0900001525878906,9.0900001525878906,9.0900001525878906,9.0900001525878906,9.0900001525878906,9.0900001525878906,9.0900001525878906,9.0900001525878906,9.0900001525878906,9.0900001525878906,9.0900001525878906,9.0900001525878906,9.0900001525878906,9.0900001525878906,15.149999618530273,15.149999618530273,15.149999618530273,15.149999618530273,15.149999618530273,15.149999618530273,15.149999618530273,15.149999618530273,15.149999618530273,15.149999618530273,15.149999618530273,15.149999618530273,15.149999618530273,15.149999618530273,34.470001220703125,43.560001373291016,43.560001373291016,43.560001373291016,43.560001373291016,43.560001373291016,48.110000610351563,64.019996643066406,69.699996948242188,69.699996948242188,79.550003051757813,79.550003051757813,79.550003051757813,79.550003051757813,79.550003051757813,79.550003051757813,79.550003051757813,79.550003051757813,79.550003051757813,79.550003051757813,79.550003051757813,79.550003051757813,79.550003051757813,79.550003051757813,79.550003051757813,79.550003051757813,79.550003051757813,79.550003051757813,79.550003051757813,79.550003051757813,79.550003051757813,81.819999694824219,81.819999694824219,81.819999694824219,81.819999694824219,81.819999694824219,81.819999694824219,81.819999694824219,81.819999694824219,81.819999694824219,81.819999694824219,81.819999694824219,81.819999694824219,81.819999694824219,81.819999694824219,80.300003051757813,80.300003051757813,80.300003051757813,80.300003051757813,80.300003051757813,80.300003051757813,80.300003051757813,80.300003051757813,80.300003051757813,80.300003051757813,80.300003051757813,80.300003051757813,80.300003051757813,80.300003051757813,80.300003051757813,80.300003051757813,80.300003051757813,72.730003356933594,72.730003356933594,72.730003356933594,71.209999084472656,68.94000244140625,68.94000244140625,68.94000244140625,68.94000244140625,68.94000244140625,68.94000244140625,64.389999389648438,64.389999389648438,64.389999389648438,64.389999389648438,64.389999389648438,64.389999389648438,64.389999389648438,64.389999389648438,null,null,null,null,null,null,null,null,null,null,null,42.566712270647088,null,null,12,2.0665655032878122E-2,1.7060384152114416E-3]
["Botswana","EME","BWA",4.5500001907348633,4.5500001907348633,4.5500001907348633,4.5500001907348633,4.5500001907348633,4.5500001907348633,4.5500001907348633,4.5500001907348633,4.5500001907348633,4.5500001907348633,4.5500001907348633,4.5500001907348633,4.5500001907348633,4.5500001907348633,4.5500001907348633,4.5500001907348633,4.5500001907348633,4.5500001907348633,4.5500001907348633,4.5500001907348633,4.5500001907348633,4.5500001907348633,4.5500001907348633,9.0900001525878906,9.0900001525878906,9.0900001525878906,9.0900001525878906,11.359999656677246,11.359999656677246,11.359999656677246,11.359999656677246,11.359999656677246,11.359999656677246,11.359999656677246,11.359999656677246,11.359999656677246,11.359999656677246,11.359999656677246,11.359999656677246,11.359999656677246,11.359999656677246,11.359999656677246,11.359999656677246,11.359999656677246,11.359999656677246,11.359999656677246,11.359999656677246,11.359999656677246,11.359999656677246,11.359999656677246,11.359999656677246,11.359999656677246,11.359999656677246,11.359999656677246,11.359999656677246,11.359999656677246,11.359999656677246,11.359999656677246,11.359999656677246,11.359999656677246,11.359999656677246,11.359999656677246,11.359999656677246,11.359999656677246,11.359999656677246,11.359999656677246,11.359999656677246,11.359999656677246,11.359999656677246,11.359999656677246,11.359999656677246,11.359999656677246,11.359999656677246,11.359999656677246,11.359999656677246,36.360000610351563,36.360000610351563,36.360000610351563,47.729999542236328,47.729999542236328,47.729999542236328,47.729999542236328,47.729999542236328,47.729999542236328,50,50,50,53.029998779296875,53.029998779296875,53.029998779296875,57.580001831054688,57.580001831054688,78.029998779296875,78.029998779296875,78.029998779296875,78.029998779296875,78.029998779296875,78.029998779296875,78.029998779296875,78.029998779296875,78.029998779296875,78.029998779296875,78.029998779296875,78.029998779296875,78.029998779296875,78.029998779296875,78.029998779296875,78.029998779296875,78.029998779296875,78.029998779296875,78.029998779296875,78.029998779296875,78.029998779296875,78.029998779296875,78.029998779296875,78.029998779296875,78.029998779296875,78.029998779296875,78.029998779296875,78.029998779296875,78.029998779296875,78.029998779296875,78.029998779296875,78.029998779296875,78.029998779296875,78.029998779296875,78.029998779296875,78.029998779296875,73.480003356933594,73.480003356933594,73.480003356933594,71.970001220703125,71.970001220703125,71.970001220703125,71.970001220703125,71.970001220703125,71.970001220703125,71.970001220703125,71.970001220703125,71.970001220703125,62.119998931884766,62.119998931884766,57.580001831054688,57.580001831054688,57.580001831054688,57.580001831054688,57.580001831054688,57.580001831054688,57.580001831054688,57.580001831054688,57.580001831054688,57.580001831054688,57.580001831054688,50,50,50,null,null,null,null,38.705855137423463,null,null,13,2.0059312930471619E-2,1.6564350034917741E-3]
["Brazil","EME","BRA",0,0,0,0,0,0,0,0,0,0,0,0,0,0,0,0,0,0,0,0,0,0,3.0299999713897705,3.0299999713897705,3.0299999713897705,3.0299999713897705,3.0299999713897705,3.0299999713897705,7.5799999237060547,7.5799999237060547,7.5799999237060547,7.5799999237060547,7.5799999237060547,7.5799999237060547,7.5799999237060547,7.5799999237060547,7.5799999237060547,7.5799999237060547,7.5799999237060547,7.5799999237060547,7.5799999237060547,7.5799999237060547,7.5799999237060547,7.5799999237060547,7.5799999237060547,7.5799999237060547,7.5799999237060547,7.5799999237060547,7.5799999237060547,7.5799999237060547,7.5799999237060547,7.5799999237060547,7.5799999237060547,7.5799999237060547,7.5799999237060547,7.5799999237060547,7.5799999237060547,7.5799999237060547,7.5799999237060547,7.5799999237060547,7.5799999237060547,12.119999885559082,12.119999885559082,12.119999885559082,12.119999885559082,12.119999885559082,12.119999885559082,12.119999885559082,12.119999885559082,12.119999885559082,12.119999885559082,26.520000457763672,34.090000152587891,37.5,37.5,37.5,50.380001068115234,52.650001525878906,57.200000762939453,57.200000762939453,61.740001678466797,61.740001678466797,61.740001678466797,61.740001678466797,61.740001678466797,61.740001678466797,64.019996643066406,64.019996643066406,64.019996643066406,64.019996643066406,64.019996643066406,64.019996643066406,64.019996643066406,64.019996643066406,64.019996643066406,64.019996643066406,64.019996643066406,64.019996643066406,64.019996643066406,64.019996643066406,64.019996643066406,64.019996643066406,64.019996643066406,64.019996643066406,64.019996643066406,64.019996643066406,64.019996643066406,64.019996643066406,64.019996643066406,64.019996643066406,64.019996643066406,64.019996643066406,64.019996643066406,64.019996643066406,64.019996643066406,64.019996643066406,66.290000915527344,66.290000915527344,66.290000915527344,66.290000915527344,66.290000915527344,66.290000915527344,66.290000915527344,66.290000915527344,66.290000915527344,69.319999694824219,69.319999694824219,69.319999694824219,69.319999694824219,69.319999694824219,69.319999694824219,69.319999694824219,69.319999694824219,69.319999694824219,69.319999694824219,69.319999694824219,69.319999694824219,69.319999694824219,69.319999694824219,69.319999694824219,69.319999694824219,69.319999694824219,69.319999694824219,69.319999694824219,69.319999694824219,72.349998474121094,72.349998474121094,72.349998474121094,72.349998474121094,72.349998474121094,72.349998474121094,72.349998474121094,69.319999694824219,69.319999694824219,69.319999694824219,69.319999694824219,69.319999694824219,69.319999694824219,69.319999694824219,null,36.582630932331085,null,null,14,1.9453711110175579E-2,1.6068651665492872E-3]
["Brunei","EME","BRN",4.5500001907348633,4.5500001907348633,4.5500001907348633,4.5500001907348633,4.5500001907348633,13.640000343322754,13.640000343322754,13.640000343322754,13.640000343322754,13.640000343322754,13.640000343322754,13.640000343322754,13.640000343322754,13.640000343322754,13.640000343322754,13.640000343322754,13.640000343322754,13.640000343322754,13.640000343322754,13.640000343322754,13.640000343322754,13.640000343322754,13.640000343322754,13.640000343322754,13.640000343322754,13.640000343322754,13.640000343322754,13.640000343322754,13.640000343322754,20.450000762939453,20.450000762939453,20.450000762939453,20.450000762939453,20.450000762939453,20.450000762939453,20.450000762939453,20.450000762939453,20.450000762939453,20.450000762939453,20.450000762939453,20.450000762939453,20.450000762939453,20.450000762939453,20.450000762939453,20.450000762939453,20.450000762939453,20.450000762939453,20.450000762939453,20.450000762939453,20.450000762939453,20.450000762939453,20.450000762939453,20.450000762939453,20.450000762939453,20.450000762939453,20.450000762939453,20.450000762939453,20.450000762939453,20.450000762939453,20.450000762939453,20.450000762939453,20.450000762939453,20.450000762939453,20.450000762939453,20.450000762939453,20.450000762939453,20.450000762939453,20.450000762939453,26.520000457763672,26.520000457763672,35.610000610351563,35.610000610351563,51.520000457763672,51.520000457763672,51.520000457763672,51.520000457763672,51.520000457763672,51.520000457763672,51.520000457763672,51.520000457763672,51.520000457763672,51.520000457763672,51.520000457763672,53.790000915527344,53.790000915527344,53.790000915527344,53.790000915527344,53.790000915527344,53.790000915527344,53.790000915527344,53.790000915527344,53.790000915527344,53.790000915527344,53.790000915527344,53.790000915527344,53.790000915527344,53.790000915527344,53.790000915527344,53.790000915527344,53.790000915527344,53.790000915527344,58.330001831054688,58.330001831054688,58.330001831054688,58.330001831054688,58.330001831054688,58.330001831054688,58.330001831054688,58.330001831054688,58.330001831054688,58.330001831054688,58.330001831054688,58.330001831054688,58.330001831054688,58.330001831054688,58.330001831054688,58.330001831054688,58.330001831054688,58.330001831054688,58.330001831054688,58.330001831054688,58.330001831054688,58.330001831054688,58.330001831054688,58.330001831054688,58.330001831054688,58.330001831054688,58.330001831054688,58.330001831054688,58.330001831054688,58.330001831054688,58.330001831054688,58.330001831054688,58.330001831054688,58.330001831054688,53.790000915527344,53.790000915527344,53.790000915527344,53.790000915527344,53.790000915527344,53.790000915527344,53.790000915527344,53.790000915527344,53.790000915527344,53.790000915527344,53.790000915527344,53.790000915527344,53.790000915527344,53.790000915527344,53.790000915527344,53.790000915527344,53.790000915527344,53.790000915527344,null,null,null,null,null,null,null,37.529671976440831,null,null,15,1.8848848217103208E-2,1.5573288616357317E-3]
["Bulgaria","EME","BGR",0,0,0,0,0,0,0,0,0,0,0,0,0,0,0,0,0,0,0,0,0,0,0,0,0,0,0,0,0,0,0,0,0,2.2699999809265137,2.2699999809265137,2.2699999809265137,2.2699999809265137,2.2699999809265137,2.2699999809265137,2.2699999809265137,2.2699999809265137,6.820000171661377,6.820000171661377,6.820000171661377,6.820000171661377,6.820000171661377,6.820000171661377,6.820000171661377,6.820000171661377,6.820000171661377,6.820000171661377,6.820000171661377,6.820000171661377,6.820000171661377,11.359999656677246,11.359999656677246,11.359999656677246,11.359999656677246,11.359999656677246,11.359999656677246,11.359999656677246,11.359999656677246,11.359999656677246,11.359999656677246,17.420000076293945,17.420000076293945,17.420000076293945,20.450000762939453,20.450000762939453,20.450000762939453,25,25,44.700000762939453,44.700000762939453,44.700000762939453,44.700000762939453,49.240001678466797,60.610000610351563,60.610000610351563,60.610000610351563,62.880001068115234,62.880001068115234,62.880001068115234,62.880001068115234,62.880001068115234,62.880001068115234,62.880001068115234,62.880001068115234,62.880001068115234,62.880001068115234,62.880001068115234,61.360000610351563,61.360000610351563,61.360000610351563,61.360000610351563,61.360000610351563,61.360000610351563,61.360000610351563,61.360000610351563,61.360000610351563,61.360000610351563,61.360000610351563,61.360000610351563,61.360000610351563,61.360000610351563,62.880001068115234,62.880001068115234,62.880001068115234,62.880001068115234,62.880001068115234,62.880001068115234,62.880001068115234,62.880001068115234,62.880001068115234,62.880001068115234,62.880001068115234,62.880001068115234,62.880001068115234,62.880001068115234,71.970001220703125,71.970001220703125,71.970001220703125,71.970001220703125,71.970001220703125,71.970001220703125,71.970001220703125,62.880001068115234,62.880001068115234,61.360000610351563,61.360000610351563,61.360000610351563,61.360000610351563,61.360000610351563,61.360000610351563,63.639999389648438,63.639999389648438,63.639999389648438,63.639999389648438,63.639999389648438,63.639999389648438,63.639999389648438,60.610000610351563,58.330001831054688,58.330001831054688,58.330001831054688,58.330001831054688,58.330001831054688,58.330001831054688,58.330001831054688,58.330001831054688,53.790000915527344,null,null,null,null,null,null,null,null,null,34.76271569018332,null,null,16,1.8244722899672043E-2,1.5078260460832382E-3]
["Burkina Faso","LIDC","BFA",0,0,0,0,0,0,0,0,0,0,0,0,0,0,0,0,0,0,0,0,0,0,0,0,0,0,0,0,0,0,0,0,0,0,0,3.0299999713897705,3.0299999713897705,3.0299999713897705,3.0299999713897705,3.0299999713897705,3.0299999713897705,3.0299999713897705,3.0299999713897705,3.0299999713897705,3.0299999713897705,3.0299999713897705,3.0299999713897705,3.0299999713897705,3.0299999713897705,3.0299999713897705,3.0299999713897705,3.0299999713897705,3.0299999713897705,3.0299999713897705,3.0299999713897705,3.0299999713897705,3.0299999713897705,3.0299999713897705,3.0299999713897705,3.0299999713897705,3.0299999713897705,3.0299999713897705,3.0299999713897705,3.0299999713897705,3.0299999713897705,3.0299999713897705,3.0299999713897705,3.0299999713897705,12.119999885559082,12.119999885559082,12.119999885559082,21.209999084472656,21.209999084472656,21.209999084472656,21.209999084472656,39.389999389648438,39.389999389648438,39.389999389648438,39.389999389648438,39.389999389648438,71.970001220703125,71.970001220703125,81.05999755859375,81.05999755859375,81.05999755859375,81.05999755859375,81.05999755859375,81.05999755859375,81.05999755859375,81.05999755859375,81.05999755859375,81.05999755859375,81.05999755859375,81.05999755859375,81.05999755859375,81.05999755859375,81.05999755859375,81.05999755859375,81.05999755859375,81.05999755859375,81.05999755859375,81.05999755859375,81.05999755859375,81.05999755859375,81.05999755859375,81.05999755859375,81.05999755859375,81.05999755859375,81.05999755859375,81.05999755859375,81.05999755859375,81.05999755859375,81.05999755859375,81.05999755859375,81.05999755859375,81.05999755859375,81.05999755859375,81.05999755859375,81.05999755859375,81.05999755859375,81.05999755859375,81.05999755859375,81.05999755859375,81.05999755859375,85.610000610351563,67.419998168945313,67.419998168945313,67.419998168945313,67.419998168945313,67.419998168945313,67.419998168945313,67.419998168945313,67.419998168945313,67.419998168945313,61.360000610351563,61.360000610351563,61.360000610351563,61.360000610351563,61.360000610351563,61.360000610351563,61.360000610351563,61.360000610351563,61.360000610351563,61.360000610351563,61.360000610351563,61.360000610351563,61.360000610351563,61.360000610351563,61.360000610351563,61.360000610351563,61.360000610351563,61.360000610351563,52.270000457763672,null,null,null,null,null,null,null,37.917565046172392,null,null,17,1.764133380959387E-2,1.4583566773034295E-3]
["Burundi","LIDC","BDI",0,0,0,0,0,0,0,0,0,0,0,0,0,0,0,0,0,0,0,0,0,0,0,0,0,0,0,0,0,0,0,4.5500001907348633,4.5500001907348633,4.5500001907348633,4.5500001907348633,4.5500001907348633,4.5500001907348633,4.5500001907348633,4.5500001907348633,4.5500001907348633,4.5500001907348633,4.5500001907348633,4.5500001907348633,4.5500001907348633,4.5500001907348633,4.5500001907348633,4.5500001907348633,4.5500001907348633,4.5500001907348633,4.5500001907348633,4.5500001907348633,4.5500001907348633,4.5500001907348633,4.5500001907348633,4.5500001907348633,4.5500001907348633,4.5500001907348633,4.5500001907348633,4.5500001907348633,4.5500001907348633,4.5500001907348633,4.5500001907348633,4.5500001907348633,4.5500001907348633,9.0900001525878906,9.0900001525878906,9.0900001525878906,9.0900001525878906,9.0900001525878906,9.0900001525878906,9.0900001525878906,9.0900001525878906,9.0900001525878906,9.0900001525878906,9.0900001525878906,9.0900001525878906,9.0900001525878906,9.0900001525878906,9.0900001525878906,9.0900001525878906,9.0900001525878906,11.359999656677246,11.359999656677246,11.359999656677246,11.359999656677246,11.359999656677246,11.359999656677246,11.359999656677246,11.359999656677246,11.359999656677246,14.390000343322754,23.479999542236328,23.479999542236328,23.479999542236328,25.760000228881836,25.760000228881836,25.760000228881836,25.760000228881836,25.760000228881836,25.760000228881836,25.760000228881836,25.760000228881836,25.760000228881836,25.760000228881836,30.299999237060547,30.299999237060547,30.299999237060547,30.299999237060547,30.299999237060547,30.299999237060547,30.299999237060547,30.299999237060547,30.299999237060547,30.299999237060547,30.299999237060547,30.299999237060547,30.299999237060547,30.299999237060547,30.299999237060547,30.299999237060547,30.299999237060547,30.299999237060547,30.299999237060547,30.299999237060547,30.299999237060547,30.299999237060547,30.299999237060547,30.299999237060547,25.760000228881836,25.760000228881836,25.760000228881836,25.760000228881836,25.760000228881836,25.760000228881836,25.760000228881836,25.760000228881836,25.760000228881836,25.760000228881836,25.760000228881836,25.760000228881836,25.760000228881836,25.760000228881836,25.760000228881836,25.760000228881836,25.760000228881836,25.760000228881836,25.760000228881836,25.760000228881836,25.760000228881836,null,null,null,null,null,null,null,null,null,null,null,13.540335527202426,null,null,18,1.7038679601864705E-2,1.4089207127891967E-3]
["Cambodia","LIDC","KHM",0,0,0,0,0,0,0,0,0,0,0,0,0,0,0,0,0,0,0,0,0,0,0,0,0,0,0,0,0,0,0,0,0,0,0,0,0,0,0,0,0,0,0,0,0,0,0,0,0,0,0,0,0,0,0,0,0,0,0,0,0,0,0,0,0,0,9.0900001525878906,9.0900001525878906,9.0900001525878906,9.0900001525878906,9.0900001525878906,9.0900001525878906,15.909999847412109,15.909999847412109,15.909999847412109,26.520000457763672,35.610000610351563,50.759998321533203,50.759998321533203,50.759998321533203,50.759998321533203,50.759998321533203,50.759998321533203,50.759998321533203,50.759998321533203,59.849998474121094,59.849998474121094,59.849998474121094,59.849998474121094,59.849998474121094,59.849998474121094,59.849998474121094,59.849998474121094,59.849998474121094,59.849998474121094,59.849998474121094,59.849998474121094,59.849998474121094,57.580001831054688,66.669998168945313,66.669998168945313,66.669998168945313,66.669998168945313,66.669998168945313,66.669998168945313,66.669998168945313,66.669998168945313,57.580001831054688,57.580001831054688,57.580001831054688,57.580001831054688,57.580001831054688,57.580001831054688,57.580001831054688,57.580001831054688,57.580001831054688,57.580001831054688,57.580001831054688,57.580001831054688,57.580001831054688,57.580001831054688,57.580001831054688,57.580001831054688,57.580001831054688,57.580001831054688,57.580001831054688,57.580001831054688,57.580001831054688,57.580001831054688,57.580001831054688,57.580001831054688,57.580001831054688,57.580001831054688,57.580001831054688,57.580001831054688,57.580001831054688,57.580001831054688,57.580001831054688,57.580001831054688,57.580001831054688,57.580001831054688,57.580001831054688,57.580001831054688,57.580001831054688,57.580001831054688,57.580001831054688,57.580001831054688,57.580001831054688,57.580001831054688,57.580001831054688,57.580001831054688,57.580001831054688,43.939998626708984,43.939998626708984,43.939998626708984,null,null,null,null,null,29.806381827906559,null,null,19,1.6436758934754801E-2,1.3595181101118126E-3]
["Cameroon","LIDC","CMR",0,0,0,0,0,0,0,0,0,0,0,0,0,0,0,0,0,0,0,0,0,0,0,0,0,0,0,0,0,0,0,0,0,0,0,0,0,0,0,0,0,0,0,0,0,0,0,0,0,0,0,0,0,0,4.5500001907348633,4.5500001907348633,4.5500001907348633,4.5500001907348633,4.5500001907348633,4.5500001907348633,4.5500001907348633,4.5500001907348633,4.5500001907348633,4.5500001907348633,4.5500001907348633,4.5500001907348633,4.5500001907348633,4.5500001907348633,4.5500001907348633,4.5500001907348633,4.5500001907348633,4.5500001907348633,6.820000171661377,6.820000171661377,6.820000171661377,6.820000171661377,6.820000171661377,51.520000457763672,51.520000457763672,51.520000457763672,51.520000457763672,51.520000457763672,51.520000457763672,51.520000457763672,51.520000457763672,51.520000457763672,51.520000457763672,51.520000457763672,51.520000457763672,51.520000457763672,51.520000457763672,51.520000457763672,51.520000457763672,51.520000457763672,60.610000610351563,60.610000610351563,66.669998168945313,66.669998168945313,66.669998168945313,66.669998168945313,66.669998168945313,66.669998168945313,66.669998168945313,66.669998168945313,66.669998168945313,66.669998168945313,66.669998168945313,66.669998168945313,68.94000244140625,68.94000244140625,68.94000244140625,68.94000244140625,68.94000244140625,68.94000244140625,68.94000244140625,68.94000244140625,68.94000244140625,68.94000244140625,68.94000244140625,68.94000244140625,68.94000244140625,62.880001068115234,62.880001068115234,62.880001068115234,62.880001068115234,62.880001068115234,62.880001068115234,62.880001068115234,62.880001068115234,62.880001068115234,62.880001068115234,62.880001068115234,62.880001068115234,62.880001068115234,62.880001068115234,62.880001068115234,62.880001068115234,62.880001068115234,62.880001068115234,62.880001068115234,62.880001068115234,62.880001068115234,62.880001068115234,62.880001068115234,62.880001068115234,62.880001068115234,62.880001068115234,62.880001068115234,62.880001068115234,62.880001068115234,62.880001068115234,62.880001068115234,null,null,null,null,null,null,null,null,31.306579316917219,null,null,20,1.5835570469798679E-2,1.3101488269233741E-3]
["Canada","AE","CAN",4.5500001907348633,4.5500001907348633,4.5500001907348633,4.5500001907348633,4.5500001907348633,4.5500001907348633,4.5500001907348633,4.5500001907348633,4.5500001907348633,4.5500001907348633,4.5500001907348633,4.5500001907348633,4.5500001907348633,4.5500001907348633,4.5500001907348633,4.5500001907348633,4.5500001907348633,4.5500001907348633,4.5500001907348633,4.5500001907348633,4.5500001907348633,6.820000171661377,6.820000171661377,6.820000171661377,9.8500003814697266,9.8500003814697266,9.8500003814697266,9.8500003814697266,9.8500003814697266,9.8500003814697266,9.8500003814697266,9.8500003814697266,9.8500003814697266,9.8500003814697266,9.8500003814697266,9.8500003814697266,9.8500003814697266,9.8500003814697266,9.8500003814697266,9.8500003814697266,9.8500003814697266,9.8500003814697266,9.8500003814697266,9.8500003814697266,9.8500003814697266,9.8500003814697266,9.8500003814697266,9.8500003814697266,9.8500003814697266,9.8500003814697266,9.8500003814697266,9.8500003814697266,9.8500003814697266,9.8500003814697266,9.8500003814697266,9.8500003814697266,9.8500003814697266,9.8500003814697266,9.8500003814697266,9.8500003814697266,9.8500003814697266,9.8500003814697266,9.8500003814697266,9.8500003814697266,9.8500003814697266,9.8500003814697266,9.8500003814697266,9.8500003814697266,12.880000114440918,12.880000114440918,21.969999313354492,28.790000915527344,28.790000915527344,30.299999237060547,30.299999237060547,46.209999084472656,46.209999084472656,60.610000610351563,63.639999389648438,71.970001220703125,71.970001220703125,71.970001220703125,73.110000610351563,73.110000610351563,73.110000610351563,73.110000610351563,73.110000610351563,73.110000610351563,73.110000610351563,73.110000610351563,73.110000610351563,74.620002746582031,74.620002746582031,74.620002746582031,73.110000610351563,73.110000610351563,73.110000610351563,73.110000610351563,73.110000610351563,73.110000610351563,73.110000610351563,73.110000610351563,73.110000610351563,73.110000610351563,73.110000610351563,73.110000610351563,73.110000610351563,73.110000610351563,73.110000610351563,73.110000610351563,73.110000610351563,73.110000610351563,73.110000610351563,73.110000610351563,73.110000610351563,73.110000610351563,73.110000610351563,73.110000610351563,73.110000610351563,73.110000610351563,73.110000610351563,73.110000610351563,73.110000610351563,73.110000610351563,73.110000610351563,73.110000610351563,73.110000610351563,73.110000610351563,73.110000610351563,73.110000610351563,73.110000610351563,71.589996337890625,71.589996337890625,71.589996337890625,71.589996337890625,71.589996337890625,71.589996337890625,71.589996337890625,71.589996337890625,71.589996337890625,71.589996337890625,71.589996337890625,71.589996337890625,71.589996337890625,71.589996337890625,71.589996337890625,71.589996337890625,71.589996337890625,71.589996337890625,71.589996337890625,71.589996337890625,71.589996337890625,null,null,null,null,null,null,null,null,41.040855147336657,null,null,21,1.5235112871785219E-2,1.2608128209548042E-3]
["Cape Verde","EME","CPV",0,0,0,0,0,0,0,0,0,0,0,0,0,0,0,0,0,0,0,0,0,0,0,0,0,0,0,0,0,0,0,0,0,0,0,4.5500001907348633,4.5500001907348633,4.5500001907348633,4.5500001907348633,4.5500001907348633,4.5500001907348633,9.0900001525878906,9.0900001525878906,9.0900001525878906,9.0900001525878906,9.0900001525878906,9.0900001525878906,9.0900001525878906,9.0900001525878906,9.0900001525878906,9.0900001525878906,9.0900001525878906,9.0900001525878906,9.0900001525878906,9.0900001525878906,9.0900001525878906,9.0900001525878906,15.909999847412109,15.909999847412109,15.909999847412109,15.909999847412109,15.909999847412109,15.909999847412109,15.909999847412109,15.909999847412109,15.909999847412109,15.909999847412109,15.909999847412109,15.909999847412109,15.909999847412109,15.909999847412109,15.909999847412109,15.909999847412109,15.909999847412109,15.909999847412109,28.030000686645508,28.030000686645508,28.030000686645508,30.299999237060547,38.639999389648438,38.639999389648438,38.639999389648438,44.700000762939453,44.700000762939453,44.700000762939453,44.700000762939453,46.970001220703125,60.610000610351563,60.610000610351563,60.610000610351563,60.610000610351563,65.150001525878906,65.150001525878906,65.150001525878906,65.150001525878906,65.150001525878906,65.150001525878906,65.150001525878906,65.150001525878906,65.150001525878906,65.150001525878906,65.150001525878906,65.150001525878906,65.150001525878906,65.150001525878906,65.150001525878906,65.150001525878906,65.150001525878906,72.730003356933594,72.730003356933594,72.730003356933594,72.730003356933594,72.730003356933594,72.730003356933594,72.730003356933594,72.730003356933594,72.730003356933594,72.730003356933594,72.730003356933594,72.730003356933594,72.730003356933594,72.730003356933594,79.550003051757813,79.550003051757813,79.550003051757813,72.730003356933594,72.730003356933594,72.730003356933594,75.760002136230469,75.760002136230469,75.760002136230469,75.760002136230469,75.760002136230469,75.760002136230469,75.760002136230469,75.760002136230469,75.760002136230469,75.760002136230469,75.760002136230469,75.760002136230469,75.760002136230469,75.760002136230469,78.790000915527344,78.790000915527344,78.790000915527344,78.790000915527344,78.790000915527344,78.790000915527344,78.790000915527344,78.790000915527344,78.790000915527344,78.790000915527344,78.790000915527344,78.790000915527344,78.790000915527344,78.790000915527344,null,null,null,null,36.768356172662031,null,null,22,1.4635384808747768E-2,1.2115100500165177E-3]
["Central African Republic","LIDC","CAF",0,0,0,0,0,0,0,0,0,0,0,0,0,0,0,0,0,0,0,0,0,0,0,0,0,0,0,0,0,0,0,0,0,0,0,0,0,0,0,0,0,0,0,0,0,0,0,0,0,0,0,0,0,0,0,0,0,0,0,0,0,0,0,0,0,0,0,0,0,0,0,0,0,9.0900001525878906,9.0900001525878906,9.0900001525878906,9.0900001525878906,9.0900001525878906,9.0900001525878906,9.0900001525878906,9.0900001525878906,9.0900001525878906,9.0900001525878906,9.0900001525878906,9.0900001525878906,56.060001373291016,56.060001373291016,56.060001373291016,56.060001373291016,56.060001373291016,56.060001373291016,56.060001373291016,56.060001373291016,56.060001373291016,56.060001373291016,56.060001373291016,56.060001373291016,56.060001373291016,56.060001373291016,56.060001373291016,56.060001373291016,56.060001373291016,56.060001373291016,56.060001373291016,56.060001373291016,56.060001373291016,60.610000610351563,63.639999389648438,63.639999389648438,63.639999389648438,63.639999389648438,63.639999389648438,63.639999389648438,63.639999389648438,63.639999389648438,63.639999389648438,63.639999389648438,63.639999389648438,63.639999389648438,63.639999389648438,63.639999389648438,63.639999389648438,63.639999389648438,63.639999389648438,63.639999389648438,63.639999389648438,63.639999389648438,63.639999389648438,63.639999389648438,63.639999389648438,63.639999389648438,63.639999389648438,63.639999389648438,63.639999389648438,63.639999389648438,63.639999389648438,63.639999389648438,63.639999389648438,63.639999389648438,63.639999389648438,63.639999389648438,63.639999389648438,63.639999389648438,63.639999389648438,63.639999389648438,63.639999389648438,63.639999389648438,63.639999389648438,null,null,null,null,null,null,null,null,null,null,null,null,26.731013555784482,null,null,23,1.4036384951954297E-2,1.1622404719973112E-3]
["Chad","LIDC","TCD",0,0,0,0,0,0,0,0,0,0,0,0,0,0,0,0,0,0,0,0,0,0,0,0,0,0,0,0,0,0,0,0,0,0,0,0,0,0,0,0,0,0,0,0,0,0,0,0,0,0,0,0,0,0,0,0,0,0,0,0,0,0,0,0,0,0,13.640000343322754,13.640000343322754,13.640000343322754,13.640000343322754,13.640000343322754,13.640000343322754,13.640000343322754,13.640000343322754,13.640000343322754,13.640000343322754,13.640000343322754,13.640000343322754,28.030000686645508,28.030000686645508,28.030000686645508,28.030000686645508,28.030000686645508,28.030000686645508,28.030000686645508,28.030000686645508,28.030000686645508,28.030000686645508,28.030000686645508,28.030000686645508,28.030000686645508,28.030000686645508,32.580001831054688,32.580001831054688,32.580001831054688,32.580001831054688,32.580001831054688,32.580001831054688,32.580001831054688,32.580001831054688,32.580001831054688,32.580001831054688,32.580001831054688,78.029998779296875,78.029998779296875,78.029998779296875,78.029998779296875,78.029998779296875,78.029998779296875,78.029998779296875,78.029998779296875,78.029998779296875,78.029998779296875,78.029998779296875,78.029998779296875,78.029998779296875,78.029998779296875,78.029998779296875,78.029998779296875,78.029998779296875,78.029998779296875,80.300003051757813,80.300003051757813,80.300003051757813,80.300003051757813,80.300003051757813,80.300003051757813,80.300003051757813,80.300003051757813,80.300003051757813,80.300003051757813,80.300003051757813,77.269996643066406,77.269996643066406,77.269996643066406,77.269996643066406,77.269996643066406,77.269996643066406,77.269996643066406,77.269996643066406,77.269996643066406,77.269996643066406,77.269996643066406,77.269996643066406,77.269996643066406,77.269996643066406,77.269996643066406,77.269996643066406,77.269996643066406,77.269996643066406,77.269996643066406,77.269996643066406,77.269996643066406,77.269996643066406,77.269996643066406,null,null,null,null,null,31.234999857450788,null,null,24,1.3438111975897584E-2,1.1130040448656953E-3]
["Chile","EME","CHL",0,0,0,0,0,0,0,0,0,0,0,0,0,0,0,0,0,0,0,0,0,0,0,0,0,0,0,0,0,0,0,0,0,0,0,0,0,0,0,0,0,0,0,0,0,0,0,0,0,0,0,0,0,0,0,0,0,0,0,0,0,0,0,0,0,0,0,0,0,0,0,0,0,9.0900001525878906,18.180000305175781,38.639999389648438,38.639999389648438,45.450000762939453,45.450000762939453,45.450000762939453,42.419998168945313,42.419998168945313,42.419998168945313,42.419998168945313,59.849998474121094,65.910003662109375,65.910003662109375,65.910003662109375,65.910003662109375,75,75,75,75,75,75,75,75,75,75,75,75,75,75,75,75,75,75,75,75,75,75,75,75,75,75,75,75,75,75,75,75,75,75,75,75,75,75,75,77.269996643066406,77.269996643066406,77.269996643066406,77.269996643066406,77.269996643066406,77.269996643066406,77.269996643066406,79.169998168945313,79.169998168945313,79.169998168945313,79.169998168945313,79.169998168945313,79.169998168945313,79.169998168945313,79.169998168945313,79.169998168945313,79.169998168945313,79.169998168945313,79.169998168945313,79.169998168945313,79.169998168945313,79.169998168945313,79.169998168945313,79.169998168945313,null,null,null,null,null,null,null,null,36.485854951958906,null,null,25,1.2840564558285436E-2,1.0638007266685623E-3]
["China","EME","CHN",7.5799999237060547,7.5799999237060547,7.5799999237060547,7.5799999237060547,14.390000343322754,14.390000343322754,14.390000343322754,14.390000343322754,14.390000343322754,14.390000343322754,14.390000343322754,14.390000343322754,14.390000343322754,14.390000343322754,18.940000534057617,18.940000534057617,18.940000534057617,18.940000534057617,18.940000534057617,18.940000534057617,18.940000534057617,33.709999084472656,48.860000610351563,48.860000610351563,51.139999389648438,69.319999694824219,69.319999694824219,69.319999694824219,69.319999694824219,69.319999694824219,69.319999694824219,75.379997253417969,75.379997253417969,75.379997253417969,75.379997253417969,75.379997253417969,75.379997253417969,75.379997253417969,75.379997253417969,75.379997253417969,73.860000610351563,73.860000610351563,73.860000610351563,73.860000610351563,73.860000610351563,73.860000610351563,76.889999389648438,76.889999389648438,76.889999389648438,76.889999389648438,76.889999389648438,76.889999389648438,76.889999389648438,76.889999389648438,76.889999389648438,81.44000244140625,81.44000244140625,81.44000244140625,81.44000244140625,81.44000244140625,81.44000244140625,81.44000244140625,81.44000244140625,81.44000244140625,81.44000244140625,81.44000244140625,81.44000244140625,81.44000244140625,81.44000244140625,81.44000244140625,81.44000244140625,81.44000244140625,81.44000244140625,81.44000244140625,81.44000244140625,79.919998168945313,79.919998168945313,79.919998168945313,79.919998168945313,79.919998168945313,79.919998168945313,79.919998168945313,79.919998168945313,79.919998168945313,79.919998168945313,82.199996948242188,82.199996948242188,75.379997253417969,75.379997253417969,75.379997253417969,78.410003662109375,78.410003662109375,78.410003662109375,75.379997253417969,75.379997253417969,75.379997253417969,75.379997253417969,75.379997253417969,64.769996643066406,64.769996643066406,64.769996643066406,64.769996643066406,64.769996643066406,64.769996643066406,64.769996643066406,64.769996643066406,64.769996643066406,64.769996643066406,64.769996643066406,64.769996643066406,64.769996643066406,64.769996643066406,64.769996643066406,64.769996643066406,64.769996643066406,64.769996643066406,64.769996643066406,64.769996643066406,64.769996643066406,64.769996643066406,64.769996643066406,64.769996643066406,64.769996643066406,64.769996643066406,64.769996643066406,64.769996643066406,64.769996643066406,64.769996643066406,64.769996643066406,64.769996643066406,85.230003356933594,85.230003356933594,85.230003356933594,85.230003356933594,85.230003356933594,85.230003356933594,85.230003356933594,85.230003356933594,85.230003356933594,85.230003356933594,85.230003356933594,85.230003356933594,85.230003356933594,85.230003356933594,85.230003356933594,85.230003356933594,85.230003356933594,85.230003356933594,85.230003356933594,85.230003356933594,85.230003356933594,85.230003356933594,null,null,null,null,null,null,null,null,66.429276039725849,null,null,26,1.2243741380030947E-2,1.0146304755307423E-3]
["Colombia","EME","COL",0,0,0,0,0,0,0,0,0,0,0,0,0,0,0,0,0,0,0,0,6.820000171661377,6.820000171661377,6.820000171661377,6.820000171661377,6.820000171661377,6.820000171661377,6.820000171661377,6.820000171661377,6.820000171661377,6.820000171661377,12.880000114440918,12.880000114440918,12.880000114440918,12.880000114440918,12.880000114440918,12.880000114440918,12.880000114440918,12.880000114440918,12.880000114440918,12.880000114440918,12.880000114440918,12.880000114440918,12.880000114440918,12.880000114440918,12.880000114440918,12.880000114440918,12.880000114440918,12.880000114440918,12.880000114440918,12.880000114440918,12.880000114440918,12.880000114440918,12.880000114440918,12.880000114440918,15.909999847412109,15.909999847412109,15.909999847412109,15.909999847412109,15.909999847412109,15.909999847412109,15.909999847412109,15.909999847412109,15.909999847412109,15.909999847412109,15.909999847412109,15.909999847412109,15.909999847412109,15.909999847412109,18.180000305175781,18.180000305175781,18.180000305175781,34.090000152587891,34.090000152587891,34.090000152587891,34.090000152587891,43.180000305175781,47.729999542236328,47.729999542236328,47.729999542236328,47.729999542236328,47.729999542236328,47.729999542236328,50,50,78.029998779296875,82.580001831054688,82.580001831054688,82.580001831054688,82.580001831054688,82.580001831054688,82.580001831054688,82.580001831054688,82.580001831054688,87.120002746582031,87.120002746582031,87.120002746582031,87.120002746582031,87.120002746582031,87.120002746582031,87.120002746582031,87.120002746582031,87.120002746582031,87.120002746582031,87.120002746582031,84.089996337890625,84.089996337890625,84.089996337890625,84.089996337890625,84.089996337890625,84.089996337890625,84.089996337890625,84.089996337890625,84.089996337890625,84.089996337890625,86.360000610351563,86.360000610351563,86.360000610351563,89.389999389648438,89.389999389648438,89.389999389648438,89.389999389648438,89.389999389648438,89.389999389648438,89.389999389648438,89.389999389648438,89.389999389648438,86.360000610351563,86.360000610351563,86.360000610351563,86.360000610351563,86.360000610351563,86.360000610351563,86.360000610351563,86.360000610351563,86.360000610351563,86.360000610351563,86.360000610351563,86.360000610351563,86.360000610351563,86.360000610351563,86.360000610351563,86.360000610351563,86.360000610351563,86.360000610351563,86.360000610351563,86.360000610351563,86.360000610351563,86.360000610351563,86.360000610351563,86.360000610351563,86.360000610351563,86.360000610351563,86.360000610351563,86.360000610351563,86.360000610351563,86.360000610351563,86.360000610351563,86.360000610351563,86.360000610351563,null,46.495789609457319,null,null,27,1.1647641125242796E-2,9.6549324965566896E-4]
["Congo","LIDC","COG",0,0,0,0,0,0,0,0,0,0,0,0,0,0,0,0,0,0,0,0,0,0,0,0,0,0,0,0,0,0,0,0,0,0,0,0,0,0,0,0,0,0,0,0,0,0,0,0,0,0,0,0,0,0,0,0,0,0,0,0,0,0,4.5500001907348633,4.5500001907348633,4.5500001907348633,4.5500001907348633,4.5500001907348633,4.5500001907348633,4.5500001907348633,4.5500001907348633,4.5500001907348633,4.5500001907348633,4.5500001907348633,9.0900001525878906,13.640000343322754,13.640000343322754,13.640000343322754,13.640000343322754,16.670000076293945,16.670000076293945,21.209999084472656,21.209999084472656,21.209999084472656,21.209999084472656,21.209999084472656,21.209999084472656,21.209999084472656,73.480003356933594,73.480003356933594,78.029998779296875,87.120002746582031,87.120002746582031,87.120002746582031,87.120002746582031,87.120002746582031,87.120002746582031,87.120002746582031,87.120002746582031,87.120002746582031,87.120002746582031,87.120002746582031,87.120002746582031,87.120002746582031,87.120002746582031,87.120002746582031,87.120002746582031,87.120002746582031,87.120002746582031,87.120002746582031,87.120002746582031,87.120002746582031,87.120002746582031,87.120002746582031,87.120002746582031,87.120002746582031,87.120002746582031,87.120002746582031,87.120002746582031,87.120002746582031,87.120002746582031,87.120002746582031,87.120002746582031,87.120002746582031,87.120002746582031,87.120002746582031,87.120002746582031,87.120002746582031,87.120002746582031,87.120002746582031,87.120002746582031,87.120002746582031,87.120002746582031,87.120002746582031,87.120002746582031,87.120002746582031,87.120002746582031,87.120002746582031,87.120002746582031,75,75,75,75,75,75,75,75,75,75,75,75,75,75,75,null,null,null,null,null,null,null,37.843816675637896,null,null,28,1.1052262481215581E-2,9.1638900732515793E-4]
["Costa Rica","EME","CRI",0,0,0,0,0,0,0,0,0,0,0,0,0,0,0,0,0,0,0,0,0,7.5799999237060547,7.5799999237060547,7.5799999237060547,7.5799999237060547,7.5799999237060547,7.5799999237060547,7.5799999237060547,7.5799999237060547,7.5799999237060547,7.5799999237060547,7.5799999237060547,7.5799999237060547,16.670000076293945,16.670000076293945,16.670000076293945,16.670000076293945,16.670000076293945,16.670000076293945,16.670000076293945,16.670000076293945,16.670000076293945,16.670000076293945,16.670000076293945,16.670000076293945,16.670000076293945,16.670000076293945,16.670000076293945,16.670000076293945,16.670000076293945,16.670000076293945,16.670000076293945,16.670000076293945,16.670000076293945,16.670000076293945,16.670000076293945,16.670000076293945,16.670000076293945,16.670000076293945,16.670000076293945,16.670000076293945,16.670000076293945,16.670000076293945,16.670000076293945,16.670000076293945,16.670000076293945,16.670000076293945,16.670000076293945,16.670000076293945,31.819999694824219,31.819999694824219,40.909999847412109,40.909999847412109,40.909999847412109,40.909999847412109,40.909999847412109,59.090000152587891,59.090000152587891,59.090000152587891,59.090000152587891,65.910003662109375,65.910003662109375,65.910003662109375,65.910003662109375,65.910003662109375,65.910003662109375,65.910003662109375,65.910003662109375,65.910003662109375,65.910003662109375,65.910003662109375,65.910003662109375,65.910003662109375,65.910003662109375,65.910003662109375,65.910003662109375,65.910003662109375,65.910003662109375,68.180000305175781,68.180000305175781,68.180000305175781,68.180000305175781,68.180000305175781,66.669998168945313,66.669998168945313,66.669998168945313,66.669998168945313,66.669998168945313,66.669998168945313,66.669998168945313,66.669998168945313,66.669998168945313,66.669998168945313,66.669998168945313,66.669998168945313,66.669998168945313,66.669998168945313,76.519996643066406,76.519996643066406,76.519996643066406,76.519996643066406,68.94000244140625,68.94000244140625,68.94000244140625,68.94000244140625,68.94000244140625,68.94000244140625,68.94000244140625,68.94000244140625,68.94000244140625,68.94000244140625,68.94000244140625,68.94000244140625,68.94000244140625,68.94000244140625,68.94000244140625,64.389999389648438,64.389999389648438,64.389999389648438,64.389999389648438,64.389999389648438,64.389999389648438,64.389999389648438,64.389999389648438,64.389999389648438,64.389999389648438,64.389999389648438,64.389999389648438,64.389999389648438,64.389999389648438,64.389999389648438,64.389999389648438,64.389999389648438,null,null,null,null,null,null,null,39.649408265164027,null,null,29,1.045760413842016E-2,8.6731770689851828E-4]
["Cote d'Ivoire","LIDC","CIV",0,0,0,0,0,0,0,0,0,0,0,0,0,0,0,0,0,0,0,0,0,0,0,0,0,0,0,0,0,0,0,0,0,0,0,0,0,0,0,0,0,0,0,0,0,0,0,0,0,0,0,0,0,0,0,0,0,0,0,0,0,0,0,0,0,0,0,0,0,0,4.5500001907348633,13.640000343322754,13.640000343322754,13.640000343322754,13.640000343322754,35.610000610351563,35.610000610351563,35.610000610351563,57.580001831054688,57.580001831054688,57.580001831054688,59.849998474121094,62.880001068115234,76.519996643066406,76.519996643066406,76.519996643066406,76.519996643066406,76.519996643066406,76.519996643066406,76.519996643066406,76.519996643066406,76.519996643066406,76.519996643066406,76.519996643066406,76.519996643066406,76.519996643066406,76.519996643066406,76.519996643066406,76.519996643066406,76.519996643066406,76.519996643066406,76.519996643066406,76.519996643066406,76.519996643066406,76.519996643066406,76.519996643066406,76.519996643066406,76.519996643066406,76.519996643066406,76.519996643066406,76.519996643066406,76.519996643066406,76.519996643066406,76.519996643066406,76.519996643066406,76.519996643066406,76.519996643066406,76.519996643066406,76.519996643066406,76.519996643066406,76.519996643066406,76.519996643066406,76.519996643066406,76.519996643066406,76.519996643066406,76.519996643066406,76.519996643066406,76.519996643066406,67.800003051757813,67.800003051757813,67.800003051757813,67.800003051757813,67.800003051757813,67.800003051757813,67.800003051757813,67.800003051757813,63.639999389648438,63.639999389648438,63.639999389648438,63.639999389648438,63.639999389648438,63.639999389648438,63.639999389648438,63.639999389648438,63.639999389648438,59.090000152587891,59.090000152587891,59.090000152587891,59.090000152587891,59.090000152587891,59.090000152587891,59.090000152587891,59.090000152587891,null,null,null,null,null,null,null,35.747367614193969,null,null,30,9.8636647904940776E-3,8.1827930681255268E-4]
["Croatia","EME","HRV",0,0,0,0,0,0,0,0,0,0,0,0,0,0,0,0,0,0,0,0,0,0,0,0,0,0,4.5500001907348633,4.5500001907348633,4.5500001907348633,4.5500001907348633,9.0900001525878906,9.0900001525878906,9.0900001525878906,21.209999084472656,23.479999542236328,23.479999542236328,23.479999542236328,23.479999542236328,23.479999542236328,23.479999542236328,23.479999542236328,23.479999542236328,23.479999542236328,23.479999542236328,23.479999542236328,23.479999542236328,23.479999542236328,23.479999542236328,23.479999542236328,23.479999542236328,23.479999542236328,23.479999542236328,23.479999542236328,23.479999542236328,23.479999542236328,23.479999542236328,23.479999542236328,23.479999542236328,23.479999542236328,23.479999542236328,23.479999542236328,23.479999542236328,23.479999542236328,23.479999542236328,23.479999542236328,23.479999542236328,23.479999542236328,23.479999542236328,23.479999542236328,30.299999237060547,30.299999237060547,30.299999237060547,37.880001068115234,43.939998626708984,46.209999084472656,46.209999084472656,46.209999084472656,48.479999542236328,53.029998779296875,66.669998168945313,73.480003356933594,75.760002136230469,90.910003662109375,90.910003662109375,90.910003662109375,90.910003662109375,90.910003662109375,90.910003662109375,90.910003662109375,90.910003662109375,90.910003662109375,90.910003662109375,93.94000244140625,93.94000244140625,93.94000244140625,93.94000244140625,93.94000244140625,93.94000244140625,93.94000244140625,93.94000244140625,93.94000244140625,93.94000244140625,93.94000244140625,93.94000244140625,93.94000244140625,93.94000244140625,93.94000244140625,93.94000244140625,93.94000244140625,93.94000244140625,93.94000244140625,93.94000244140625,93.94000244140625,93.94000244140625,93.94000244140625,93.94000244140625,93.94000244140625,88.639999389648438,88.639999389648438,88.639999389648438,88.639999389648438,88.639999389648438,88.639999389648438,88.639999389648438,91.669998168945313,91.669998168945313,91.669998168945313,91.669998168945313,91.669998168945313,91.669998168945313,91.669998168945313,75.760002136230469,75.760002136230469,75.760002136230469,75.760002136230469,75.760002136230469,75.760002136230469,75.760002136230469,75.760002136230469,75.760002136230469,75.760002136230469,75.760002136230469,75.760002136230469,75.760002136230469,75.760002136230469,68.94000244140625,62.119998931884766,62.119998931884766,59.849998474121094,59.849998474121094,59.849998474121094,59.849998474121094,59.849998474121094,59.849998474121094,59.849998474121094,59.849998474121094,null,null,null,null,49.541053194748727,null,null,31,9.2704431342319794E-3,7.692737655817794E-4]
["Cuba","EME","CUB",0,0,0,0,0,0,0,0,0,0,0,0,0,0,0,0,0,0,0,0,0,0,0,0,0,0,0,9.0900001525878906,9.0900001525878906,9.0900001525878906,9.0900001525878906,9.0900001525878906,9.0900001525878906,9.0900001525878906,9.0900001525878906,9.0900001525878906,9.0900001525878906,9.0900001525878906,9.0900001525878906,9.0900001525878906,9.0900001525878906,9.0900001525878906,9.0900001525878906,9.0900001525878906,9.0900001525878906,9.0900001525878906,9.0900001525878906,9.0900001525878906,9.0900001525878906,9.0900001525878906,9.0900001525878906,11.359999656677246,11.359999656677246,11.359999656677246,11.359999656677246,11.359999656677246,11.359999656677246,11.359999656677246,11.359999656677246,11.359999656677246,11.359999656677246,11.359999656677246,11.359999656677246,11.359999656677246,11.359999656677246,11.359999656677246,11.359999656677246,11.359999656677246,11.359999656677246,21.969999313354492,21.969999313354492,21.969999313354492,21.969999313354492,21.969999313354492,21.969999313354492,21.969999313354492,21.969999313354492,21.969999313354492,21.969999313354492,35.610000610351563,35.610000610351563,35.610000610351563,44.700000762939453,65.150001525878906,65.150001525878906,65.150001525878906,65.150001525878906,65.150001525878906,65.150001525878906,65.150001525878906,65.150001525878906,65.150001525878906,65.150001525878906,65.150001525878906,65.150001525878906,65.150001525878906,65.150001525878906,68.180000305175781,68.180000305175781,68.180000305175781,68.180000305175781,70.449996948242188,70.449996948242188,70.449996948242188,70.449996948242188,70.449996948242188,70.449996948242188,78.790000915527344,78.790000915527344,78.790000915527344,78.790000915527344,78.790000915527344,78.790000915527344,78.790000915527344,78.790000915527344,78.790000915527344,78.790000915527344,78.790000915527344,78.790000915527344,78.790000915527344,78.790000915527344,78.790000915527344,78.790000915527344,78.790000915527344,78.790000915527344,81.819999694824219,81.819999694824219,81.819999694824219,81.819999694824219,81.819999694824219,81.819999694824219,93.94000244140625,93.94000244140625,93.94000244140625,93.94000244140625,93.94000244140625,93.94000244140625,93.94000244140625,93.94000244140625,93.94000244140625,93.94000244140625,93.94000244140625,93.94000244140625,93.94000244140625,93.94000244140625,93.94000244140625,93.94000244140625,93.94000244140625,93.94000244140625,null,null,null,null,null,null,null,null,null,null,null,40.278188295812413,null,null,32,8.6779378695760988E-3,7.2030104179821031E-4]
["Cyprus","AE","CYP",0,0,0,0,0,0,0,0,0,0,0,0,0,0,0,0,0,0,0,0,0,0,0,0,0,0,0,0,0,0,0,0,0,0,0,0,0,0,0,0,0,0,0,0,0,0,0,0,0,0,0,0,0,0,0,0,0,0,0,0,0,0,0,0,9.0900001525878906,9.0900001525878906,9.0900001525878906,9.0900001525878906,9.0900001525878906,18.180000305175781,18.180000305175781,22.729999542236328,36.360000610351563,36.360000610351563,40.909999847412109,46.970001220703125,46.970001220703125,46.970001220703125,46.970001220703125,46.970001220703125,46.970001220703125,46.970001220703125,59.090000152587891,83.330001831054688,83.330001831054688,83.330001831054688,83.330001831054688,83.330001831054688,83.330001831054688,83.330001831054688,83.330001831054688,83.330001831054688,83.330001831054688,83.330001831054688,83.330001831054688,83.330001831054688,83.330001831054688,83.330001831054688,83.330001831054688,83.330001831054688,83.330001831054688,89.389999389648438,89.389999389648438,89.389999389648438,89.389999389648438,89.389999389648438,95.449996948242188,95.449996948242188,95.449996948242188,95.449996948242188,95.449996948242188,95.449996948242188,95.449996948242188,95.449996948242188,95.449996948242188,95.449996948242188,95.449996948242188,95.449996948242188,95.449996948242188,95.449996948242188,95.449996948242188,95.449996948242188,95.449996948242188,95.449996948242188,95.449996948242188,95.449996948242188,95.449996948242188,95.449996948242188,95.449996948242188,95.449996948242188,95.449996948242188,95.449996948242188,95.449996948242188,95.449996948242188,95.449996948242188,95.449996948242188,95.449996948242188,95.449996948242188,95.449996948242188,95.449996948242188,95.449996948242188,85.610000610351563,85.610000610351563,85.610000610351563,85.610000610351563,85.610000610351563,85.610000610351563,85.610000610351563,85.610000610351563,85.610000610351563,85.610000610351563,85.610000610351563,null,null,null,null,null,null,null,null,44.969736450596862,null,null,33,8.086147699606732E-3,6.7136109413046263E-4]
["Czech Republic","AE","CZE",0,0,0,0,0,0,0,0,0,0,0,0,0,0,0,0,0,0,0,0,0,0,0,4.5500001907348633,4.5500001907348633,4.5500001907348633,9.0900001525878906,9.0900001525878906,9.0900001525878906,13.640000343322754,13.640000343322754,13.640000343322754,13.640000343322754,13.640000343322754,13.640000343322754,13.640000343322754,13.640000343322754,13.640000343322754,13.640000343322754,13.640000343322754,13.640000343322754,13.640000343322754,13.640000343322754,13.640000343322754,13.640000343322754,13.640000343322754,13.640000343322754,13.640000343322754,13.640000343322754,13.640000343322754,13.640000343322754,13.640000343322754,13.640000343322754,13.640000343322754,13.640000343322754,13.640000343322754,13.640000343322754,13.640000343322754,15.909999847412109,15.909999847412109,25,25,25,25,25,25,25,25,28.030000686645508,32.580001831054688,50.759998321533203,53.029998779296875,59.090000152587891,62.119998931884766,68.180000305175781,77.269996643066406,77.269996643066406,77.269996643066406,77.269996643066406,77.269996643066406,77.269996643066406,77.269996643066406,79.550003051757813,79.550003051757813,79.550003051757813,79.550003051757813,82.580001831054688,82.580001831054688,82.580001831054688,82.580001831054688,82.580001831054688,82.580001831054688,75.760002136230469,75.760002136230469,75.760002136230469,75.760002136230469,75.760002136230469,75.760002136230469,75.760002136230469,75.760002136230469,75.760002136230469,75.760002136230469,75.760002136230469,75.760002136230469,71.209999084472656,71.209999084472656,71.209999084472656,71.209999084472656,71.209999084472656,71.209999084472656,65.150001525878906,62.119998931884766,62.119998931884766,62.119998931884766,62.119998931884766,62.119998931884766,62.119998931884766,59.849998474121094,59.849998474121094,59.849998474121094,59.849998474121094,59.849998474121094,59.849998474121094,59.849998474121094,59.849998474121094,59.849998474121094,59.849998474121094,59.849998474121094,59.849998474121094,59.849998474121094,59.849998474121094,59.849998474121094,59.849998474121094,59.849998474121094,59.849998474121094,59.849998474121094,59.849998474121094,59.849998474121094,59.849998474121094,59.849998474121094,59.849998474121094,59.849998474121094,59.849998474121094,59.849998474121094,59.849998474121094,53.029998779296875,50.759998321533203,50.759998321533203,50.759998321533203,null,null,null,null,null,null,null,null,null,null,null,40.483355541357255,null,null,34,7.4950713305328119E-3,6.2245388132464718E-4]
["Democratic Republic of Congo","EME","COD",0,0,0,0,0,0,0,0,0,0,0,0,0,0,0,0,0,0,0,0,0,0,0,0,0,0,0,0,0,0,0,0,0,0,0,0,0,0,0,0,0,0,0,0,0,0,0,0,0,0,2.2699999809265137,2.2699999809265137,2.2699999809265137,2.2699999809265137,2.2699999809265137,2.2699999809265137,2.2699999809265137,2.2699999809265137,2.2699999809265137,2.2699999809265137,2.2699999809265137,2.2699999809265137,2.2699999809265137,2.2699999809265137,2.2699999809265137,4.5500001907348633,4.5500001907348633,4.5500001907348633,4.5500001907348633,12.119999885559082,16.670000076293945,16.670000076293945,16.670000076293945,16.670000076293945,16.670000076293945,16.670000076293945,16.670000076293945,23.479999542236328,50.759998321533203,53.029998779296875,53.029998779296875,55.299999237060547,55.299999237060547,71.209999084472656,71.209999084472656,71.209999084472656,71.209999084472656,71.209999084472656,71.209999084472656,71.209999084472656,71.209999084472656,71.209999084472656,71.209999084472656,71.209999084472656,71.209999084472656,71.209999084472656,73.480003356933594,73.480003356933594,73.480003356933594,73.480003356933594,73.480003356933594,73.480003356933594,73.480003356933594,73.480003356933594,73.480003356933594,73.480003356933594,73.480003356933594,73.480003356933594,73.480003356933594,73.480003356933594,73.480003356933594,73.480003356933594,73.480003356933594,73.480003356933594,73.480003356933594,73.480003356933594,73.480003356933594,73.480003356933594,73.480003356933594,73.480003356933594,73.480003356933594,73.480003356933594,73.480003356933594,73.480003356933594,73.480003356933594,73.480003356933594,73.480003356933594,73.480003356933594,73.480003356933594,73.480003356933594,73.480003356933594,73.480003356933594,73.480003356933594,73.480003356933594,73.480003356933594,73.480003356933594,73.480003356933594,73.480003356933594,73.480003356933594,73.480003356933594,73.480003356933594,73.480003356933594,73.480003356933594,73.480003356933594,73.480003356933594,73.480003356933594,73.480003356933594,73.480003356933594,73.480003356933594,null,null,null,null,null,null,null,null,null,null,null,35.517652085963512,null,null,35,6.9047074716824496E-3,5.7357936220303607E-4]
["Denmark","AE","DNK",0,0,0,0,0,0,0,0,0,0,0,0,0,0,0,0,0,0,0,0,0,0,0,0,0,0,0,0,0,0,0,0,0,0,0,0,0,0,0,0,0,0,0,0,0,0,0,0,0,0,0,0,0,0,0,0,0,13.640000343322754,13.640000343322754,13.640000343322754,13.640000343322754,13.640000343322754,21.209999084472656,21.209999084472656,21.209999084472656,25.760000228881836,25.760000228881836,25.760000228881836,25.760000228881836,30.299999237060547,38.639999389648438,38.639999389648438,59.090000152587891,61.360000610351563,61.360000610351563,61.360000610351563,61.360000610351563,66.669998168945313,66.669998168945313,66.669998168945313,66.669998168945313,66.669998168945313,66.669998168945313,66.669998168945313,66.669998168945313,66.669998168945313,66.669998168945313,66.669998168945313,66.669998168945313,66.669998168945313,66.669998168945313,66.669998168945313,66.669998168945313,66.669998168945313,66.669998168945313,66.669998168945313,66.669998168945313,66.669998168945313,66.669998168945313,66.669998168945313,66.669998168945313,66.669998168945313,66.669998168945313,66.669998168945313,66.669998168945313,63.639999389648438,63.639999389648438,63.639999389648438,63.639999389648438,63.639999389648438,66.669998168945313,66.669998168945313,66.669998168945313,71.209999084472656,71.209999084472656,71.209999084472656,71.209999084472656,71.209999084472656,71.209999084472656,71.209999084472656,71.209999084472656,71.209999084472656,71.209999084472656,71.209999084472656,71.209999084472656,71.209999084472656,71.209999084472656,71.209999084472656,68.94000244140625,68.94000244140625,68.94000244140625,68.94000244140625,71.970001220703125,71.970001220703125,71.970001220703125,71.970001220703125,71.970001220703125,71.970001220703125,71.970001220703125,71.970001220703125,71.970001220703125,71.970001220703125,71.970001220703125,71.970001220703125,71.970001220703125,69.699996948242188,69.699996948242188,69.699996948242188,69.699996948242188,69.699996948242188,69.699996948242188,69.699996948242188,null,null,null,null,null,null,null,null,38.153749547506635,null,null,36,6.315054835493536E-3,5.2473749566472883E-4]
["Djibouti","LIDC","DJI",0,0,0,0,0,0,0,0,0,0,0,0,0,0,0,0,0,0,0,0,0,0,0,0,0,0,0,0,0,0,0,0,0,0,0,0,0,0,0,0,0,0,0,0,0,0,0,0,0,0,0,0,0,0,0,0,0,0,0,0,0,0,0,0,0,0,0,0,0,0,0,0,0,0,0,0,0,33.330001831054688,42.419998168945313,42.419998168945313,42.419998168945313,53.029998779296875,92.419998168945313,92.419998168945313,92.419998168945313,92.419998168945313,92.419998168945313,92.419998168945313,92.419998168945313,92.419998168945313,92.419998168945313,92.419998168945313,92.419998168945313,92.419998168945313,92.419998168945313,92.419998168945313,92.419998168945313,92.419998168945313,92.419998168945313,92.419998168945313,92.419998168945313,92.419998168945313,92.419998168945313,95.449996948242188,95.449996948242188,95.449996948242188,95.449996948242188,95.449996948242188,95.449996948242188,95.449996948242188,95.449996948242188,95.449996948242188,95.449996948242188,95.449996948242188,95.449996948242188,100,100,100,100,100,100,100,100,100,100,100,100,100,100,100,100,90.910003662109375,90.910003662109375,90.910003662109375,90.910003662109375,90.910003662109375,90.910003662109375,64.389999389648438,64.389999389648438,64.389999389648438,64.389999389648438,64.389999389648438,64.389999389648438,59.849998474121094,59.849998474121094,59.849998474121094,59.849998474121094,59.849998474121094,59.849998474121094,59.849998474121094,59.849998474121094,59.849998474121094,59.849998474121094,59.849998474121094,59.849998474121094,59.849998474121094,null,null,null,null,41.909802135668301,null,null,37,5.7261121375044299E-3,4.7592824068498629E-4]
["Dominica","EME","DMA",0,0,0,0,0,0,0,0,0,0,0,0,0,0,0,0,0,0,0,0,0,0,0,0,0,0,0,0,0,0,0,0,0,0,0,0,0,0,0,0,0,0,0,0,0,0,0,0,0,0,0,0,0,0,0,0,0,0,0,0,0,0,0,0,0,0,0,0,0,0,0,0,0,0,0,0,0,0,0,0,0,26.520000457763672,35.610000610351563,35.610000610351563,35.610000610351563,35.610000610351563,35.610000610351563,40.150001525878906,40.150001525878906,40.150001525878906,40.150001525878906,84.849998474121094,84.849998474121094,84.849998474121094,84.849998474121094,84.849998474121094,84.849998474121094,84.849998474121094,84.849998474121094,84.849998474121094,84.849998474121094,84.849998474121094,84.849998474121094,84.849998474121094,84.849998474121094,84.849998474121094,84.849998474121094,84.849998474121094,84.849998474121094,84.849998474121094,87.879997253417969,87.879997253417969,87.879997253417969,87.879997253417969,87.879997253417969,87.879997253417969,87.879997253417969,87.879997253417969,87.879997253417969,87.879997253417969,87.879997253417969,87.879997253417969,87.879997253417969,87.879997253417969,87.879997253417969,87.879997253417969,87.879997253417969,84.849998474121094,84.849998474121094,84.849998474121094,84.849998474121094,84.849998474121094,81.819999694824219,81.819999694824219,81.819999694824219,81.819999694824219,81.819999694824219,81.819999694824219,81.819999694824219,81.819999694824219,81.819999694824219,81.819999694824219,81.819999694824219,81.819999694824219,81.819999694824219,75.760002136230469,75.760002136230469,75.760002136230469,75.760002136230469,null,null,null,null,null,null,null,null,null,null,null,35.316979401863662,null,null,38,5.1378780963445662E-3,4.271515563156747E-4]
["Dominican Republic","EME","DOM",0,0,0,0,0,0,0,0,0,0,0,0,0,0,0,0,0,0,0,0,0,0,0,0,0,0,0,0,0,0,0,0,0,0,0,0,0,0,0,0,0,0,0,0,0,0,0,0,0,0,0,0,0,0,0,0,0,0,0,0,0,9.0900001525878906,9.0900001525878906,9.0900001525878906,9.0900001525878906,9.0900001525878906,9.0900001525878906,9.0900001525878906,9.0900001525878906,9.0900001525878906,9.0900001525878906,13.640000343322754,13.640000343322754,13.640000343322754,13.640000343322754,23.479999542236328,26.520000457763672,26.520000457763672,62.119998931884766,71.209999084472656,71.209999084472656,77.269996643066406,77.269996643066406,84.089996337890625,84.089996337890625,84.089996337890625,84.089996337890625,84.089996337890625,84.089996337890625,84.089996337890625,84.089996337890625,84.089996337890625,84.089996337890625,84.089996337890625,84.089996337890625,84.089996337890625,84.089996337890625,84.089996337890625,84.089996337890625,84.089996337890625,84.089996337890625,84.089996337890625,84.089996337890625,84.089996337890625,84.089996337890625,84.089996337890625,84.089996337890625,84.089996337890625,87.120002746582031,87.120002746582031,87.120002746582031,87.120002746582031,87.120002746582031,87.120002746582031,87.120002746582031,87.120002746582031,87.120002746582031,87.120002746582031,90.150001525878906,90.150001525878906,90.150001525878906,90.150001525878906,90.150001525878906,90.150001525878906,90.150001525878906,90.150001525878906,90.150001525878906,90.150001525878906,90.150001525878906,90.150001525878906,90.150001525878906,90.150001525878906,90.150001525878906,90.150001525878906,90.150001525878906,90.150001525878906,90.150001525878906,90.150001525878906,87.120002746582031,87.120002746582031,79.550003051757813,79.550003051757813,79.550003051757813,79.550003051757813,79.550003051757813,79.550003051757813,79.550003051757813,79.550003051757813,79.550003051757813,79.550003051757813,79.550003051757813,79.550003051757813,null,null,null,null,null,null,null,null,42.673355278215908,null,null,39,4.5503514337252131E-3,3.7840740168393339E-4]
["Ecuador","EME","ECU",0,0,0,0,0,0,0,0,0,0,0,0,0,0,0,0,0,0,0,0,0,0,0,0,0,4.5500001907348633,4.5500001907348633,4.5500001907348633,4.5500001907348633,4.5500001907348633,4.5500001907348633,4.5500001907348633,4.5500001907348633,4.5500001907348633,4.5500001907348633,4.5500001907348633,4.5500001907348633,4.5500001907348633,4.5500001907348633,4.5500001907348633,4.5500001907348633,4.5500001907348633,4.5500001907348633,4.5500001907348633,4.5500001907348633,4.5500001907348633,4.5500001907348633,4.5500001907348633,4.5500001907348633,4.5500001907348633,4.5500001907348633,4.5500001907348633,4.5500001907348633,4.5500001907348633,4.5500001907348633,4.5500001907348633,4.5500001907348633,4.5500001907348633,4.5500001907348633,4.5500001907348633,4.5500001907348633,6.820000171661377,6.820000171661377,6.820000171661377,6.820000171661377,6.820000171661377,6.820000171661377,6.820000171661377,6.820000171661377,6.820000171661377,6.820000171661377,6.820000171661377,29.549999237060547,29.549999237060547,43.180000305175781,43.180000305175781,81.05999755859375,81.05999755859375,81.05999755859375,81.05999755859375,81.05999755859375,81.05999755859375,81.05999755859375,81.05999755859375,81.05999755859375,81.05999755859375,81.05999755859375,81.05999755859375,81.05999755859375,81.05999755859375,90.150001525878906,90.150001525878906,90.150001525878906,90.150001525878906,90.150001525878906,90.150001525878906,90.150001525878906,90.150001525878906,90.150001525878906,90.150001525878906,90.150001525878906,90.150001525878906,90.150001525878906,90.150001525878906,90.150001525878906,90.150001525878906,90.150001525878906,90.150001525878906,90.150001525878906,90.150001525878906,90.150001525878906,90.150001525878906,90.150001525878906,90.150001525878906,90.150001525878906,90.150001525878906,90.150001525878906,90.150001525878906,90.150001525878906,90.150001525878906,90.150001525878906,90.150001525878906,90.150001525878906,90.150001525878906,84.089996337890625,84.089996337890625,84.089996337890625,84.089996337890625,84.089996337890625,84.089996337890625,84.089996337890625,84.089996337890625,84.089996337890625,84.089996337890625,84.089996337890625,84.089996337890625,84.089996337890625,84.089996337890625,84.089996337890625,84.089996337890625,84.089996337890625,84.089996337890625,84.089996337890625,84.089996337890625,84.089996337890625,84.089996337890625,84.089996337890625,84.089996337890625,84.089996337890625,81.819999694824219,81.819999694824219,81.819999694824219,81.819999694824219,81.819999694824219,81.819999694824219,81.819999694824219,81.819999694824219,81.819999694824219,81.819999694824219,null,45.604802191257477,null,null,40,3.9635308744301843E-3,3.2969573599306301E-4]
["Egypt","EME","EGY",0,0,0,0,0,0,0,0,0,0,0,0,0,0,0,0,0,0,0,0,0,0,0,0,0,0,0,0,0,0,0,0,0,0,0,0,0,0,0,0,0,0,0,0,12.119999885559082,12.119999885559082,12.119999885559082,12.119999885559082,12.119999885559082,12.119999885559082,12.119999885559082,12.119999885559082,12.119999885559082,12.119999885559082,12.119999885559082,12.119999885559082,12.119999885559082,12.119999885559082,12.119999885559082,12.119999885559082,12.119999885559082,12.119999885559082,12.119999885559082,12.119999885559082,12.119999885559082,12.119999885559082,12.119999885559082,12.119999885559082,12.119999885559082,12.119999885559082,12.119999885559082,12.119999885559082,12.119999885559082,12.119999885559082,21.209999084472656,27.270000457763672,27.270000457763672,27.270000457763672,36.360000610351563,36.360000610351563,45.450000762939453,45.450000762939453,45.450000762939453,54.549999237060547,81.05999755859375,81.05999755859375,81.05999755859375,81.05999755859375,81.05999755859375,81.05999755859375,81.05999755859375,81.05999755859375,81.05999755859375,81.05999755859375,81.05999755859375,81.05999755859375,81.05999755859375,81.05999755859375,81.05999755859375,81.05999755859375,81.05999755859375,81.05999755859375,81.05999755859375,81.05999755859375,81.05999755859375,81.05999755859375,81.05999755859375,81.05999755859375,81.05999755859375,81.05999755859375,81.05999755859375,81.05999755859375,81.05999755859375,81.05999755859375,81.05999755859375,81.05999755859375,81.05999755859375,81.05999755859375,81.05999755859375,81.05999755859375,81.05999755859375,81.05999755859375,81.05999755859375,81.05999755859375,81.05999755859375,81.05999755859375,81.05999755859375,81.05999755859375,81.05999755859375,81.05999755859375,81.05999755859375,81.05999755859375,81.05999755859375,81.05999755859375,81.05999755859375,81.05999755859375,81.05999755859375,81.05999755859375,81.05999755859375,81.05999755859375,81.05999755859375,81.05999755859375,81.05999755859375,81.05999755859375,81.05999755859375,84.089996337890625,84.089996337890625,84.089996337890625,84.089996337890625,84.089996337890625,84.089996337890625,84.089996337890625,84.089996337890625,84.089996337890625,84.089996337890625,84.089996337890625,84.089996337890625,84.089996337890625,null,null,41.207433060595861,null,null,41,3.3774151463066317E-3,2.8101651852208143E-4]
["El Salvador","EME","SLV",0,0,0,0,0,0,0,0,0,0,0,0,0,0,0,0,0,0,0,0,0,0,9.0900001525878906,9.0900001525878906,9.0900001525878906,9.0900001525878906,9.0900001525878906,9.0900001525878906,9.0900001525878906,9.0900001525878906,15.909999847412109,15.909999847412109,15.909999847412109,15.909999847412109,15.909999847412109,15.909999847412109,15.909999847412109,15.909999847412109,15.909999847412109,15.909999847412109,15.909999847412109,15.909999847412109,15.909999847412109,15.909999847412109,15.909999847412109,15.909999847412109,15.909999847412109,15.909999847412109,15.909999847412109,15.909999847412109,15.909999847412109,15.909999847412109,15.909999847412109,15.909999847412109,15.909999847412109,15.909999847412109,15.909999847412109,15.909999847412109,15.909999847412109,15.909999847412109,15.909999847412109,15.909999847412109,15.909999847412109,15.909999847412109,15.909999847412109,15.909999847412109,15.909999847412109,15.909999847412109,15.909999847412109,15.909999847412109,40.150001525878906,42.419998168945313,42.419998168945313,42.419998168945313,42.419998168945313,48.479999542236328,48.479999542236328,59.849998474121094,59.849998474121094,59.849998474121094,78.790000915527344,78.790000915527344,78.790000915527344,78.790000915527344,78.790000915527344,78.790000915527344,78.790000915527344,78.790000915527344,78.790000915527344,78.790000915527344,78.790000915527344,78.790000915527344,78.790000915527344,78.790000915527344,78.790000915527344,78.790000915527344,78.790000915527344,78.790000915527344,78.790000915527344,78.790000915527344,78.790000915527344,78.790000915527344,78.790000915527344,78.790000915527344,78.790000915527344,78.790000915527344,78.790000915527344,78.790000915527344,78.790000915527344,78.790000915527344,78.790000915527344,83.330001831054688,83.330001831054688,83.330001831054688,86.360000610351563,86.360000610351563,86.360000610351563,86.360000610351563,86.360000610351563,86.360000610351563,86.360000610351563,86.360000610351563,86.360000610351563,86.360000610351563,86.360000610351563,86.360000610351563,86.360000610351563,90.910003662109375,90.910003662109375,90.910003662109375,90.910003662109375,90.910003662109375,90.910003662109375,90.910003662109375,90.910003662109375,95.449996948242188,95.449996948242188,95.449996948242188,95.449996948242188,95.449996948242188,95.449996948242188,95.449996948242188,95.449996948242188,95.449996948242188,95.449996948242188,95.449996948242188,95.449996948242188,95.449996948242188,95.449996948242188,95.449996948242188,95.449996948242188,95.449996948242188,95.449996948242188,null,null,null,null,null,null,null,48.424671072708932,null,null,42,2.7920029802558262E-3,2.3236970862527961E-4]
["Eritrea","EME","ERI",0,0,0,0,0,0,0,0,0,0,0,0,0,0,0,0,0,0,0,0,0,0,0,0,0,0,0,0,0,0,0,0,0,0,0,0,0,0,0,0,0,0,0,0,0,0,0,0,0,0,0,0,0,0,0,0,0,0,0,0,0,0,0,0,0,0,0,0,0,0,9.0900001525878906,9.0900001525878906,9.0900001525878906,9.0900001525878906,9.0900001525878906,18.180000305175781,18.180000305175781,18.180000305175781,18.180000305175781,18.180000305175781,18.180000305175781,18.180000305175781,56.060001373291016,56.060001373291016,58.330001831054688,58.330001831054688,71.970001220703125,71.970001220703125,71.970001220703125,71.970001220703125,78.029998779296875,88.639999389648438,88.639999389648438,88.639999389648438,88.639999389648438,88.639999389648438,88.639999389648438,88.639999389648438,88.639999389648438,88.639999389648438,88.639999389648438,88.639999389648438,88.639999389648438,88.639999389648438,88.639999389648438,88.639999389648438,88.639999389648438,88.639999389648438,88.639999389648438,88.639999389648438,88.639999389648438,88.639999389648438,88.639999389648438,88.639999389648438,88.639999389648438,88.639999389648438,88.639999389648438,88.639999389648438,88.639999389648438,88.639999389648438,88.639999389648438,88.639999389648438,88.639999389648438,88.639999389648438,88.639999389648438,88.639999389648438,88.639999389648438,88.639999389648438,88.639999389648438,88.639999389648438,88.639999389648438,88.639999389648438,88.639999389648438,88.639999389648438,88.639999389648438,88.639999389648438,88.639999389648438,88.639999389648438,88.639999389648438,88.639999389648438,88.639999389648438,88.639999389648438,88.639999389648438,88.639999389648438,88.639999389648438,88.639999389648438,88.639999389648438,88.639999389648438,88.639999389648438,88.639999389648438,88.639999389648438,88.639999389648438,88.639999389648438,88.639999389648438,88.639999389648438,88.639999389648438,88.639999389648438,88.639999389648438,88.639999389648438,null,40.621315629858721,null,null,43,2.2072931102240234E-3,1.8375526573199963E-4]
["Estonia","AE","EST",0,0,0,0,0,0,0,0,0,0,0,0,0,0,0,0,0,0,0,0,0,0,0,0,0,0,0,0,0,0,0,0,0,0,0,0,0,0,0,0,0,0,0,0,0,0,0,0,0,0,0,0,0,0,0,0,0,0,0,0,0,0,0,0,0,0,0,0,0,0,0,23.479999542236328,23.479999542236328,30.299999237060547,30.299999237060547,39.389999389648438,43.939998626708984,43.939998626708984,43.939998626708984,43.939998626708984,43.939998626708984,43.939998626708984,43.939998626708984,43.939998626708984,53.029998779296875,53.029998779296875,62.119998931884766,62.119998931884766,66.669998168945313,66.669998168945313,66.669998168945313,66.669998168945313,66.669998168945313,66.669998168945313,66.669998168945313,66.669998168945313,66.669998168945313,66.669998168945313,69.699996948242188,69.699996948242188,69.699996948242188,69.699996948242188,69.699996948242188,69.699996948242188,69.699996948242188,69.699996948242188,69.699996948242188,69.699996948242188,69.699996948242188,69.699996948242188,69.699996948242188,69.699996948242188,69.699996948242188,69.699996948242188,69.699996948242188,69.699996948242188,69.699996948242188,67.419998168945313,67.419998168945313,67.419998168945313,67.419998168945313,67.419998168945313,67.419998168945313,67.419998168945313,67.419998168945313,67.419998168945313,67.419998168945313,67.419998168945313,60.610000610351563,60.610000610351563,60.610000610351563,57.580001831054688,57.580001831054688,57.580001831054688,57.580001831054688,51.520000457763672,51.520000457763672,51.520000457763672,46.970001220703125,46.970001220703125,46.970001220703125,46.970001220703125,46.970001220703125,46.970001220703125,46.970001220703125,46.970001220703125,46.970001220703125,46.970001220703125,46.970001220703125,46.970001220703125,46.970001220703125,46.970001220703125,40.150001525878906,40.150001525878906,40.150001525878906,40.150001525878906,null,null,null,null,30.826841530046966,null,null,44,1.6232842731933386E-3,1.351731493466346E-4]
["Eswatini","EME","SWZ",0,0,0,0,0,0,0,0,0,0,0,0,0,0,0,0,0,0,0,0,0,0,0,0,0,0,0,0,0,0,0,0,0,0,0,0,0,0,0,0,0,0,0,0,0,0,0,0,0,0,0,0,0,0,0,0,0,0,0,16.670000076293945,16.670000076293945,16.670000076293945,16.670000076293945,16.670000076293945,16.670000076293945,16.670000076293945,16.670000076293945,16.670000076293945,16.670000076293945,16.670000076293945,16.670000076293945,16.670000076293945,16.670000076293945,21.209999084472656,21.209999084472656,21.209999084472656,46.209999084472656,46.209999084472656,46.209999084472656,46.209999084472656,46.209999084472656,46.209999084472656,46.209999084472656,46.209999084472656,46.209999084472656,46.209999084472656,75,75,75,75,75,75,75,75,75,75,75,75,75,81.05999755859375,81.05999755859375,81.05999755859375,81.05999755859375,81.05999755859375,81.05999755859375,81.05999755859375,81.05999755859375,81.05999755859375,81.05999755859375,81.05999755859375,81.05999755859375,81.05999755859375,81.05999755859375,81.05999755859375,81.05999755859375,81.05999755859375,81.05999755859375,81.05999755859375,81.05999755859375,81.05999755859375,81.05999755859375,81.05999755859375,81.05999755859375,81.05999755859375,81.05999755859375,81.05999755859375,81.05999755859375,81.05999755859375,81.05999755859375,81.05999755859375,81.05999755859375,81.05999755859375,81.05999755859375,81.05999755859375,81.05999755859375,81.05999755859375,81.05999755859375,81.05999755859375,81.05999755859375,81.05999755859375,81.05999755859375,81.05999755859375,81.05999755859375,81.05999755859375,81.05999755859375,81.05999755859375,81.05999755859375,81.05999755859375,81.05999755859375,87.120002746582031,87.120002746582031,87.120002746582031,87.120002746582031,87.120002746582031,87.120002746582031,87.120002746582031,87.120002746582031,87.120002746582031,null,null,39.792564969313773,null,null,45,1.0399752091726187E-3,8.6623319048850789E-5]
["Ethiopia","LIDC","ETH",0,0,0,0,0,0,0,0,0,0,0,0,0,0,0,0,0,0,0,0,0,0,0,0,0,0,0,0,0,0,0,0,0,0,0,0,0,0,0,0,0,0,0,0,0,0,0,0,0,0,0,0,0,0,0,0,0,0,0,0,0,0,0,0,0,0,0,0,0,0,0,0,12.119999885559082,12.119999885559082,12.119999885559082,40.909999847412109,40.909999847412109,40.909999847412109,40.909999847412109,40.909999847412109,40.909999847412109,40.909999847412109,43.180000305175781,43.180000305175781,50.759998321533203,57.580001831054688,57.580001831054688,57.580001831054688,57.580001831054688,64.389999389648438,64.389999389648438,64.389999389648438,64.389999389648438,64.389999389648438,64.389999389648438,64.389999389648438,64.389999389648438,64.389999389648438,71.970001220703125,71.970001220703125,71.970001220703125,71.970001220703125,71.970001220703125,71.970001220703125,71.970001220703125,71.970001220703125,71.970001220703125,71.970001220703125,71.970001220703125,71.970001220703125,71.970001220703125,71.970001220703125,71.970001220703125,71.970001220703125,71.970001220703125,71.970001220703125,71.970001220703125,71.970001220703125,71.970001220703125,71.970001220703125,71.970001220703125,71.970001220703125,71.970001220703125,71.970001220703125,71.970001220703125,71.970001220703125,71.970001220703125,71.970001220703125,71.970001220703125,71.970001220703125,71.970001220703125,71.970001220703125,71.970001220703125,71.970001220703125,71.970001220703125,71.970001220703125,71.970001220703125,71.970001220703125,71.970001220703125,71.970001220703125,71.970001220703125,71.970001220703125,71.970001220703125,71.970001220703125,71.970001220703125,71.970001220703125,71.970001220703125,71.970001220703125,71.970001220703125,71.970001220703125,71.970001220703125,71.970001220703125,71.970001220703125,null,null,null,null,null,null,null,33.921447797825465,null,null,46,4.5736466118843563E-4,3.8105734492699384E-5]
["Finland","AE","FIN",0,0,0,0,0,0,0,0,0,0,0,0,0,0,0,0,0,0,0,0,0,0,0,0,0,0,4.5500001907348633,4.5500001907348633,4.5500001907348633,4.5500001907348633,4.5500001907348633,4.5500001907348633,4.5500001907348633,4.5500001907348633,4.5500001907348633,4.5500001907348633,11.359999656677246,11.359999656677246,11.359999656677246,11.359999656677246,11.359999656677246,11.359999656677246,11.359999656677246,11.359999656677246,11.359999656677246,11.359999656677246,11.359999656677246,11.359999656677246,11.359999656677246,11.359999656677246,11.359999656677246,11.359999656677246,11.359999656677246,11.359999656677246,11.359999656677246,11.359999656677246,14.390000343322754,18.940000534057617,23.479999542236328,23.479999542236328,23.479999542236328,23.479999542236328,23.479999542236328,23.479999542236328,23.479999542236328,23.479999542236328,23.479999542236328,23.479999542236328,23.479999542236328,23.479999542236328,23.479999542236328,35.610000610351563,35.610000610351563,35.610000610351563,35.610000610351563,52.270000457763672,52.270000457763672,52.270000457763672,54.549999237060547,54.549999237060547,54.549999237060547,54.549999237060547,54.549999237060547,54.549999237060547,54.549999237060547,54.549999237060547,54.549999237060547,56.819999694824219,56.819999694824219,56.819999694824219,56.819999694824219,56.819999694824219,56.819999694824219,56.819999694824219,56.819999694824219,56.819999694824219,56.819999694824219,56.819999694824219,56.819999694824219,56.819999694824219,56.819999694824219,56.819999694824219,56.819999694824219,56.819999694824219,56.819999694824219,54.549999237060547,54.549999237060547,54.549999237060547,54.549999237060547,54.549999237060547,54.549999237060547,54.549999237060547,54.549999237060547,54.549999237060547,54.549999237060547,54.549999237060547,54.549999237060547,54.549999237060547,54.549999237060547,54.549999237060547,54.549999237060547,54.549999237060547,54.549999237060547,54.549999237060547,54.549999237060547,54.549999237060547,54.549999237060547,54.549999237060547,54.549999237060547,54.549999237060547,54.549999237060547,54.549999237060547,54.549999237060547,54.549999237060547,49.240001678466797,49.240001678466797,49.240001678466797,49.240001678466797,49.240001678466797,49.240001678466797,49.240001678466797,49.240001678466797,49.240001678466797,49.240001678466797,49.240001678466797,49.240001678466797,49.240001678466797,49.240001678466797,49.240001678466797,44.700000762939453,44.700000762939453,44.700000762939453,41.669998168945313,41.669998168945313,41.669998168945313,41.669998168945313,41.669998168945313,null,null,null,32.097894649756583,null,null,47,-1.2454862472400033E-4,-1.0379644593494497E-5]
["France","AE","FRA",0,0,0,0,0,0,0,0,0,0,0,0,0,0,0,0,0,0,0,0,0,0,2.2699999809265137,9.0900001525878906,9.0900001525878906,9.0900001525878906,9.0900001525878906,9.0900001525878906,9.0900001525878906,9.0900001525878906,11.359999656677246,11.359999656677246,11.359999656677246,11.359999656677246,11.359999656677246,11.359999656677246,11.359999656677246,11.359999656677246,11.359999656677246,11.359999656677246,11.359999656677246,11.359999656677246,11.359999656677246,11.359999656677246,11.359999656677246,11.359999656677246,11.359999656677246,11.359999656677246,11.359999656677246,11.359999656677246,11.359999656677246,11.359999656677246,11.359999656677246,11.359999656677246,11.359999656677246,19.700000762939453,24.239999771118164,24.239999771118164,24.239999771118164,26.520000457763672,26.520000457763672,34.090000152587891,34.090000152587891,34.090000152587891,34.090000152587891,34.090000152587891,34.090000152587891,34.090000152587891,34.090000152587891,34.090000152587891,34.090000152587891,34.090000152587891,45.450000762939453,50,50,56.060001373291016,81.819999694824219,81.819999694824219,81.819999694824219,81.819999694824219,81.819999694824219,81.819999694824219,81.819999694824219,81.819999694824219,81.819999694824219,81.819999694824219,81.819999694824219,81.819999694824219,81.819999694824219,81.819999694824219,81.819999694824219,81.819999694824219,81.819999694824219,81.819999694824219,81.819999694824219,81.819999694824219,81.819999694824219,81.819999694824219,81.819999694824219,81.819999694824219,81.819999694824219,81.819999694824219,81.819999694824219,81.819999694824219,81.819999694824219,81.819999694824219,81.819999694824219,81.819999694824219,81.819999694824219,81.819999694824219,81.819999694824219,81.819999694824219,81.819999694824219,81.819999694824219,81.819999694824219,81.819999694824219,81.819999694824219,81.819999694824219,81.819999694824219,81.819999694824219,81.819999694824219,81.819999694824219,81.819999694824219,81.819999694824219,81.819999694824219,81.819999694824219,81.819999694824219,81.819999694824219,81.819999694824219,81.819999694824219,81.819999694824219,78.029998779296875,78.029998779296875,78.029998779296875,78.029998779296875,78.029998779296875,78.029998779296875,78.029998779296875,78.029998779296875,78.029998779296875,78.029998779296875,78.029998779296875,78.029998779296875,78.029998779296875,78.029998779296875,68.94000244140625,null,null,null,null,null,null,null,null,null,null,null,null,null,null,46.118629903009491,null,null,48,-7.057658995298019E-4,-5.8832858406687727E-5]
["Gabon","EME","GAB",0,0,0,0,0,0,0,0,0,0,0,0,0,0,0,0,0,0,0,0,0,4.5500001907348633,4.5500001907348633,4.5500001907348633,4.5500001907348633,4.5500001907348633,4.5500001907348633,4.5500001907348633,4.5500001907348633,4.5500001907348633,4.5500001907348633,4.5500001907348633,4.5500001907348633,4.5500001907348633,4.5500001907348633,4.5500001907348633,4.5500001907348633,11.359999656677246,11.359999656677246,11.359999656677246,11.359999656677246,11.359999656677246,11.359999656677246,11.359999656677246,11.359999656677246,11.359999656677246,11.359999656677246,11.359999656677246,11.359999656677246,11.359999656677246,11.359999656677246,11.359999656677246,11.359999656677246,11.359999656677246,11.359999656677246,11.359999656677246,11.359999656677246,11.359999656677246,11.359999656677246,11.359999656677246,11.359999656677246,11.359999656677246,11.359999656677246,11.359999656677246,11.359999656677246,11.359999656677246,11.359999656677246,11.359999656677246,11.359999656677246,11.359999656677246,11.359999656677246,17.420000076293945,33.330001831054688,33.330001831054688,33.330001831054688,42.419998168945313,42.419998168945313,42.419998168945313,42.419998168945313,57.580001831054688,57.580001831054688,57.580001831054688,57.580001831054688,57.580001831054688,57.580001831054688,57.580001831054688,57.580001831054688,57.580001831054688,57.580001831054688,66.669998168945313,66.669998168945313,66.669998168945313,66.669998168945313,66.669998168945313,66.669998168945313,66.669998168945313,66.669998168945313,66.669998168945313,66.669998168945313,66.669998168945313,78.029998779296875,78.029998779296875,78.410003662109375,79.550003051757813,86.360000610351563,86.360000610351563,86.360000610351563,86.360000610351563,86.360000610351563,86.360000610351563,86.360000610351563,86.360000610351563,86.360000610351563,86.360000610351563,89.389999389648438,89.389999389648438,89.389999389648438,89.389999389648438,89.389999389648438,89.389999389648438,89.389999389648438,89.389999389648438,89.389999389648438,89.389999389648438,89.389999389648438,89.389999389648438,89.389999389648438,89.389999389648438,89.389999389648438,89.389999389648438,87.879997253417969,85.610000610351563,85.610000610351563,85.610000610351563,85.610000610351563,85.610000610351563,85.610000610351563,85.610000610351563,85.610000610351563,85.610000610351563,85.610000610351563,85.610000610351563,85.610000610351563,85.610000610351563,85.610000610351563,85.610000610351563,85.610000610351563,85.610000610351563,85.610000610351563,85.610000610351563,null,null,null,null,null,null,null,null,null,null,42.517533315022789,null,null,49,-1.2862884112033839E-3,-1.0725394707000735E-4]
["Gambia","LIDC","GMB",0,0,0,0,0,0,0,0,0,0,0,0,0,0,0,0,0,0,0,0,0,0,0,0,0,0,0,0,0,0,0,0,0,0,0,0,0,4.5500001907348633,4.5500001907348633,4.5500001907348633,4.5500001907348633,4.5500001907348633,4.5500001907348633,4.5500001907348633,4.5500001907348633,4.5500001907348633,4.5500001907348633,4.5500001907348633,4.5500001907348633,4.5500001907348633,4.5500001907348633,4.5500001907348633,4.5500001907348633,4.5500001907348633,4.5500001907348633,4.5500001907348633,4.5500001907348633,9.0900001525878906,9.0900001525878906,9.0900001525878906,9.0900001525878906,9.0900001525878906,9.0900001525878906,9.0900001525878906,9.0900001525878906,9.0900001525878906,9.0900001525878906,9.0900001525878906,9.0900001525878906,9.0900001525878906,9.0900001525878906,9.0900001525878906,9.0900001525878906,9.0900001525878906,9.0900001525878906,9.0900001525878906,9.0900001525878906,47.729999542236328,47.729999542236328,54.549999237060547,54.549999237060547,54.549999237060547,56.819999694824219,56.819999694824219,56.819999694824219,56.819999694824219,67.419998168945313,71.970001220703125,71.970001220703125,71.970001220703125,71.970001220703125,71.970001220703125,71.970001220703125,71.970001220703125,71.970001220703125,71.970001220703125,71.970001220703125,71.970001220703125,71.970001220703125,71.970001220703125,71.970001220703125,71.970001220703125,71.970001220703125,71.970001220703125,71.970001220703125,71.970001220703125,71.970001220703125,71.970001220703125,71.970001220703125,71.970001220703125,71.970001220703125,71.970001220703125,71.970001220703125,71.970001220703125,71.970001220703125,71.970001220703125,71.970001220703125,71.970001220703125,71.970001220703125,71.970001220703125,71.970001220703125,71.970001220703125,71.970001220703125,71.970001220703125,71.970001220703125,71.970001220703125,71.970001220703125,71.970001220703125,71.970001220703125,71.970001220703125,71.970001220703125,71.970001220703125,71.970001220703125,71.970001220703125,71.970001220703125,71.970001220703125,71.970001220703125,71.970001220703125,71.209999084472656,71.209999084472656,71.209999084472656,71.209999084472656,71.209999084472656,71.209999084472656,71.209999084472656,71.209999084472656,71.209999084472656,71.209999084472656,71.209999084472656,71.209999084472656,71.209999084472656,71.209999084472656,71.209999084472656,71.209999084472656,71.209999084472656,68.180000305175781,68.180000305175781,68.180000305175781,68.180000305175781,null,36.144868750321237,null,null,50,-1.8661174047373691E-3,-1.5564295063263955E-4]
["Georgia","EME","GEO",0,0,0,0,0,0,0,0,0,0,0,0,0,0,0,0,0,0,0,0,0,0,0,0,0,0,0,6.820000171661377,15.909999847412109,15.909999847412109,15.909999847412109,15.909999847412109,15.909999847412109,15.909999847412109,15.909999847412109,15.909999847412109,15.909999847412109,15.909999847412109,15.909999847412109,15.909999847412109,15.909999847412109,15.909999847412109,15.909999847412109,15.909999847412109,15.909999847412109,15.909999847412109,15.909999847412109,15.909999847412109,15.909999847412109,15.909999847412109,15.909999847412109,15.909999847412109,15.909999847412109,15.909999847412109,15.909999847412109,15.909999847412109,28.030000686645508,28.030000686645508,28.030000686645508,28.030000686645508,37.119998931884766,46.209999084472656,46.209999084472656,46.209999084472656,46.209999084472656,46.209999084472656,46.209999084472656,46.209999084472656,49.240001678466797,49.240001678466797,49.240001678466797,49.240001678466797,49.240001678466797,55.299999237060547,55.299999237060547,55.299999237060547,55.299999237060547,57.580001831054688,60.610000610351563,60.610000610351563,69.699996948242188,76.519996643066406,84.849998474121094,84.849998474121094,84.849998474121094,86.360000610351563,86.360000610351563,86.360000610351563,86.360000610351563,86.360000610351563,93.94000244140625,96.970001220703125,96.970001220703125,96.970001220703125,96.970001220703125,96.970001220703125,96.970001220703125,96.970001220703125,96.970001220703125,96.970001220703125,96.970001220703125,96.970001220703125,96.970001220703125,96.970001220703125,96.970001220703125,96.970001220703125,96.970001220703125,96.970001220703125,96.970001220703125,96.970001220703125,96.970001220703125,96.970001220703125,96.970001220703125,96.970001220703125,96.970001220703125,96.970001220703125,96.970001220703125,93.94000244140625,93.94000244140625,93.94000244140625,93.94000244140625,93.94000244140625,93.94000244140625,93.94000244140625,93.94000244140625,93.94000244140625,93.94000244140625,93.94000244140625,93.94000244140625,93.94000244140625,93.94000244140625,93.94000244140625,93.94000244140625,93.94000244140625,93.94000244140625,93.94000244140625,93.94000244140625,93.94000244140625,93.94000244140625,93.94000244140625,93.94000244140625,93.94000244140625,93.94000244140625,85.610000610351563,85.610000610351563,85.610000610351563,85.610000610351563,85.610000610351563,85.610000610351563,71.970001220703125,71.970001220703125,71.970001220703125,71.970001220703125,71.970001220703125,71.970001220703125,71.970001220703125,null,null,null,null,53.88782958294216,null,null,51,-2.4452541221515293E-3,-2.0399990906971865E-4]
["Germany","AE","DEU",0,0,0,0,0,0,0,0,0,0,0,0,0,0,0,0,0,0,0,0,0,9.0900001525878906,9.0900001525878906,13.640000343322754,13.640000343322754,13.640000343322754,16.670000076293945,16.670000076293945,16.670000076293945,16.670000076293945,16.670000076293945,16.670000076293945,16.670000076293945,16.670000076293945,16.670000076293945,16.670000076293945,16.670000076293945,16.670000076293945,16.670000076293945,16.670000076293945,16.670000076293945,16.670000076293945,21.209999084472656,21.209999084472656,21.209999084472656,21.209999084472656,21.209999084472656,21.209999084472656,21.209999084472656,21.209999084472656,21.209999084472656,21.209999084472656,21.209999084472656,21.209999084472656,21.209999084472656,21.209999084472656,25.760000228881836,25.760000228881836,28.030000686645508,32.580001831054688,32.580001831054688,32.580001831054688,32.580001831054688,32.580001831054688,32.580001831054688,32.580001831054688,32.580001831054688,32.580001831054688,35.610000610351563,39.020000457763672,39.020000457763672,39.020000457763672,39.020000457763672,39.020000457763672,39.020000457763672,46.590000152587891,46.590000152587891,50.380001068115234,52.650001525878906,54.919998168945313,63.259998321533203,67.419998168945313,67.419998168945313,67.419998168945313,67.419998168945313,67.419998168945313,67.419998168945313,67.419998168945313,67.419998168945313,67.419998168945313,67.419998168945313,67.419998168945313,67.419998168945313,67.419998168945313,67.419998168945313,67.419998168945313,67.419998168945313,67.419998168945313,67.419998168945313,67.419998168945313,67.419998168945313,67.419998168945313,67.419998168945313,67.419998168945313,67.419998168945313,67.419998168945313,67.419998168945313,67.419998168945313,67.419998168945313,67.419998168945313,67.419998168945313,67.419998168945313,67.419998168945313,67.419998168945313,67.419998168945313,67.419998168945313,67.419998168945313,67.419998168945313,67.419998168945313,73.480003356933594,73.480003356933594,73.480003356933594,73.480003356933594,73.480003356933594,69.319999694824219,69.319999694824219,64.769996643066406,63.259998321533203,66.290000915527344,66.290000915527344,66.290000915527344,66.290000915527344,66.290000915527344,66.290000915527344,66.290000915527344,66.290000915527344,64.019996643066406,64.019996643066406,65.150001525878906,56.819999694824219,56.819999694824219,56.819999694824219,56.819999694824219,56.819999694824219,56.819999694824219,54.549999237060547,54.549999237060547,54.549999237060547,54.549999237060547,54.549999237060547,54.549999237060547,54.549999237060547,54.549999237060547,54.549999237060547,54.549999237060547,54.549999237060547,54.549999237060547,54.549999237060547,null,null,40.933947017318324,null,null,52,-3.0236998025016323E-3,-2.5232486228299322E-4]
["Ghana","LIDC","GHA",0,0,0,0,0,0,0,0,0,0,0,0,0,0,0,0,0,0,0,0,0,0,0,2.2699999809265137,2.2699999809265137,2.2699999809265137,2.2699999809265137,2.2699999809265137,2.2699999809265137,2.2699999809265137,2.2699999809265137,2.2699999809265137,2.2699999809265137,2.2699999809265137,2.2699999809265137,2.2699999809265137,2.2699999809265137,2.2699999809265137,2.2699999809265137,2.2699999809265137,2.2699999809265137,2.2699999809265137,2.2699999809265137,2.2699999809265137,2.2699999809265137,2.2699999809265137,2.2699999809265137,2.2699999809265137,2.2699999809265137,2.2699999809265137,2.2699999809265137,2.2699999809265137,2.2699999809265137,2.2699999809265137,2.2699999809265137,2.2699999809265137,2.2699999809265137,2.2699999809265137,2.2699999809265137,2.2699999809265137,2.2699999809265137,2.2699999809265137,2.2699999809265137,2.2699999809265137,2.2699999809265137,2.2699999809265137,2.2699999809265137,2.2699999809265137,2.2699999809265137,2.2699999809265137,6.820000171661377,15.909999847412109,15.909999847412109,15.909999847412109,20.450000762939453,45.450000762939453,53.029998779296875,53.029998779296875,53.029998779296875,53.029998779296875,59.090000152587891,61.360000610351563,61.360000610351563,61.360000610351563,61.360000610351563,61.360000610351563,61.360000610351563,61.360000610351563,61.360000610351563,88.639999389648438,88.639999389648438,88.639999389648438,88.639999389648438,88.639999389648438,88.639999389648438,88.639999389648438,88.639999389648438,88.639999389648438,88.639999389648438,88.639999389648438,88.639999389648438,88.639999389648438,88.639999389648438,88.639999389648438,88.639999389648438,88.639999389648438,88.639999389648438,88.639999389648438,87.120002746582031,75.760002136230469,68.94000244140625,68.94000244140625,68.94000244140625,68.94000244140625,68.94000244140625,68.94000244140625,68.94000244140625,68.94000244140625,68.94000244140625,68.94000244140625,68.94000244140625,68.94000244140625,68.94000244140625,68.94000244140625,68.94000244140625,68.94000244140625,68.94000244140625,68.94000244140625,68.94000244140625,68.94000244140625,68.94000244140625,68.94000244140625,68.94000244140625,68.94000244140625,68.94000244140625,68.94000244140625,68.94000244140625,68.94000244140625,68.94000244140625,68.94000244140625,68.94000244140625,68.94000244140625,68.94000244140625,68.94000244140625,68.94000244140625,68.94000244140625,64.389999389648438,64.389999389648438,64.389999389648438,64.389999389648438,64.389999389648438,64.389999389648438,64.389999389648438,64.389999389648438,64.389999389648438,64.389999389648438,null,null,null,null,37.529276829016837,null,null,53,-3.6014556818882576E-3,-3.0061785010093711E-4]
["Greece","AE","GRC",0,0,0,0,0,0,0,0,0,0,0,0,0,0,0,0,0,0,0,0,0,0,0,0,0,0,0,0,0,0,0,0,0,0,0,0,0,0,0,0,0,0,0,0,0,0,0,0,0,0,0,0,0,0,0,9.0900001525878906,9.0900001525878906,9.0900001525878906,9.0900001525878906,15.909999847412109,15.909999847412109,15.909999847412109,15.909999847412109,15.909999847412109,23.479999542236328,23.479999542236328,23.479999542236328,23.479999542236328,25.760000228881836,27.270000457763672,27.270000457763672,33.330001831054688,33.330001831054688,44.700000762939453,44.700000762939453,44.700000762939453,44.700000762939453,53.790000915527344,53.790000915527344,53.790000915527344,60.610000610351563,60.610000610351563,68.94000244140625,68.94000244140625,68.94000244140625,68.94000244140625,68.94000244140625,68.94000244140625,68.94000244140625,68.94000244140625,68.94000244140625,68.94000244140625,68.94000244140625,68.94000244140625,68.94000244140625,68.94000244140625,68.94000244140625,68.94000244140625,75,75,75,75,75,75,75,75,75,75,75,75,75,75,75,75,75,75,75,75,75,75,75,75,75,75,72.730003356933594,65.150001525878906,65.150001525878906,65.150001525878906,65.150001525878906,65.150001525878906,65.150001525878906,62.119998931884766,62.119998931884766,62.119998931884766,62.119998931884766,62.119998931884766,62.119998931884766,62.119998931884766,62.119998931884766,62.119998931884766,62.119998931884766,62.119998931884766,62.119998931884766,62.119998931884766,62.119998931884766,62.119998931884766,62.119998931884766,62.119998931884766,62.119998931884766,62.119998931884766,null,null,null,null,null,null,null,null,null,null,36.76753360748291,null,null,54,-4.178522993465654E-3,-3.4887891227863843E-4]
["Greenland","EME","GRL",0,0,0,0,0,0,0,0,0,0,0,0,0,0,0,0,0,0,0,0,0,0,0,0,0,0,0,0,0,0,0,0,0,0,0,0,0,0,0,0,0,0,0,0,0,0,0,0,0,0,0,0,0,0,0,0,0,0,0,0,13.640000343322754,18.180000305175781,18.180000305175781,18.180000305175781,18.180000305175781,18.180000305175781,18.180000305175781,18.180000305175781,18.180000305175781,18.180000305175781,18.180000305175781,18.180000305175781,40.909999847412109,40.909999847412109,40.909999847412109,40.909999847412109,40.909999847412109,63.639999389648438,72.730003356933594,72.730003356933594,72.730003356933594,72.730003356933594,72.730003356933594,77.269996643066406,77.269996643066406,81.819999694824219,81.819999694824219,81.819999694824219,81.819999694824219,81.819999694824219,81.819999694824219,81.819999694824219,81.819999694824219,81.819999694824219,81.819999694824219,81.819999694824219,81.819999694824219,81.819999694824219,81.819999694824219,81.819999694824219,81.819999694824219,81.819999694824219,81.819999694824219,81.819999694824219,80.300003051757813,80.300003051757813,80.300003051757813,80.300003051757813,84.849998474121094,84.849998474121094,84.849998474121094,84.849998474121094,82.580001831054688,82.580001831054688,82.580001831054688,80.300003051757813,80.300003051757813,80.300003051757813,80.300003051757813,80.300003051757813,80.300003051757813,80.300003051757813,80.300003051757813,80.300003051757813,80.300003051757813,80.300003051757813,80.300003051757813,80.300003051757813,80.300003051757813,80.300003051757813,80.300003051757813,80.300003051757813,80.300003051757813,80.300003051757813,80.300003051757813,80.300003051757813,80.300003051757813,80.300003051757813,74.239997863769531,59.090000152587891,59.090000152587891,59.090000152587891,59.090000152587891,59.090000152587891,59.090000152587891,59.090000152587891,59.090000152587891,59.090000152587891,68.180000305175781,68.180000305175781,68.180000305175781,68.180000305175781,68.180000305175781,68.180000305175781,68.180000305175781,68.180000305175781,null,null,null,null,40.714408479238813,null,null,55,-4.7549029674504445E-3,-3.9710808849802159E-4]
["Guam","EME","GUM",0,0,0,0,0,0,0,0,0,0,0,0,0,0,0,0,0,0,0,0,0,0,0,0,0,0,0,0,0,0,0,0,0,0,0,0,0,9.0900001525878906,9.0900001525878906,9.0900001525878906,9.0900001525878906,9.0900001525878906,9.0900001525878906,9.0900001525878906,9.0900001525878906,9.0900001525878906,9.0900001525878906,9.0900001525878906,9.0900001525878906,9.0900001525878906,9.0900001525878906,9.0900001525878906,9.0900001525878906,9.0900001525878906,9.0900001525878906,9.0900001525878906,9.0900001525878906,9.0900001525878906,9.0900001525878906,9.0900001525878906,9.0900001525878906,9.0900001525878906,9.0900001525878906,9.0900001525878906,9.0900001525878906,9.0900001525878906,9.0900001525878906,9.0900001525878906,9.0900001525878906,9.0900001525878906,9.0900001525878906,12.119999885559082,12.119999885559082,12.119999885559082,12.119999885559082,48.479999542236328,48.479999542236328,48.479999542236328,48.479999542236328,58.330001831054688,58.330001831054688,58.330001831054688,58.330001831054688,58.330001831054688,58.330001831054688,58.330001831054688,58.330001831054688,58.330001831054688,58.330001831054688,58.330001831054688,58.330001831054688,58.330001831054688,58.330001831054688,58.330001831054688,58.330001831054688,58.330001831054688,58.330001831054688,58.330001831054688,62.880001068115234,65.910003662109375,65.910003662109375,72.730003356933594,72.730003356933594,72.730003356933594,72.730003356933594,72.730003356933594,72.730003356933594,72.730003356933594,72.730003356933594,72.730003356933594,72.730003356933594,72.730003356933594,72.730003356933594,72.730003356933594,72.730003356933594,72.730003356933594,72.730003356933594,72.730003356933594,70.449996948242188,70.449996948242188,70.449996948242188,70.449996948242188,70.449996948242188,70.449996948242188,70.449996948242188,70.449996948242188,70.449996948242188,73.480003356933594,73.480003356933594,73.480003356933594,70.449996948242188,70.449996948242188,70.449996948242188,70.449996948242188,70.449996948242188,70.449996948242188,70.449996948242188,70.449996948242188,70.449996948242188,70.449996948242188,70.449996948242188,70.449996948242188,70.449996948242188,70.449996948242188,70.449996948242188,70.449996948242188,70.449996948242188,70.449996948242188,70.449996948242188,70.449996948242188,70.449996948242188,70.449996948242188,70.449996948242188,70.449996948242188,70.449996948242188,75,null,null,null,null,{"$f":"+AVERAGE(D69:EY69)","v":36.15282906984028},null,null,56,-5.3305968311304422E-3,-4.4530541836840243E-4]
["Guatemala","EME","GTM",0,0,0,0,0,0,0,0,0,0,0,0,0,0,0,0,0,0,0,0,2.2699999809265137,2.2699999809265137,2.2699999809265137,2.2699999809265137,2.2699999809265137,2.2699999809265137,2.2699999809265137,6.820000171661377,6.820000171661377,6.820000171661377,9.0900001525878906,9.0900001525878906,9.0900001525878906,9.0900001525878906,9.0900001525878906,9.0900001525878906,9.0900001525878906,9.0900001525878906,9.0900001525878906,9.0900001525878906,9.0900001525878906,9.0900001525878906,9.0900001525878906,9.0900001525878906,9.0900001525878906,9.0900001525878906,9.0900001525878906,9.0900001525878906,9.0900001525878906,9.0900001525878906,9.0900001525878906,9.0900001525878906,9.0900001525878906,9.0900001525878906,9.0900001525878906,9.0900001525878906,9.0900001525878906,9.0900001525878906,9.0900001525878906,9.0900001525878906,9.0900001525878906,9.0900001525878906,9.0900001525878906,9.0900001525878906,9.0900001525878906,20.450000762939453,20.450000762939453,20.450000762939453,25,25,25,27.270000457763672,30.299999237060547,30.299999237060547,37.119998931884766,46.209999084472656,71.209999084472656,71.209999084472656,71.209999084472656,71.209999084472656,71.209999084472656,79.550003051757813,79.550003051757813,79.550003051757813,79.550003051757813,82.580001831054688,82.580001831054688,82.580001831054688,82.580001831054688,82.580001831054688,82.580001831054688,82.580001831054688,82.580001831054688,82.580001831054688,82.580001831054688,82.580001831054688,82.580001831054688,82.580001831054688,82.580001831054688,82.580001831054688,82.580001831054688,82.580001831054688,82.580001831054688,82.580001831054688,82.580001831054688,82.580001831054688,82.580001831054688,82.580001831054688,84.849998474121094,84.849998474121094,84.849998474121094,84.849998474121094,84.849998474121094,84.849998474121094,84.849998474121094,84.849998474121094,84.849998474121094,84.849998474121094,84.849998474121094,84.849998474121094,84.849998474121094,84.849998474121094,84.849998474121094,84.849998474121094,84.849998474121094,84.849998474121094,84.849998474121094,84.849998474121094,84.849998474121094,84.849998474121094,84.849998474121094,84.849998474121094,84.849998474121094,84.849998474121094,84.849998474121094,84.849998474121094,84.849998474121094,84.849998474121094,84.849998474121094,84.849998474121094,84.849998474121094,84.849998474121094,84.849998474121094,84.849998474121094,84.849998474121094,84.849998474121094,84.849998474121094,84.849998474121094,84.849998474121094,null,null,null,null,null,null,null,null,null,null,null,45.063691222427678,null,null,57,-5.9056058088732821E-3,-4.9347094142615511E-4]
["Guinea","LIDC","GIN",0,0,0,0,0,0,0,0,0,0,0,0,0,0,0,0,0,0,0,0,0,0,0,0,0,0,4.5500001907348633,4.5500001907348633,15.149999618530273,15.149999618530273,15.149999618530273,15.149999618530273,15.149999618530273,15.149999618530273,15.149999618530273,15.149999618530273,15.149999618530273,15.149999618530273,15.149999618530273,15.149999618530273,15.149999618530273,15.149999618530273,15.149999618530273,15.149999618530273,15.149999618530273,15.149999618530273,6.059999942779541,15.149999618530273,15.149999618530273,15.149999618530273,15.149999618530273,15.149999618530273,15.149999618530273,15.149999618530273,15.149999618530273,15.149999618530273,15.149999618530273,15.149999618530273,15.149999618530273,15.149999618530273,15.149999618530273,15.149999618530273,15.149999618530273,15.149999618530273,15.149999618530273,15.149999618530273,17.420000076293945,17.420000076293945,17.420000076293945,17.420000076293945,17.420000076293945,17.420000076293945,21.969999313354492,21.969999313354492,21.969999313354492,21.969999313354492,21.969999313354492,21.969999313354492,21.969999313354492,21.969999313354492,31.059999465942383,31.059999465942383,31.059999465942383,31.059999465942383,31.059999465942383,31.059999465942383,68.94000244140625,68.94000244140625,68.94000244140625,75,75,75,75,75,75,75,75,75,75,75,75,75,75,75,75,75,75,75,75,75,75,75,75,75,75,75,75,75,75,75,75,75,75,75,75,75,75,75,75,75,75,75,75,75,75,75,75,75,75,75,75,75,75,75,75,75,75,75,75,75,75,75,75,75,75,75,null,null,null,null,39.303749903252253,null,null,58,-6.4799311221351991E-3,-5.4160469713537829E-4]
["Guyana","EME","GUY",0,0,0,0,0,0,0,0,0,0,0,0,0,0,0,0,0,2.2699999809265137,2.2699999809265137,2.2699999809265137,2.2699999809265137,2.2699999809265137,2.2699999809265137,2.2699999809265137,2.2699999809265137,2.2699999809265137,2.2699999809265137,2.2699999809265137,2.2699999809265137,2.2699999809265137,2.2699999809265137,2.2699999809265137,2.2699999809265137,2.2699999809265137,2.2699999809265137,6.820000171661377,6.820000171661377,11.359999656677246,11.359999656677246,11.359999656677246,11.359999656677246,11.359999656677246,11.359999656677246,11.359999656677246,11.359999656677246,11.359999656677246,11.359999656677246,11.359999656677246,11.359999656677246,11.359999656677246,11.359999656677246,14.390000343322754,14.390000343322754,14.390000343322754,14.390000343322754,14.390000343322754,14.390000343322754,14.390000343322754,14.390000343322754,14.390000343322754,14.390000343322754,14.390000343322754,14.390000343322754,14.390000343322754,14.390000343322754,14.390000343322754,14.390000343322754,14.390000343322754,14.390000343322754,14.390000343322754,23.479999542236328,32.580001831054688,32.580001831054688,32.580001831054688,32.580001831054688,41.669998168945313,41.669998168945313,46.209999084472656,46.209999084472656,46.209999084472656,46.209999084472656,46.209999084472656,46.209999084472656,46.209999084472656,46.209999084472656,49.240001678466797,51.520000457763672,59.090000152587891,59.090000152587891,59.090000152587891,59.090000152587891,59.090000152587891,59.090000152587891,81.819999694824219,81.819999694824219,81.819999694824219,81.819999694824219,81.819999694824219,81.819999694824219,86.360000610351563,86.360000610351563,86.360000610351563,86.360000610351563,86.360000610351563,86.360000610351563,86.360000610351563,86.360000610351563,86.360000610351563,86.360000610351563,86.360000610351563,86.360000610351563,86.360000610351563,86.360000610351563,86.360000610351563,86.360000610351563,86.360000610351563,86.360000610351563,86.360000610351563,86.360000610351563,86.360000610351563,86.360000610351563,86.360000610351563,86.360000610351563,86.360000610351563,86.360000610351563,86.360000610351563,86.360000610351563,86.360000610351563,86.360000610351563,86.360000610351563,86.360000610351563,86.360000610351563,86.360000610351563,86.360000610351563,86.360000610351563,86.360000610351563,86.360000610351563,86.360000610351563,86.360000610351563,86.360000610351563,86.360000610351563,86.360000610351563,86.360000610351563,86.360000610351563,86.360000610351563,86.360000610351563,86.360000610351563,86.360000610351563,86.360000610351563,86.360000610351563,86.360000610351563,86.360000610351563,86.360000610351563,77.269996643066406,null,null,null,null,null,null,43.533355468197875,null,null,59,-7.0535739894695693E-3,-5.8970672488756204E-4]
["Haiti","LIDC","HTI",0,0,0,0,0,0,0,0,0,0,0,0,0,0,0,0,0,0,0,0,0,0,0,0,0,0,0,0,0,0,0,0,0,0,0,0,0,0,0,0,0,0,0,0,0,0,0,0,0,0,0,0,0,0,0,0,0,0,0,0,0,0,4.5500001907348633,4.5500001907348633,4.5500001907348633,4.5500001907348633,4.5500001907348633,4.5500001907348633,4.5500001907348633,4.5500001907348633,4.5500001907348633,11.359999656677246,11.359999656677246,11.359999656677246,11.359999656677246,15.909999847412109,15.909999847412109,15.909999847412109,65.150001525878906,65.150001525878906,65.150001525878906,65.150001525878906,65.150001525878906,65.150001525878906,65.150001525878906,65.150001525878906,65.150001525878906,65.150001525878906,65.150001525878906,65.150001525878906,65.150001525878906,65.150001525878906,65.150001525878906,65.150001525878906,65.150001525878906,65.150001525878906,71.970001220703125,71.970001220703125,71.970001220703125,71.970001220703125,71.970001220703125,71.970001220703125,71.970001220703125,71.970001220703125,71.970001220703125,71.970001220703125,71.970001220703125,71.970001220703125,71.970001220703125,74.239997863769531,71.209999084472656,71.209999084472656,71.209999084472656,71.209999084472656,71.209999084472656,71.209999084472656,71.209999084472656,71.209999084472656,71.209999084472656,71.209999084472656,71.209999084472656,71.209999084472656,71.209999084472656,71.209999084472656,71.209999084472656,71.209999084472656,71.209999084472656,71.209999084472656,71.209999084472656,71.209999084472656,71.209999084472656,71.209999084472656,71.209999084472656,71.209999084472656,71.209999084472656,71.209999084472656,71.209999084472656,71.209999084472656,71.209999084472656,71.209999084472656,71.209999084472656,71.209999084472656,71.209999084472656,71.209999084472656,71.209999084472656,71.209999084472656,71.209999084472656,71.209999084472656,71.209999084472656,71.209999084472656,71.209999084472656,71.209999084472656,71.209999084472656,null,null,null,null,null,null,null,34.917697385737767,null,null,60,-7.6265356265356118E-3,-6.37777064002365E-4]
["Honduras","LIDC","HND",0,0,0,0,0,0,0,0,0,0,0,0,0,0,0,0,0,0,0,0,0,0,0,0,0,0,0,0,0,0,0,0,0,0,0,0,0,0,0,0,0,0,0,0,0,0,0,0,0,0,0,0,0,0,0,0,0,0,0,0,0,9.0900001525878906,9.0900001525878906,16.670000076293945,16.670000076293945,16.670000076293945,16.670000076293945,16.670000076293945,16.670000076293945,16.670000076293945,16.670000076293945,16.670000076293945,34.849998474121094,34.849998474121094,34.849998474121094,84.089996337890625,84.089996337890625,84.089996337890625,84.089996337890625,87.120002746582031,89.389999389648438,89.389999389648438,89.389999389648438,89.389999389648438,89.389999389648438,89.389999389648438,89.389999389648438,89.389999389648438,89.389999389648438,89.389999389648438,89.389999389648438,89.389999389648438,89.389999389648438,89.389999389648438,89.389999389648438,89.389999389648438,89.389999389648438,89.389999389648438,89.389999389648438,89.389999389648438,89.389999389648438,89.389999389648438,89.389999389648438,89.389999389648438,89.389999389648438,89.389999389648438,89.389999389648438,89.389999389648438,89.389999389648438,89.389999389648438,89.389999389648438,89.389999389648438,89.389999389648438,89.389999389648438,89.389999389648438,89.389999389648438,89.389999389648438,89.389999389648438,89.389999389648438,89.389999389648438,89.389999389648438,89.389999389648438,89.389999389648438,89.389999389648438,89.389999389648438,89.389999389648438,89.389999389648438,89.389999389648438,89.389999389648438,89.389999389648438,89.389999389648438,89.389999389648438,89.389999389648438,89.389999389648438,89.389999389648438,89.389999389648438,89.389999389648438,89.389999389648438,89.389999389648438,89.389999389648438,89.389999389648438,89.389999389648438,89.389999389648438,89.389999389648438,89.389999389648438,89.389999389648438,89.389999389648438,89.389999389648438,89.389999389648438,null,null,null,null,null,null,null,null,null,null,null,46.068120418779003,null,null,61,-8.1988172461069236E-3,-6.858157537271703E-4]
["Hong Kong","AE","HKG",11.359999656677246,11.359999656677246,11.359999656677246,11.359999656677246,11.359999656677246,11.359999656677246,11.359999656677246,11.359999656677246,11.359999656677246,11.359999656677246,11.359999656677246,11.359999656677246,14.390000343322754,14.390000343322754,14.390000343322754,14.390000343322754,14.390000343322754,14.390000343322754,14.390000343322754,14.390000343322754,14.390000343322754,23.479999542236328,23.479999542236328,23.479999542236328,32.580001831054688,41.669998168945313,46.209999084472656,49.240001678466797,52.270000457763672,52.270000457763672,52.270000457763672,52.270000457763672,52.270000457763672,52.270000457763672,52.270000457763672,52.270000457763672,52.270000457763672,52.270000457763672,55.299999237060547,55.299999237060547,55.299999237060547,55.299999237060547,55.299999237060547,55.299999237060547,55.299999237060547,55.299999237060547,55.299999237060547,55.299999237060547,55.299999237060547,58.330001831054688,58.330001831054688,58.330001831054688,58.330001831054688,58.330001831054688,58.330001831054688,58.330001831054688,58.330001831054688,58.330001831054688,58.330001831054688,58.330001831054688,58.330001831054688,52.270000457763672,52.270000457763672,52.270000457763672,52.270000457763672,52.270000457763672,52.270000457763672,52.270000457763672,52.270000457763672,52.270000457763672,52.270000457763672,52.270000457763672,52.270000457763672,52.270000457763672,52.270000457763672,52.270000457763672,52.270000457763672,52.270000457763672,52.270000457763672,52.270000457763672,52.270000457763672,52.270000457763672,58.330001831054688,58.330001831054688,58.330001831054688,58.330001831054688,58.330001831054688,58.330001831054688,67.419998168945313,67.419998168945313,67.419998168945313,67.419998168945313,67.419998168945313,67.419998168945313,67.419998168945313,67.419998168945313,69.699996948242188,69.699996948242188,69.699996948242188,69.699996948242188,69.699996948242188,69.699996948242188,69.699996948242188,69.699996948242188,69.699996948242188,69.699996948242188,69.699996948242188,69.699996948242188,69.699996948242188,69.699996948242188,69.699996948242188,69.699996948242188,69.699996948242188,69.699996948242188,69.699996948242188,69.699996948242188,69.699996948242188,69.699996948242188,69.699996948242188,69.699996948242188,69.699996948242188,69.699996948242188,69.699996948242188,69.699996948242188,69.699996948242188,69.699996948242188,69.699996948242188,69.699996948242188,67.419998168945313,67.419998168945313,67.419998168945313,67.419998168945313,67.419998168945313,67.419998168945313,67.419998168945313,67.419998168945313,67.419998168945313,67.419998168945313,67.419998168945313,67.419998168945313,67.419998168945313,67.419998168945313,67.419998168945313,67.419998168945313,67.419998168945313,67.419998168945313,67.419998168945313,64.389999389648438,64.389999389648438,58.330001831054688,58.330001831054688,58.330001831054688,58.330001831054688,58.330001831054688,58.330001831054688,58.330001831054688,null,null,null,null,53.546644041412755,null,null,62,-8.7704200580800695E-3,-7.3382283323764064E-4]
["Hungary","EME","HUN",0,0,0,0,0,0,0,0,0,0,0,0,0,0,0,0,0,0,0,0,0,0,0,0,0,0,0,9.0900001525878906,9.0900001525878906,9.0900001525878906,9.0900001525878906,9.0900001525878906,9.0900001525878906,9.0900001525878906,9.0900001525878906,9.0900001525878906,9.0900001525878906,9.0900001525878906,9.0900001525878906,9.0900001525878906,9.0900001525878906,9.0900001525878906,9.0900001525878906,9.0900001525878906,9.0900001525878906,9.0900001525878906,9.0900001525878906,9.0900001525878906,9.0900001525878906,9.0900001525878906,9.0900001525878906,9.0900001525878906,9.0900001525878906,9.0900001525878906,9.0900001525878906,9.0900001525878906,9.0900001525878906,9.0900001525878906,16.670000076293945,16.670000076293945,21.209999084472656,21.209999084472656,21.209999084472656,21.209999084472656,21.209999084472656,21.209999084472656,21.209999084472656,21.209999084472656,28.030000686645508,28.030000686645508,53.029998779296875,56.060001373291016,56.060001373291016,56.060001373291016,56.060001373291016,67.419998168945313,67.419998168945313,67.419998168945313,67.419998168945313,67.419998168945313,67.419998168945313,67.419998168945313,67.419998168945313,67.419998168945313,67.419998168945313,67.419998168945313,70.449996948242188,75,75,75,75,75,75,75,75,75,75,75,75,75,75,75,75,75,75,75,75,75,75,75,75,75,75,75,75,75,75,75,75,75,75,75,75,75,63.639999389648438,63.639999389648438,63.639999389648438,63.639999389648438,63.639999389648438,63.639999389648438,63.639999389648438,63.639999389648438,63.639999389648438,63.639999389648438,63.639999389648438,63.639999389648438,63.639999389648438,63.639999389648438,63.639999389648438,63.639999389648438,63.639999389648438,63.639999389648438,63.639999389648438,63.639999389648438,63.639999389648438,63.639999389648438,63.639999389648438,63.639999389648438,63.639999389648438,63.639999389648438,63.639999389648438,63.639999389648438,63.639999389648438,63.639999389648438,63.639999389648438,63.639999389648438,null,null,null,null,40.704802387639099,null,null,63,-9.3413452694830965E-3,-7.8179834163782935E-4]
["Iceland","AE","ISL",0,0,0,0,0,0,0,0,0,0,0,0,0,0,0,0,0,0,0,0,0,0,6.820000171661377,6.820000171661377,6.820000171661377,6.820000171661377,6.820000171661377,9.0900001525878906,13.640000343322754,13.640000343322754,13.640000343322754,13.640000343322754,13.640000343322754,13.640000343322754,13.640000343322754,13.640000343322754,13.640000343322754,13.640000343322754,13.640000343322754,13.640000343322754,13.640000343322754,13.640000343322754,13.640000343322754,13.640000343322754,13.640000343322754,13.640000343322754,13.640000343322754,13.640000343322754,13.640000343322754,13.640000343322754,13.640000343322754,13.640000343322754,13.640000343322754,13.640000343322754,13.640000343322754,13.640000343322754,13.640000343322754,13.640000343322754,13.640000343322754,13.640000343322754,13.640000343322754,13.640000343322754,13.640000343322754,13.640000343322754,13.640000343322754,13.640000343322754,13.640000343322754,13.640000343322754,28.790000915527344,28.790000915527344,28.790000915527344,28.790000915527344,31.819999694824219,31.819999694824219,38.639999389648438,59.849998474121094,59.849998474121094,59.849998474121094,59.849998474121094,62.119998931884766,62.119998931884766,62.119998931884766,62.119998931884766,62.119998931884766,62.119998931884766,62.119998931884766,62.119998931884766,62.119998931884766,62.119998931884766,62.119998931884766,62.119998931884766,57.580001831054688,57.580001831054688,57.580001831054688,57.580001831054688,57.580001831054688,57.580001831054688,57.580001831054688,57.580001831054688,57.580001831054688,57.580001831054688,57.580001831054688,57.580001831054688,57.580001831054688,57.580001831054688,57.580001831054688,57.580001831054688,57.580001831054688,57.580001831054688,57.580001831054688,57.580001831054688,57.580001831054688,57.580001831054688,57.580001831054688,57.580001831054688,57.580001831054688,57.580001831054688,57.580001831054688,57.580001831054688,57.580001831054688,57.580001831054688,57.580001831054688,57.580001831054688,57.580001831054688,54.549999237060547,54.549999237060547,54.549999237060547,54.549999237060547,54.549999237060547,54.549999237060547,54.549999237060547,54.549999237060547,54.549999237060547,54.549999237060547,54.549999237060547,54.549999237060547,54.549999237060547,54.549999237060547,54.549999237060547,54.549999237060547,54.549999237060547,54.549999237060547,54.549999237060547,54.549999237060547,54.549999237060547,46.209999084472656,46.209999084472656,46.209999084472656,46.209999084472656,46.209999084472656,46.209999084472656,46.209999084472656,46.209999084472656,46.209999084472656,46.209999084472656,46.209999084472656,null,null,null,null,33.948881817491433,null,null,64,-9.9115940844840128E-3,{"$f":"+((1+FL77)^(1/12))-1","v":-8.2974231796029141E-4}]
["India","EME","IND",0,0,0,0,0,0,0,0,0,0,0,0,0,0,0,0,0,0,0,0,0,0,0,0,7.5799999237060547,15.909999847412109,15.909999847412109,15.909999847412109,15.909999847412109,15.909999847412109,20.450000762939453,20.450000762939453,20.450000762939453,20.450000762939453,20.450000762939453,20.450000762939453,20.450000762939453,20.450000762939453,20.450000762939453,20.450000762939453,20.450000762939453,20.450000762939453,20.450000762939453,20.450000762939453,20.450000762939453,20.450000762939453,20.450000762939453,20.450000762939453,20.450000762939453,20.450000762939453,20.450000762939453,20.450000762939453,20.450000762939453,20.450000762939453,20.450000762939453,20.450000762939453,20.450000762939453,20.450000762939453,20.450000762939453,20.450000762939453,20.450000762939453,20.450000762939453,20.450000762939453,25,34.090000152587891,34.090000152587891,34.090000152587891,34.090000152587891,34.090000152587891,34.090000152587891,34.090000152587891,34.090000152587891,39.389999389648438,41.669998168945313,43.939998626708984,51.520000457763672,51.520000457763672,53.029998779296875,60.979999542236328,70.080001831054688,74.620002746582031,93.94000244140625,82.949996948242188,82.949996948242188,93.94000244140625,93.94000244140625,93.94000244140625,93.94000244140625,93.94000244140625,93.94000244140625,93.94000244140625,93.94000244140625,93.94000244140625,93.94000244140625,93.94000244140625,93.94000244140625,93.94000244140625,93.94000244140625,93.94000244140625,100,100,100,100,100,100,100,100,100,100,100,96.970001220703125,96.970001220703125,96.970001220703125,96.970001220703125,96.970001220703125,96.970001220703125,96.970001220703125,96.970001220703125,96.970001220703125,96.970001220703125,96.970001220703125,96.970001220703125,96.970001220703125,96.970001220703125,85.230003356933594,85.230003356933594,85.230003356933594,85.230003356933594,85.230003356933594,85.230003356933594,85.230003356933594,85.230003356933594,85.230003356933594,85.230003356933594,85.230003356933594,85.230003356933594,85.230003356933594,85.230003356933594,82.949996948242188,82.949996948242188,82.949996948242188,82.949996948242188,82.949996948242188,82.949996948242188,82.949996948242188,82.949996948242188,82.949996948242188,82.949996948242188,82.949996948242188,82.949996948242188,82.949996948242188,82.949996948242188,79.919998168945313,79.919998168945313,79.919998168945313,79.919998168945313,79.919998168945313,79.919998168945313,79.919998168945313,null,52.81243473605106,null,null,65,-1.0481167704399295E-2,-8.7765480116619443E-4]
["Indonesia","EME","IDN",0,0,4.5500001907348633,4.5500001907348633,4.5500001907348633,4.5500001907348633,4.5500001907348633,4.5500001907348633,4.5500001907348633,4.5500001907348633,4.5500001907348633,4.5500001907348633,4.5500001907348633,4.5500001907348633,4.5500001907348633,4.5500001907348633,4.5500001907348633,6.820000171661377,6.820000171661377,6.820000171661377,6.820000171661377,6.820000171661377,6.820000171661377,6.820000171661377,6.820000171661377,6.820000171661377,6.820000171661377,6.820000171661377,11.359999656677246,11.359999656677246,11.359999656677246,11.359999656677246,11.359999656677246,18.940000534057617,18.940000534057617,23.479999542236328,23.479999542236328,23.479999542236328,23.479999542236328,23.479999542236328,23.479999542236328,23.479999542236328,23.479999542236328,23.479999542236328,23.479999542236328,23.479999542236328,23.479999542236328,26.520000457763672,26.520000457763672,26.520000457763672,26.520000457763672,26.520000457763672,26.520000457763672,26.520000457763672,26.520000457763672,26.520000457763672,26.520000457763672,26.520000457763672,26.520000457763672,26.520000457763672,26.520000457763672,26.520000457763672,33.330001831054688,33.330001831054688,33.330001831054688,33.330001831054688,33.330001831054688,33.330001831054688,33.330001831054688,33.330001831054688,33.330001831054688,33.330001831054688,33.330001831054688,33.330001831054688,40.909999847412109,43.180000305175781,40.909999847412109,40.909999847412109,43.180000305175781,43.180000305175781,43.180000305175781,43.180000305175781,45.450000762939453,45.450000762939453,45.450000762939453,46.970001220703125,46.970001220703125,46.970001220703125,49.240001678466797,49.240001678466797,49.240001678466797,49.240001678466797,49.240001678466797,49.240001678466797,49.240001678466797,49.240001678466797,49.240001678466797,57.200000762939453,57.200000762939453,57.200000762939453,66.290000915527344,66.290000915527344,66.290000915527344,66.290000915527344,66.290000915527344,66.290000915527344,66.290000915527344,66.290000915527344,67.800003051757813,67.800003051757813,67.800003051757813,67.800003051757813,67.800003051757813,67.800003051757813,74.620002746582031,74.620002746582031,74.620002746582031,74.620002746582031,74.620002746582031,74.620002746582031,74.620002746582031,74.620002746582031,74.620002746582031,70.080001831054688,70.080001831054688,70.080001831054688,70.080001831054688,70.080001831054688,70.080001831054688,70.080001831054688,70.080001831054688,70.080001831054688,70.080001831054688,70.080001831054688,70.080001831054688,70.080001831054688,70.080001831054688,70.080001831054688,70.080001831054688,70.080001831054688,67.800003051757813,67.800003051757813,67.800003051757813,67.800003051757813,67.800003051757813,67.800003051757813,67.800003051757813,67.800003051757813,67.800003051757813,null,null,null,null,null,null,null,null,null,null,null,39.989128596030625,null,null,{"$f":"+FK78+1","v":66},{"$f":"1+$FP$6-((FK79/100)/($FP$7+(FK79/100)))","v":-1.1050067327702279E-2},-9.2553583014576279E-4]
["Iran","EME","IRN",0,0,0,0,0,0,0,0,0,0,0,0,0,0,0,0,0,0,0,0,0,0,0,0,0,0,0,0,0,0,0,0,0,0,0,0,0,0,0,0,0,0,0,0,0,0,0,0,0,0,2.2699999809265137,2.2699999809265137,9.0900001525878906,9.0900001525878906,9.0900001525878906,9.0900001525878906,15.149999618530273,15.149999618530273,15.149999618530273,15.149999618530273,15.149999618530273,15.149999618530273,15.149999618530273,15.149999618530273,33.330001831054688,33.330001831054688,33.330001831054688,33.330001831054688,33.330001831054688,33.330001831054688,33.330001831054688,33.330001831054688,31.819999694824219,31.819999694824219,31.819999694824219,31.819999694824219,31.819999694824219,31.819999694824219,34.849998474121094,34.849998474121094,34.849998474121094,42.419998168945313,42.419998168945313,42.419998168945313,42.419998168945313,42.419998168945313,49.240001678466797,49.240001678466797,49.240001678466797,49.240001678466797,49.240001678466797,49.240001678466797,49.240001678466797,49.240001678466797,49.240001678466797,50.759998321533203,50.759998321533203,50.759998321533203,50.759998321533203,50.759998321533203,50.759998321533203,43.939998626708984,43.939998626708984,43.939998626708984,43.939998626708984,43.939998626708984,43.939998626708984,43.939998626708984,43.939998626708984,46.209999084472656,46.209999084472656,46.209999084472656,46.209999084472656,46.209999084472656,46.209999084472656,46.209999084472656,46.209999084472656,46.209999084472656,46.209999084472656,46.209999084472656,46.209999084472656,46.209999084472656,46.209999084472656,46.209999084472656,46.209999084472656,46.209999084472656,46.209999084472656,46.209999084472656,46.209999084472656,43.939998626708984,43.939998626708984,43.939998626708984,43.939998626708984,43.939998626708984,43.939998626708984,43.939998626708984,39.389999389648438,60.610000610351563,60.610000610351563,60.610000610351563,60.610000610351563,60.610000610351563,60.610000610351563,60.610000610351563,60.610000610351563,60.610000610351563,58.330001831054688,58.330001831054688,58.330001831054688,58.330001831054688,58.330001831054688,58.330001831054688,58.330001831054688,58.330001831054688,58.330001831054688,null,null,null,null,null,27.645986701312818,null,null,67,-1.1618294150031593E-2,-9.7338544371827762E-4]
["Iraq","EME","IRQ",0,0,0,0,0,0,0,0,0,0,0,0,0,0,0,0,0,0,0,0,0,0,0,0,0,0,0,0,0,0,0,0,0,0,0,0,0,0,0,0,0,0,0,0,0,0,0,0,0,2.2699999809265137,9.0900001525878906,9.0900001525878906,9.0900001525878906,15.909999847412109,18.940000534057617,49.240001678466797,49.240001678466797,46.209999084472656,46.209999084472656,46.209999084472656,46.209999084472656,46.209999084472656,46.209999084472656,46.209999084472656,46.209999084472656,46.209999084472656,46.209999084472656,46.209999084472656,46.209999084472656,46.209999084472656,53.029998779296875,53.029998779296875,64.389999389648438,64.389999389648438,64.389999389648438,66.669998168945313,76.519996643066406,76.519996643066406,76.519996643066406,76.519996643066406,76.519996643066406,80.300003051757813,80.300003051757813,80.300003051757813,80.300003051757813,84.849998474121094,84.849998474121094,84.849998474121094,84.849998474121094,84.849998474121094,84.849998474121094,84.849998474121094,84.849998474121094,84.849998474121094,84.849998474121094,84.849998474121094,84.849998474121094,84.849998474121094,84.849998474121094,84.849998474121094,84.849998474121094,84.849998474121094,84.849998474121094,84.849998474121094,84.849998474121094,84.849998474121094,84.849998474121094,84.849998474121094,84.849998474121094,84.849998474121094,84.849998474121094,75.760002136230469,75.760002136230469,75.760002136230469,75.760002136230469,75.760002136230469,75.760002136230469,75.760002136230469,75.760002136230469,75.760002136230469,75.760002136230469,75.760002136230469,75.760002136230469,75.760002136230469,75.760002136230469,75.760002136230469,75.760002136230469,75.760002136230469,75.760002136230469,75.760002136230469,75.760002136230469,73.480003356933594,73.480003356933594,73.480003356933594,73.480003356933594,73.480003356933594,73.480003356933594,73.480003356933594,73.480003356933594,73.480003356933594,73.480003356933594,73.480003356933594,73.480003356933594,73.480003356933594,73.480003356933594,73.480003356933594,null,null,null,null,null,null,null,null,null,null,null,null,null,null,45.594520787670184,null,null,68,-1.2185849364199537E-2,-1.0212036806318547E-3]
["Ireland","AE","IRL",0,0,0,0,0,0,0,0,0,0,0,0,0,0,0,0,0,0,0,0,0,0,0,0,0,0,0,0,0,0,0,0,0,0,4.5500001907348633,4.5500001907348633,4.5500001907348633,4.5500001907348633,4.5500001907348633,4.5500001907348633,4.5500001907348633,4.5500001907348633,4.5500001907348633,4.5500001907348633,4.5500001907348633,4.5500001907348633,4.5500001907348633,4.5500001907348633,4.5500001907348633,4.5500001907348633,4.5500001907348633,4.5500001907348633,4.5500001907348633,4.5500001907348633,4.5500001907348633,15.149999618530273,15.149999618530273,15.149999618530273,15.149999618530273,19.700000762939453,19.700000762939453,19.700000762939453,19.700000762939453,19.700000762939453,19.700000762939453,19.700000762939453,19.700000762939453,19.700000762939453,19.700000762939453,19.700000762939453,19.700000762939453,36.360000610351563,45.450000762939453,45.450000762939453,50,50,50,50,50,50,50,50,50,46.970001220703125,46.970001220703125,54.549999237060547,69.699996948242188,77.269996643066406,77.269996643066406,77.269996643066406,77.269996643066406,77.269996643066406,77.269996643066406,77.269996643066406,77.269996643066406,77.269996643066406,81.819999694824219,81.819999694824219,81.819999694824219,81.819999694824219,81.819999694824219,81.819999694824219,81.819999694824219,81.819999694824219,81.819999694824219,81.819999694824219,81.819999694824219,81.819999694824219,81.819999694824219,81.819999694824219,81.819999694824219,81.819999694824219,81.819999694824219,81.819999694824219,81.819999694824219,81.819999694824219,81.819999694824219,81.819999694824219,81.819999694824219,81.819999694824219,81.819999694824219,81.819999694824219,81.819999694824219,81.819999694824219,81.819999694824219,81.819999694824219,81.819999694824219,81.819999694824219,81.819999694824219,81.819999694824219,81.819999694824219,81.819999694824219,81.819999694824219,81.819999694824219,81.819999694824219,81.819999694824219,81.819999694824219,81.819999694824219,74.239997863769531,74.239997863769531,74.239997863769531,74.239997863769531,74.239997863769531,74.239997863769531,74.239997863769531,74.239997863769531,74.239997863769531,74.239997863769531,74.239997863769531,74.239997863769531,74.239997863769531,74.239997863769531,74.239997863769531,74.239997863769531,74.239997863769531,74.239997863769531,null,null,null,null,41.837039075399701,null,null,69,-1.2752734160200382E-2,-1.0689905795646659E-3]
["Israel","AE","ISR",0,0,0,0,0,0,0,0,0,0,0,0,0,0,0,0,0,0,0,0,0,0,3.0299999713897705,3.0299999713897705,3.0299999713897705,3.0299999713897705,5.3000001907348633,5.3000001907348633,5.3000001907348633,5.3000001907348633,5.3000001907348633,5.3000001907348633,14.390000343322754,14.390000343322754,14.390000343322754,14.390000343322754,14.390000343322754,14.390000343322754,14.390000343322754,18.940000534057617,18.940000534057617,18.940000534057617,18.940000534057617,18.940000534057617,18.940000534057617,18.940000534057617,18.940000534057617,18.940000534057617,18.940000534057617,18.940000534057617,18.940000534057617,18.940000534057617,18.940000534057617,18.940000534057617,18.940000534057617,18.940000534057617,18.940000534057617,18.940000534057617,18.940000534057617,18.940000534057617,18.940000534057617,18.940000534057617,18.940000534057617,30.299999237060547,30.299999237060547,30.299999237060547,30.299999237060547,30.299999237060547,30.299999237060547,30.299999237060547,30.299999237060547,41.669998168945313,50.759998321533203,50.759998321533203,59.090000152587891,63.639999389648438,75.760002136230469,75.760002136230469,75.760002136230469,78.790000915527344,78.790000915527344,78.790000915527344,78.790000915527344,78.790000915527344,78.790000915527344,78.790000915527344,78.790000915527344,78.790000915527344,78.790000915527344,78.790000915527344,78.790000915527344,81.819999694824219,81.819999694824219,84.089996337890625,84.089996337890625,84.089996337890625,84.089996337890625,86.360000610351563,89.389999389648438,89.389999389648438,89.389999389648438,87.120002746582031,87.120002746582031,87.120002746582031,89.389999389648438,89.389999389648438,89.389999389648438,87.120002746582031,87.120002746582031,84.089996337890625,84.089996337890625,84.089996337890625,84.089996337890625,84.089996337890625,84.089996337890625,84.089996337890625,81.05999755859375,81.05999755859375,83.330001831054688,83.330001831054688,81.05999755859375,81.05999755859375,81.05999755859375,78.029998779296875,78.029998779296875,75.760002136230469,75.760002136230469,75.760002136230469,75.760002136230469,75.760002136230469,75.760002136230469,75.760002136230469,75.760002136230469,75.760002136230469,75.760002136230469,75.760002136230469,75.760002136230469,75.760002136230469,75.760002136230469,75.760002136230469,73.480003356933594,73.480003356933594,73.480003356933594,73.480003356933594,73.480003356933594,73.480003356933594,73.480003356933594,73.480003356933594,73.480003356933594,73.480003356933594,73.480003356933594,73.480003356933594,73.480003356933594,73.480003356933594,73.480003356933594,73.480003356933594,null,null,null,null,47.193421401475604,null,null,70,-1.3318949725218798E-2,-1.1167461791237177E-3]
["Italy","AE","ITA",0,0,0,0,0,0,0,0,0,0,0,0,0,0,0,0,0,0,0,0,0,0,2.2699999809265137,2.2699999809265137,2.2699999809265137,2.2699999809265137,2.2699999809265137,2.2699999809265137,2.2699999809265137,6.820000171661377,28.030000686645508,28.030000686645508,28.030000686645508,28.030000686645508,28.030000686645508,28.030000686645508,28.030000686645508,28.030000686645508,28.030000686645508,28.030000686645508,28.030000686645508,28.030000686645508,28.030000686645508,28.030000686645508,28.030000686645508,28.030000686645508,28.030000686645508,28.030000686645508,28.030000686645508,28.030000686645508,28.030000686645508,34.849998474121094,42.419998168945313,69.319999694824219,69.319999694824219,69.319999694824219,72.349998474121094,72.349998474121094,72.349998474121094,72.349998474121094,72.349998474121094,72.349998474121094,72.349998474121094,76.139999389648438,76.139999389648438,76.139999389648438,76.139999389648438,76.139999389648438,76.139999389648438,82.580001831054688,84.849998474121094,84.849998474121094,84.849998474121094,84.849998474121094,84.849998474121094,84.849998474121094,84.849998474121094,84.849998474121094,84.849998474121094,90.150001525878906,90.150001525878906,90.150001525878906,90.150001525878906,90.150001525878906,90.150001525878906,90.150001525878906,90.150001525878906,90.150001525878906,90.150001525878906,90.150001525878906,90.150001525878906,90.150001525878906,90.150001525878906,90.150001525878906,90.150001525878906,90.150001525878906,90.150001525878906,90.150001525878906,90.150001525878906,90.150001525878906,87.120002746582031,87.120002746582031,91.669998168945313,91.669998168945313,91.669998168945313,91.669998168945313,91.669998168945313,91.669998168945313,91.669998168945313,91.669998168945313,91.669998168945313,91.669998168945313,91.669998168945313,91.669998168945313,91.669998168945313,91.669998168945313,91.669998168945313,91.669998168945313,91.669998168945313,91.669998168945313,91.669998168945313,91.669998168945313,91.669998168945313,91.669998168945313,66.669998168945313,66.669998168945313,66.669998168945313,66.669998168945313,66.669998168945313,66.669998168945313,66.669998168945313,66.669998168945313,66.669998168945313,66.669998168945313,66.669998168945313,66.669998168945313,69.699996948242188,69.699996948242188,67.419998168945313,67.419998168945313,67.419998168945313,67.419998168945313,67.419998168945313,67.419998168945313,67.419998168945313,64.389999389648438,64.389999389648438,64.389999389648438,64.389999389648438,64.389999389648438,64.389999389648438,64.389999389648438,64.389999389648438,null,null,null,null,null,null,null,56.92322326333899,null,null,71,-1.3884497243637973E-2,-1.1644705178462944E-3]
["Jamaica","EME","JAM",0,0,0,0,0,0,0,0,0,0,0,0,0,0,0,0,0,0,0,0,0,0,0,0,0,0,0,0,0,0,11.359999656677246,11.359999656677246,11.359999656677246,11.359999656677246,11.359999656677246,20.450000762939453,20.450000762939453,20.450000762939453,20.450000762939453,20.450000762939453,20.450000762939453,20.450000762939453,23.479999542236328,23.479999542236328,23.479999542236328,23.479999542236328,23.479999542236328,23.479999542236328,23.479999542236328,23.479999542236328,23.479999542236328,23.479999542236328,23.479999542236328,23.479999542236328,23.479999542236328,23.479999542236328,23.479999542236328,23.479999542236328,23.479999542236328,23.479999542236328,23.479999542236328,23.479999542236328,23.479999542236328,23.479999542236328,23.479999542236328,23.479999542236328,23.479999542236328,23.479999542236328,23.479999542236328,28.030000686645508,32.580001831054688,32.580001831054688,56.060001373291016,56.060001373291016,56.060001373291016,56.060001373291016,56.060001373291016,65.910003662109375,65.910003662109375,65.910003662109375,68.180000305175781,68.180000305175781,68.180000305175781,68.180000305175781,68.94000244140625,68.94000244140625,68.94000244140625,68.94000244140625,68.94000244140625,68.94000244140625,68.94000244140625,71.970001220703125,71.970001220703125,71.970001220703125,71.970001220703125,71.970001220703125,71.970001220703125,71.970001220703125,71.970001220703125,71.970001220703125,71.970001220703125,71.970001220703125,71.970001220703125,71.970001220703125,71.970001220703125,73.480003356933594,73.480003356933594,73.480003356933594,73.480003356933594,73.480003356933594,73.480003356933594,73.480003356933594,78.790000915527344,78.790000915527344,78.790000915527344,78.790000915527344,78.790000915527344,78.790000915527344,78.790000915527344,78.790000915527344,78.790000915527344,78.790000915527344,78.790000915527344,78.790000915527344,78.790000915527344,78.790000915527344,78.790000915527344,78.790000915527344,78.790000915527344,78.790000915527344,78.790000915527344,78.790000915527344,78.790000915527344,78.790000915527344,78.790000915527344,78.790000915527344,78.790000915527344,78.790000915527344,78.790000915527344,78.790000915527344,78.790000915527344,78.790000915527344,78.790000915527344,78.790000915527344,78.790000915527344,78.790000915527344,78.790000915527344,78.790000915527344,78.790000915527344,78.790000915527344,78.790000915527344,78.790000915527344,71.209999084472656,71.209999084472656,71.209999084472656,71.209999084472656,null,null,null,null,44.960329664380929,null,null,72,-1.4449377897048053E-2,-1.2121636341992925E-3]
["Japan","AE","JPN",0,0,0,0,0,0,2.2699999809265137,2.2699999809265137,2.2699999809265137,2.2699999809265137,2.2699999809265137,2.2699999809265137,2.2699999809265137,2.2699999809265137,9.8500003814697266,9.8500003814697266,9.8500003814697266,9.8500003814697266,9.8500003814697266,9.8500003814697266,9.8500003814697266,9.8500003814697266,9.8500003814697266,9.8500003814697266,9.8500003814697266,9.8500003814697266,9.8500003814697266,9.8500003814697266,9.8500003814697266,9.8500003814697266,9.8500003814697266,14.390000343322754,14.390000343322754,14.390000343322754,23.479999542236328,23.479999542236328,23.479999542236328,23.479999542236328,23.479999542236328,23.479999542236328,23.479999542236328,23.479999542236328,23.479999542236328,23.479999542236328,23.479999542236328,23.479999542236328,23.479999542236328,23.479999542236328,23.479999542236328,23.479999542236328,28.030000686645508,28.030000686645508,28.030000686645508,28.030000686645508,28.030000686645508,35.610000610351563,35.610000610351563,35.610000610351563,35.610000610351563,35.610000610351563,35.610000610351563,43.180000305175781,43.180000305175781,43.180000305175781,43.180000305175781,43.180000305175781,43.180000305175781,43.180000305175781,40.909999847412109,40.909999847412109,40.909999847412109,40.909999847412109,40.909999847412109,40.909999847412109,40.909999847412109,40.909999847412109,40.909999847412109,40.909999847412109,40.909999847412109,40.909999847412109,40.909999847412109,40.909999847412109,40.909999847412109,40.909999847412109,40.909999847412109,40.909999847412109,40.909999847412109,40.909999847412109,40.909999847412109,40.909999847412109,40.909999847412109,40.909999847412109,40.909999847412109,43.180000305175781,43.180000305175781,43.180000305175781,43.180000305175781,44.700000762939453,44.700000762939453,44.700000762939453,44.700000762939453,44.700000762939453,44.700000762939453,44.700000762939453,44.700000762939453,44.700000762939453,46.209999084472656,46.209999084472656,46.209999084472656,46.209999084472656,46.209999084472656,46.209999084472656,46.209999084472656,46.209999084472656,46.209999084472656,46.209999084472656,46.209999084472656,46.209999084472656,46.209999084472656,46.209999084472656,46.209999084472656,46.209999084472656,46.209999084472656,46.209999084472656,46.209999084472656,46.209999084472656,46.209999084472656,46.209999084472656,46.209999084472656,46.209999084472656,46.209999084472656,46.209999084472656,46.209999084472656,46.209999084472656,40.909999847412109,40.909999847412109,40.909999847412109,40.909999847412109,40.909999847412109,40.909999847412109,40.909999847412109,40.909999847412109,40.909999847412109,40.909999847412109,40.909999847412109,31.059999465942383,33.330001831054688,33.330001831054688,33.330001831054688,33.330001831054688,33.330001831054688,33.330001831054688,33.330001831054688,33.330001831054688,33.330001831054688,33.330001831054688,null,null,null,null,31.797565767639561,null,null,73,-1.5013592864254209E-2,-1.2598255665798863E-3]
["Jordan","EME","JOR",0,0,0,0,0,0,0,0,0,0,0,0,0,0,0,0,0,0,0,0,0,0,0,0,0,0,0,0,0,0,0,0,0,0,0,0,0,0,0,0,0,0,0,0,0,0,0,0,0,0,0,0,0,0,0,0,0,0,0,0,0,0,0,0,12.119999885559082,12.119999885559082,12.119999885559082,12.119999885559082,15.149999618530273,15.149999618530273,15.149999618530273,15.149999618530273,15.149999618530273,15.149999618530273,33.330001831054688,33.330001831054688,37.880001068115234,92.419998168945313,92.419998168945313,92.419998168945313,92.419998168945313,92.419998168945313,92.419998168945313,92.419998168945313,92.419998168945313,92.419998168945313,92.419998168945313,92.419998168945313,92.419998168945313,92.419998168945313,92.419998168945313,92.419998168945313,92.419998168945313,92.419998168945313,92.419998168945313,92.419998168945313,92.419998168945313,92.419998168945313,92.419998168945313,92.419998168945313,92.419998168945313,92.419998168945313,92.419998168945313,92.419998168945313,92.419998168945313,92.419998168945313,92.419998168945313,92.419998168945313,92.419998168945313,92.419998168945313,92.419998168945313,87.879997253417969,87.879997253417969,87.879997253417969,87.879997253417969,87.879997253417969,87.879997253417969,82.580001831054688,82.580001831054688,82.580001831054688,82.580001831054688,82.580001831054688,82.580001831054688,82.580001831054688,80.300003051757813,80.300003051757813,75.760002136230469,75.760002136230469,75.760002136230469,75.760002136230469,75.760002136230469,75.760002136230469,68.180000305175781,68.180000305175781,68.180000305175781,68.180000305175781,68.180000305175781,68.180000305175781,74.239997863769531,74.239997863769531,74.239997863769531,74.239997863769531,74.239997863769531,74.239997863769531,74.239997863769531,74.239997863769531,74.239997863769531,74.239997863769531,74.239997863769531,null,null,null,null,null,null,null,null,null,null,null,42.499462639725451,null,null,74,-1.5577143321284972E-2,-1.3074563533153061E-3]
["Kazakhstan","EME","KAZ",0,0,0,0,0,0,0,0,0,0,0,0,0,0,0,0,0,0,0,0,0,0,0,0,0,0,0,0,0,0,3.0299999713897705,3.0299999713897705,3.0299999713897705,3.0299999713897705,3.0299999713897705,3.0299999713897705,3.0299999713897705,3.0299999713897705,3.0299999713897705,3.0299999713897705,3.0299999713897705,3.0299999713897705,3.0299999713897705,3.0299999713897705,3.0299999713897705,3.0299999713897705,3.0299999713897705,3.0299999713897705,3.0299999713897705,3.0299999713897705,3.0299999713897705,3.0299999713897705,3.0299999713897705,3.0299999713897705,3.0299999713897705,3.0299999713897705,3.0299999713897705,3.0299999713897705,3.0299999713897705,3.0299999713897705,3.0299999713897705,3.0299999713897705,3.0299999713897705,3.0299999713897705,3.0299999713897705,3.0299999713897705,3.0299999713897705,3.0299999713897705,3.0299999713897705,3.0299999713897705,3.0299999713897705,14.390000343322754,18.940000534057617,18.940000534057617,18.940000534057617,41.669998168945313,41.669998168945313,48.479999542236328,68.55999755859375,68.55999755859375,68.55999755859375,68.55999755859375,68.55999755859375,77.650001525878906,77.650001525878906,77.650001525878906,77.650001525878906,77.650001525878906,77.650001525878906,85.230003356933594,85.230003356933594,85.230003356933594,85.230003356933594,85.230003356933594,85.230003356933594,85.230003356933594,85.230003356933594,85.230003356933594,85.230003356933594,85.230003356933594,85.230003356933594,85.230003356933594,85.230003356933594,85.230003356933594,85.230003356933594,85.230003356933594,85.230003356933594,85.230003356933594,85.230003356933594,85.230003356933594,85.230003356933594,85.230003356933594,85.230003356933594,85.230003356933594,85.230003356933594,85.230003356933594,85.230003356933594,85.230003356933594,85.230003356933594,85.230003356933594,85.230003356933594,91.290000915527344,91.290000915527344,91.290000915527344,91.290000915527344,91.290000915527344,91.290000915527344,91.290000915527344,91.290000915527344,91.290000915527344,91.290000915527344,85.230003356933594,85.230003356933594,85.230003356933594,85.230003356933594,85.230003356933594,85.230003356933594,85.230003356933594,86.739997863769531,86.739997863769531,86.739997863769531,86.739997863769531,86.739997863769531,86.739997863769531,86.739997863769531,86.739997863769531,86.739997863769531,86.739997863769531,86.739997863769531,86.739997863769531,86.739997863769531,86.739997863769531,81.44000244140625,null,null,null,null,null,null,null,43.33677699848225,null,null,75,-1.6140030441400291E-2,-1.3550560326631711E-3]
["Kenya","LIDC","KEN",0,0,0,0,0,0,0,0,0,0,0,0,0,0,0,0,0,0,0,2.2699999809265137,2.2699999809265137,2.2699999809265137,2.2699999809265137,2.2699999809265137,2.2699999809265137,2.2699999809265137,2.2699999809265137,2.2699999809265137,2.2699999809265137,2.2699999809265137,2.2699999809265137,2.2699999809265137,2.2699999809265137,2.2699999809265137,2.2699999809265137,2.2699999809265137,2.2699999809265137,2.2699999809265137,2.2699999809265137,2.2699999809265137,2.2699999809265137,2.2699999809265137,2.2699999809265137,2.2699999809265137,2.2699999809265137,2.2699999809265137,2.2699999809265137,2.2699999809265137,2.2699999809265137,2.2699999809265137,2.2699999809265137,2.2699999809265137,2.2699999809265137,2.2699999809265137,2.2699999809265137,11.359999656677246,11.359999656677246,11.359999656677246,11.359999656677246,11.359999656677246,11.359999656677246,11.359999656677246,11.359999656677246,11.359999656677246,11.359999656677246,11.359999656677246,11.359999656677246,11.359999656677246,11.359999656677246,11.359999656677246,11.359999656677246,11.359999656677246,29.549999237060547,29.549999237060547,41.669998168945313,53.790000915527344,53.790000915527344,53.790000915527344,53.790000915527344,58.330001831054688,58.330001831054688,58.330001831054688,58.330001831054688,61.360000610351563,63.639999389648438,63.639999389648438,78.790000915527344,78.790000915527344,78.790000915527344,78.790000915527344,78.790000915527344,78.790000915527344,78.790000915527344,78.790000915527344,78.790000915527344,78.790000915527344,82.580001831054688,82.580001831054688,82.580001831054688,82.580001831054688,82.580001831054688,82.580001831054688,82.580001831054688,82.580001831054688,82.580001831054688,82.580001831054688,82.580001831054688,82.580001831054688,82.580001831054688,82.580001831054688,82.580001831054688,82.580001831054688,82.580001831054688,82.580001831054688,82.580001831054688,82.580001831054688,82.580001831054688,82.580001831054688,82.580001831054688,82.580001831054688,82.580001831054688,82.580001831054688,82.580001831054688,82.580001831054688,84.089996337890625,84.089996337890625,84.089996337890625,84.089996337890625,84.089996337890625,84.089996337890625,84.089996337890625,84.089996337890625,84.089996337890625,84.089996337890625,84.089996337890625,84.089996337890625,84.089996337890625,84.089996337890625,84.089996337890625,84.089996337890625,84.089996337890625,84.089996337890625,84.089996337890625,84.089996337890625,84.089996337890625,84.089996337890625,84.089996337890625,84.089996337890625,84.089996337890625,84.089996337890625,84.089996337890625,84.089996337890625,84.089996337890625,null,null,null,null,null,null,null,42.548618147247716,null,null,76,-1.6702255395099778E-2,-1.4026246428118228E-3]
["Kosovo","LIDC","RKS",0,0,0,0,0,0,0,0,0,0,0,0,0,0,0,0,0,0,0,0,0,0,0,0,0,0,0,0,0,0,0,0,0,0,0,0,0,0,0,0,0,0,0,0,0,0,0,0,0,0,0,0,0,0,0,0,0,0,0,0,0,0,0,0,0,0,0,4.5500001907348633,4.5500001907348633,4.5500001907348633,20.450000762939453,34.090000152587891,66.669998168945313,66.669998168945313,77.269996643066406,77.269996643066406,77.269996643066406,77.269996643066406,77.269996643066406,77.269996643066406,77.269996643066406,77.269996643066406,79.550003051757813,83.330001831054688,83.330001831054688,83.330001831054688,83.330001831054688,83.330001831054688,83.330001831054688,83.330001831054688,83.330001831054688,83.330001831054688,83.330001831054688,83.330001831054688,83.330001831054688,83.330001831054688,83.330001831054688,83.330001831054688,83.330001831054688,83.330001831054688,83.330001831054688,83.330001831054688,83.330001831054688,83.330001831054688,83.330001831054688,83.330001831054688,83.330001831054688,83.330001831054688,83.330001831054688,83.330001831054688,83.330001831054688,83.330001831054688,83.330001831054688,83.330001831054688,83.330001831054688,83.330001831054688,83.330001831054688,83.330001831054688,83.330001831054688,83.330001831054688,83.330001831054688,83.330001831054688,83.330001831054688,83.330001831054688,83.330001831054688,83.330001831054688,83.330001831054688,83.330001831054688,83.330001831054688,83.330001831054688,83.330001831054688,83.330001831054688,83.330001831054688,83.330001831054688,83.330001831054688,83.330001831054688,83.330001831054688,83.330001831054688,78.790000915527344,78.790000915527344,78.790000915527344,78.790000915527344,78.790000915527344,78.790000915527344,78.790000915527344,78.790000915527344,78.790000915527344,78.790000915527344,78.790000915527344,78.790000915527344,78.790000915527344,78.790000915527344,76.519996643066406,null,null,null,null,null,null,null,43.325329523337516,null,null,77,-1.7263819350130737E-2,-1.4501622218802135E-3]
["Kuwait","EME","KWT",0,0,0,0,0,0,0,0,0,0,0,0,0,0,0,0,0,0,0,0,0,0,4.5500001907348633,4.5500001907348633,4.5500001907348633,4.5500001907348633,4.5500001907348633,4.5500001907348633,4.5500001907348633,4.5500001907348633,4.5500001907348633,4.5500001907348633,4.5500001907348633,4.5500001907348633,4.5500001907348633,4.5500001907348633,4.5500001907348633,4.5500001907348633,4.5500001907348633,4.5500001907348633,4.5500001907348633,4.5500001907348633,4.5500001907348633,4.5500001907348633,4.5500001907348633,4.5500001907348633,4.5500001907348633,4.5500001907348633,9.0900001525878906,9.0900001525878906,9.0900001525878906,11.359999656677246,11.359999656677246,11.359999656677246,11.359999656677246,11.359999656677246,11.359999656677246,11.359999656677246,11.359999656677246,11.359999656677246,22.729999542236328,22.729999542236328,22.729999542236328,22.729999542236328,22.729999542236328,22.729999542236328,38.639999389648438,38.639999389648438,38.639999389648438,43.180000305175781,64.389999389648438,73.480003356933594,75.760002136230469,75.760002136230469,75.760002136230469,75.760002136230469,75.760002136230469,75.760002136230469,75.760002136230469,75.760002136230469,75.760002136230469,81.819999694824219,81.819999694824219,81.819999694824219,81.819999694824219,81.819999694824219,81.819999694824219,81.819999694824219,81.819999694824219,81.819999694824219,81.819999694824219,81.819999694824219,81.819999694824219,81.819999694824219,81.819999694824219,81.819999694824219,91.669998168945313,91.669998168945313,91.669998168945313,91.669998168945313,91.669998168945313,91.669998168945313,91.669998168945313,91.669998168945313,91.669998168945313,91.669998168945313,91.669998168945313,91.669998168945313,91.669998168945313,91.669998168945313,91.669998168945313,87.879997253417969,87.879997253417969,87.879997253417969,87.879997253417969,87.879997253417969,87.879997253417969,87.879997253417969,87.879997253417969,87.879997253417969,87.879997253417969,87.879997253417969,87.879997253417969,87.879997253417969,87.879997253417969,87.879997253417969,87.879997253417969,87.879997253417969,87.879997253417969,87.879997253417969,96.970001220703125,96.970001220703125,96.970001220703125,96.970001220703125,96.970001220703125,96.970001220703125,96.970001220703125,96.970001220703125,96.970001220703125,96.970001220703125,96.970001220703125,96.970001220703125,96.970001220703125,96.970001220703125,96.970001220703125,null,null,null,null,null,null,null,null,null,null,null,null,null,null,null,48.893930717994429,null,null,78,-1.782472347149628E-2,-1.4976688079182399E-3]
["Kyrgyz Republic","LIDC","KGZ",0,0,0,0,0,0,0,0,0,0,0,0,0,0,0,0,0,0,0,0,0,2.2699999809265137,2.2699999809265137,2.2699999809265137,2.2699999809265137,2.2699999809265137,2.2699999809265137,9.0900001525878906,9.0900001525878906,9.0900001525878906,9.0900001525878906,11.359999656677246,11.359999656677246,11.359999656677246,11.359999656677246,14.390000343322754,14.390000343322754,14.390000343322754,14.390000343322754,14.390000343322754,14.390000343322754,14.390000343322754,14.390000343322754,14.390000343322754,14.390000343322754,14.390000343322754,14.390000343322754,14.390000343322754,14.390000343322754,14.390000343322754,14.390000343322754,14.390000343322754,14.390000343322754,14.390000343322754,14.390000343322754,14.390000343322754,14.390000343322754,18.940000534057617,18.940000534057617,18.940000534057617,21.209999084472656,21.209999084472656,21.209999084472656,21.209999084472656,21.209999084472656,21.209999084472656,21.209999084472656,21.209999084472656,21.209999084472656,21.209999084472656,21.209999084472656,30.299999237060547,30.299999237060547,35.610000610351563,35.610000610351563,44.700000762939453,59.849998474121094,59.849998474121094,59.849998474121094,59.849998474121094,59.849998474121094,64.389999389648438,64.389999389648438,64.389999389648438,82.949996948242188,82.949996948242188,82.949996948242188,82.949996948242188,82.949996948242188,82.949996948242188,82.949996948242188,82.949996948242188,82.949996948242188,82.949996948242188,82.949996948242188,82.949996948242188,82.949996948242188,82.949996948242188,82.949996948242188,82.949996948242188,82.949996948242188,82.949996948242188,82.949996948242188,82.949996948242188,82.949996948242188,82.949996948242188,82.949996948242188,82.949996948242188,82.949996948242188,82.949996948242188,82.949996948242188,82.949996948242188,82.949996948242188,82.949996948242188,82.949996948242188,82.949996948242188,82.949996948242188,82.949996948242188,82.949996948242188,82.949996948242188,79.919998168945313,79.919998168945313,79.919998168945313,79.919998168945313,77.650001525878906,77.650001525878906,77.650001525878906,77.650001525878906,77.650001525878906,77.650001525878906,77.650001525878906,74.620002746582031,74.620002746582031,74.620002746582031,74.620002746582031,74.620002746582031,76.889999389648438,76.889999389648438,76.889999389648438,76.889999389648438,76.889999389648438,76.889999389648438,76.889999389648438,76.889999389648438,72.349998474121094,72.349998474121094,72.349998474121094,72.349998474121094,72.349998474121094,72.349998474121094,72.349998474121094,72.349998474121094,72.349998474121094,72.349998474121094,72.349998474121094,72.349998474121094,null,null,null,null,44.654736048296876,null,null,79,-1.8384968921463421E-2,-1.5451444389070756E-3]
["Laos","LIDC","LAO",0,0,0,0,0,0,0,0,0,0,0,0,0,0,0,0,0,0,0,0,0,0,0,0,0,0,0,0,0,0,0,0,0,0,0,0,0,0,0,0,0,0,0,0,0,0,0,0,0,0,0,0,0,0,0,0,0,0,0,0,0,0,0,0,0,0,0,0,0,0,7.5799999237060547,7.5799999237060547,7.5799999237060547,7.5799999237060547,12.119999885559082,12.119999885559082,21.209999084472656,21.209999084472656,24.239999771118164,24.239999771118164,24.239999771118164,24.239999771118164,24.239999771118164,24.239999771118164,24.239999771118164,26.520000457763672,26.520000457763672,26.520000457763672,26.520000457763672,81.819999694824219,81.819999694824219,81.819999694824219,81.819999694824219,81.819999694824219,81.819999694824219,81.819999694824219,90.910003662109375,90.910003662109375,90.910003662109375,90.910003662109375,90.910003662109375,90.910003662109375,90.910003662109375,90.910003662109375,90.910003662109375,90.910003662109375,90.910003662109375,90.910003662109375,90.910003662109375,90.910003662109375,90.910003662109375,90.910003662109375,90.910003662109375,90.910003662109375,90.910003662109375,90.910003662109375,90.910003662109375,90.910003662109375,90.910003662109375,90.910003662109375,90.910003662109375,90.910003662109375,90.910003662109375,90.910003662109375,75,75,75,75,75,75,75,75,79.550003051757813,79.550003051757813,79.550003051757813,79.550003051757813,79.550003051757813,79.550003051757813,56.819999694824219,56.819999694824219,56.819999694824219,56.819999694824219,56.819999694824219,56.819999694824219,56.819999694824219,56.819999694824219,56.819999694824219,56.819999694824219,56.819999694824219,56.819999694824219,56.819999694824219,56.819999694824219,48.479999542236328,48.479999542236328,48.479999542236328,48.479999542236328,48.479999542236328,48.479999542236328,null,null,35.287763896741367,null,null,80,-1.8944556859571013E-2,-1.5925891527587277E-3]
["Lebanon","EME","LBN",0,0,0,0,0,0,0,0,0,0,0,0,0,0,0,0,0,0,0,0,0,0,0,0,0,0,0,0,0,0,0,0,0,0,0,0,0,3.0299999713897705,5.3000001907348633,5.3000001907348633,5.3000001907348633,5.3000001907348633,5.3000001907348633,5.3000001907348633,5.3000001907348633,5.3000001907348633,5.3000001907348633,5.3000001907348633,5.3000001907348633,5.3000001907348633,5.3000001907348633,14.390000343322754,14.390000343322754,14.390000343322754,14.390000343322754,14.390000343322754,14.390000343322754,14.390000343322754,18.940000534057617,28.030000686645508,28.030000686645508,28.030000686645508,28.030000686645508,28.030000686645508,28.030000686645508,38.639999389648438,38.639999389648438,38.639999389648438,38.639999389648438,38.639999389648438,38.639999389648438,38.639999389648438,38.639999389648438,38.639999389648438,38.639999389648438,50.759998321533203,50.759998321533203,77.269996643066406,77.269996643066406,77.269996643066406,77.269996643066406,77.269996643066406,77.269996643066406,77.269996643066406,77.269996643066406,77.269996643066406,77.269996643066406,77.269996643066406,77.269996643066406,77.269996643066406,77.269996643066406,77.269996643066406,77.269996643066406,77.269996643066406,77.269996643066406,77.269996643066406,77.269996643066406,77.269996643066406,77.269996643066406,77.269996643066406,77.269996643066406,77.269996643066406,77.269996643066406,77.269996643066406,77.269996643066406,77.269996643066406,77.269996643066406,77.269996643066406,77.269996643066406,77.269996643066406,77.269996643066406,77.269996643066406,77.269996643066406,77.269996643066406,77.269996643066406,77.269996643066406,77.269996643066406,74.239997863769531,74.239997863769531,74.239997863769531,74.239997863769531,74.239997863769531,74.239997863769531,71.209999084472656,71.209999084472656,71.209999084472656,71.209999084472656,71.209999084472656,71.209999084472656,71.209999084472656,71.209999084472656,71.209999084472656,71.209999084472656,77.269996643066406,77.269996643066406,77.269996643066406,77.269996643066406,77.269996643066406,71.209999084472656,71.209999084472656,71.209999084472656,71.209999084472656,71.209999084472656,71.209999084472656,71.209999084472656,71.209999084472656,71.209999084472656,71.209999084472656,71.209999084472656,null,null,null,null,null,null,null,null,null,null,null,42.051676623773254,null,null,81,-1.9503488442637863E-2,-1.6400029873168132E-3]
["Lesotho","LIDC","LSO",0,0,0,0,0,0,0,0,0,0,0,0,0,0,0,0,0,0,0,0,0,0,0,0,0,0,0,0,0,0,0,0,0,0,0,0,0,0,0,0,0,0,0,0,0,0,0,0,0,0,0,0,0,0,0,0,0,0,0,0,0,0,0,4.5500001907348633,4.5500001907348633,9.0900001525878906,9.0900001525878906,9.0900001525878906,9.0900001525878906,9.0900001525878906,9.0900001525878906,9.0900001525878906,9.0900001525878906,9.0900001525878906,9.0900001525878906,9.0900001525878906,9.0900001525878906,57.580001831054688,62.119998931884766,62.119998931884766,62.119998931884766,62.119998931884766,65.150001525878906,65.150001525878906,65.150001525878906,65.150001525878906,65.150001525878906,65.150001525878906,77.269996643066406,77.269996643066406,77.269996643066406,77.269996643066406,77.269996643066406,77.269996643066406,77.269996643066406,77.269996643066406,77.269996643066406,77.269996643066406,77.269996643066406,77.269996643066406,77.269996643066406,77.269996643066406,77.269996643066406,77.269996643066406,77.269996643066406,77.269996643066406,77.269996643066406,77.269996643066406,77.269996643066406,77.269996643066406,77.269996643066406,77.269996643066406,77.269996643066406,77.269996643066406,77.269996643066406,77.269996643066406,77.269996643066406,77.269996643066406,77.269996643066406,77.269996643066406,77.269996643066406,77.269996643066406,77.269996643066406,77.269996643066406,77.269996643066406,77.269996643066406,53.790000915527344,53.790000915527344,53.790000915527344,53.790000915527344,58.330001831054688,58.330001831054688,58.330001831054688,58.330001831054688,58.330001831054688,58.330001831054688,58.330001831054688,58.330001831054688,58.330001831054688,58.330001831054688,58.330001831054688,58.330001831054688,58.330001831054688,58.330001831054688,58.330001831054688,58.330001831054688,58.330001831054688,58.330001831054688,58.330001831054688,null,null,null,null,null,null,null,null,null,null,null,34.059261206812508,null,null,82,-2.0061764824770595E-2,-1.6873859803566704E-3]
["Liberia","LIDC","LBR",0,0,0,0,0,0,0,0,0,0,0,0,0,0,0,0,0,0,0,0,0,0,0,0,0,0,0,0,4.5500001907348633,4.5500001907348633,4.5500001907348633,4.5500001907348633,4.5500001907348633,4.5500001907348633,4.5500001907348633,4.5500001907348633,4.5500001907348633,4.5500001907348633,4.5500001907348633,4.5500001907348633,4.5500001907348633,4.5500001907348633,4.5500001907348633,4.5500001907348633,4.5500001907348633,4.5500001907348633,4.5500001907348633,4.5500001907348633,4.5500001907348633,4.5500001907348633,4.5500001907348633,4.5500001907348633,4.5500001907348633,4.5500001907348633,4.5500001907348633,4.5500001907348633,4.5500001907348633,4.5500001907348633,4.5500001907348633,4.5500001907348633,4.5500001907348633,4.5500001907348633,4.5500001907348633,4.5500001907348633,4.5500001907348633,4.5500001907348633,4.5500001907348633,4.5500001907348633,4.5500001907348633,9.0900001525878906,9.0900001525878906,9.0900001525878906,9.0900001525878906,9.0900001525878906,9.0900001525878906,18.940000534057617,32.580001831054688,32.580001831054688,32.580001831054688,32.580001831054688,43.939998626708984,68.180000305175781,68.180000305175781,72.730003356933594,72.730003356933594,72.730003356933594,72.730003356933594,72.730003356933594,72.730003356933594,72.730003356933594,72.730003356933594,72.730003356933594,72.730003356933594,72.730003356933594,72.730003356933594,72.730003356933594,72.730003356933594,72.730003356933594,74.239997863769531,74.239997863769531,76.519996643066406,76.519996643066406,79.550003051757813,79.550003051757813,79.550003051757813,79.550003051757813,79.550003051757813,79.550003051757813,79.550003051757813,79.550003051757813,79.550003051757813,79.550003051757813,79.550003051757813,79.550003051757813,79.550003051757813,79.550003051757813,79.550003051757813,79.550003051757813,79.550003051757813,79.550003051757813,79.550003051757813,79.550003051757813,79.550003051757813,79.550003051757813,79.550003051757813,79.550003051757813,79.550003051757813,79.550003051757813,79.550003051757813,79.550003051757813,79.550003051757813,79.550003051757813,79.550003051757813,79.550003051757813,79.550003051757813,79.550003051757813,79.550003051757813,79.550003051757813,79.550003051757813,79.550003051757813,79.550003051757813,79.550003051757813,79.550003051757813,76.519996643066406,76.519996643066406,76.519996643066406,76.519996643066406,76.519996643066406,76.519996643066406,76.519996643066406,76.519996643066406,76.519996643066406,76.519996643066406,76.519996643066406,76.519996643066406,null,null,null,null,null,38.903619408607483,null,null,83,-2.0619387157371681E-2,-1.7347381695850261E-3]
["Libya","EME","LBY",0,0,0,0,0,0,0,0,0,0,0,0,0,0,0,0,0,0,0,0,0,0,0,0,0,0,0,0,0,0,0,0,0,0,0,0,0,0,0,0,0,0,0,0,0,0,0,0,0,0,0,0,0,0,0,0,0,0,0,0,0,0,0,0,0,0,0,0,0,0,0,0,0,17.420000076293945,26.520000457763672,56.819999694824219,56.819999694824219,56.819999694824219,56.819999694824219,56.819999694824219,56.819999694824219,78.029998779296875,78.029998779296875,78.029998779296875,78.029998779296875,78.029998779296875,78.029998779296875,78.029998779296875,78.029998779296875,78.029998779296875,78.029998779296875,78.029998779296875,78.029998779296875,78.029998779296875,78.029998779296875,78.029998779296875,78.029998779296875,78.029998779296875,78.029998779296875,78.029998779296875,78.029998779296875,78.029998779296875,78.029998779296875,78.029998779296875,78.029998779296875,78.029998779296875,87.120002746582031,89.389999389648438,89.389999389648438,89.389999389648438,89.389999389648438,89.389999389648438,89.389999389648438,89.389999389648438,89.389999389648438,89.389999389648438,87.879997253417969,87.879997253417969,87.879997253417969,87.879997253417969,87.879997253417969,87.879997253417969,90.910003662109375,90.910003662109375,90.910003662109375,90.910003662109375,90.910003662109375,90.910003662109375,90.910003662109375,90.910003662109375,90.910003662109375,90.910003662109375,90.910003662109375,90.910003662109375,90.910003662109375,90.910003662109375,90.910003662109375,90.910003662109375,90.910003662109375,90.910003662109375,90.910003662109375,90.910003662109375,90.910003662109375,90.910003662109375,90.910003662109375,90.910003662109375,90.910003662109375,90.910003662109375,null,null,null,null,null,null,null,null,null,null,null,null,41.339054352528343,null,null,84,-2.1176356589147273E-2,-1.7820595926408833E-3]
["Lithuania","AE","LTU",0,0,0,0,0,0,0,0,0,0,0,0,0,0,0,0,0,0,0,0,0,0,0,0,0,0,0,0,3.0299999713897705,3.0299999713897705,3.0299999713897705,3.0299999713897705,3.0299999713897705,3.0299999713897705,3.0299999713897705,3.0299999713897705,3.0299999713897705,3.0299999713897705,3.0299999713897705,3.0299999713897705,3.0299999713897705,3.0299999713897705,3.0299999713897705,3.0299999713897705,3.0299999713897705,3.0299999713897705,3.0299999713897705,3.0299999713897705,3.0299999713897705,3.0299999713897705,3.0299999713897705,3.0299999713897705,3.0299999713897705,3.0299999713897705,3.0299999713897705,3.0299999713897705,7.5799999237060547,7.5799999237060547,12.119999885559082,12.119999885559082,12.119999885559082,12.119999885559082,12.119999885559082,12.119999885559082,12.119999885559082,12.119999885559082,12.119999885559082,12.119999885559082,12.119999885559082,12.119999885559082,12.119999885559082,37.119998931884766,41.669998168945313,41.669998168945313,41.669998168945313,69.699996948242188,69.699996948242188,69.699996948242188,69.699996948242188,69.699996948242188,69.699996948242188,69.699996948242188,69.699996948242188,69.699996948242188,69.699996948242188,69.699996948242188,69.699996948242188,69.699996948242188,69.699996948242188,72.730003356933594,72.730003356933594,72.730003356933594,72.730003356933594,72.730003356933594,72.730003356933594,72.730003356933594,72.730003356933594,81.819999694824219,81.819999694824219,81.819999694824219,86.360000610351563,86.360000610351563,86.360000610351563,86.360000610351563,81.819999694824219,81.819999694824219,81.819999694824219,81.819999694824219,81.819999694824219,81.819999694824219,81.819999694824219,81.819999694824219,81.819999694824219,81.819999694824219,81.819999694824219,81.819999694824219,81.819999694824219,78.790000915527344,78.790000915527344,78.790000915527344,78.790000915527344,78.790000915527344,78.790000915527344,78.790000915527344,78.790000915527344,78.790000915527344,78.790000915527344,78.790000915527344,78.790000915527344,78.790000915527344,78.790000915527344,76.519996643066406,76.519996643066406,76.519996643066406,76.519996643066406,76.519996643066406,76.519996643066406,76.519996643066406,73.480003356933594,73.480003356933594,73.480003356933594,73.480003356933594,73.480003356933594,73.480003356933594,73.480003356933594,73.480003356933594,73.480003356933594,73.480003356933594,73.480003356933594,73.480003356933594,73.480003356933594,73.480003356933594,59.849998474121094,59.849998474121094,59.849998474121094,59.849998474121094,null,null,null,null,41.442829006596618,null,null,85,-2.1732674266115186E-2,-1.8293502870948553E-3]
["Luxembourg","AE","LUX",0,0,0,0,0,0,0,0,0,0,0,0,0,0,0,0,0,0,0,0,0,0,0,0,0,0,0,0,0,0,0,0,0,0,0,0,0,0,0,0,0,0,0,0,0,0,0,0,0,0,0,0,0,0,0,0,0,0,0,0,15.149999618530273,15.149999618530273,15.149999618530273,15.149999618530273,24.239999771118164,24.239999771118164,24.239999771118164,24.239999771118164,33.330001831054688,33.330001831054688,33.330001831054688,37.880001068115234,46.970001220703125,46.970001220703125,56.060001373291016,71.209999084472656,77.269996643066406,77.269996643066406,77.269996643066406,77.269996643066406,77.269996643066406,77.269996643066406,77.269996643066406,77.269996643066406,77.269996643066406,77.269996643066406,77.269996643066406,77.269996643066406,77.269996643066406,77.269996643066406,77.269996643066406,77.269996643066406,77.269996643066406,77.269996643066406,77.269996643066406,77.269996643066406,77.269996643066406,77.269996643066406,77.269996643066406,77.269996643066406,77.269996643066406,77.269996643066406,77.269996643066406,77.269996643066406,77.269996643066406,77.269996643066406,77.269996643066406,77.269996643066406,77.269996643066406,77.269996643066406,69.699996948242188,69.699996948242188,69.699996948242188,69.699996948242188,69.699996948242188,69.699996948242188,69.699996948242188,69.699996948242188,69.699996948242188,69.699996948242188,69.699996948242188,69.699996948242188,69.699996948242188,69.699996948242188,69.699996948242188,69.699996948242188,69.699996948242188,69.699996948242188,69.699996948242188,69.699996948242188,69.699996948242188,64.389999389648438,64.389999389648438,64.389999389648438,64.389999389648438,64.389999389648438,64.389999389648438,64.389999389648438,64.389999389648438,64.389999389648438,64.389999389648438,64.389999389648438,64.389999389648438,64.389999389648438,64.389999389648438,53.790000915527344,53.790000915527344,53.790000915527344,53.790000915527344,53.790000915527344,53.790000915527344,53.790000915527344,53.790000915527344,53.790000915527344,53.790000915527344,null,null,null,null,null,38.720459385922084,null,null,86,-2.2288341331612685E-2,-1.8766102904502757E-3]
["Macao","EME","MAC",9.0900001525878906,9.0900001525878906,9.0900001525878906,9.0900001525878906,9.0900001525878906,11.359999656677246,11.359999656677246,11.359999656677246,11.359999656677246,11.359999656677246,11.359999656677246,14.390000343322754,14.390000343322754,14.390000343322754,14.390000343322754,14.390000343322754,14.390000343322754,14.390000343322754,14.390000343322754,14.390000343322754,14.390000343322754,23.479999542236328,32.580001831054688,35.610000610351563,35.610000610351563,35.610000610351563,35.610000610351563,35.610000610351563,35.610000610351563,41.669998168945313,41.669998168945313,41.669998168945313,41.669998168945313,47.729999542236328,47.729999542236328,47.729999542236328,47.729999542236328,47.729999542236328,47.729999542236328,47.729999542236328,47.729999542236328,47.729999542236328,47.729999542236328,47.729999542236328,47.729999542236328,47.729999542236328,47.729999542236328,50,50,50,43.939998626708984,43.939998626708984,43.939998626708984,43.939998626708984,43.939998626708984,43.939998626708984,43.939998626708984,43.939998626708984,43.939998626708984,43.939998626708984,43.939998626708984,43.939998626708984,43.939998626708984,43.939998626708984,43.939998626708984,43.939998626708984,43.939998626708984,43.939998626708984,43.939998626708984,43.939998626708984,43.939998626708984,43.939998626708984,43.939998626708984,43.939998626708984,43.939998626708984,43.939998626708984,43.939998626708984,46.209999084472656,46.209999084472656,46.209999084472656,46.209999084472656,46.209999084472656,46.209999084472656,46.209999084472656,46.209999084472656,46.209999084472656,46.209999084472656,46.209999084472656,46.209999084472656,46.209999084472656,46.209999084472656,46.209999084472656,46.209999084472656,46.209999084472656,46.209999084472656,46.209999084472656,46.209999084472656,46.209999084472656,46.209999084472656,46.209999084472656,48.479999542236328,48.479999542236328,48.479999542236328,48.479999542236328,48.479999542236328,48.479999542236328,48.479999542236328,48.479999542236328,48.479999542236328,48.479999542236328,48.479999542236328,48.479999542236328,48.479999542236328,48.479999542236328,48.479999542236328,48.479999542236328,48.479999542236328,48.479999542236328,48.479999542236328,48.479999542236328,48.479999542236328,48.479999542236328,48.479999542236328,48.479999542236328,45.450000762939453,45.450000762939453,45.450000762939453,45.450000762939453,45.450000762939453,45.450000762939453,45.450000762939453,43.180000305175781,43.180000305175781,43.180000305175781,43.180000305175781,43.180000305175781,43.180000305175781,43.180000305175781,43.180000305175781,43.180000305175781,43.180000305175781,43.180000305175781,43.180000305175781,43.180000305175781,43.180000305175781,43.180000305175781,43.180000305175781,43.180000305175781,43.180000305175781,43.180000305175781,43.180000305175781,43.180000305175781,43.180000305175781,43.180000305175781,43.180000305175781,43.180000305175781,null,null,null,null,40.45914431622154,null,null,87,-2.2843358926304326E-2,-1.9238396401424218E-3]
["Madagascar","LIDC","MDG",0,0,0,0,0,0,0,0,0,0,0,0,0,0,0,0,0,0,0,0,0,0,0,0,0,0,0,0,0,0,0,0,0,0,0,0,0,0,0,0,0,0,0,0,0,0,0,0,0,0,0,0,0,0,0,0,0,0,0,0,0,0,0,0,0,0,0,0,0,0,0,0,0,0,6.820000171661377,6.820000171661377,6.820000171661377,15.909999847412109,15.909999847412109,18.180000305175781,67.419998168945313,75,82.580001831054688,82.580001831054688,82.580001831054688,82.580001831054688,82.580001831054688,82.580001831054688,82.580001831054688,82.580001831054688,82.580001831054688,82.580001831054688,82.580001831054688,82.580001831054688,82.580001831054688,85.610000610351563,85.610000610351563,85.610000610351563,85.610000610351563,85.610000610351563,85.610000610351563,85.610000610351563,85.610000610351563,85.610000610351563,85.610000610351563,85.610000610351563,85.610000610351563,85.610000610351563,85.610000610351563,85.610000610351563,66.669998168945313,66.669998168945313,57.580001831054688,57.580001831054688,57.580001831054688,57.580001831054688,57.580001831054688,55.299999237060547,55.299999237060547,55.299999237060547,55.299999237060547,55.299999237060547,55.299999237060547,55.299999237060547,55.299999237060547,55.299999237060547,55.299999237060547,55.299999237060547,55.299999237060547,55.299999237060547,55.299999237060547,55.299999237060547,59.090000152587891,59.090000152587891,59.090000152587891,59.090000152587891,59.090000152587891,59.090000152587891,59.090000152587891,59.090000152587891,59.090000152587891,59.090000152587891,59.090000152587891,59.090000152587891,59.090000152587891,59.090000152587891,59.090000152587891,59.090000152587891,59.090000152587891,59.090000152587891,59.090000152587891,59.090000152587891,59.090000152587891,59.090000152587891,59.090000152587891,59.090000152587891,59.090000152587891,59.090000152587891,59.090000152587891,null,32.915197557524628,null,null,88,-2.3397728188189797E-2,-1.9710383735392911E-3]
["Malawi","LIDC","MWI",0,0,0,0,0,0,0,0,0,0,0,0,0,0,0,0,0,0,0,0,0,0,0,0,0,0,0,0,0,0,0,0,0,0,0,0,0,0,0,0,0,4.5500001907348633,4.5500001907348633,4.5500001907348633,4.5500001907348633,4.5500001907348633,4.5500001907348633,4.5500001907348633,4.5500001907348633,4.5500001907348633,4.5500001907348633,4.5500001907348633,4.5500001907348633,4.5500001907348633,4.5500001907348633,4.5500001907348633,4.5500001907348633,4.5500001907348633,4.5500001907348633,4.5500001907348633,4.5500001907348633,4.5500001907348633,4.5500001907348633,4.5500001907348633,4.5500001907348633,4.5500001907348633,9.0900001525878906,9.0900001525878906,9.0900001525878906,9.0900001525878906,9.0900001525878906,9.0900001525878906,9.0900001525878906,9.0900001525878906,9.0900001525878906,9.0900001525878906,9.0900001525878906,9.0900001525878906,9.0900001525878906,25,25,25,34.090000152587891,34.090000152587891,34.090000152587891,34.090000152587891,34.090000152587891,34.090000152587891,34.090000152587891,34.090000152587891,34.090000152587891,40.909999847412109,45.450000762939453,50,53.029998779296875,53.029998779296875,53.029998779296875,56.060001373291016,56.060001373291016,56.060001373291016,56.060001373291016,56.060001373291016,56.060001373291016,56.060001373291016,56.060001373291016,56.060001373291016,56.060001373291016,56.060001373291016,59.090000152587891,59.090000152587891,59.090000152587891,59.090000152587891,59.090000152587891,59.090000152587891,59.090000152587891,59.090000152587891,59.090000152587891,59.090000152587891,59.090000152587891,59.090000152587891,59.090000152587891,59.090000152587891,59.090000152587891,59.090000152587891,59.090000152587891,59.090000152587891,59.090000152587891,59.090000152587891,59.090000152587891,59.090000152587891,59.090000152587891,59.090000152587891,59.090000152587891,59.090000152587891,59.090000152587891,59.090000152587891,59.090000152587891,59.090000152587891,59.090000152587891,59.090000152587891,59.090000152587891,59.090000152587891,59.090000152587891,59.090000152587891,59.090000152587891,59.090000152587891,59.090000152587891,59.090000152587891,59.090000152587891,59.090000152587891,59.090000152587891,59.090000152587891,59.090000152587891,null,null,null,null,null,null,null,27.143421229563263,null,null,89,-2.3951450252611653E-2,-2.0182065279416017E-3]
["Malaysia","EME","MYS",0,0,0,0,0,0,0,0,0,0,0,0,0,0,0,12.119999885559082,12.119999885559082,12.119999885559082,12.119999885559082,12.119999885559082,12.119999885559082,12.119999885559082,12.119999885559082,21.209999084472656,21.209999084472656,21.209999084472656,21.209999084472656,21.209999084472656,21.209999084472656,28.030000686645508,28.030000686645508,28.030000686645508,28.030000686645508,28.030000686645508,28.030000686645508,28.030000686645508,28.030000686645508,28.030000686645508,28.030000686645508,28.030000686645508,28.030000686645508,28.030000686645508,28.030000686645508,28.030000686645508,28.030000686645508,28.030000686645508,28.030000686645508,28.030000686645508,28.030000686645508,28.030000686645508,28.030000686645508,28.030000686645508,28.030000686645508,28.030000686645508,28.030000686645508,28.030000686645508,28.030000686645508,28.030000686645508,28.030000686645508,28.030000686645508,28.030000686645508,28.030000686645508,28.030000686645508,28.030000686645508,28.030000686645508,28.030000686645508,30.299999237060547,30.299999237060547,30.299999237060547,30.299999237060547,30.299999237060547,34.849998474121094,34.849998474121094,37.880001068115234,37.880001068115234,37.880001068115234,37.880001068115234,71.970001220703125,71.970001220703125,71.970001220703125,71.970001220703125,71.970001220703125,71.970001220703125,71.970001220703125,71.970001220703125,71.970001220703125,71.970001220703125,71.970001220703125,71.970001220703125,71.970001220703125,71.970001220703125,71.970001220703125,71.970001220703125,71.970001220703125,71.970001220703125,71.970001220703125,71.970001220703125,71.970001220703125,78.029998779296875,78.029998779296875,78.029998779296875,78.029998779296875,78.029998779296875,78.029998779296875,78.029998779296875,78.029998779296875,78.029998779296875,78.029998779296875,78.029998779296875,78.029998779296875,78.029998779296875,78.029998779296875,78.029998779296875,78.029998779296875,78.029998779296875,78.029998779296875,78.029998779296875,78.029998779296875,78.029998779296875,78.029998779296875,78.029998779296875,78.029998779296875,78.029998779296875,78.029998779296875,75,75,75,75,75,75,75,75,75,75,75,75,75,75,75,75,75,75,75,79.550003051757813,79.550003051757813,79.550003051757813,79.550003051757813,79.550003051757813,79.550003051757813,79.550003051757813,79.550003051757813,79.550003051757813,79.550003051757813,79.550003051757813,79.550003051757813,79.550003051757813,79.550003051757813,79.550003051757813,null,null,48.125987090562518,null,null,90,-2.4504526252263126E-2,-2.0653441405829032E-3]
["Mali","LIDC","MLI",0,0,0,0,0,0,0,0,0,0,0,0,0,0,0,0,0,0,0,0,0,0,0,0,0,0,0,0,0,0,0,0,0,0,0,0,0,0,0,0,0,0,0,0,0,0,0,0,0,0,0,0,0,0,0,0,0,0,0,0,0,0,0,0,0,0,0,0,0,0,0,0,0,0,0,0,0,9.0900001525878906,18.180000305175781,18.180000305175781,18.180000305175781,18.180000305175781,18.180000305175781,18.180000305175781,59.090000152587891,59.090000152587891,59.090000152587891,59.090000152587891,59.090000152587891,59.090000152587891,59.090000152587891,59.090000152587891,59.090000152587891,59.090000152587891,59.090000152587891,59.090000152587891,59.090000152587891,59.090000152587891,59.090000152587891,59.090000152587891,59.090000152587891,59.090000152587891,59.090000152587891,59.090000152587891,68.180000305175781,68.180000305175781,68.180000305175781,68.180000305175781,68.180000305175781,68.180000305175781,68.180000305175781,68.180000305175781,68.180000305175781,68.180000305175781,68.180000305175781,68.180000305175781,68.180000305175781,68.180000305175781,68.180000305175781,68.180000305175781,68.180000305175781,68.94000244140625,68.94000244140625,68.94000244140625,68.94000244140625,68.94000244140625,68.94000244140625,68.94000244140625,68.94000244140625,68.94000244140625,58.330001831054688,58.330001831054688,58.330001831054688,58.330001831054688,58.330001831054688,58.330001831054688,58.330001831054688,58.330001831054688,58.330001831054688,58.330001831054688,58.330001831054688,58.330001831054688,58.330001831054688,58.330001831054688,58.330001831054688,58.330001831054688,58.330001831054688,58.330001831054688,58.330001831054688,58.330001831054688,58.330001831054688,58.330001831054688,58.330001831054688,null,null,55.299999237060547,null,null,null,null,28.702303108416107,null,null,91,-2.5056957317195754E-2,-2.1124512486296876E-3]
["Mauritania","LIDC","MRT",0,0,0,0,0,0,0,0,0,0,0,0,0,0,0,0,0,0,0,0,0,0,0,0,0,0,0,0,0,0,0,0,0,0,0,4.5500001907348633,4.5500001907348633,4.5500001907348633,4.5500001907348633,4.5500001907348633,4.5500001907348633,4.5500001907348633,4.5500001907348633,4.5500001907348633,4.5500001907348633,4.5500001907348633,4.5500001907348633,4.5500001907348633,4.5500001907348633,4.5500001907348633,4.5500001907348633,4.5500001907348633,4.5500001907348633,4.5500001907348633,4.5500001907348633,4.5500001907348633,4.5500001907348633,4.5500001907348633,4.5500001907348633,4.5500001907348633,4.5500001907348633,4.5500001907348633,4.5500001907348633,4.5500001907348633,4.5500001907348633,4.5500001907348633,4.5500001907348633,4.5500001907348633,4.5500001907348633,4.5500001907348633,4.5500001907348633,4.5500001907348633,22.729999542236328,22.729999542236328,22.729999542236328,31.819999694824219,31.819999694824219,31.819999694824219,56.060001373291016,56.060001373291016,56.060001373291016,56.060001373291016,60.610000610351563,60.610000610351563,60.610000610351563,60.610000610351563,63.639999389648438,63.639999389648438,72.730003356933594,72.730003356933594,72.730003356933594,72.730003356933594,72.730003356933594,72.730003356933594,72.730003356933594,72.730003356933594,72.730003356933594,72.730003356933594,72.730003356933594,72.730003356933594,72.730003356933594,72.730003356933594,72.730003356933594,72.730003356933594,72.730003356933594,72.730003356933594,72.730003356933594,72.730003356933594,72.730003356933594,72.730003356933594,72.730003356933594,72.730003356933594,72.730003356933594,72.730003356933594,72.730003356933594,72.730003356933594,72.730003356933594,72.730003356933594,72.730003356933594,72.730003356933594,72.730003356933594,72.730003356933594,72.730003356933594,72.730003356933594,72.730003356933594,72.730003356933594,72.730003356933594,72.730003356933594,72.730003356933594,72.730003356933594,72.730003356933594,72.730003356933594,72.730003356933594,72.730003356933594,72.730003356933594,72.730003356933594,72.730003356933594,72.730003356933594,72.730003356933594,75.760002136230469,75.760002136230469,75.760002136230469,75.760002136230469,75.760002136230469,75.760002136230469,75.760002136230469,75.760002136230469,75.760002136230469,75.760002136230469,null,null,null,null,null,null,null,null,null,null,null,36.193222845960783,null,null,92,-2.5608744574827189E-2,-2.1595278891819447E-3]
["Mauritius","EME","MUS",0,0,0,0,0,0,0,0,0,0,0,0,0,0,0,0,0,0,0,0,0,0,0,0,0,0,0,0,0,0,0,0,0,0,0,0,0,0,0,0,0,0,0,0,0,0,0,0,0,0,0,0,0,0,0,0,0,0,0,0,0,0,0,0,0,0,0,0,0,0,0,0,0,0,0,0,0,7.5799999237060547,21.209999084472656,43.939998626708984,48.479999542236328,48.479999542236328,65.910003662109375,65.910003662109375,65.910003662109375,75,75,75,75,75,75,75,75,75,75,75,75,75,75,75,75,75,75,75,75,75,75,75,75,75,75,75,75,75,75,75,75,75,75,75,75,75,75,75,75,75,75,79.550003051757813,79.550003051757813,79.550003051757813,79.550003051757813,79.550003051757813,79.550003051757813,79.550003051757813,79.550003051757813,76.519996643066406,76.519996643066406,76.519996643066406,76.519996643066406,76.519996643066406,76.519996643066406,76.519996643066406,76.519996643066406,76.519996643066406,76.519996643066406,76.519996643066406,76.519996643066406,76.519996643066406,76.519996643066406,76.519996643066406,70.449996948242188,70.449996948242188,70.449996948242188,null,null,null,null,null,null,null,35.806052471462046,null,null,93,-2.6159889149948788E-2,-2.2065740992726068E-3]
["Mexico","EME","MEX",0,0,0,0,0,0,0,0,0,0,0,0,0,0,0,0,0,0,0,0,0,0,0,0,0,0,0,0,0,0,0,0,0,0,0,0,0,0,0,0,0,0,0,0,0,0,0,0,0,0,0,0,0,0,0,0,0,0,6.820000171661377,6.820000171661377,6.820000171661377,6.820000171661377,6.820000171661377,6.820000171661377,6.820000171661377,6.820000171661377,6.820000171661377,6.820000171661377,6.820000171661377,6.820000171661377,6.820000171661377,6.820000171661377,6.820000171661377,6.820000171661377,6.820000171661377,6.820000171661377,6.820000171661377,6.820000171661377,6.820000171661377,6.820000171661377,11.359999656677246,11.359999656677246,20.450000762939453,47.729999542236328,47.729999542236328,56.819999694824219,56.819999694824219,56.819999694824219,56.819999694824219,71.970001220703125,71.970001220703125,71.970001220703125,71.970001220703125,71.970001220703125,71.970001220703125,71.970001220703125,75,75,75,75,75,75,75,75,75,75,75,75,75,75,75,75,75,75,75,75,75,75,75,75,75,75,75,75,75,75,75,75,75,75,75,75,75,75,75,75,75,75,75,75,75,75,75,75,75,75,75,75,75,75,75,75,null,null,null,null,null,null,null,null,34.340394804352208,null,null,94,-2.6710392164733254E-2,-2.2535899158682149E-3]
["Moldova","EME","MDA",0,0,0,0,0,0,0,0,0,0,0,0,0,0,0,0,0,0,0,0,0,0,0,4.5500001907348633,4.5500001907348633,4.5500001907348633,4.5500001907348633,4.5500001907348633,4.5500001907348633,4.5500001907348633,4.5500001907348633,4.5500001907348633,4.5500001907348633,4.5500001907348633,4.5500001907348633,4.5500001907348633,4.5500001907348633,4.5500001907348633,4.5500001907348633,4.5500001907348633,4.5500001907348633,4.5500001907348633,4.5500001907348633,4.5500001907348633,4.5500001907348633,4.5500001907348633,4.5500001907348633,4.5500001907348633,4.5500001907348633,4.5500001907348633,4.5500001907348633,4.5500001907348633,4.5500001907348633,4.5500001907348633,4.5500001907348633,4.5500001907348633,6.820000171661377,6.820000171661377,6.820000171661377,6.820000171661377,6.820000171661377,6.820000171661377,6.820000171661377,6.820000171661377,6.820000171661377,6.820000171661377,6.820000171661377,9.0900001525878906,13.640000343322754,31.819999694824219,50,50,50,50,50,50,52.270000457763672,52.270000457763672,52.270000457763672,52.270000457763672,54.549999237060547,54.549999237060547,61.360000610351563,78.790000915527344,78.790000915527344,78.790000915527344,78.790000915527344,78.790000915527344,78.790000915527344,78.790000915527344,78.790000915527344,78.790000915527344,78.790000915527344,78.790000915527344,78.790000915527344,78.790000915527344,78.790000915527344,78.790000915527344,78.790000915527344,78.790000915527344,78.790000915527344,78.790000915527344,78.790000915527344,78.790000915527344,78.790000915527344,78.790000915527344,78.790000915527344,78.790000915527344,76.519996643066406,76.519996643066406,76.519996643066406,76.519996643066406,76.519996643066406,76.519996643066406,76.519996643066406,76.519996643066406,76.519996643066406,76.519996643066406,76.519996643066406,76.519996643066406,84.089996337890625,84.089996337890625,84.089996337890625,84.089996337890625,84.089996337890625,84.089996337890625,84.089996337890625,84.089996337890625,84.089996337890625,84.089996337890625,84.089996337890625,84.089996337890625,84.089996337890625,84.089996337890625,84.089996337890625,84.089996337890625,81.05999755859375,81.05999755859375,81.05999755859375,81.05999755859375,81.05999755859375,81.05999755859375,81.05999755859375,81.05999755859375,81.05999755859375,81.05999755859375,81.05999755859375,81.05999755859375,81.05999755859375,81.05999755859375,81.05999755859375,81.05999755859375,81.05999755859375,81.05999755859375,81.05999755859375,81.05999755859375,81.05999755859375,81.05999755859375,81.05999755859375,null,42.695065093667885,null,null,95,-2.7260254738742343E-2,-2.3005753758691405E-3]
["Mongolia","EME","MNG",9.0900001525878906,9.0900001525878906,9.0900001525878906,9.0900001525878906,9.0900001525878906,9.0900001525878906,9.0900001525878906,9.0900001525878906,9.0900001525878906,9.0900001525878906,9.0900001525878906,9.0900001525878906,9.0900001525878906,9.0900001525878906,9.0900001525878906,9.0900001525878906,9.0900001525878906,9.0900001525878906,9.0900001525878906,9.0900001525878906,9.0900001525878906,9.0900001525878906,9.0900001525878906,9.0900001525878906,9.0900001525878906,9.0900001525878906,40.150001525878906,40.150001525878906,40.150001525878906,40.150001525878906,40.150001525878906,40.150001525878906,40.150001525878906,40.150001525878906,40.150001525878906,40.150001525878906,40.150001525878906,40.150001525878906,40.150001525878906,40.150001525878906,40.150001525878906,40.150001525878906,40.150001525878906,40.150001525878906,40.150001525878906,40.150001525878906,40.150001525878906,40.150001525878906,40.150001525878906,40.150001525878906,40.150001525878906,53.790000915527344,53.790000915527344,53.790000915527344,53.790000915527344,53.790000915527344,53.790000915527344,53.790000915527344,53.790000915527344,53.790000915527344,53.790000915527344,53.790000915527344,46.970001220703125,46.970001220703125,46.970001220703125,46.970001220703125,46.970001220703125,46.970001220703125,46.970001220703125,59.090000152587891,59.090000152587891,59.090000152587891,59.090000152587891,59.090000152587891,59.090000152587891,59.090000152587891,52.270000457763672,52.270000457763672,52.270000457763672,52.270000457763672,52.270000457763672,52.270000457763672,61.360000610351563,63.639999389648438,63.639999389648438,63.639999389648438,63.639999389648438,63.639999389648438,63.639999389648438,63.639999389648438,63.639999389648438,63.639999389648438,63.639999389648438,63.639999389648438,63.639999389648438,65.910003662109375,65.910003662109375,65.910003662109375,65.910003662109375,65.910003662109375,65.910003662109375,65.910003662109375,65.910003662109375,65.910003662109375,65.910003662109375,65.910003662109375,65.910003662109375,65.910003662109375,65.910003662109375,65.910003662109375,65.910003662109375,65.910003662109375,65.910003662109375,65.910003662109375,65.910003662109375,65.910003662109375,65.910003662109375,65.910003662109375,65.910003662109375,65.910003662109375,65.910003662109375,65.910003662109375,65.910003662109375,65.910003662109375,65.910003662109375,86.360000610351563,86.360000610351563,86.360000610351563,65.910003662109375,63.639999389648438,63.639999389648438,63.639999389648438,63.639999389648438,63.639999389648438,63.639999389648438,63.639999389648438,63.639999389648438,63.639999389648438,63.639999389648438,63.639999389648438,63.639999389648438,63.639999389648438,63.639999389648438,63.639999389648438,63.639999389648438,63.639999389648438,63.639999389648438,63.639999389648438,63.639999389648438,63.639999389648438,63.639999389648438,63.639999389648438,54.549999237060547,null,null,null,null,null,null,null,49.203093152297171,null,null,96,-2.7809477988934315E-2,-2.347530516109253E-3]
["Morocco","EME","MAR",0,0,0,0,0,0,0,0,0,0,0,0,0,0,0,0,0,0,0,0,0,0,0,0,0,0,0,0,0,0,0,0,0,0,0,0,0,0,0,0,0,0,0,0,0,0,0,0,0,0,0,0,0,0,0,0,0,0,0,0,0,6.059999942779541,6.059999942779541,10.609999656677246,10.609999656677246,10.609999656677246,10.609999656677246,10.609999656677246,10.609999656677246,10.609999656677246,10.609999656677246,10.609999656677246,26.520000457763672,42.419998168945313,42.419998168945313,51.520000457763672,51.520000457763672,51.520000457763672,51.520000457763672,80.300003051757813,80.300003051757813,80.300003051757813,80.300003051757813,80.300003051757813,82.580001831054688,82.580001831054688,82.580001831054688,82.580001831054688,82.580001831054688,82.580001831054688,82.580001831054688,82.580001831054688,82.580001831054688,82.580001831054688,82.580001831054688,82.580001831054688,82.580001831054688,82.580001831054688,82.580001831054688,82.580001831054688,82.580001831054688,82.580001831054688,82.580001831054688,82.580001831054688,82.580001831054688,82.580001831054688,82.580001831054688,82.580001831054688,82.580001831054688,82.580001831054688,82.580001831054688,82.580001831054688,82.580001831054688,82.580001831054688,82.580001831054688,82.580001831054688,82.580001831054688,82.580001831054688,82.580001831054688,82.580001831054688,82.580001831054688,82.580001831054688,82.580001831054688,82.580001831054688,82.580001831054688,82.580001831054688,82.580001831054688,82.580001831054688,82.580001831054688,82.580001831054688,82.580001831054688,82.580001831054688,82.580001831054688,82.580001831054688,82.580001831054688,82.580001831054688,82.580001831054688,82.580001831054688,82.580001831054688,82.580001831054688,82.580001831054688,82.580001831054688,82.580001831054688,82.580001831054688,82.580001831054688,82.580001831054688,82.580001831054688,82.580001831054688,82.580001831054688,82.580001831054688,82.580001831054688,82.580001831054688,87.120002746582031,87.120002746582031,87.120002746582031,87.120002746582031,87.120002746582031,87.120002746582031,null,null,42.381514047321524,null,null,97,-2.8358063029671622E-2,-2.3944553733568075E-3]
["Mozambique","LIDC","MOZ",0,0,0,0,0,0,0,0,0,0,0,0,0,0,0,0,0,0,0,0,0,0,0,0,0,0,0,0,0,0,0,0,0,0,0,0,0,0,0,0,0,6.820000171661377,6.820000171661377,6.820000171661377,6.820000171661377,6.820000171661377,6.820000171661377,6.820000171661377,6.820000171661377,6.820000171661377,6.820000171661377,6.820000171661377,6.820000171661377,6.820000171661377,6.820000171661377,6.820000171661377,6.820000171661377,6.820000171661377,6.820000171661377,6.820000171661377,6.820000171661377,6.820000171661377,6.820000171661377,6.820000171661377,6.820000171661377,6.820000171661377,6.820000171661377,6.820000171661377,6.820000171661377,6.820000171661377,6.820000171661377,6.820000171661377,6.820000171661377,6.820000171661377,6.820000171661377,6.820000171661377,6.820000171661377,6.820000171661377,11.359999656677246,16.670000076293945,16.670000076293945,30.299999237060547,50.759998321533203,50.759998321533203,50.759998321533203,50.759998321533203,50.759998321533203,50.759998321533203,50.759998321533203,50.759998321533203,50.759998321533203,58.330001831054688,58.330001831054688,58.330001831054688,58.330001831054688,58.330001831054688,58.330001831054688,58.330001831054688,58.330001831054688,58.330001831054688,58.330001831054688,58.330001831054688,58.330001831054688,58.330001831054688,58.330001831054688,58.330001831054688,58.330001831054688,58.330001831054688,58.330001831054688,58.330001831054688,58.330001831054688,58.330001831054688,58.330001831054688,58.330001831054688,58.330001831054688,58.330001831054688,58.330001831054688,58.330001831054688,58.330001831054688,58.330001831054688,58.330001831054688,58.330001831054688,58.330001831054688,58.330001831054688,58.330001831054688,58.330001831054688,58.330001831054688,58.330001831054688,58.330001831054688,58.330001831054688,58.330001831054688,58.330001831054688,58.330001831054688,58.330001831054688,58.330001831054688,58.330001831054688,58.330001831054688,58.330001831054688,58.330001831054688,58.330001831054688,58.330001831054688,58.330001831054688,58.330001831054688,58.330001831054688,58.330001831054688,58.330001831054688,58.330001831054688,58.330001831054688,58.330001831054688,62.880001068115234,62.880001068115234,62.880001068115234,62.880001068115234,62.880001068115234,62.880001068115234,62.880001068115234,null,null,null,null,28.657632234849427,null,null,98,-2.8906010972728359E-2,-2.4413499843138897E-3]
["Myanmar","LIDC","MMR",0,0,0,0,0,0,0,0,0,0,0,0,0,0,0,0,0,0,0,0,0,0,0,0,0,0,0,0,0,0,0,2.2699999809265137,2.2699999809265137,2.2699999809265137,2.2699999809265137,2.2699999809265137,2.2699999809265137,2.2699999809265137,2.2699999809265137,2.2699999809265137,2.2699999809265137,2.2699999809265137,2.2699999809265137,2.2699999809265137,2.2699999809265137,2.2699999809265137,2.2699999809265137,2.2699999809265137,2.2699999809265137,2.2699999809265137,2.2699999809265137,2.2699999809265137,2.2699999809265137,2.2699999809265137,2.2699999809265137,2.2699999809265137,2.2699999809265137,2.2699999809265137,2.2699999809265137,2.2699999809265137,2.2699999809265137,2.2699999809265137,2.2699999809265137,2.2699999809265137,2.2699999809265137,2.2699999809265137,2.2699999809265137,2.2699999809265137,11.359999656677246,11.359999656677246,11.359999656677246,11.359999656677246,27.270000457763672,27.270000457763672,29.549999237060547,35.610000610351563,35.610000610351563,35.610000610351563,35.610000610351563,41.669998168945313,41.669998168945313,41.669998168945313,41.669998168945313,49.240001678466797,49.240001678466797,55.299999237060547,55.299999237060547,55.299999237060547,55.299999237060547,57.580001831054688,57.580001831054688,64.389999389648438,64.389999389648438,64.389999389648438,67.419998168945313,67.419998168945313,67.419998168945313,74.239997863769531,74.239997863769531,74.239997863769531,75.760002136230469,75.760002136230469,77.269996643066406,77.269996643066406,78.790000915527344,78.790000915527344,78.790000915527344,81.05999755859375,81.05999755859375,81.05999755859375,81.05999755859375,81.05999755859375,81.05999755859375,81.05999755859375,81.05999755859375,81.05999755859375,81.05999755859375,81.05999755859375,81.05999755859375,81.05999755859375,81.05999755859375,81.05999755859375,81.05999755859375,79.550003051757813,79.550003051757813,79.550003051757813,79.550003051757813,79.550003051757813,79.550003051757813,79.550003051757813,79.550003051757813,79.550003051757813,79.550003051757813,79.550003051757813,76.519996643066406,76.519996643066406,76.519996643066406,76.519996643066406,76.519996643066406,76.519996643066406,76.519996643066406,76.519996643066406,76.519996643066406,76.519996643066406,76.519996643066406,76.519996643066406,76.519996643066406,76.519996643066406,76.519996643066406,76.519996643066406,76.519996643066406,76.519996643066406,null,null,null,null,null,null,null,null,37.285723143502288,null,null,99,-2.9453322927297833E-2,-2.4882143856168604E-3]
["Namibia","EME","NAM",0,0,0,0,0,0,0,0,0,0,0,0,0,0,0,0,0,0,0,0,0,0,0,0,0,0,0,0,0,0,0,0,0,0,0,0,0,0,0,0,0,0,0,0,0,0,0,0,0,0,0,0,0,0,0,0,0,0,0,0,2.2699999809265137,2.2699999809265137,2.2699999809265137,2.2699999809265137,2.2699999809265137,2.2699999809265137,2.2699999809265137,2.2699999809265137,2.2699999809265137,2.2699999809265137,2.2699999809265137,2.2699999809265137,2.2699999809265137,18.940000534057617,18.940000534057617,18.940000534057617,53.029998779296875,53.029998779296875,53.029998779296875,53.029998779296875,53.029998779296875,53.029998779296875,53.029998779296875,55.299999237060547,55.299999237060547,55.299999237060547,66.669998168945313,66.669998168945313,66.669998168945313,66.669998168945313,66.669998168945313,66.669998168945313,66.669998168945313,66.669998168945313,66.669998168945313,66.669998168945313,66.669998168945313,66.669998168945313,66.669998168945313,66.669998168945313,66.669998168945313,66.669998168945313,66.669998168945313,66.669998168945313,66.669998168945313,66.669998168945313,66.669998168945313,71.970001220703125,71.970001220703125,71.970001220703125,71.970001220703125,71.970001220703125,71.970001220703125,71.970001220703125,71.970001220703125,71.970001220703125,71.970001220703125,71.970001220703125,71.970001220703125,71.970001220703125,71.970001220703125,71.970001220703125,71.970001220703125,71.970001220703125,71.970001220703125,63.639999389648438,63.639999389648438,66.669998168945313,66.669998168945313,66.669998168945313,66.669998168945313,66.669998168945313,66.669998168945313,66.669998168945313,66.669998168945313,66.669998168945313,66.669998168945313,66.669998168945313,66.669998168945313,66.669998168945313,66.669998168945313,66.669998168945313,66.669998168945313,66.669998168945313,66.669998168945313,66.669998168945313,66.669998168945313,66.669998168945313,66.669998168945313,66.669998168945313,66.669998168945313,66.669998168945313,66.669998168945313,null,null,null,null,null,null,null,33.638157414762595,null,null,100,-2.9999999999999992E-2,-2.5350486138366879E-3]
["Nepal","LIDC","NPL",0,0,0,0,0,0,0,0,0,0,0,0,3.0299999713897705,3.0299999713897705,3.0299999713897705,7.5799999237060547,7.5799999237060547,7.5799999237060547,7.5799999237060547,7.5799999237060547,7.5799999237060547,7.5799999237060547,7.5799999237060547,16.670000076293945,18.940000534057617,18.940000534057617,18.940000534057617,23.479999542236328,23.479999542236328,23.479999542236328,23.479999542236328,23.479999542236328,23.479999542236328,23.479999542236328,25.760000228881836,25.760000228881836,25.760000228881836,25.760000228881836,25.760000228881836,25.760000228881836,25.760000228881836,25.760000228881836,25.760000228881836,25.760000228881836,25.760000228881836,25.760000228881836,25.760000228881836,25.760000228881836,25.760000228881836,25.760000228881836,25.760000228881836,25.760000228881836,25.760000228881836,25.760000228881836,25.760000228881836,25.760000228881836,25.760000228881836,25.760000228881836,25.760000228881836,25.760000228881836,30.299999237060547,30.299999237060547,30.299999237060547,30.299999237060547,30.299999237060547,30.299999237060547,30.299999237060547,30.299999237060547,30.299999237060547,30.299999237060547,30.299999237060547,30.299999237060547,30.299999237060547,30.299999237060547,30.299999237060547,30.299999237060547,30.299999237060547,41.669998168945313,50.759998321533203,59.849998474121094,59.849998474121094,76.519996643066406,80.300003051757813,90.910003662109375,90.910003662109375,90.910003662109375,90.910003662109375,90.910003662109375,90.910003662109375,90.910003662109375,90.910003662109375,90.910003662109375,90.910003662109375,90.910003662109375,90.910003662109375,90.910003662109375,90.910003662109375,90.910003662109375,90.910003662109375,90.910003662109375,90.910003662109375,90.910003662109375,90.910003662109375,90.910003662109375,90.910003662109375,90.910003662109375,90.910003662109375,90.910003662109375,90.910003662109375,90.910003662109375,90.910003662109375,90.910003662109375,90.910003662109375,90.910003662109375,90.910003662109375,90.910003662109375,90.910003662109375,90.910003662109375,90.910003662109375,90.910003662109375,90.910003662109375,90.910003662109375,90.910003662109375,90.910003662109375,90.910003662109375,90.910003662109375,90.910003662109375,87.879997253417969,87.879997253417969,87.879997253417969,87.879997253417969,87.879997253417969,87.879997253417969,87.879997253417969,87.879997253417969,87.879997253417969,87.879997253417969,87.879997253417969,87.879997253417969,87.879997253417969,87.879997253417969,87.879997253417969,87.879997253417969,87.879997253417969,87.879997253417969,87.879997253417969,87.879997253417969,87.879997253417969,87.879997253417969,null,null,null,null,null,null,null,null,null,null,null,52.314027413425826]
["Netherlands","AE","NLD",0,0,0,0,0,0,0,0,0,0,0,0,0,0,0,0,0,0,0,0,0,0,0,0,0,0,3.0299999713897705,3.0299999713897705,3.0299999713897705,3.0299999713897705,3.0299999713897705,3.0299999713897705,3.0299999713897705,3.0299999713897705,3.0299999713897705,3.0299999713897705,3.0299999713897705,3.0299999713897705,3.0299999713897705,3.0299999713897705,3.0299999713897705,3.0299999713897705,3.0299999713897705,3.0299999713897705,3.0299999713897705,3.0299999713897705,3.0299999713897705,3.0299999713897705,3.0299999713897705,3.0299999713897705,3.0299999713897705,3.0299999713897705,3.0299999713897705,3.0299999713897705,3.0299999713897705,3.0299999713897705,3.0299999713897705,12.119999885559082,12.119999885559082,12.119999885559082,12.119999885559082,12.119999885559082,12.119999885559082,12.119999885559082,12.119999885559082,13.640000343322754,13.640000343322754,13.640000343322754,20.450000762939453,27.270000457763672,27.270000457763672,41.669998168945313,41.669998168945313,41.669998168945313,52.270000457763672,58.330001831054688,58.330001831054688,58.330001831054688,65.150001525878906,65.150001525878906,65.150001525878906,65.150001525878906,68.180000305175781,68.180000305175781,68.180000305175781,68.180000305175781,68.180000305175781,68.180000305175781,68.180000305175781,68.180000305175781,72.730003356933594,72.730003356933594,72.730003356933594,72.730003356933594,72.730003356933594,72.730003356933594,72.730003356933594,72.730003356933594,72.730003356933594,72.730003356933594,72.730003356933594,72.730003356933594,72.730003356933594,72.730003356933594,72.730003356933594,72.730003356933594,72.730003356933594,72.730003356933594,72.730003356933594,72.730003356933594,72.730003356933594,72.730003356933594,72.730003356933594,72.730003356933594,72.730003356933594,72.730003356933594,72.730003356933594,72.730003356933594,72.730003356933594,72.730003356933594,72.730003356933594,72.730003356933594,72.730003356933594,72.730003356933594,72.730003356933594,72.730003356933594,72.730003356933594,72.730003356933594,72.730003356933594,72.730003356933594,72.730003356933594,63.639999389648438,63.639999389648438,63.639999389648438,63.639999389648438,63.639999389648438,63.639999389648438,63.639999389648438,63.639999389648438,63.639999389648438,63.639999389648438,63.639999389648438,63.639999389648438,63.639999389648438,63.639999389648438,63.639999389648438,63.639999389648438,63.639999389648438,63.639999389648438,null,null,null,null,null,null,null,null,null,null,null,37.533960648031041]
["New Zealand","AE","NZL",0,0,0,0,0,0,0,0,0,0,0,0,0,0,0,0,0,0,0,0,0,0,0,0,0,0,0,0,0,0,0,0,11.359999656677246,11.359999656677246,11.359999656677246,11.359999656677246,11.359999656677246,11.359999656677246,11.359999656677246,11.359999656677246,11.359999656677246,11.359999656677246,11.359999656677246,11.359999656677246,11.359999656677246,11.359999656677246,11.359999656677246,11.359999656677246,11.359999656677246,11.359999656677246,11.359999656677246,11.359999656677246,11.359999656677246,11.359999656677246,11.359999656677246,11.359999656677246,11.359999656677246,11.359999656677246,23.479999542236328,28.030000686645508,28.030000686645508,28.030000686645508,28.030000686645508,28.030000686645508,28.030000686645508,28.030000686645508,28.030000686645508,28.030000686645508,28.030000686645508,28.030000686645508,28.030000686645508,28.030000686645508,28.030000686645508,28.030000686645508,28.030000686645508,41.669998168945313,41.669998168945313,41.669998168945313,41.669998168945313,43.939998626708984,56.819999694824219,56.819999694824219,74.239997863769531,83.330001831054688,86.360000610351563,90.910003662109375,90.910003662109375,90.910003662109375,90.910003662109375,90.910003662109375,90.910003662109375,93.94000244140625,93.94000244140625,93.94000244140625,93.94000244140625,93.94000244140625,93.94000244140625,93.94000244140625,93.94000244140625,93.94000244140625,93.94000244140625,93.94000244140625,93.94000244140625,93.94000244140625,93.94000244140625,93.94000244140625,93.94000244140625,93.94000244140625,93.94000244140625,93.94000244140625,93.94000244140625,93.94000244140625,93.94000244140625,93.94000244140625,93.94000244140625,93.94000244140625,93.94000244140625,93.94000244140625,86.360000610351563,83.330001831054688,83.330001831054688,83.330001831054688,83.330001831054688,83.330001831054688,83.330001831054688,83.330001831054688,83.330001831054688,83.330001831054688,83.330001831054688,83.330001831054688,83.330001831054688,83.330001831054688,83.330001831054688,83.330001831054688,44.700000762939453,44.700000762939453,44.700000762939453,44.700000762939453,44.700000762939453,44.700000762939453,44.700000762939453,44.700000762939453,44.700000762939453,44.700000762939453,44.700000762939453,44.700000762939453,44.700000762939453,44.700000762939453,44.700000762939453,42.419998168945313,42.419998168945313,42.419998168945313,42.419998168945313,42.419998168945313,null,null,null,null,null,null,43.101448121823765]
["Nicaragua","LIDC","NIC",0,0,0,0,0,0,0,0,0,0,0,0,0,0,0,0,0,0,0,0,0,0,0,0,0,0,0,0,0,0,0,0,0,0,0,0,0,0,0,0,0,0,0,0,0,0,0,0,0,0,0,5.3000001907348633,5.3000001907348633,5.3000001907348633,5.3000001907348633,9.8500003814697266,9.8500003814697266,9.8500003814697266,9.8500003814697266,9.8500003814697266,9.8500003814697266,9.8500003814697266,9.8500003814697266,9.8500003814697266,9.8500003814697266,9.8500003814697266,9.8500003814697266,9.8500003814697266,9.8500003814697266,9.8500003814697266,9.8500003814697266,9.8500003814697266,9.8500003814697266,9.8500003814697266,9.8500003814697266,9.8500003814697266,9.8500003814697266,9.8500003814697266,9.8500003814697266,9.8500003814697266,9.8500003814697266,9.8500003814697266,9.8500003814697266,9.8500003814697266,9.8500003814697266,9.8500003814697266,9.8500003814697266,9.8500003814697266,9.8500003814697266,9.8500003814697266,9.8500003814697266,9.8500003814697266,9.8500003814697266,9.8500003814697266,9.8500003814697266,9.8500003814697266,9.8500003814697266,9.8500003814697266,9.8500003814697266,9.8500003814697266,9.8500003814697266,9.8500003814697266,9.8500003814697266,9.8500003814697266,null,16.670000076293945,16.670000076293945,16.670000076293945,16.670000076293945,16.670000076293945,16.670000076293945,16.670000076293945,16.670000076293945,16.670000076293945,16.670000076293945,16.670000076293945,16.670000076293945,16.670000076293945,16.670000076293945,16.670000076293945,16.670000076293945,16.670000076293945,16.670000076293945,16.670000076293945,16.670000076293945,16.670000076293945,16.670000076293945,12.119999885559082,12.119999885559082,12.119999885559082,12.119999885559082,12.119999885559082,12.119999885559082,12.119999885559082,12.119999885559082,12.119999885559082,16.670000076293945,16.670000076293945,16.670000076293945,16.670000076293945,16.670000076293945,16.670000076293945,16.670000076293945,16.670000076293945,16.670000076293945,16.670000076293945,12.119999885559082,12.119999885559082,12.119999885559082,12.119999885559082,12.119999885559082,12.119999885559082,12.119999885559082,12.119999885559082,12.119999885559082,12.119999885559082,null,null,null,null,8.0734438422499899]
["Niger","LIDC","NER",0,0,0,0,0,0,0,0,0,0,0,0,0,0,0,0,0,0,0,0,0,0,0,0,0,0,0,0,0,0,0,0,0,0,0,0,0,0,0,0,0,0,0,0,0,0,0,0,0,0,0,0,0,0,0,0,0,0,0,0,0,0,0,0,0,0,0,0,0,0,0,0,11.359999656677246,11.359999656677246,11.359999656677246,11.359999656677246,20.450000762939453,20.450000762939453,37.119998931884766,46.209999084472656,46.209999084472656,46.209999084472656,46.209999084472656,46.209999084472656,46.209999084472656,46.209999084472656,50.759998321533203,57.580001831054688,57.580001831054688,57.580001831054688,57.580001831054688,57.580001831054688,57.580001831054688,57.580001831054688,57.580001831054688,57.580001831054688,57.580001831054688,57.580001831054688,57.580001831054688,57.580001831054688,57.580001831054688,57.580001831054688,57.580001831054688,57.580001831054688,57.580001831054688,57.580001831054688,57.580001831054688,57.580001831054688,57.580001831054688,57.580001831054688,57.580001831054688,57.580001831054688,57.580001831054688,57.580001831054688,57.580001831054688,57.580001831054688,57.580001831054688,57.580001831054688,57.580001831054688,57.580001831054688,57.580001831054688,57.580001831054688,57.580001831054688,57.580001831054688,57.580001831054688,57.580001831054688,57.580001831054688,60.610000610351563,60.610000610351563,60.610000610351563,60.610000610351563,60.610000610351563,60.610000610351563,34.849998474121094,34.849998474121094,34.849998474121094,34.849998474121094,34.849998474121094,34.849998474121094,34.849998474121094,34.849998474121094,34.849998474121094,34.849998474121094,34.849998474121094,34.849998474121094,34.849998474121094,34.849998474121094,34.849998474121094,34.849998474121094,34.849998474121094,34.849998474121094,34.849998474121094,null,null,null,null,null,null,null,null,25.175658150723105]
["Nigeria","LIDC","NGA",9.0900001525878906,9.0900001525878906,9.0900001525878906,9.0900001525878906,9.0900001525878906,9.0900001525878906,9.0900001525878906,9.0900001525878906,9.0900001525878906,9.0900001525878906,9.0900001525878906,9.0900001525878906,9.0900001525878906,9.0900001525878906,9.0900001525878906,9.0900001525878906,9.0900001525878906,9.0900001525878906,9.0900001525878906,9.0900001525878906,9.0900001525878906,13.640000343322754,13.640000343322754,13.640000343322754,13.640000343322754,13.640000343322754,13.640000343322754,13.640000343322754,13.640000343322754,13.640000343322754,18.180000305175781,18.180000305175781,21.209999084472656,21.209999084472656,21.209999084472656,21.209999084472656,21.209999084472656,21.209999084472656,21.209999084472656,21.209999084472656,21.209999084472656,21.209999084472656,21.209999084472656,21.209999084472656,21.209999084472656,21.209999084472656,21.209999084472656,21.209999084472656,21.209999084472656,21.209999084472656,21.209999084472656,21.209999084472656,21.209999084472656,21.209999084472656,21.209999084472656,21.209999084472656,21.209999084472656,21.209999084472656,30.299999237060547,30.299999237060547,30.299999237060547,30.299999237060547,30.299999237060547,30.299999237060547,30.299999237060547,30.299999237060547,30.299999237060547,30.299999237060547,30.299999237060547,30.299999237060547,30.299999237060547,30.299999237060547,30.299999237060547,30.299999237060547,30.299999237060547,30.299999237060547,30.299999237060547,42.049999237060547,42.049999237060547,48.860000610351563,48.860000610351563,48.860000610351563,51.889999389648438,51.889999389648438,51.889999389648438,54.919998168945313,54.919998168945313,57.200000762939453,79.919998168945313,79.919998168945313,79.919998168945313,79.919998168945313,79.919998168945313,79.919998168945313,79.919998168945313,79.919998168945313,79.919998168945313,79.919998168945313,79.919998168945313,79.919998168945313,79.919998168945313,79.919998168945313,79.919998168945313,79.919998168945313,79.919998168945313,79.919998168945313,79.919998168945313,79.919998168945313,79.919998168945313,79.919998168945313,79.919998168945313,79.919998168945313,79.919998168945313,82.199996948242188,82.199996948242188,82.199996948242188,82.199996948242188,82.199996948242188,82.199996948242188,82.199996948242188,82.199996948242188,82.199996948242188,82.199996948242188,82.199996948242188,78.029998779296875,78.029998779296875,78.029998779296875,78.029998779296875,78.029998779296875,78.029998779296875,78.029998779296875,78.029998779296875,78.029998779296875,78.029998779296875,78.029998779296875,78.029998779296875,78.029998779296875,78.029998779296875,78.029998779296875,78.029998779296875,78.029998779296875,78.029998779296875,78.029998779296875,78.029998779296875,78.029998779296875,78.029998779296875,78.029998779296875,78.029998779296875,78.029998779296875,78.029998779296875,78.029998779296875,78.029998779296875,78.029998779296875,78.029998779296875,78.029998779296875,78.029998779296875,78.029998779296875,null,null,null,46.826314806938171]
["Norway","AE","NOR",0,0,0,0,0,0,0,0,0,0,0,0,0,0,0,0,0,0,0,0,0,0,0,0,0,0,0,0,0,0,9.0900001525878906,9.0900001525878906,9.0900001525878906,9.0900001525878906,9.0900001525878906,9.0900001525878906,9.0900001525878906,9.0900001525878906,9.0900001525878906,9.0900001525878906,9.0900001525878906,9.0900001525878906,9.0900001525878906,9.0900001525878906,9.0900001525878906,9.0900001525878906,9.0900001525878906,9.0900001525878906,9.0900001525878906,9.0900001525878906,9.0900001525878906,9.0900001525878906,9.0900001525878906,9.0900001525878906,9.0900001525878906,9.0900001525878906,12.119999885559082,12.119999885559082,12.119999885559082,12.119999885559082,12.119999885559082,12.119999885559082,12.119999885559082,12.119999885559082,12.119999885559082,12.119999885559082,12.119999885559082,12.119999885559082,12.119999885559082,15.149999618530273,19.700000762939453,42.419998168945313,42.419998168945313,46.970001220703125,51.520000457763672,58.330001831054688,58.330001831054688,58.330001831054688,60.610000610351563,60.610000610351563,60.610000610351563,60.610000610351563,60.610000610351563,65.150001525878906,65.150001525878906,65.150001525878906,65.150001525878906,65.150001525878906,65.150001525878906,65.150001525878906,65.150001525878906,69.699996948242188,69.699996948242188,69.699996948242188,69.699996948242188,69.699996948242188,69.699996948242188,69.699996948242188,69.699996948242188,69.699996948242188,69.699996948242188,69.699996948242188,69.699996948242188,69.699996948242188,69.699996948242188,69.699996948242188,69.699996948242188,69.699996948242188,69.699996948242188,69.699996948242188,62.119998931884766,57.580001831054688,57.580001831054688,57.580001831054688,57.580001831054688,57.580001831054688,57.580001831054688,57.580001831054688,57.580001831054688,57.580001831054688,60.610000610351563,60.610000610351563,60.610000610351563,60.610000610351563,60.610000610351563,60.610000610351563,60.610000610351563,60.610000610351563,60.610000610351563,60.610000610351563,60.610000610351563,56.819999694824219,56.819999694824219,56.819999694824219,52.270000457763672,52.270000457763672,52.270000457763672,52.270000457763672,52.270000457763672,52.270000457763672,52.270000457763672,52.270000457763672,52.270000457763672,52.270000457763672,52.270000457763672,52.270000457763672,52.270000457763672,52.270000457763672,52.270000457763672,52.270000457763672,52.270000457763672,52.270000457763672,52.270000457763672,52.270000457763672,null,null,null,null,null,null,34.828881533522356]
["Oman","EME","OMN",0,0,0,0,0,0,0,0,0,0,0,0,0,0,0,0,0,0,0,4.5500001907348633,4.5500001907348633,4.5500001907348633,4.5500001907348633,4.5500001907348633,4.5500001907348633,9.0900001525878906,9.0900001525878906,9.0900001525878906,9.0900001525878906,9.0900001525878906,9.0900001525878906,15.149999618530273,15.149999618530273,21.969999313354492,21.969999313354492,21.969999313354492,21.969999313354492,21.969999313354492,21.969999313354492,21.969999313354492,21.969999313354492,21.969999313354492,21.969999313354492,21.969999313354492,21.969999313354492,21.969999313354492,21.969999313354492,21.969999313354492,21.969999313354492,21.969999313354492,21.969999313354492,21.969999313354492,21.969999313354492,21.969999313354492,21.969999313354492,21.969999313354492,21.969999313354492,21.969999313354492,21.969999313354492,21.969999313354492,21.969999313354492,21.969999313354492,21.969999313354492,21.969999313354492,21.969999313354492,21.969999313354492,21.969999313354492,21.969999313354492,21.969999313354492,21.969999313354492,21.969999313354492,21.969999313354492,21.969999313354492,21.969999313354492,31.059999465942383,31.059999465942383,58.330001831054688,69.699996948242188,78.790000915527344,78.790000915527344,81.819999694824219,81.819999694824219,81.819999694824219,81.819999694824219,81.819999694824219,81.819999694824219,81.819999694824219,81.819999694824219,81.819999694824219,81.819999694824219,84.849998474121094,84.849998474121094,84.849998474121094,84.849998474121094,84.849998474121094,84.849998474121094,87.879997253417969,87.879997253417969,87.879997253417969,87.879997253417969,93.94000244140625,93.94000244140625,93.94000244140625,93.94000244140625,93.94000244140625,93.94000244140625,93.94000244140625,93.94000244140625,93.94000244140625,93.94000244140625,93.94000244140625,93.94000244140625,93.94000244140625,93.94000244140625,90.910003662109375,90.910003662109375,90.910003662109375,90.910003662109375,90.910003662109375,90.910003662109375,85.610000610351563,85.610000610351563,85.610000610351563,85.610000610351563,85.610000610351563,85.610000610351563,85.610000610351563,85.610000610351563,85.610000610351563,85.610000610351563,85.610000610351563,85.610000610351563,85.610000610351563,85.610000610351563,85.610000610351563,85.610000610351563,85.610000610351563,85.610000610351563,85.610000610351563,85.610000610351563,85.610000610351563,84.089996337890625,84.089996337890625,84.089996337890625,84.089996337890625,84.089996337890625,84.089996337890625,84.089996337890625,84.089996337890625,81.819999694824219,81.819999694824219,81.819999694824219,81.819999694824219,81.819999694824219,81.819999694824219,81.819999694824219,null,null,null,null,50.105723606912711]
["Pakistan","EME","PAK",0,0,0,0,0,0,0,0,0,0,0,0,0,0,0,0,0,0,0,0,0,0,0,4.5500001907348633,4.5500001907348633,4.5500001907348633,4.5500001907348633,4.5500001907348633,4.5500001907348633,4.5500001907348633,11.359999656677246,11.359999656677246,11.359999656677246,4.5500001907348633,4.5500001907348633,4.5500001907348633,4.5500001907348633,4.5500001907348633,4.5500001907348633,4.5500001907348633,4.5500001907348633,4.5500001907348633,13.640000343322754,13.640000343322754,13.640000343322754,13.640000343322754,13.640000343322754,13.640000343322754,13.640000343322754,13.640000343322754,13.640000343322754,13.640000343322754,13.640000343322754,20.450000762939453,20.450000762939453,23.479999542236328,23.479999542236328,31.059999465942383,31.059999465942383,31.059999465942383,31.059999465942383,31.059999465942383,31.059999465942383,31.059999465942383,31.059999465942383,31.059999465942383,31.059999465942383,31.059999465942383,31.059999465942383,31.059999465942383,31.059999465942383,31.059999465942383,50.759998321533203,50.759998321533203,50.759998321533203,50.759998321533203,50.759998321533203,50.759998321533203,50.759998321533203,50.759998321533203,53.029998779296875,53.029998779296875,77.269996643066406,84.089996337890625,84.089996337890625,86.360000610351563,86.360000610351563,86.360000610351563,86.360000610351563,86.360000610351563,86.360000610351563,86.360000610351563,86.360000610351563,86.360000610351563,86.360000610351563,86.360000610351563,86.360000610351563,86.360000610351563,86.360000610351563,86.360000610351563,86.360000610351563,89.389999389648438,89.389999389648438,89.389999389648438,89.389999389648438,86.360000610351563,86.360000610351563,86.360000610351563,86.360000610351563,86.360000610351563,86.360000610351563,86.360000610351563,86.360000610351563,86.360000610351563,84.089996337890625,84.089996337890625,84.089996337890625,84.089996337890625,84.089996337890625,84.089996337890625,84.089996337890625,88.639999389648438,88.639999389648438,88.639999389648438,88.639999389648438,88.639999389648438,88.639999389648438,88.639999389648438,88.639999389648438,88.639999389648438,88.639999389648438,88.639999389648438,88.639999389648438,88.639999389648438,88.639999389648438,88.639999389648438,79.550003051757813,84.849998474121094,84.849998474121094,84.849998474121094,84.849998474121094,76.519996643066406,76.519996643066406,76.519996643066406,76.519996643066406,76.519996643066406,76.519996643066406,76.519996643066406,76.519996643066406,76.519996643066406,78.029998779296875,78.029998779296875,78.029998779296875,78.029998779296875,78.029998779296875,67.419998168945313,67.419998168945313,67.419998168945313,60.610000610351563,null,47.807565224798104]
["Palestine","EME","PSE",0,0,0,0,0,0,0,0,0,0,0,0,0,0,0,0,0,0,0,0,0,0,0,0,0,0,0,0,0,0,0,0,0,0,0,0,0,0,0,0,0,0,0,0,0,0,0,0,0,0,0,0,4.5500001907348633,4.5500001907348633,4.5500001907348633,4.5500001907348633,4.5500001907348633,4.5500001907348633,4.5500001907348633,4.5500001907348633,4.5500001907348633,4.5500001907348633,4.5500001907348633,4.5500001907348633,50,72.730003356933594,72.730003356933594,72.730003356933594,72.730003356933594,72.730003356933594,72.730003356933594,72.730003356933594,72.730003356933594,72.730003356933594,72.730003356933594,72.730003356933594,72.730003356933594,72.730003356933594,72.730003356933594,72.730003356933594,72.730003356933594,84.849998474121094,84.849998474121094,84.849998474121094,84.849998474121094,84.849998474121094,84.849998474121094,84.849998474121094,84.849998474121094,84.849998474121094,84.849998474121094,84.849998474121094,84.849998474121094,84.849998474121094,84.849998474121094,84.849998474121094,84.849998474121094,84.849998474121094,84.849998474121094,84.849998474121094,84.849998474121094,84.849998474121094,84.849998474121094,84.849998474121094,84.849998474121094,84.849998474121094,84.849998474121094,84.849998474121094,84.849998474121094,84.849998474121094,84.849998474121094,84.849998474121094,84.849998474121094,84.849998474121094,84.849998474121094,84.849998474121094,84.849998474121094,84.849998474121094,86.360000610351563,86.360000610351563,86.360000610351563,86.360000610351563,86.360000610351563,86.360000610351563,86.360000610351563,86.360000610351563,86.360000610351563,86.360000610351563,86.360000610351563,86.360000610351563,86.360000610351563,86.360000610351563,86.360000610351563,86.360000610351563,86.360000610351563,86.360000610351563,86.360000610351563,86.360000610351563,86.360000610351563,86.360000610351563,86.360000610351563,86.360000610351563,86.360000610351563,86.360000610351563,86.360000610351563,86.360000610351563,75.760002136230469,75.760002136230469,75.760002136230469,75.760002136230469,75.760002136230469,null,null,null,null,null,null,null,null,null,47.712649187504852]
["Panama","EME","PAN",0,0,0,0,0,0,0,0,0,0,0,0,0,0,0,0,0,0,0,0,4.5500001907348633,6.820000171661377,6.820000171661377,6.820000171661377,6.820000171661377,6.820000171661377,6.820000171661377,6.820000171661377,6.820000171661377,6.820000171661377,6.820000171661377,6.820000171661377,6.820000171661377,6.820000171661377,6.820000171661377,6.820000171661377,6.820000171661377,6.820000171661377,6.820000171661377,6.820000171661377,6.820000171661377,6.820000171661377,6.820000171661377,6.820000171661377,6.820000171661377,6.820000171661377,6.820000171661377,6.820000171661377,6.820000171661377,6.820000171661377,6.820000171661377,6.820000171661377,6.820000171661377,6.820000171661377,6.820000171661377,6.820000171661377,6.820000171661377,6.820000171661377,6.820000171661377,6.820000171661377,6.820000171661377,6.820000171661377,6.820000171661377,6.820000171661377,6.820000171661377,6.820000171661377,6.820000171661377,6.820000171661377,6.820000171661377,17.420000076293945,17.420000076293945,26.520000457763672,46.970001220703125,46.970001220703125,46.970001220703125,50,53.029998779296875,53.029998779296875,53.029998779296875,59.090000152587891,59.090000152587891,59.090000152587891,68.180000305175781,72.730003356933594,72.730003356933594,72.730003356933594,72.730003356933594,72.730003356933594,72.730003356933594,72.730003356933594,72.730003356933594,75.760002136230469,75.760002136230469,84.849998474121094,84.849998474121094,84.849998474121094,84.849998474121094,84.849998474121094,84.849998474121094,84.849998474121094,84.849998474121094,84.849998474121094,84.849998474121094,84.849998474121094,84.849998474121094,84.849998474121094,84.849998474121094,84.849998474121094,87.120002746582031,87.120002746582031,87.120002746582031,87.120002746582031,87.120002746582031,87.120002746582031,87.120002746582031,87.120002746582031,87.120002746582031,87.120002746582031,87.120002746582031,87.120002746582031,87.120002746582031,87.120002746582031,87.120002746582031,87.120002746582031,87.120002746582031,87.120002746582031,87.120002746582031,87.120002746582031,87.120002746582031,87.120002746582031,87.120002746582031,87.120002746582031,87.120002746582031,84.089996337890625,84.089996337890625,84.089996337890625,84.089996337890625,84.089996337890625,84.089996337890625,84.089996337890625,84.089996337890625,84.089996337890625,84.089996337890625,84.089996337890625,84.089996337890625,84.089996337890625,84.089996337890625,84.089996337890625,84.089996337890625,84.089996337890625,84.089996337890625,84.089996337890625,84.089996337890625,84.089996337890625,84.089996337890625,null,null,null,null,null,44.543026428473624]
["Papua New Guinea","EME","PNG",0,0,0,0,0,0,0,0,0,0,0,0,0,0,0,0,0,0,0,0,0,0,0,0,0,0,4.5500001907348633,6.820000171661377,11.359999656677246,11.359999656677246,20.450000762939453,20.450000762939453,20.450000762939453,20.450000762939453,20.450000762939453,20.450000762939453,20.450000762939453,20.450000762939453,20.450000762939453,20.450000762939453,20.450000762939453,20.450000762939453,20.450000762939453,20.450000762939453,20.450000762939453,20.450000762939453,20.450000762939453,20.450000762939453,20.450000762939453,20.450000762939453,20.450000762939453,20.450000762939453,20.450000762939453,20.450000762939453,20.450000762939453,20.450000762939453,20.450000762939453,20.450000762939453,20.450000762939453,20.450000762939453,20.450000762939453,20.450000762939453,20.450000762939453,20.450000762939453,20.450000762939453,20.450000762939453,20.450000762939453,20.450000762939453,20.450000762939453,20.450000762939453,20.450000762939453,20.450000762939453,20.450000762939453,20.450000762939453,20.450000762939453,20.450000762939453,20.450000762939453,20.450000762939453,20.450000762939453,25,27.270000457763672,27.270000457763672,36.360000610351563,72.730003356933594,72.730003356933594,72.730003356933594,75.760002136230469,75.760002136230469,75.760002136230469,75.760002136230469,75.760002136230469,75.760002136230469,75.760002136230469,75.760002136230469,75.760002136230469,75.760002136230469,75.760002136230469,71.209999084472656,76.519996643066406,76.519996643066406,76.519996643066406,76.519996643066406,76.519996643066406,76.519996643066406,76.519996643066406,76.519996643066406,76.519996643066406,76.519996643066406,81.05999755859375,81.05999755859375,81.05999755859375,76.519996643066406,76.519996643066406,76.519996643066406,76.519996643066406,68.94000244140625,68.94000244140625,62.880001068115234,58.330001831054688,66.290000915527344,66.290000915527344,66.290000915527344,66.290000915527344,64.769996643066406,58.709999084472656,58.709999084472656,58.709999084472656,58.709999084472656,58.709999084472656,58.709999084472656,58.709999084472656,58.709999084472656,58.709999084472656,51.889999389648438,51.889999389648438,51.889999389648438,51.889999389648438,51.889999389648438,51.889999389648438,53.409999847412109,53.409999847412109,53.409999847412109,53.409999847412109,53.409999847412109,53.409999847412109,53.409999847412109,53.409999847412109,53.409999847412109,53.409999847412109,53.409999847412109,null,null,null,null,null,null,null,null,null,null,37.37013340950012]
["Paraguay","EME","PRY",0,0,0,0,0,0,0,0,0,0,0,0,0,0,0,0,0,0,0,0,0,0,4.5500001907348633,4.5500001907348633,4.5500001907348633,4.5500001907348633,4.5500001907348633,4.5500001907348633,4.5500001907348633,4.5500001907348633,4.5500001907348633,4.5500001907348633,4.5500001907348633,4.5500001907348633,4.5500001907348633,4.5500001907348633,4.5500001907348633,4.5500001907348633,4.5500001907348633,4.5500001907348633,4.5500001907348633,4.5500001907348633,4.5500001907348633,4.5500001907348633,4.5500001907348633,4.5500001907348633,4.5500001907348633,4.5500001907348633,4.5500001907348633,4.5500001907348633,4.5500001907348633,4.5500001907348633,4.5500001907348633,4.5500001907348633,4.5500001907348633,4.5500001907348633,4.5500001907348633,4.5500001907348633,4.5500001907348633,4.5500001907348633,4.5500001907348633,4.5500001907348633,4.5500001907348633,4.5500001907348633,4.5500001907348633,4.5500001907348633,16.670000076293945,16.670000076293945,16.670000076293945,44.700000762939453,44.700000762939453,44.700000762939453,53.790000915527344,53.790000915527344,53.790000915527344,69.699996948242188,72.730003356933594,72.730003356933594,72.730003356933594,71.209999084472656,80.300003051757813,80.300003051757813,84.849998474121094,87.120002746582031,87.120002746582031,87.120002746582031,87.120002746582031,87.120002746582031,87.120002746582031,87.120002746582031,87.120002746582031,87.120002746582031,87.120002746582031,87.120002746582031,87.120002746582031,87.120002746582031,87.120002746582031,87.120002746582031,87.120002746582031,87.879997253417969,87.879997253417969,87.879997253417969,87.879997253417969,87.879997253417969,87.879997253417969,87.879997253417969,87.879997253417969,87.879997253417969,87.879997253417969,87.879997253417969,87.879997253417969,87.879997253417969,87.879997253417969,87.879997253417969,87.879997253417969,87.879997253417969,87.879997253417969,87.879997253417969,87.879997253417969,87.879997253417969,87.879997253417969,87.879997253417969,87.879997253417969,87.879997253417969,87.879997253417969,87.879997253417969,87.879997253417969,87.879997253417969,87.879997253417969,87.879997253417969,87.879997253417969,87.879997253417969,87.879997253417969,87.879997253417969,87.879997253417969,87.879997253417969,87.879997253417969,87.879997253417969,87.879997253417969,87.879997253417969,87.879997253417969,87.879997253417969,87.879997253417969,87.879997253417969,87.879997253417969,77.269996643066406,77.269996643066406,77.269996643066406,77.269996643066406,77.269996643066406,77.269996643066406,77.269996643066406,77.269996643066406,null,null,null,null,null,null,null,46.891578410801138]
["Peru","EME","PER",0,0,0,0,0,0,0,0,0,0,0,0,0,0,0,0,0,0,0,0,0,0,0,0,0,0,0,0,0,0,3.0299999713897705,3.0299999713897705,3.0299999713897705,3.0299999713897705,3.0299999713897705,3.0299999713897705,3.0299999713897705,3.0299999713897705,3.0299999713897705,3.0299999713897705,3.0299999713897705,3.0299999713897705,3.0299999713897705,3.0299999713897705,3.0299999713897705,3.0299999713897705,3.0299999713897705,3.0299999713897705,3.0299999713897705,3.0299999713897705,3.0299999713897705,3.0299999713897705,3.0299999713897705,3.0299999713897705,3.0299999713897705,3.0299999713897705,3.0299999713897705,3.0299999713897705,3.0299999713897705,3.0299999713897705,3.0299999713897705,3.0299999713897705,3.0299999713897705,3.0299999713897705,12.119999885559082,18.940000534057617,18.940000534057617,18.940000534057617,18.940000534057617,18.940000534057617,21.209999084472656,43.939998626708984,43.939998626708984,48.479999542236328,68.180000305175781,81.819999694824219,81.819999694824219,84.849998474121094,84.849998474121094,84.849998474121094,84.849998474121094,84.849998474121094,84.849998474121094,84.849998474121094,84.849998474121094,84.849998474121094,84.849998474121094,84.849998474121094,84.849998474121094,84.849998474121094,84.849998474121094,84.849998474121094,84.849998474121094,84.849998474121094,84.849998474121094,84.849998474121094,84.849998474121094,84.849998474121094,84.849998474121094,84.849998474121094,87.879997253417969,87.879997253417969,87.879997253417969,87.879997253417969,87.879997253417969,87.879997253417969,87.879997253417969,87.879997253417969,87.879997253417969,87.879997253417969,87.879997253417969,87.879997253417969,87.879997253417969,87.879997253417969,87.879997253417969,87.879997253417969,87.879997253417969,87.879997253417969,87.879997253417969,87.879997253417969,87.879997253417969,89.389999389648438,89.389999389648438,89.389999389648438,89.389999389648438,89.389999389648438,89.389999389648438,89.389999389648438,89.389999389648438,89.389999389648438,89.389999389648438,86.360000610351563,86.360000610351563,86.360000610351563,86.360000610351563,86.360000610351563,86.360000610351563,86.360000610351563,86.360000610351563,86.360000610351563,86.360000610351563,86.360000610351563,86.360000610351563,86.360000610351563,86.360000610351563,84.089996337890625,84.089996337890625,84.089996337890625,84.089996337890625,84.089996337890625,84.089996337890625,84.089996337890625,84.089996337890625,null,null,null,null,null,null,null,46.6304597446793]
["Philippines","EME","PHL",0,0,0,0,0,0,0,0,0,0,0,0,0,0,0,0,0,0,0,0,0,0,0,9.0900001525878906,9.0900001525878906,9.0900001525878906,9.0900001525878906,9.0900001525878906,9.0900001525878906,9.0900001525878906,15.909999847412109,15.909999847412109,15.909999847412109,15.909999847412109,15.909999847412109,15.909999847412109,15.909999847412109,20.450000762939453,20.450000762939453,20.450000762939453,20.450000762939453,23.479999542236328,23.479999542236328,23.479999542236328,23.479999542236328,23.479999542236328,23.479999542236328,26.520000457763672,26.520000457763672,26.520000457763672,26.520000457763672,26.520000457763672,26.520000457763672,26.520000457763672,26.520000457763672,26.520000457763672,26.520000457763672,26.520000457763672,26.520000457763672,26.520000457763672,26.520000457763672,26.520000457763672,26.520000457763672,26.520000457763672,26.520000457763672,26.520000457763672,26.520000457763672,26.520000457763672,26.520000457763672,34.090000152587891,34.090000152587891,34.090000152587891,38.639999389648438,38.639999389648438,71.970001220703125,71.970001220703125,76.519996643066406,94.699996948242188,94.699996948242188,94.699996948242188,94.699996948242188,96.970001220703125,96.970001220703125,96.970001220703125,96.970001220703125,96.970001220703125,96.970001220703125,96.970001220703125,96.970001220703125,96.970001220703125,96.970001220703125,96.970001220703125,96.970001220703125,96.970001220703125,96.970001220703125,96.970001220703125,96.970001220703125,96.970001220703125,96.970001220703125,96.970001220703125,96.970001220703125,96.970001220703125,96.970001220703125,96.970001220703125,96.970001220703125,96.970001220703125,96.970001220703125,96.970001220703125,96.970001220703125,96.970001220703125,96.970001220703125,96.970001220703125,96.970001220703125,96.970001220703125,96.970001220703125,96.970001220703125,96.970001220703125,96.970001220703125,96.970001220703125,96.970001220703125,96.970001220703125,93.94000244140625,93.94000244140625,93.94000244140625,93.94000244140625,93.94000244140625,93.94000244140625,93.94000244140625,93.94000244140625,93.94000244140625,93.94000244140625,93.94000244140625,93.94000244140625,93.94000244140625,93.94000244140625,93.94000244140625,93.94000244140625,93.94000244140625,93.94000244140625,93.94000244140625,93.94000244140625,93.94000244140625,93.94000244140625,93.94000244140625,93.94000244140625,93.94000244140625,93.94000244140625,93.94000244140625,93.94000244140625,78.790000915527344,78.790000915527344,78.790000915527344,78.790000915527344,null,null,null,null,null,null,null,55.956711292266846]
["Poland","EME","POL",0,0,0,0,0,0,0,0,0,0,0,0,0,0,0,0,0,0,0,0,0,0,4.5500001907348633,4.5500001907348633,4.5500001907348633,4.5500001907348633,4.5500001907348633,4.5500001907348633,4.5500001907348633,4.5500001907348633,4.5500001907348633,4.5500001907348633,4.5500001907348633,4.5500001907348633,4.5500001907348633,4.5500001907348633,4.5500001907348633,4.5500001907348633,4.5500001907348633,4.5500001907348633,4.5500001907348633,4.5500001907348633,4.5500001907348633,4.5500001907348633,4.5500001907348633,4.5500001907348633,4.5500001907348633,4.5500001907348633,4.5500001907348633,4.5500001907348633,4.5500001907348633,4.5500001907348633,4.5500001907348633,4.5500001907348633,4.5500001907348633,4.5500001907348633,4.5500001907348633,9.0900001525878906,9.0900001525878906,9.0900001525878906,9.0900001525878906,9.0900001525878906,9.0900001525878906,9.0900001525878906,9.0900001525878906,9.0900001525878906,9.0900001525878906,9.0900001525878906,11.359999656677246,20.450000762939453,20.450000762939453,34.090000152587891,34.090000152587891,40.150001525878906,46.970001220703125,46.970001220703125,46.970001220703125,46.970001220703125,46.970001220703125,46.970001220703125,46.970001220703125,50,50,50,50,50,50,50,50,50,69.699996948242188,69.699996948242188,69.699996948242188,69.699996948242188,69.699996948242188,69.699996948242188,69.699996948242188,69.699996948242188,69.699996948242188,71.209999084472656,71.209999084472656,71.209999084472656,71.209999084472656,71.209999084472656,71.209999084472656,71.209999084472656,71.209999084472656,71.209999084472656,71.209999084472656,71.209999084472656,71.209999084472656,71.209999084472656,71.209999084472656,71.209999084472656,71.209999084472656,71.209999084472656,71.209999084472656,71.209999084472656,71.209999084472656,71.209999084472656,71.209999084472656,71.209999084472656,71.209999084472656,71.209999084472656,71.209999084472656,71.209999084472656,71.209999084472656,71.209999084472656,71.209999084472656,71.209999084472656,71.209999084472656,71.209999084472656,71.209999084472656,71.209999084472656,71.209999084472656,71.209999084472656,71.209999084472656,71.209999084472656,71.209999084472656,71.209999084472656,71.209999084472656,71.209999084472656,71.209999084472656,71.209999084472656,71.209999084472656,68.180000305175781,68.180000305175781,68.180000305175781,68.180000305175781,68.180000305175781,56.060001373291016,56.060001373291016,56.060001373291016,null,null,null,null,null,null,null,36.543420753980939]
["Portugal","AE","PRT",0,0,0,0,0,0,0,0,0,0,0,0,0,0,0,0,0,0,0,0,0,0,0,0,0,21.209999084472656,21.209999084472656,21.209999084472656,21.209999084472656,21.209999084472656,21.209999084472656,21.209999084472656,21.209999084472656,21.209999084472656,21.209999084472656,21.209999084472656,21.209999084472656,21.209999084472656,21.209999084472656,21.209999084472656,21.209999084472656,21.209999084472656,21.209999084472656,21.209999084472656,21.209999084472656,21.209999084472656,21.209999084472656,21.209999084472656,21.209999084472656,21.209999084472656,21.209999084472656,21.209999084472656,21.209999084472656,21.209999084472656,21.209999084472656,21.209999084472656,21.209999084472656,21.209999084472656,21.209999084472656,21.209999084472656,21.209999084472656,21.209999084472656,21.209999084472656,21.209999084472656,21.209999084472656,21.209999084472656,21.209999084472656,21.209999084472656,25.760000228881836,32.580001831054688,32.580001831054688,38.639999389648438,38.639999389648438,38.639999389648438,38.639999389648438,43.180000305175781,43.180000305175781,43.180000305175781,79.550003051757813,79.550003051757813,79.550003051757813,79.550003051757813,79.550003051757813,79.550003051757813,70.449996948242188,73.480003356933594,73.480003356933594,73.480003356933594,73.480003356933594,73.480003356933594,73.480003356933594,73.480003356933594,73.480003356933594,73.480003356933594,73.480003356933594,73.480003356933594,73.480003356933594,73.480003356933594,73.480003356933594,78.029998779296875,85.610000610351563,85.610000610351563,85.610000610351563,85.610000610351563,81.05999755859375,81.05999755859375,81.05999755859375,81.05999755859375,81.05999755859375,81.05999755859375,81.05999755859375,81.05999755859375,81.05999755859375,81.05999755859375,81.05999755859375,81.05999755859375,81.05999755859375,81.05999755859375,81.05999755859375,81.05999755859375,81.05999755859375,85.610000610351563,85.610000610351563,85.610000610351563,75,75,75,75,75,75,75,75,75,75,75,75,75,75,69.699996948242188,71.970001220703125,71.970001220703125,71.970001220703125,71.970001220703125,71.970001220703125,71.970001220703125,71.970001220703125,71.970001220703125,71.970001220703125,71.970001220703125,71.970001220703125,71.970001220703125,71.970001220703125,71.970001220703125,71.970001220703125,71.970001220703125,null,null,null,null,null,45.882565786964015]
["Puerto Rico","AE","PRI",0,0,0,0,0,0,0,0,0,0,0,0,0,0,0,0,0,0,0,0,0,0,0,0,0,0,0,0,0,2.2699999809265137,2.2699999809265137,2.2699999809265137,2.2699999809265137,2.2699999809265137,2.2699999809265137,2.2699999809265137,2.2699999809265137,2.2699999809265137,2.2699999809265137,2.2699999809265137,2.2699999809265137,2.2699999809265137,2.2699999809265137,2.2699999809265137,2.2699999809265137,2.2699999809265137,2.2699999809265137,2.2699999809265137,2.2699999809265137,2.2699999809265137,2.2699999809265137,2.2699999809265137,2.2699999809265137,2.2699999809265137,2.2699999809265137,2.2699999809265137,2.2699999809265137,2.2699999809265137,9.8500003814697266,9.8500003814697266,9.8500003814697266,18.940000534057617,18.940000534057617,18.940000534057617,18.940000534057617,18.940000534057617,18.940000534057617,18.940000534057617,18.940000534057617,18.940000534057617,18.940000534057617,31.059999465942383,40.150001525878906,49.240001678466797,84.089996337890625,84.089996337890625,84.089996337890625,84.089996337890625,84.089996337890625,84.089996337890625,84.089996337890625,84.089996337890625,84.089996337890625,84.089996337890625,84.089996337890625,84.089996337890625,84.089996337890625,84.089996337890625,84.089996337890625,84.089996337890625,84.089996337890625,84.089996337890625,84.089996337890625,84.089996337890625,84.089996337890625,84.089996337890625,84.089996337890625,88.639999389648438,88.639999389648438,88.639999389648438,88.639999389648438,88.639999389648438,88.639999389648438,88.639999389648438,88.639999389648438,91.669998168945313,91.669998168945313,91.669998168945313,91.669998168945313,91.669998168945313,91.669998168945313,91.669998168945313,91.669998168945313,91.669998168945313,91.669998168945313,91.669998168945313,91.669998168945313,91.669998168945313,91.669998168945313,91.669998168945313,91.669998168945313,91.669998168945313,91.669998168945313,91.669998168945313,91.669998168945313,91.669998168945313,91.669998168945313,88.639999389648438,88.639999389648438,88.639999389648438,88.639999389648438,88.639999389648438,88.639999389648438,88.639999389648438,88.639999389648438,88.639999389648438,88.639999389648438,88.639999389648438,85.610000610351563,85.610000610351563,85.610000610351563,85.610000610351563,85.610000610351563,85.610000610351563,85.610000610351563,82.580001831054688,82.580001831054688,82.580001831054688,82.580001831054688,82.580001831054688,82.580001831054688,82.580001831054688,82.580001831054688,82.580001831054688,82.580001831054688,null,null,null,null,null,47.483749273576237]
["Qatar","EME","QAT",0,0,0,0,0,0,0,0,0,0,0,0,0,0,0,0,0,0,0,0,0,0,0,2.2699999809265137,2.2699999809265137,2.2699999809265137,2.2699999809265137,2.2699999809265137,2.2699999809265137,6.820000171661377,6.820000171661377,6.820000171661377,6.820000171661377,11.359999656677246,11.359999656677246,11.359999656677246,11.359999656677246,11.359999656677246,11.359999656677246,11.359999656677246,11.359999656677246,11.359999656677246,11.359999656677246,11.359999656677246,11.359999656677246,11.359999656677246,11.359999656677246,11.359999656677246,11.359999656677246,11.359999656677246,11.359999656677246,11.359999656677246,11.359999656677246,11.359999656677246,11.359999656677246,11.359999656677246,11.359999656677246,14.390000343322754,14.390000343322754,14.390000343322754,14.390000343322754,14.390000343322754,14.390000343322754,14.390000343322754,14.390000343322754,14.390000343322754,14.390000343322754,23.479999542236328,23.479999542236328,32.580001831054688,32.580001831054688,37.119998931884766,37.119998931884766,37.119998931884766,46.209999084472656,46.209999084472656,62.119998931884766,64.389999389648438,64.389999389648438,64.389999389648438,64.389999389648438,78.029998779296875,78.029998779296875,78.029998779296875,78.029998779296875,78.029998779296875,78.029998779296875,82.580001831054688,82.580001831054688,82.580001831054688,82.580001831054688,82.580001831054688,82.580001831054688,82.580001831054688,82.580001831054688,82.580001831054688,82.580001831054688,82.580001831054688,82.580001831054688,82.580001831054688,82.580001831054688,82.580001831054688,82.580001831054688,82.580001831054688,82.580001831054688,82.580001831054688,82.580001831054688,82.580001831054688,82.580001831054688,82.580001831054688,82.580001831054688,82.580001831054688,80.300003051757813,80.300003051757813,80.300003051757813,80.300003051757813,80.300003051757813,80.300003051757813,80.300003051757813,80.300003051757813,80.300003051757813,80.300003051757813,80.300003051757813,80.300003051757813,80.300003051757813,80.300003051757813,80.300003051757813,80.300003051757813,80.300003051757813,80.300003051757813,80.300003051757813,80.300003051757813,80.300003051757813,86.360000610351563,86.360000610351563,86.360000610351563,86.360000610351563,86.360000610351563,86.360000610351563,86.360000610351563,86.360000610351563,86.360000610351563,86.360000610351563,86.360000610351563,86.360000610351563,86.360000610351563,86.360000610351563,86.360000610351563,86.360000610351563,86.360000610351563,86.360000610351563,86.360000610351563,86.360000610351563,86.360000610351563,86.360000610351563,null,null,null,null,null,45.742369105941371]
["Romania","EME","ROU",0,0,0,0,0,0,0,0,0,0,0,0,0,0,0,0,0,0,0,0,0,0,0,0,0,0,2.2699999809265137,2.2699999809265137,2.2699999809265137,2.2699999809265137,2.2699999809265137,4.5500001907348633,4.5500001907348633,4.5500001907348633,4.5500001907348633,4.5500001907348633,4.5500001907348633,4.5500001907348633,4.5500001907348633,4.5500001907348633,4.5500001907348633,4.5500001907348633,4.5500001907348633,4.5500001907348633,4.5500001907348633,4.5500001907348633,4.5500001907348633,4.5500001907348633,4.5500001907348633,4.5500001907348633,4.5500001907348633,4.5500001907348633,4.5500001907348633,4.5500001907348633,4.5500001907348633,13.640000343322754,13.640000343322754,15.909999847412109,15.909999847412109,15.909999847412109,15.909999847412109,15.909999847412109,15.909999847412109,15.909999847412109,15.909999847412109,15.909999847412109,15.909999847412109,27.270000457763672,29.549999237060547,29.549999237060547,38.639999389648438,50,50,50,50,50,50,50,50,50,56.819999694824219,61.360000610351563,64.389999389648438,64.389999389648438,67.419998168945313,67.419998168945313,67.419998168945313,67.419998168945313,67.419998168945313,69.699996948242188,78.790000915527344,78.790000915527344,78.790000915527344,78.790000915527344,78.790000915527344,78.790000915527344,78.790000915527344,78.790000915527344,78.790000915527344,78.790000915527344,78.790000915527344,78.790000915527344,78.790000915527344,78.790000915527344,78.790000915527344,78.790000915527344,78.790000915527344,78.790000915527344,78.790000915527344,78.790000915527344,78.790000915527344,78.790000915527344,78.790000915527344,78.790000915527344,78.790000915527344,78.790000915527344,78.790000915527344,78.790000915527344,81.819999694824219,81.819999694824219,81.819999694824219,81.819999694824219,81.819999694824219,81.819999694824219,81.819999694824219,81.819999694824219,81.819999694824219,81.819999694824219,81.819999694824219,81.819999694824219,81.819999694824219,75,75,75,75,69.699996948242188,69.699996948242188,69.699996948242188,69.699996948242188,69.699996948242188,69.699996948242188,69.699996948242188,69.699996948242188,69.699996948242188,69.699996948242188,69.699996948242188,69.699996948242188,69.699996948242188,69.699996948242188,69.699996948242188,69.699996948242188,69.699996948242188,60.610000610351563,60.610000610351563,60.610000610351563,60.610000610351563,60.610000610351563,60.610000610351563,60.610000610351563,null,{"$f":"+AVERAGE(D133:EY133)","v":41.384078675194793}]
["Russia","EME","RUS",0,0,0,0,0,0,0,0,0,0,0,0,0,0,0,0,0,0,0,0,0,0,0,0,0,0,0,0,0,6.820000171661377,9.8500003814697266,9.8500003814697266,9.8500003814697266,9.8500003814697266,9.8500003814697266,9.8500003814697266,9.8500003814697266,9.8500003814697266,9.8500003814697266,9.8500003814697266,9.8500003814697266,9.8500003814697266,9.8500003814697266,9.8500003814697266,9.8500003814697266,9.8500003814697266,9.8500003814697266,9.8500003814697266,9.8500003814697266,9.8500003814697266,9.8500003814697266,9.8500003814697266,9.8500003814697266,9.8500003814697266,9.8500003814697266,9.8500003814697266,9.8500003814697266,9.8500003814697266,9.8500003814697266,9.8500003814697266,9.8500003814697266,9.8500003814697266,9.8500003814697266,9.8500003814697266,30.299999237060547,30.299999237060547,30.299999237060547,30.299999237060547,30.299999237060547,38.259998321533203,38.259998321533203,38.259998321533203,38.259998321533203,38.259998321533203,38.259998321533203,53.409999847412109,61.740001678466797,61.740001678466797,63.259998321533203,63.259998321533203,69.319999694824219,69.319999694824219,67.800003051757813,67.800003051757813,67.800003051757813,67.800003051757813,67.800003051757813,70.830001831054688,70.830001831054688,83.330001831054688,83.330001831054688,83.330001831054688,83.330001831054688,83.330001831054688,83.330001831054688,83.330001831054688,86.360000610351563,86.360000610351563,86.360000610351563,86.360000610351563,86.360000610351563,86.360000610351563,86.360000610351563,87.879997253417969,87.879997253417969,87.879997253417969,87.879997253417969,87.879997253417969,87.879997253417969,87.879997253417969,87.879997253417969,87.879997253417969,87.879997253417969,87.879997253417969,87.879997253417969,87.879997253417969,87.879997253417969,87.879997253417969,87.879997253417969,87.879997253417969,87.879997253417969,87.879997253417969,87.879997253417969,87.879997253417969,87.879997253417969,87.879997253417969,87.879997253417969,87.879997253417969,87.879997253417969,87.879997253417969,87.879997253417969,87.879997253417969,82.199996948242188,82.199996948242188,82.199996948242188,82.199996948242188,82.199996948242188,82.199996948242188,82.199996948242188,82.199996948242188,82.199996948242188,82.199996948242188,82.199996948242188,82.199996948242188,82.199996948242188,82.199996948242188,null,null,null,null,null,null,null,null,null,null,null,null,null,null,44.744108987181157]
["Rwanda","LIDC","RWA",0,0,0,0,0,0,0,0,0,0,0,0,0,0,0,0,0,0,0,0,9.0900001525878906,9.0900001525878906,9.0900001525878906,9.0900001525878906,9.0900001525878906,9.0900001525878906,11.359999656677246,11.359999656677246,11.359999656677246,11.359999656677246,11.359999656677246,11.359999656677246,11.359999656677246,11.359999656677246,11.359999656677246,11.359999656677246,11.359999656677246,11.359999656677246,11.359999656677246,11.359999656677246,11.359999656677246,17.420000076293945,17.420000076293945,17.420000076293945,17.420000076293945,17.420000076293945,17.420000076293945,17.420000076293945,17.420000076293945,17.420000076293945,17.420000076293945,17.420000076293945,17.420000076293945,17.420000076293945,17.420000076293945,17.420000076293945,17.420000076293945,17.420000076293945,17.420000076293945,17.420000076293945,17.420000076293945,17.420000076293945,17.420000076293945,17.420000076293945,17.420000076293945,17.420000076293945,17.420000076293945,41.290000915527344,41.290000915527344,41.290000915527344,41.290000915527344,41.290000915527344,41.290000915527344,44.319999694824219,44.319999694824219,53.409999847412109,53.409999847412109,53.409999847412109,53.409999847412109,53.409999847412109,96.970001220703125,96.970001220703125,96.970001220703125,96.970001220703125,96.970001220703125,96.970001220703125,96.970001220703125,96.970001220703125,96.970001220703125,96.970001220703125,96.970001220703125,96.970001220703125,96.970001220703125,96.970001220703125,96.970001220703125,96.970001220703125,96.970001220703125,96.970001220703125,96.970001220703125,96.970001220703125,96.970001220703125,96.970001220703125,96.970001220703125,96.970001220703125,96.970001220703125,96.970001220703125,96.970001220703125,96.970001220703125,96.970001220703125,96.970001220703125,96.970001220703125,96.970001220703125,96.970001220703125,96.970001220703125,96.970001220703125,96.970001220703125,96.970001220703125,96.970001220703125,96.970001220703125,96.970001220703125,96.970001220703125,96.970001220703125,96.970001220703125,96.970001220703125,77.269996643066406,77.269996643066406,77.269996643066406,77.269996643066406,77.269996643066406,77.269996643066406,77.269996643066406,77.269996643066406,77.269996643066406,77.269996643066406,77.269996643066406,77.269996643066406,77.269996643066406,77.269996643066406,75,75,75,75,75,75,75,75,75,75,75,75,75,75,75,null,null,null,null,null,null,null,50.524671109099138]
["San Marino","EME","SMR",0,0,0,0,0,0,0,0,0,0,0,0,0,0,0,0,0,0,0,0,0,0,0,0,0,0,0,0,0,0,0,0,0,0,0,0,0,0,0,0,0,0,0,0,0,0,0,0,0,0,0,0,0,4.5500001907348633,4.5500001907348633,13.640000343322754,13.640000343322754,25.760000228881836,25.760000228881836,34.849998474121094,39.389999389648438,39.389999389648438,39.389999389648438,39.389999389648438,39.389999389648438,39.389999389648438,39.389999389648438,68.180000305175781,68.180000305175781,68.180000305175781,68.180000305175781,68.180000305175781,68.180000305175781,68.180000305175781,77.269996643066406,77.269996643066406,77.269996643066406,77.269996643066406,77.269996643066406,80.300003051757813,80.300003051757813,80.300003051757813,80.300003051757813,80.300003051757813,80.300003051757813,80.300003051757813,80.300003051757813,80.300003051757813,80.300003051757813,80.300003051757813,80.300003051757813,80.300003051757813,80.300003051757813,80.300003051757813,80.300003051757813,83.330001831054688,83.330001831054688,83.330001831054688,83.330001831054688,83.330001831054688,86.360000610351563,86.360000610351563,86.360000610351563,86.360000610351563,86.360000610351563,86.360000610351563,86.360000610351563,90.910003662109375,90.910003662109375,90.910003662109375,90.910003662109375,90.910003662109375,90.910003662109375,90.910003662109375,90.910003662109375,90.910003662109375,90.910003662109375,90.910003662109375,90.910003662109375,90.910003662109375,90.910003662109375,90.910003662109375,90.910003662109375,78.790000915527344,69.699996948242188,69.699996948242188,69.699996948242188,69.699996948242188,69.699996948242188,69.699996948242188,69.699996948242188,69.699996948242188,69.699996948242188,69.699996948242188,69.699996948242188,69.699996948242188,69.699996948242188,69.699996948242188,69.699996948242188,69.699996948242188,69.699996948242188,72.730003356933594,72.730003356933594,72.730003356933594,72.730003356933594,72.730003356933594,72.730003356933594,72.730003356933594,72.730003356933594,72.730003356933594,72.730003356933594,72.730003356933594,72.730003356933594,null,null,null,null,null,null,null,46.620658472964635]
["Saudi Arabia","EME","SAU",0,0,0,0,0,0,0,0,0,0,0,0,0,0,0,0,0,0,0,0,0,0,0,0,0,0,0,0,0,9.0900001525878906,9.0900001525878906,18.180000305175781,18.180000305175781,18.180000305175781,18.180000305175781,18.180000305175781,18.180000305175781,18.180000305175781,18.180000305175781,18.180000305175781,18.180000305175781,18.180000305175781,18.180000305175781,18.180000305175781,18.180000305175781,18.180000305175781,18.180000305175781,18.180000305175781,18.180000305175781,18.180000305175781,18.180000305175781,18.180000305175781,18.180000305175781,18.180000305175781,18.180000305175781,18.180000305175781,18.180000305175781,18.180000305175781,18.180000305175781,18.180000305175781,18.180000305175781,18.180000305175781,18.180000305175781,18.180000305175781,24.239999771118164,24.239999771118164,24.239999771118164,31.059999465942383,40.150001525878906,40.150001525878906,40.150001525878906,40.150001525878906,49.240001678466797,49.240001678466797,58.330001831054688,71.209999084472656,71.209999084472656,71.209999084472656,71.209999084472656,71.209999084472656,80.300003051757813,80.300003051757813,86.360000610351563,86.360000610351563,88.639999389648438,88.639999389648438,88.639999389648438,88.639999389648438,88.639999389648438,88.639999389648438,88.639999389648438,88.639999389648438,88.639999389648438,88.639999389648438,88.639999389648438,88.639999389648438,90.150001525878906,90.150001525878906,90.150001525878906,90.150001525878906,90.150001525878906,90.150001525878906,90.150001525878906,90.150001525878906,90.150001525878906,90.150001525878906,90.150001525878906,90.150001525878906,90.150001525878906,90.150001525878906,90.150001525878906,90.150001525878906,90.150001525878906,90.150001525878906,90.150001525878906,90.150001525878906,92.419998168945313,92.419998168945313,92.419998168945313,92.419998168945313,90.150001525878906,90.150001525878906,90.150001525878906,90.150001525878906,90.150001525878906,90.150001525878906,90.150001525878906,88.639999389648438,88.639999389648438,88.639999389648438,88.639999389648438,88.639999389648438,88.639999389648438,88.639999389648438,88.639999389648438,88.639999389648438,88.639999389648438,88.639999389648438,88.639999389648438,88.639999389648438,88.639999389648438,88.639999389648438,88.639999389648438,90.150001525878906,90.150001525878906,90.150001525878906,81.05999755859375,79.550003051757813,79.550003051757813,79.550003051757813,79.550003051757813,68.55999755859375,68.55999755859375,68.55999755859375,68.55999755859375,68.55999755859375,68.55999755859375,null,null,null,51.003947709736075]
["Senegal","LIDC","SEN",0,0,0,0,0,0,0,0,0,0,0,0,0,0,0,0,0,0,0,0,0,0,0,0,0,0,0,0,0,0,0,0,0,0,0,0,0,0,0,0,0,0,0,0,0,0,0,0,0,0,0,0,0,0,0,0,0,0,0,0,0,0,0,0,0,12.119999885559082,12.119999885559082,12.119999885559082,12.119999885559082,12.119999885559082,12.119999885559082,12.119999885559082,12.119999885559082,34.849998474121094,37.119998931884766,46.209999084472656,46.209999084472656,50.759998321533203,50.759998321533203,53.029998779296875,53.029998779296875,53.029998779296875,66.669998168945313,66.669998168945313,75.760002136230469,75.760002136230469,75.760002136230469,75.760002136230469,75.760002136230469,75.760002136230469,75.760002136230469,75.760002136230469,75.760002136230469,75.760002136230469,75.760002136230469,75.760002136230469,75.760002136230469,75.760002136230469,75.760002136230469,75.760002136230469,75.760002136230469,78.790000915527344,78.790000915527344,78.790000915527344,78.790000915527344,78.790000915527344,78.790000915527344,78.790000915527344,78.790000915527344,78.790000915527344,78.790000915527344,78.790000915527344,78.790000915527344,78.790000915527344,78.790000915527344,78.790000915527344,78.790000915527344,78.790000915527344,78.790000915527344,78.790000915527344,78.790000915527344,78.790000915527344,78.790000915527344,78.790000915527344,78.790000915527344,78.790000915527344,78.790000915527344,78.790000915527344,78.790000915527344,78.790000915527344,78.790000915527344,74.239997863769531,74.239997863769531,74.239997863769531,74.239997863769531,74.239997863769531,74.239997863769531,74.239997863769531,74.239997863769531,74.239997863769531,74.239997863769531,74.239997863769531,74.239997863769531,74.239997863769531,74.239997863769531,74.239997863769531,74.239997863769531,74.239997863769531,74.239997863769531,74.239997863769531,74.239997863769531,74.239997863769531,74.239997863769531,74.239997863769531,74.239997863769531,74.239997863769531,null,null,null,null,38.591842124336644]
["Serbia","EME","SRB",0,0,0,0,0,0,0,0,0,0,0,0,0,0,0,0,0,0,0,0,0,2.2699999809265137,2.2699999809265137,2.2699999809265137,2.2699999809265137,2.2699999809265137,2.2699999809265137,2.2699999809265137,2.2699999809265137,2.2699999809265137,2.2699999809265137,2.2699999809265137,2.2699999809265137,2.2699999809265137,2.2699999809265137,2.2699999809265137,2.2699999809265137,2.2699999809265137,2.2699999809265137,2.2699999809265137,2.2699999809265137,2.2699999809265137,2.2699999809265137,2.2699999809265137,2.2699999809265137,2.2699999809265137,2.2699999809265137,2.2699999809265137,2.2699999809265137,2.2699999809265137,2.2699999809265137,2.2699999809265137,2.2699999809265137,2.2699999809265137,2.2699999809265137,11.359999656677246,11.359999656677246,14.390000343322754,14.390000343322754,14.390000343322754,14.390000343322754,14.390000343322754,14.390000343322754,14.390000343322754,14.390000343322754,23.479999542236328,23.479999542236328,23.479999542236328,23.479999542236328,23.479999542236328,32.580001831054688,32.580001831054688,32.580001831054688,32.580001831054688,52.270000457763672,66.669998168945313,66.669998168945313,78.790000915527344,78.790000915527344,78.790000915527344,93.94000244140625,93.94000244140625,93.94000244140625,93.94000244140625,93.94000244140625,93.94000244140625,93.94000244140625,93.94000244140625,93.94000244140625,93.94000244140625,93.94000244140625,93.94000244140625,93.94000244140625,93.94000244140625,93.94000244140625,93.94000244140625,93.94000244140625,93.94000244140625,93.94000244140625,93.94000244140625,93.94000244140625,93.94000244140625,93.94000244140625,93.94000244140625,93.94000244140625,93.94000244140625,93.94000244140625,93.94000244140625,93.94000244140625,93.94000244140625,93.94000244140625,90.910003662109375,90.910003662109375,90.910003662109375,90.910003662109375,90.910003662109375,90.910003662109375,88.639999389648438,88.639999389648438,88.639999389648438,90.910003662109375,90.910003662109375,90.910003662109375,90.910003662109375,90.910003662109375,88.639999389648438,88.639999389648438,88.639999389648438,88.639999389648438,88.639999389648438,88.639999389648438,88.639999389648438,88.639999389648438,88.639999389648438,88.639999389648438,88.639999389648438,88.639999389648438,54.549999237060547,54.549999237060547,54.549999237060547,54.549999237060547,54.549999237060547,52.270000457763672,52.270000457763672,52.270000457763672,52.270000457763672,52.270000457763672,52.270000457763672,52.270000457763672,null,null,null,null,null,null,null,null,null,null,null,45.403423571746622]
["Seychelles","EME","SYC",0,0,0,0,0,0,0,0,0,0,0,0,0,0,0,0,0,0,0,0,0,0,0,0,0,0,0,0,9.0900001525878906,9.0900001525878906,9.0900001525878906,9.0900001525878906,9.0900001525878906,9.0900001525878906,9.0900001525878906,9.0900001525878906,9.0900001525878906,13.640000343322754,13.640000343322754,13.640000343322754,13.640000343322754,13.640000343322754,13.640000343322754,13.640000343322754,13.640000343322754,13.640000343322754,13.640000343322754,13.640000343322754,13.640000343322754,13.640000343322754,13.640000343322754,13.640000343322754,13.640000343322754,13.640000343322754,13.640000343322754,13.640000343322754,13.640000343322754,13.640000343322754,13.640000343322754,13.640000343322754,13.640000343322754,13.640000343322754,13.640000343322754,13.640000343322754,13.640000343322754,13.640000343322754,13.640000343322754,13.640000343322754,13.640000343322754,15.909999847412109,15.909999847412109,15.909999847412109,15.909999847412109,21.969999313354492,35.610000610351563,43.180000305175781,43.180000305175781,43.180000305175781,43.180000305175781,43.180000305175781,43.180000305175781,47.729999542236328,49.240001678466797,49.240001678466797,49.240001678466797,49.240001678466797,49.240001678466797,49.240001678466797,49.240001678466797,58.330001831054688,58.330001831054688,58.330001831054688,58.330001831054688,58.330001831054688,58.330001831054688,58.330001831054688,58.330001831054688,58.330001831054688,82.580001831054688,91.669998168945313,91.669998168945313,91.669998168945313,91.669998168945313,91.669998168945313,91.669998168945313,91.669998168945313,91.669998168945313,91.669998168945313,91.669998168945313,91.669998168945313,91.669998168945313,91.669998168945313,91.669998168945313,91.669998168945313,91.669998168945313,91.669998168945313,91.669998168945313,91.669998168945313,91.669998168945313,91.669998168945313,91.669998168945313,91.669998168945313,91.669998168945313,91.669998168945313,74.239997863769531,74.239997863769531,74.239997863769531,74.239997863769531,74.239997863769531,74.239997863769531,74.239997863769531,74.239997863769531,74.239997863769531,74.239997863769531,74.239997863769531,74.239997863769531,74.239997863769531,74.239997863769531,65.150001525878906,65.150001525878906,65.150001525878906,65.150001525878906,65.150001525878906,65.150001525878906,65.150001525878906,65.150001525878906,65.150001525878906,65.150001525878906,65.150001525878906,65.150001525878906,65.150001525878906,65.150001525878906,null,null,null,null,null,null,null,null,40.406315715689409]
["Sierra Leone","LIDC","SLE",0,0,0,0,0,0,0,0,0,0,0,0,0,0,0,0,0,0,0,0,0,0,0,0,0,0,0,0,0,0,0,0,0,0,0,0,0,0,0,0,0,0,0,0,0,0,0,0,0,0,0,0,0,0,0,0,0,0,0,0,0,0,0,0,0,0,0,0,0,0,0,0,0,0,0,6.820000171661377,6.820000171661377,6.820000171661377,6.820000171661377,11.359999656677246,18.180000305175781,27.270000457763672,31.819999694824219,31.819999694824219,31.819999694824219,31.819999694824219,31.819999694824219,34.090000152587891,34.090000152587891,34.090000152587891,58.330001831054688,64.389999389648438,64.389999389648438,58.330001831054688,58.330001831054688,85.610000610351563,85.610000610351563,85.610000610351563,79.550003051757813,79.550003051757813,79.550003051757813,79.550003051757813,79.550003051757813,79.550003051757813,79.550003051757813,79.550003051757813,79.550003051757813,79.550003051757813,84.089996337890625,84.089996337890625,84.089996337890625,84.089996337890625,84.089996337890625,84.089996337890625,84.089996337890625,84.089996337890625,81.05999755859375,81.05999755859375,81.05999755859375,81.05999755859375,81.05999755859375,81.05999755859375,81.05999755859375,92.419998168945313,92.419998168945313,92.419998168945313,75,75,75,75,75,75,75,75,75,75,75,75,75,75,75,75,75,75,75,75,75,75,75,75,75,75,75,75,75,75,75,75,75,null,34.006315689337882]
["Singapore","AE","SGP",0,14.390000343322754,14.390000343322754,14.390000343322754,14.390000343322754,14.390000343322754,14.390000343322754,14.390000343322754,14.390000343322754,14.390000343322754,14.390000343322754,14.390000343322754,14.390000343322754,14.390000343322754,14.390000343322754,14.390000343322754,14.390000343322754,14.390000343322754,14.390000343322754,23.479999542236328,23.479999542236328,23.479999542236328,31.059999465942383,31.059999465942383,31.059999465942383,31.059999465942383,31.059999465942383,31.059999465942383,31.059999465942383,31.059999465942383,31.059999465942383,31.059999465942383,31.059999465942383,31.059999465942383,31.059999465942383,31.059999465942383,31.059999465942383,35.610000610351563,35.610000610351563,35.610000610351563,35.610000610351563,35.610000610351563,35.610000610351563,35.610000610351563,35.610000610351563,35.610000610351563,35.610000610351563,35.610000610351563,35.610000610351563,35.610000610351563,35.610000610351563,35.610000610351563,35.610000610351563,35.610000610351563,35.610000610351563,35.610000610351563,35.610000610351563,35.610000610351563,35.610000610351563,35.610000610351563,35.610000610351563,35.610000610351563,35.610000610351563,35.610000610351563,35.610000610351563,35.610000610351563,35.610000610351563,35.610000610351563,35.610000610351563,35.610000610351563,35.610000610351563,35.610000610351563,44.700000762939453,44.700000762939453,44.700000762939453,44.700000762939453,44.700000762939453,44.700000762939453,44.700000762939453,44.700000762939453,44.700000762939453,44.700000762939453,44.700000762939453,44.700000762939453,44.700000762939453,44.700000762939453,46.970001220703125,46.970001220703125,46.970001220703125,46.970001220703125,46.970001220703125,46.970001220703125,46.970001220703125,54.549999237060547,54.549999237060547,54.549999237060547,54.549999237060547,63.639999389648438,82.580001831054688,82.580001831054688,80.300003051757813,80.300003051757813,80.300003051757813,80.300003051757813,84.849998474121094,84.849998474121094,84.849998474121094,84.849998474121094,84.849998474121094,84.849998474121094,84.849998474121094,84.849998474121094,84.849998474121094,84.849998474121094,84.849998474121094,84.849998474121094,84.849998474121094,84.849998474121094,84.849998474121094,84.849998474121094,84.849998474121094,84.849998474121094,84.849998474121094,84.849998474121094,84.849998474121094,84.849998474121094,84.849998474121094,84.849998474121094,84.849998474121094,84.849998474121094,84.849998474121094,84.849998474121094,81.819999694824219,81.819999694824219,81.819999694824219,81.819999694824219,81.819999694824219,81.819999694824219,81.819999694824219,81.819999694824219,81.819999694824219,81.819999694824219,81.819999694824219,81.819999694824219,81.819999694824219,81.819999694824219,81.819999694824219,81.819999694824219,81.819999694824219,81.819999694824219,81.819999694824219,81.819999694824219,null,null,null,null,null,null,null,null,51.162500005019339]
["Slovak Republic","AE","SVK",12.119999885559082,12.119999885559082,12.119999885559082,12.119999885559082,12.119999885559082,12.119999885559082,12.119999885559082,12.119999885559082,12.119999885559082,12.119999885559082,12.119999885559082,12.119999885559082,12.119999885559082,12.119999885559082,12.119999885559082,12.119999885559082,12.119999885559082,12.119999885559082,12.119999885559082,12.119999885559082,12.119999885559082,12.119999885559082,12.119999885559082,12.119999885559082,12.119999885559082,12.119999885559082,14.390000343322754,14.390000343322754,14.390000343322754,14.390000343322754,14.390000343322754,14.390000343322754,14.390000343322754,14.390000343322754,14.390000343322754,14.390000343322754,14.390000343322754,14.390000343322754,14.390000343322754,14.390000343322754,14.390000343322754,14.390000343322754,14.390000343322754,14.390000343322754,14.390000343322754,14.390000343322754,14.390000343322754,14.390000343322754,14.390000343322754,14.390000343322754,14.390000343322754,14.390000343322754,14.390000343322754,14.390000343322754,14.390000343322754,14.390000343322754,14.390000343322754,14.390000343322754,14.390000343322754,14.390000343322754,14.390000343322754,14.390000343322754,14.390000343322754,21.209999084472656,21.209999084472656,25.760000228881836,25.760000228881836,25.760000228881836,30.299999237060547,42.419998168945313,42.419998168945313,52.270000457763672,62.880001068115234,67.419998168945313,67.419998168945313,73.480003356933594,73.480003356933594,73.480003356933594,73.480003356933594,73.480003356933594,73.480003356933594,73.480003356933594,73.480003356933594,73.480003356933594,73.480003356933594,73.480003356933594,73.480003356933594,73.480003356933594,73.480003356933594,73.480003356933594,73.480003356933594,73.480003356933594,73.480003356933594,73.480003356933594,73.480003356933594,73.480003356933594,73.480003356933594,73.480003356933594,83.330001831054688,83.330001831054688,83.330001831054688,83.330001831054688,83.330001831054688,83.330001831054688,73.480003356933594,73.480003356933594,73.480003356933594,73.480003356933594,73.480003356933594,73.480003356933594,73.480003356933594,73.480003356933594,71.970001220703125,71.970001220703125,71.970001220703125,71.970001220703125,71.970001220703125,71.970001220703125,71.970001220703125,71.970001220703125,71.970001220703125,71.970001220703125,71.970001220703125,71.970001220703125,71.970001220703125,71.970001220703125,71.970001220703125,71.970001220703125,71.970001220703125,71.970001220703125,71.970001220703125,71.970001220703125,71.970001220703125,71.970001220703125,71.970001220703125,71.970001220703125,71.970001220703125,71.970001220703125,71.970001220703125,71.970001220703125,71.970001220703125,71.970001220703125,71.970001220703125,71.970001220703125,71.970001220703125,71.970001220703125,71.970001220703125,71.970001220703125,71.970001220703125,null,null,null,null,null,null,null,null,null,null,null,45.457249411000504]
["Slovenia","AE","SVN",0,0,0,0,0,0,0,0,0,0,0,0,0,0,0,0,0,0,0,0,0,0,0,0,0,0,0,0,0,0,0,0,0,0,0,0,0,0,0,0,0,0,0,0,0,0,0,0,0,0,0,0,0,0,0,0,0,0,0,0,0,0,0,24.239999771118164,24.239999771118164,24.239999771118164,28.790000915527344,28.790000915527344,28.790000915527344,35.610000610351563,35.610000610351563,35.610000610351563,35.610000610351563,38.639999389648438,38.639999389648438,56.819999694824219,56.819999694824219,56.819999694824219,70.449996948242188,79.550003051757813,79.550003051757813,79.550003051757813,79.550003051757813,79.550003051757813,79.550003051757813,79.550003051757813,79.550003051757813,79.550003051757813,79.550003051757813,88.639999389648438,88.639999389648438,88.639999389648438,88.639999389648438,88.639999389648438,88.639999389648438,88.639999389648438,88.639999389648438,88.639999389648438,88.639999389648438,88.639999389648438,88.639999389648438,88.639999389648438,88.639999389648438,88.639999389648438,88.639999389648438,88.639999389648438,88.639999389648438,88.639999389648438,88.639999389648438,88.639999389648438,85.610000610351563,85.610000610351563,85.610000610351563,85.610000610351563,85.610000610351563,85.610000610351563,85.610000610351563,85.610000610351563,85.610000610351563,85.610000610351563,76.519996643066406,76.519996643066406,76.519996643066406,76.519996643066406,76.519996643066406,76.519996643066406,76.519996643066406,76.519996643066406,76.519996643066406,76.519996643066406,76.519996643066406,67.419998168945313,67.419998168945313,67.419998168945313,58.709999084472656,58.709999084472656,58.709999084472656,58.709999084472656,49.619998931884766,49.619998931884766,49.619998931884766,49.619998931884766,49.619998931884766,49.619998931884766,49.619998931884766,49.619998931884766,49.619998931884766,49.619998931884766,49.619998931884766,49.619998931884766,49.619998931884766,49.619998931884766,49.619998931884766,null,null,null,null,null,null,null,40.172762908433612]
["Solomon Islands","EME","SLB",0,0,0,0,0,0,0,0,0,0,0,0,0,0,0,0,0,0,0,0,0,0,0,0,0,0,0,0,0,0,0,0,0,0,0,0,6.820000171661377,6.820000171661377,6.820000171661377,6.820000171661377,6.820000171661377,6.820000171661377,6.820000171661377,6.820000171661377,6.820000171661377,6.820000171661377,6.820000171661377,6.820000171661377,6.820000171661377,6.820000171661377,6.820000171661377,6.820000171661377,6.820000171661377,6.820000171661377,6.820000171661377,6.820000171661377,6.820000171661377,6.820000171661377,6.820000171661377,6.820000171661377,6.820000171661377,6.820000171661377,6.820000171661377,6.820000171661377,6.820000171661377,6.820000171661377,6.820000171661377,6.820000171661377,6.820000171661377,6.820000171661377,6.820000171661377,6.820000171661377,6.820000171661377,6.820000171661377,6.820000171661377,6.820000171661377,6.820000171661377,15.909999847412109,15.909999847412109,18.180000305175781,18.180000305175781,18.180000305175781,18.180000305175781,18.180000305175781,18.180000305175781,18.180000305175781,25,25,25,25,34.090000152587891,34.090000152587891,34.090000152587891,43.180000305175781,43.180000305175781,43.180000305175781,43.180000305175781,43.180000305175781,43.180000305175781,43.180000305175781,50,50,43.180000305175781,43.180000305175781,43.180000305175781,43.180000305175781,43.180000305175781,40.150001525878906,40.150001525878906,40.150001525878906,40.150001525878906,40.150001525878906,40.150001525878906,40.150001525878906,40.150001525878906,40.150001525878906,40.150001525878906,35.610000610351563,35.610000610351563,35.610000610351563,35.610000610351563,35.610000610351563,35.610000610351563,35.610000610351563,35.610000610351563,35.610000610351563,35.610000610351563,35.610000610351563,35.610000610351563,35.610000610351563,35.610000610351563,35.610000610351563,35.610000610351563,35.610000610351563,35.610000610351563,35.610000610351563,35.610000610351563,35.610000610351563,35.610000610351563,35.610000610351563,44.700000762939453,44.700000762939453,44.700000762939453,35.610000610351563,35.610000610351563,35.610000610351563,35.610000610351563,35.610000610351563,35.610000610351563,35.610000610351563,35.610000610351563,35.610000610351563,35.610000610351563,35.610000610351563,35.610000610351563,35.610000610351563,null,null,null,null,19.304276645183563]
["Somalia","LIDC","SOM",0,0,0,0,0,0,0,0,0,0,0,0,0,0,0,0,0,0,0,0,0,0,0,0,0,0,0,0,0,0,0,0,0,0,0,0,0,0,0,0,0,0,0,0,0,0,0,0,0,0,0,0,0,0,0,0,0,0,0,0,0,0,0,0,0,0,0,0,0,0,0,0,0,6.820000171661377,6.820000171661377,6.820000171661377,6.820000171661377,9.0900001525878906,34.090000152587891,34.090000152587891,43.180000305175781,43.180000305175781,43.180000305175781,43.180000305175781,46.209999084472656,46.209999084472656,46.209999084472656,46.209999084472656,46.209999084472656,46.209999084472656,46.209999084472656,46.209999084472656,46.209999084472656,46.209999084472656,46.209999084472656,46.209999084472656,46.209999084472656,46.209999084472656,46.209999084472656,46.209999084472656,46.209999084472656,52.270000457763672,52.270000457763672,52.270000457763672,52.270000457763672,52.270000457763672,52.270000457763672,52.270000457763672,52.270000457763672,52.270000457763672,52.270000457763672,52.270000457763672,52.270000457763672,52.270000457763672,52.270000457763672,52.270000457763672,52.270000457763672,52.270000457763672,52.270000457763672,52.270000457763672,52.270000457763672,52.270000457763672,52.270000457763672,52.270000457763672,52.270000457763672,52.270000457763672,52.270000457763672,52.270000457763672,52.270000457763672,52.270000457763672,52.270000457763672,52.270000457763672,52.270000457763672,52.270000457763672,52.270000457763672,52.270000457763672,52.270000457763672,52.270000457763672,52.270000457763672,52.270000457763672,52.270000457763672,52.270000457763672,52.270000457763672,52.270000457763672,52.270000457763672,52.270000457763672,52.270000457763672,52.270000457763672,52.270000457763672,null,null,null,null,null,null,null,null,null,null,null,23.971812139421502]
["South Africa","EME","ZAF",0,0,0,0,0,0,0,0,0,0,0,0,0,0,0,0,0,0,0,0,0,0,2.2699999809265137,2.2699999809265137,2.2699999809265137,2.2699999809265137,2.2699999809265137,2.2699999809265137,2.2699999809265137,2.2699999809265137,2.2699999809265137,2.2699999809265137,2.2699999809265137,2.2699999809265137,2.2699999809265137,2.2699999809265137,2.2699999809265137,2.2699999809265137,2.2699999809265137,2.2699999809265137,2.2699999809265137,2.2699999809265137,2.2699999809265137,2.2699999809265137,2.2699999809265137,2.2699999809265137,2.2699999809265137,2.2699999809265137,2.2699999809265137,2.2699999809265137,2.2699999809265137,2.2699999809265137,2.2699999809265137,2.2699999809265137,2.2699999809265137,2.2699999809265137,2.2699999809265137,2.2699999809265137,2.2699999809265137,2.2699999809265137,2.2699999809265137,2.2699999809265137,2.2699999809265137,2.2699999809265137,11.359999656677246,11.359999656677246,23.479999542236328,23.479999542236328,23.479999542236328,23.479999542236328,23.479999542236328,23.479999542236328,23.479999542236328,23.479999542236328,28.030000686645508,43.939998626708984,43.939998626708984,57.580001831054688,57.580001831054688,57.580001831054688,57.580001831054688,57.580001831054688,57.580001831054688,57.580001831054688,57.580001831054688,84.089996337890625,84.089996337890625,87.120002746582031,87.120002746582031,87.120002746582031,87.120002746582031,87.120002746582031,87.120002746582031,87.120002746582031,87.120002746582031,87.120002746582031,87.120002746582031,87.120002746582031,87.120002746582031,87.120002746582031,87.120002746582031,87.120002746582031,87.120002746582031,87.120002746582031,87.120002746582031,87.120002746582031,87.120002746582031,87.120002746582031,87.120002746582031,87.120002746582031,87.120002746582031,87.120002746582031,87.120002746582031,87.120002746582031,87.120002746582031,87.120002746582031,87.120002746582031,87.120002746582031,87.120002746582031,87.120002746582031,87.120002746582031,87.120002746582031,87.120002746582031,87.120002746582031,87.120002746582031,87.120002746582031,87.120002746582031,87.120002746582031,87.120002746582031,87.120002746582031,87.120002746582031,87.120002746582031,87.120002746582031,87.120002746582031,87.120002746582031,87.120002746582031,87.120002746582031,87.120002746582031,87.120002746582031,87.120002746582031,87.120002746582031,87.120002746582031,87.120002746582031,87.120002746582031,87.120002746582031,87.120002746582031,87.120002746582031,87.120002746582031,87.120002746582031,null,null,null,null,null,null,null,null,null,null,null,43.302484365117628]
["South Korea","EME","KOR",0,0,0,0,0,0,0,0,0,0,0,0,0,0,0,0,0,0,0,0,3.0299999713897705,3.0299999713897705,3.0299999713897705,3.0299999713897705,3.0299999713897705,3.0299999713897705,3.0299999713897705,3.0299999713897705,7.5799999237060547,7.5799999237060547,9.8500003814697266,18.940000534057617,18.940000534057617,23.479999542236328,30.299999237060547,30.299999237060547,33.330001831054688,39.389999389648438,39.389999389648438,39.389999389648438,39.389999389648438,43.939998626708984,43.939998626708984,43.939998626708984,43.939998626708984,43.939998626708984,43.939998626708984,43.939998626708984,43.939998626708984,43.939998626708984,43.939998626708984,55.299999237060547,55.299999237060547,59.090000152587891,63.639999389648438,63.639999389648438,63.639999389648438,63.639999389648438,63.639999389648438,63.639999389648438,63.639999389648438,63.639999389648438,63.639999389648438,63.639999389648438,63.639999389648438,63.639999389648438,63.639999389648438,63.639999389648438,63.639999389648438,63.639999389648438,63.639999389648438,61.360000610351563,61.360000610351563,61.360000610351563,61.360000610351563,61.360000610351563,61.360000610351563,61.360000610351563,61.360000610351563,63.639999389648438,75,80.300003051757813,80.300003051757813,80.300003051757813,80.300003051757813,80.300003051757813,80.300003051757813,80.300003051757813,80.300003051757813,80.300003051757813,80.300003051757813,80.300003051757813,80.300003051757813,80.300003051757813,82.580001831054688,82.580001831054688,85.610000610351563,85.610000610351563,85.610000610351563,85.610000610351563,85.610000610351563,85.610000610351563,85.610000610351563,85.610000610351563,85.610000610351563,85.610000610351563,85.610000610351563,85.610000610351563,78.029998779296875,78.029998779296875,53.790000915527344,53.790000915527344,53.790000915527344,53.790000915527344,53.790000915527344,53.790000915527344,53.790000915527344,53.790000915527344,53.790000915527344,53.790000915527344,53.790000915527344,53.790000915527344,53.790000915527344,53.790000915527344,53.790000915527344,53.790000915527344,53.790000915527344,53.790000915527344,53.790000915527344,53.790000915527344,53.790000915527344,53.790000915527344,53.790000915527344,53.790000915527344,53.790000915527344,53.790000915527344,53.790000915527344,53.790000915527344,53.790000915527344,53.790000915527344,50.759998321533203,50.759998321533203,50.759998321533203,50.759998321533203,50.759998321533203,50.759998321533203,50.759998321533203,50.759998321533203,50.759998321533203,64.769996643066406,64.769996643066406,64.769996643066406,64.769996643066406,null,null,null,null,null,null,null,48.288684393230234]
["South Sudan","LIDC","SSD",0,0,0,0,0,0,0,0,0,0,0,0,0,0,0,0,0,0,0,0,0,0,0,0,0,0,0,0,0,0,0,0,0,0,0,0,0,0,0,0,0,0,0,0,0,0,0,0,0,0,0,0,0,0,4.5500001907348633,4.5500001907348633,4.5500001907348633,4.5500001907348633,4.5500001907348633,4.5500001907348633,4.5500001907348633,7.5799999237060547,7.5799999237060547,7.5799999237060547,7.5799999237060547,7.5799999237060547,7.5799999237060547,7.5799999237060547,7.5799999237060547,7.5799999237060547,7.5799999237060547,7.5799999237060547,9.8500003814697266,9.8500003814697266,9.8500003814697266,32.580001831054688,32.580001831054688,32.580001831054688,32.580001831054688,41.669998168945313,41.669998168945313,41.669998168945313,41.669998168945313,46.970001220703125,50,50,50,56.060001373291016,60.610000610351563,60.610000610351563,60.610000610351563,60.610000610351563,60.610000610351563,60.610000610351563,60.610000610351563,68.180000305175781,68.180000305175781,68.180000305175781,68.180000305175781,68.180000305175781,68.180000305175781,68.180000305175781,77.269996643066406,77.269996643066406,77.269996643066406,77.269996643066406,77.269996643066406,77.269996643066406,78.790000915527344,78.790000915527344,78.790000915527344,78.790000915527344,78.790000915527344,78.790000915527344,78.790000915527344,78.790000915527344,78.790000915527344,78.790000915527344,78.790000915527344,78.790000915527344,78.790000915527344,78.790000915527344,78.790000915527344,78.790000915527344,78.790000915527344,78.790000915527344,78.790000915527344,80.300003051757813,77.269996643066406,77.269996643066406,77.269996643066406,77.269996643066406,72.730003356933594,72.730003356933594,72.730003356933594,72.730003356933594,72.730003356933594,72.730003356933594,72.730003356933594,72.730003356933594,72.730003356933594,72.730003356933594,72.730003356933594,72.730003356933594,72.730003356933594,72.730003356933594,72.730003356933594,72.730003356933594,72.730003356933594,null,null,null,null,null,null,null,null,null,null,null,34.783624527438377]
["Spain","EME","ESP",0,0,0,0,0,0,0,0,0,0,0,0,0,0,0,0,0,0,0,0,0,0,0,3.0299999713897705,3.0299999713897705,3.0299999713897705,3.0299999713897705,3.0299999713897705,3.0299999713897705,3.0299999713897705,21.209999084472656,21.209999084472656,21.209999084472656,21.209999084472656,21.209999084472656,21.209999084472656,21.209999084472656,21.209999084472656,21.209999084472656,21.209999084472656,21.209999084472656,21.209999084472656,21.209999084472656,21.209999084472656,21.209999084472656,21.209999084472656,21.209999084472656,21.209999084472656,21.209999084472656,21.209999084472656,21.209999084472656,21.209999084472656,21.209999084472656,21.209999084472656,16.670000076293945,16.670000076293945,16.670000076293945,16.670000076293945,16.670000076293945,16.670000076293945,16.670000076293945,16.670000076293945,16.670000076293945,16.670000076293945,16.670000076293945,16.670000076293945,16.670000076293945,16.670000076293945,28.030000686645508,45.080001831054688,45.080001831054688,45.080001831054688,45.080001831054688,62.5,62.5,64.019996643066406,66.290000915527344,66.290000915527344,66.290000915527344,66.290000915527344,66.290000915527344,66.290000915527344,66.290000915527344,66.290000915527344,66.290000915527344,66.290000915527344,66.290000915527344,66.290000915527344,66.290000915527344,77.269996643066406,77.269996643066406,77.269996643066406,77.269996643066406,77.269996643066406,77.269996643066406,80.300003051757813,80.300003051757813,80.300003051757813,80.300003051757813,80.300003051757813,80.300003051757813,77.269996643066406,77.269996643066406,77.269996643066406,77.269996643066406,77.269996643066406,77.269996643066406,77.269996643066406,77.269996643066406,77.269996643066406,77.269996643066406,77.269996643066406,77.269996643066406,77.269996643066406,77.269996643066406,77.269996643066406,77.269996643066406,77.269996643066406,77.269996643066406,77.269996643066406,77.269996643066406,77.269996643066406,77.269996643066406,77.269996643066406,74.620002746582031,74.620002746582031,74.620002746582031,74.620002746582031,74.620002746582031,74.620002746582031,74.620002746582031,74.620002746582031,74.620002746582031,78.790000915527344,78.790000915527344,78.790000915527344,78.790000915527344,75.379997253417969,75.379997253417969,75.379997253417969,75.379997253417969,75.379997253417969,76.889999389648438,76.889999389648438,76.889999389648438,76.889999389648438,76.889999389648438,76.889999389648438,76.889999389648438,76.889999389648438,76.889999389648438,76.889999389648438,null,null,null,null,null,null,null,null,45.249604769443209]
["Sri Lanka","LIDC","LKA",0,0,0,0,0,0,0,0,0,0,0,0,0,0,0,0,0,0,0,0,0,0,0,0,0,2.2699999809265137,2.2699999809265137,6.820000171661377,6.820000171661377,6.820000171661377,6.820000171661377,6.820000171661377,6.820000171661377,6.820000171661377,6.820000171661377,6.820000171661377,18.940000534057617,18.940000534057617,18.940000534057617,18.940000534057617,18.940000534057617,18.940000534057617,18.940000534057617,18.940000534057617,18.940000534057617,18.940000534057617,18.940000534057617,18.940000534057617,18.940000534057617,18.940000534057617,18.940000534057617,18.940000534057617,18.940000534057617,18.940000534057617,21.209999084472656,21.209999084472656,21.209999084472656,21.209999084472656,21.209999084472656,21.209999084472656,21.209999084472656,21.209999084472656,21.209999084472656,21.209999084472656,21.209999084472656,21.209999084472656,21.209999084472656,21.209999084472656,21.209999084472656,21.209999084472656,21.209999084472656,21.209999084472656,27.270000457763672,52.270000457763672,52.270000457763672,61.360000610351563,61.360000610351563,78.790000915527344,81.05999755859375,84.849998474121094,84.849998474121094,84.849998474121094,91.669998168945313,91.669998168945313,91.669998168945313,91.669998168945313,93.94000244140625,93.94000244140625,93.94000244140625,93.94000244140625,93.94000244140625,93.94000244140625,93.94000244140625,93.94000244140625,93.94000244140625,93.94000244140625,93.94000244140625,96.970001220703125,96.970001220703125,96.970001220703125,96.970001220703125,96.970001220703125,96.970001220703125,96.970001220703125,96.970001220703125,96.970001220703125,96.970001220703125,96.970001220703125,83.330001831054688,83.330001831054688,81.819999694824219,81.819999694824219,78.790000915527344,78.790000915527344,80.300003051757813,80.300003051757813,80.300003051757813,80.300003051757813,80.300003051757813,80.300003051757813,80.300003051757813,80.300003051757813,80.300003051757813,80.300003051757813,80.300003051757813,80.300003051757813,80.300003051757813,80.300003051757813,80.300003051757813,80.300003051757813,80.300003051757813,80.300003051757813,80.300003051757813,80.300003051757813,80.300003051757813,80.300003051757813,80.300003051757813,80.300003051757813,80.300003051757813,80.300003051757813,80.300003051757813,80.300003051757813,78.029998779296875,78.029998779296875,78.029998779296875,78.029998779296875,78.029998779296875,78.029998779296875,78.029998779296875,78.029998779296875,78.029998779296875,78.029998779296875,78.029998779296875,null,null,null,null,null,null,null,48.952763830360617]
["Sudan","AE","SDN",0,0,0,0,0,0,0,0,0,0,0,0,0,0,0,0,0,0,0,0,0,0,0,0,0,0,0,4.5500001907348633,4.5500001907348633,4.5500001907348633,4.5500001907348633,4.5500001907348633,4.5500001907348633,4.5500001907348633,4.5500001907348633,4.5500001907348633,4.5500001907348633,4.5500001907348633,4.5500001907348633,4.5500001907348633,4.5500001907348633,4.5500001907348633,4.5500001907348633,4.5500001907348633,4.5500001907348633,4.5500001907348633,4.5500001907348633,4.5500001907348633,4.5500001907348633,4.5500001907348633,4.5500001907348633,4.5500001907348633,4.5500001907348633,4.5500001907348633,4.5500001907348633,4.5500001907348633,4.5500001907348633,4.5500001907348633,4.5500001907348633,4.5500001907348633,4.5500001907348633,4.5500001907348633,4.5500001907348633,4.5500001907348633,4.5500001907348633,4.5500001907348633,4.5500001907348633,4.5500001907348633,4.5500001907348633,4.5500001907348633,4.5500001907348633,4.5500001907348633,15.149999618530273,43.180000305175781,43.180000305175781,56.819999694824219,56.819999694824219,56.819999694824219,56.819999694824219,56.819999694824219,56.819999694824219,56.819999694824219,64.389999389648438,64.389999389648438,64.389999389648438,73.480003356933594,73.480003356933594,73.480003356933594,73.480003356933594,73.480003356933594,73.480003356933594,73.480003356933594,73.480003356933594,73.480003356933594,73.480003356933594,73.480003356933594,73.480003356933594,73.480003356933594,73.480003356933594,73.480003356933594,73.480003356933594,73.480003356933594,73.480003356933594,75.760002136230469,75.760002136230469,75.760002136230469,75.760002136230469,75.760002136230469,77.269996643066406,77.269996643066406,77.269996643066406,77.269996643066406,77.269996643066406,77.269996643066406,77.269996643066406,77.269996643066406,77.269996643066406,77.269996643066406,77.269996643066406,77.269996643066406,77.269996643066406,77.269996643066406,77.269996643066406,77.269996643066406,80.300003051757813,80.300003051757813,80.300003051757813,80.300003051757813,80.300003051757813,80.300003051757813,80.300003051757813,80.300003051757813,80.300003051757813,80.300003051757813,80.300003051757813,80.300003051757813,80.300003051757813,80.300003051757813,80.300003051757813,80.300003051757813,80.300003051757813,80.300003051757813,80.300003051757813,80.300003051757813,77.269996643066406,77.269996643066406,77.269996643066406,77.269996643066406,77.269996643066406,null,null,null,null,null,null,null,null,null,null,null,39.109262191209218]
["Suriname","EME","SUR",0,0,0,0,0,0,0,0,0,0,0,0,0,0,0,0,0,0,0,0,0,0,0,0,0,0,0,0,0,0,0,0,0,0,0,0,0,0,0,0,0,0,0,0,0,0,0,0,0,0,0,0,0,0,0,0,0,0,0,0,0,0,0,0,0,0,0,0,0,0,0,0,9.0900001525878906,27.270000457763672,34.849998474121094,50.759998321533203,50.759998321533203,50.759998321533203,50.759998321533203,50.759998321533203,50.759998321533203,50.759998321533203,50.759998321533203,50.759998321533203,50.759998321533203,50.759998321533203,50.759998321533203,65.910003662109375,65.910003662109375,65.910003662109375,65.910003662109375,65.910003662109375,65.910003662109375,65.910003662109375,65.910003662109375,65.910003662109375,75,75,75,75,75,75,75,75,75,75,75,75,75,75,75,75,75,75,75,75,75,75,75,75,75,75,75,75,75,75,75,75,75,75,72.730003356933594,72.730003356933594,72.730003356933594,72.730003356933594,72.730003356933594,72.730003356933594,72.730003356933594,72.730003356933594,72.730003356933594,72.730003356933594,68.180000305175781,68.180000305175781,68.180000305175781,68.180000305175781,65.150001525878906,65.150001525878906,66.669998168945313,66.669998168945313,66.669998168945313,66.669998168945313,64.389999389648438,71.209999084472656,71.209999084472656,null,null,null,null,null,null,null,35.237631847983913]
["Sweden","AE","SWE",0,0,0,0,0,0,0,0,0,0,0,0,0,0,0,0,0,0,0,0,0,0,0,0,0,0,0,0,0,0,12.119999885559082,12.119999885559082,12.119999885559082,12.119999885559082,12.119999885559082,12.119999885559082,12.119999885559082,12.119999885559082,12.119999885559082,12.119999885559082,12.119999885559082,12.119999885559082,12.119999885559082,12.119999885559082,12.119999885559082,12.119999885559082,12.119999885559082,12.119999885559082,12.119999885559082,12.119999885559082,12.119999885559082,12.119999885559082,12.119999885559082,12.119999885559082,12.119999885559082,12.119999885559082,12.119999885559082,12.119999885559082,12.119999885559082,12.119999885559082,12.119999885559082,12.119999885559082,12.119999885559082,12.119999885559082,12.119999885559082,12.119999885559082,12.119999885559082,12.119999885559082,21.209999084472656,21.209999084472656,21.209999084472656,25.760000228881836,25.760000228881836,25.760000228881836,25.760000228881836,25.760000228881836,25.760000228881836,28.790000915527344,35.610000610351563,35.610000610351563,35.610000610351563,35.610000610351563,31.059999465942383,31.059999465942383,34.090000152587891,34.090000152587891,34.090000152587891,34.090000152587891,34.090000152587891,34.090000152587891,34.090000152587891,38.639999389648438,38.639999389648438,38.639999389648438,43.180000305175781,43.180000305175781,43.180000305175781,43.180000305175781,43.180000305175781,43.180000305175781,43.180000305175781,43.180000305175781,43.180000305175781,43.180000305175781,43.180000305175781,43.180000305175781,43.180000305175781,43.180000305175781,43.180000305175781,43.180000305175781,43.180000305175781,43.180000305175781,43.180000305175781,43.180000305175781,45.450000762939453,45.450000762939453,45.450000762939453,45.450000762939453,45.450000762939453,45.450000762939453,45.450000762939453,45.450000762939453,45.450000762939453,45.450000762939453,45.450000762939453,45.450000762939453,45.450000762939453,45.450000762939453,45.450000762939453,45.450000762939453,45.450000762939453,45.450000762939453,45.450000762939453,45.450000762939453,45.450000762939453,45.450000762939453,45.450000762939453,45.450000762939453,45.450000762939453,45.450000762939453,45.450000762939453,45.450000762939453,45.450000762939453,45.450000762939453,45.450000762939453,45.450000762939453,45.450000762939453,45.450000762939453,45.450000762939453,45.450000762939453,45.450000762939453,45.450000762939453,45.450000762939453,45.450000762939453,45.450000762939453,45.450000762939453,45.450000762939453,45.450000762939453,45.450000762939453,null,25.377302834862157]
["Switzerland","AE","CHE",0,0,0,0,0,0,0,0,0,0,0,0,0,0,0,0,0,0,0,0,0,0,0,0,0,0,0,0,0,0,0,0,0,0,0,0,0,0,0,0,0,0,0,0,0,4.5500001907348633,4.5500001907348633,4.5500001907348633,4.5500001907348633,4.5500001907348633,4.5500001907348633,4.5500001907348633,4.5500001907348633,4.5500001907348633,10.609999656677246,17.420000076293945,17.420000076293945,21.969999313354492,26.520000457763672,26.520000457763672,26.520000457763672,26.520000457763672,31.059999465942383,31.059999465942383,31.059999465942383,31.059999465942383,28.030000686645508,28.030000686645508,28.030000686645508,28.030000686645508,28.030000686645508,28.030000686645508,43.939998626708984,43.939998626708984,43.939998626708984,43.939998626708984,70.449996948242188,70.449996948242188,70.449996948242188,70.449996948242188,70.449996948242188,70.449996948242188,70.449996948242188,70.449996948242188,70.449996948242188,70.449996948242188,70.449996948242188,70.449996948242188,70.449996948242188,70.449996948242188,70.449996948242188,70.449996948242188,70.449996948242188,70.449996948242188,70.449996948242188,70.449996948242188,70.449996948242188,70.449996948242188,70.449996948242188,70.449996948242188,70.449996948242188,70.449996948242188,70.449996948242188,70.449996948242188,70.449996948242188,70.449996948242188,70.449996948242188,70.449996948242188,70.449996948242188,70.449996948242188,70.449996948242188,70.449996948242188,70.449996948242188,70.449996948242188,70.449996948242188,70.449996948242188,70.449996948242188,64.389999389648438,64.389999389648438,64.389999389648438,64.389999389648438,64.389999389648438,64.389999389648438,64.389999389648438,64.389999389648438,64.389999389648438,64.389999389648438,64.389999389648438,64.389999389648438,64.389999389648438,64.389999389648438,61.360000610351563,61.360000610351563,61.360000610351563,61.360000610351563,61.360000610351563,61.360000610351563,61.360000610351563,61.360000610351563,61.360000610351563,64.389999389648438,64.389999389648438,64.389999389648438,64.389999389648438,64.389999389648438,64.389999389648438,64.389999389648438,64.389999389648438,64.389999389648438,64.389999389648438,62.119998931884766,62.119998931884766,null,null,null,null,null,null,null,null,38.111314886494689]
["Syria","EME","SYR",0,0,0,0,0,0,0,0,0,0,0,0,0,0,0,0,0,0,0,0,0,0,0,0,0,0,0,0,0,0,0,2.2699999809265137,2.2699999809265137,2.2699999809265137,2.2699999809265137,2.2699999809265137,2.2699999809265137,2.2699999809265137,2.2699999809265137,2.2699999809265137,2.2699999809265137,2.2699999809265137,2.2699999809265137,2.2699999809265137,2.2699999809265137,2.2699999809265137,2.2699999809265137,2.2699999809265137,2.2699999809265137,2.2699999809265137,2.2699999809265137,2.2699999809265137,2.2699999809265137,2.2699999809265137,2.2699999809265137,2.2699999809265137,2.2699999809265137,2.2699999809265137,2.2699999809265137,2.2699999809265137,2.2699999809265137,2.2699999809265137,2.2699999809265137,2.2699999809265137,2.2699999809265137,2.2699999809265137,2.2699999809265137,15.909999847412109,15.909999847412109,15.909999847412109,15.909999847412109,15.909999847412109,18.940000534057617,28.030000686645508,32.580001831054688,39.389999389648438,39.389999389648438,39.389999389648438,39.389999389648438,43.939998626708984,43.939998626708984,54.549999237060547,63.639999389648438,63.639999389648438,65.910003662109375,65.910003662109375,65.910003662109375,65.910003662109375,65.910003662109375,65.910003662109375,65.910003662109375,68.180000305175781,71.209999084472656,71.209999084472656,71.209999084472656,71.209999084472656,71.209999084472656,71.209999084472656,71.209999084472656,71.209999084472656,71.209999084472656,71.209999084472656,71.209999084472656,71.209999084472656,71.209999084472656,71.209999084472656,71.209999084472656,71.209999084472656,71.209999084472656,71.209999084472656,71.209999084472656,71.209999084472656,71.209999084472656,68.180000305175781,68.180000305175781,68.180000305175781,68.180000305175781,68.180000305175781,68.180000305175781,68.180000305175781,68.180000305175781,68.180000305175781,68.180000305175781,68.180000305175781,68.180000305175781,68.180000305175781,68.180000305175781,68.180000305175781,68.180000305175781,68.180000305175781,68.180000305175781,68.180000305175781,68.180000305175781,68.180000305175781,68.180000305175781,68.180000305175781,68.180000305175781,68.180000305175781,68.180000305175781,68.180000305175781,68.180000305175781,68.180000305175781,68.180000305175781,68.180000305175781,68.180000305175781,68.180000305175781,61.360000610351563,61.360000610351563,61.360000610351563,61.360000610351563,61.360000610351563,61.360000610351563,61.360000610351563,61.360000610351563,61.360000610351563,61.360000610351563,null,null,null,null,34.941776413666574]
["Taiwan","AE","TWN",0,4.5500001907348633,4.5500001907348633,4.5500001907348633,4.5500001907348633,4.5500001907348633,4.5500001907348633,4.5500001907348633,4.5500001907348633,4.5500001907348633,4.5500001907348633,4.5500001907348633,4.5500001907348633,4.5500001907348633,4.5500001907348633,4.5500001907348633,4.5500001907348633,4.5500001907348633,4.5500001907348633,12.119999885559082,21.209999084472656,21.209999084472656,28.030000686645508,28.030000686645508,28.030000686645508,28.030000686645508,28.030000686645508,28.030000686645508,28.030000686645508,28.030000686645508,28.030000686645508,28.030000686645508,37.119998931884766,37.119998931884766,37.119998931884766,37.119998931884766,37.119998931884766,37.119998931884766,37.119998931884766,37.119998931884766,37.119998931884766,37.119998931884766,37.119998931884766,37.119998931884766,37.119998931884766,37.119998931884766,40.150001525878906,40.150001525878906,40.150001525878906,40.150001525878906,40.150001525878906,40.150001525878906,40.150001525878906,40.150001525878906,40.150001525878906,31.059999465942383,31.059999465942383,31.059999465942383,31.059999465942383,31.059999465942383,31.059999465942383,31.059999465942383,31.059999465942383,31.059999465942383,35.610000610351563,35.610000610351563,35.610000610351563,35.610000610351563,35.610000610351563,35.610000610351563,35.610000610351563,35.610000610351563,35.610000610351563,35.610000610351563,35.610000610351563,35.610000610351563,35.610000610351563,35.610000610351563,37.880001068115234,37.880001068115234,37.880001068115234,37.880001068115234,37.880001068115234,37.880001068115234,37.880001068115234,37.880001068115234,37.880001068115234,37.880001068115234,37.880001068115234,37.880001068115234,37.880001068115234,37.880001068115234,37.880001068115234,37.880001068115234,37.880001068115234,37.880001068115234,37.880001068115234,37.880001068115234,37.880001068115234,37.880001068115234,37.880001068115234,37.880001068115234,37.880001068115234,37.880001068115234,37.880001068115234,37.880001068115234,37.880001068115234,37.880001068115234,37.880001068115234,37.880001068115234,37.880001068115234,37.880001068115234,37.880001068115234,37.880001068115234,37.880001068115234,37.880001068115234,37.880001068115234,37.880001068115234,37.880001068115234,37.880001068115234,37.880001068115234,37.880001068115234,37.880001068115234,37.880001068115234,37.880001068115234,37.880001068115234,37.880001068115234,37.880001068115234,33.330001831054688,33.330001831054688,33.330001831054688,33.330001831054688,33.330001831054688,33.330001831054688,33.330001831054688,33.330001831054688,33.330001831054688,33.330001831054688,33.330001831054688,33.330001831054688,33.330001831054688,33.330001831054688,33.330001831054688,36.360000610351563,36.360000610351563,36.360000610351563,36.360000610351563,36.360000610351563,36.360000610351563,36.360000610351563,36.360000610351563,36.360000610351563,36.360000610351563,36.360000610351563,36.360000610351563,36.360000610351563,null,null,null,null,31.559474323925219]
["Tajikistan","LIDC","TJK",0,0,0,0,0,0,0,0,0,0,0,0,0,0,0,0,0,0,0,0,4.5500001907348633,4.5500001907348633,4.5500001907348633,4.5500001907348633,4.5500001907348633,4.5500001907348633,4.5500001907348633,4.5500001907348633,4.5500001907348633,4.5500001907348633,4.5500001907348633,4.5500001907348633,4.5500001907348633,9.0900001525878906,12.119999885559082,12.119999885559082,12.119999885559082,12.119999885559082,12.119999885559082,12.119999885559082,12.119999885559082,12.119999885559082,12.119999885559082,12.119999885559082,12.119999885559082,12.119999885559082,12.119999885559082,12.119999885559082,12.119999885559082,12.119999885559082,12.119999885559082,12.119999885559082,12.119999885559082,12.119999885559082,12.119999885559082,12.119999885559082,12.119999885559082,12.119999885559082,12.119999885559082,12.119999885559082,12.119999885559082,12.119999885559082,14.390000343322754,14.390000343322754,14.390000343322754,14.390000343322754,14.390000343322754,14.390000343322754,14.390000343322754,14.390000343322754,14.390000343322754,14.390000343322754,14.390000343322754,14.390000343322754,14.390000343322754,14.390000343322754,14.390000343322754,18.940000534057617,18.940000534057617,18.940000534057617,18.940000534057617,18.940000534057617,18.940000534057617,18.940000534057617,18.940000534057617,18.940000534057617,18.940000534057617,18.940000534057617,18.940000534057617,18.940000534057617,18.940000534057617,18.940000534057617,18.940000534057617,18.940000534057617,18.940000534057617,18.940000534057617,18.940000534057617,18.940000534057617,18.940000534057617,18.940000534057617,21.209999084472656,21.209999084472656,21.209999084472656,21.209999084472656,21.209999084472656,21.209999084472656,21.209999084472656,21.209999084472656,30.299999237060547,30.299999237060547,30.299999237060547,30.299999237060547,30.299999237060547,30.299999237060547,30.299999237060547,36.360000610351563,36.360000610351563,42.419998168945313,42.419998168945313,42.419998168945313,46.970001220703125,46.970001220703125,46.970001220703125,46.970001220703125,46.970001220703125,46.970001220703125,46.970001220703125,46.970001220703125,46.970001220703125,46.970001220703125,46.970001220703125,48.479999542236328,48.479999542236328,48.479999542236328,48.479999542236328,48.479999542236328,48.479999542236328,48.479999542236328,48.479999542236328,48.479999542236328,48.479999542236328,48.479999542236328,46.970001220703125,46.970001220703125,46.970001220703125,46.970001220703125,46.970001220703125,46.970001220703125,46.970001220703125,46.970001220703125,46.970001220703125,46.970001220703125,46.970001220703125,46.970001220703125,46.970001220703125,46.970001220703125,46.970001220703125,46.970001220703125,46.970001220703125,null,20.792631713967573]
["Tanzania","EME","TZA",0,0,0,0,0,0,0,0,0,0,0,0,0,0,0,0,0,0,0,0,0,0,0,0,0,0,0,0,0,0,0,0,0,0,0,0,0,0,0,0,0,0,0,0,0,0,0,0,0,0,0,0,0,0,0,0,0,0,0,0,0,0,0,0,0,0,0,0,0,0,0,0,0,2.2699999809265137,6.820000171661377,11.359999656677246,31.059999465942383,34.090000152587891,34.090000152587891,34.090000152587891,34.090000152587891,34.090000152587891,34.090000152587891,34.090000152587891,34.090000152587891,40.909999847412109,43.180000305175781,43.180000305175781,43.180000305175781,43.180000305175781,43.180000305175781,43.180000305175781,43.180000305175781,43.180000305175781,43.180000305175781,43.180000305175781,43.180000305175781,43.180000305175781,43.180000305175781,43.180000305175781,43.180000305175781,43.180000305175781,45.450000762939453,45.450000762939453,45.450000762939453,45.450000762939453,45.450000762939453,45.450000762939453,45.450000762939453,45.450000762939453,45.450000762939453,45.450000762939453,45.450000762939453,45.450000762939453,45.450000762939453,45.450000762939453,45.450000762939453,45.450000762939453,45.450000762939453,45.450000762939453,45.450000762939453,45.450000762939453,45.450000762939453,45.450000762939453,45.450000762939453,45.450000762939453,45.450000762939453,45.450000762939453,45.450000762939453,45.450000762939453,45.450000762939453,45.450000762939453,45.450000762939453,45.450000762939453,45.450000762939453,45.450000762939453,45.450000762939453,45.450000762939453,40.909999847412109,40.909999847412109,40.909999847412109,40.909999847412109,40.909999847412109,40.909999847412109,40.909999847412109,40.909999847412109,40.909999847412109,43.180000305175781,43.180000305175781,43.180000305175781,43.180000305175781,43.180000305175781,40.150001525878906,40.150001525878906,40.150001525878906,40.150001525878906,40.150001525878906,null,null,null,21.554671268714102]
["Thailand","EME","THA",0,0,0,0,0,0,0,0,0,0,0,0,0,0,0,0,0,0,0,0,0,0,0,0,0,0,0,0,0,0,0,0,0,0,0,0,0,0,0,0,0,0,0,0,0,0,0,0,0,0,0,0,0,0,0,0,0,0,0,0,0,3.0299999713897705,7.5799999237060547,7.5799999237060547,7.5799999237060547,21.209999084472656,21.209999084472656,21.209999084472656,21.209999084472656,28.030000686645508,28.030000686645508,28.030000686645508,28.030000686645508,28.030000686645508,29.549999237060547,35.229999542236328,39.770000457763672,39.770000457763672,47.349998474121094,47.349998474121094,50.380001068115234,50.380001068115234,50.380001068115234,50.380001068115234,59.470001220703125,63.259998321533203,63.259998321533203,63.259998321533203,63.259998321533203,63.259998321533203,63.259998321533203,63.259998321533203,63.259998321533203,70.449996948242188,70.449996948242188,70.449996948242188,70.449996948242188,70.449996948242188,75,75,75,75,75,75,79.550003051757813,79.550003051757813,79.550003051757813,79.550003051757813,78.410003662109375,78.410003662109375,78.410003662109375,78.410003662109375,78.410003662109375,78.410003662109375,78.410003662109375,78.410003662109375,78.410003662109375,78.410003662109375,78.410003662109375,78.410003662109375,78.410003662109375,79.169998168945313,79.169998168945313,78.790000915527344,78.790000915527344,78.790000915527344,78.790000915527344,78.790000915527344,78.790000915527344,78.790000915527344,78.790000915527344,78.790000915527344,78.790000915527344,78.790000915527344,78.790000915527344,78.790000915527344,78.790000915527344,77.269996643066406,70.449996948242188,71.970001220703125,71.970001220703125,71.970001220703125,71.970001220703125,71.970001220703125,71.970001220703125,71.970001220703125,71.970001220703125,71.970001220703125,71.970001220703125,71.970001220703125,71.970001220703125,71.970001220703125,71.970001220703125,71.970001220703125,71.970001220703125,71.970001220703125,71.970001220703125,null,null,null,37.772105601273083]
["Timor-Leste","EME","TLS",0,0,0,0,0,0,0,0,0,0,0,0,0,0,0,0,0,0,0,0,0,0,0,0,0,0,0,0,0,4.5500001907348633,4.5500001907348633,4.5500001907348633,4.5500001907348633,6.820000171661377,6.820000171661377,6.820000171661377,6.820000171661377,9.0900001525878906,9.0900001525878906,9.0900001525878906,9.0900001525878906,9.0900001525878906,9.0900001525878906,9.0900001525878906,9.0900001525878906,9.0900001525878906,9.0900001525878906,9.0900001525878906,9.0900001525878906,9.0900001525878906,9.0900001525878906,9.0900001525878906,9.0900001525878906,9.0900001525878906,9.0900001525878906,9.0900001525878906,9.0900001525878906,9.0900001525878906,9.0900001525878906,9.0900001525878906,9.0900001525878906,9.0900001525878906,18.180000305175781,18.180000305175781,18.180000305175781,18.180000305175781,18.180000305175781,18.180000305175781,18.180000305175781,24.239999771118164,24.239999771118164,24.239999771118164,24.239999771118164,24.239999771118164,24.239999771118164,24.239999771118164,24.239999771118164,24.239999771118164,24.239999771118164,26.520000457763672,26.520000457763672,26.520000457763672,40.150001525878906,40.150001525878906,40.150001525878906,40.150001525878906,40.150001525878906,76.519996643066406,76.519996643066406,76.519996643066406,76.519996643066406,76.519996643066406,76.519996643066406,76.519996643066406,76.519996643066406,76.519996643066406,76.519996643066406,76.519996643066406,76.519996643066406,76.519996643066406,76.519996643066406,76.519996643066406,76.519996643066406,78.790000915527344,78.790000915527344,78.790000915527344,78.790000915527344,78.790000915527344,78.790000915527344,78.790000915527344,78.790000915527344,78.790000915527344,78.790000915527344,78.790000915527344,78.790000915527344,78.790000915527344,78.790000915527344,78.790000915527344,78.790000915527344,78.790000915527344,69.699996948242188,69.699996948242188,69.699996948242188,69.699996948242188,69.699996948242188,69.699996948242188,69.699996948242188,69.699996948242188,69.699996948242188,69.699996948242188,69.699996948242188,69.699996948242188,69.699996948242188,69.699996948242188,69.699996948242188,69.699996948242188,69.699996948242188,69.699996948242188,69.699996948242188,69.699996948242188,69.699996948242188,69.699996948242188,69.699996948242188,69.699996948242188,69.699996948242188,69.699996948242188,63.639999389648438,28.030000686645508,28.030000686645508,28.030000686645508,28.030000686645508,28.030000686645508,28.030000686645508,28.030000686645508,28.030000686645508,28.030000686645508,28.030000686645508,28.030000686645508,null,null,36.200262496345921]
["Trinidad and Tobago","EME","TTO",0,0,0,0,0,0,0,0,0,0,0,0,0,0,0,0,0,0,0,0,0,0,0,0,0,0,0,0,0,4.5500001907348633,4.5500001907348633,4.5500001907348633,9.0900001525878906,9.0900001525878906,9.0900001525878906,9.0900001525878906,9.0900001525878906,9.0900001525878906,9.0900001525878906,9.0900001525878906,9.0900001525878906,9.0900001525878906,9.0900001525878906,9.0900001525878906,9.0900001525878906,9.0900001525878906,9.0900001525878906,9.0900001525878906,9.0900001525878906,9.0900001525878906,9.0900001525878906,9.0900001525878906,9.0900001525878906,9.0900001525878906,9.0900001525878906,9.0900001525878906,9.0900001525878906,9.0900001525878906,9.0900001525878906,9.0900001525878906,9.0900001525878906,9.0900001525878906,9.0900001525878906,16.670000076293945,16.670000076293945,16.670000076293945,16.670000076293945,16.670000076293945,16.670000076293945,16.670000076293945,16.670000076293945,16.670000076293945,28.790000915527344,37.880001068115234,37.880001068115234,49.240001678466797,52.270000457763672,52.270000457763672,52.270000457763672,52.270000457763672,56.819999694824219,56.819999694824219,64.389999389648438,64.389999389648438,64.389999389648438,64.389999389648438,64.389999389648438,64.389999389648438,68.94000244140625,78.029998779296875,80.300003051757813,80.300003051757813,80.300003051757813,80.300003051757813,80.300003051757813,80.300003051757813,80.300003051757813,80.300003051757813,80.300003051757813,80.300003051757813,80.300003051757813,80.300003051757813,80.300003051757813,80.300003051757813,80.300003051757813,80.300003051757813,80.300003051757813,80.300003051757813,80.300003051757813,80.300003051757813,80.300003051757813,80.300003051757813,80.300003051757813,80.300003051757813,80.300003051757813,80.300003051757813,80.300003051757813,89.389999389648438,89.389999389648438,89.389999389648438,89.389999389648438,86.360000610351563,86.360000610351563,86.360000610351563,86.360000610351563,86.360000610351563,86.360000610351563,86.360000610351563,86.360000610351563,86.360000610351563,86.360000610351563,86.360000610351563,86.360000610351563,86.360000610351563,86.360000610351563,86.360000610351563,86.360000610351563,86.360000610351563,86.360000610351563,86.360000610351563,86.360000610351563,83.330001831054688,83.330001831054688,83.330001831054688,83.330001831054688,83.330001831054688,83.330001831054688,83.330001831054688,83.330001831054688,null,null,null,null,null,null,null,null,null,null,null,42.783826283960536]
["Tunisia","EME","TUN",0,0,0,0,0,0,0,0,0,0,0,0,0,0,0,0,0,0,0,0,0,0,0,0,0,0,0,0,0,0,0,0,0,0,0,0,0,0,0,0,0,0,0,0,0,0,0,0,0,0,0,0,0,0,0,0,0,0,0,0,0,7.5799999237060547,7.5799999237060547,21.209999084472656,21.209999084472656,21.209999084472656,21.209999084472656,21.209999084472656,31.819999694824219,31.819999694824219,31.819999694824219,31.819999694824219,34.849998474121094,34.849998474121094,34.849998474121094,44.700000762939453,44.700000762939453,51.520000457763672,51.520000457763672,73.480003356933594,79.550003051757813,79.550003051757813,79.550003051757813,79.550003051757813,79.550003051757813,79.550003051757813,79.550003051757813,79.550003051757813,79.550003051757813,79.550003051757813,79.550003051757813,79.550003051757813,79.550003051757813,79.550003051757813,79.550003051757813,79.550003051757813,79.550003051757813,79.550003051757813,79.550003051757813,79.550003051757813,79.550003051757813,79.550003051757813,79.550003051757813,79.550003051757813,79.550003051757813,79.550003051757813,79.550003051757813,79.550003051757813,79.550003051757813,79.550003051757813,79.550003051757813,79.550003051757813,79.550003051757813,79.550003051757813,79.550003051757813,79.550003051757813,79.550003051757813,79.550003051757813,79.550003051757813,79.550003051757813,79.550003051757813,79.550003051757813,79.550003051757813,79.550003051757813,76.519996643066406,76.519996643066406,76.519996643066406,81.05999755859375,81.05999755859375,81.05999755859375,81.05999755859375,81.05999755859375,81.05999755859375,81.05999755859375,81.05999755859375,78.029998779296875,78.029998779296875,78.029998779296875,78.029998779296875,78.029998779296875,78.029998779296875,78.029998779296875,78.029998779296875,78.029998779296875,78.029998779296875,78.029998779296875,78.029998779296875,78.029998779296875,75,75,75,75,75,null,null,null,null,null,null,null,41.523618974183734]
["Turkey","EME","TUR",0,0,0,0,0,0,0,0,0,0,0,0,0,10.609999656677246,10.609999656677246,10.609999656677246,10.609999656677246,10.609999656677246,10.609999656677246,10.609999656677246,10.609999656677246,10.609999656677246,10.609999656677246,12.880000114440918,12.880000114440918,12.880000114440918,12.880000114440918,12.880000114440918,12.880000114440918,12.880000114440918,12.880000114440918,12.880000114440918,12.880000114440918,12.880000114440918,12.880000114440918,17.420000076293945,17.420000076293945,26.520000457763672,26.520000457763672,26.520000457763672,26.520000457763672,26.520000457763672,26.520000457763672,26.520000457763672,26.520000457763672,26.520000457763672,26.520000457763672,26.520000457763672,26.520000457763672,26.520000457763672,26.520000457763672,26.520000457763672,26.520000457763672,26.520000457763672,26.520000457763672,26.520000457763672,26.520000457763672,26.520000457763672,26.520000457763672,26.520000457763672,26.520000457763672,26.520000457763672,26.520000457763672,26.520000457763672,26.520000457763672,26.520000457763672,26.520000457763672,26.520000457763672,29.549999237060547,29.549999237060547,29.549999237060547,29.549999237060547,29.549999237060547,29.549999237060547,29.549999237060547,53.790000915527344,53.790000915527344,58.330001831054688,58.330001831054688,58.330001831054688,61.360000610351563,61.360000610351563,61.360000610351563,63.639999389648438,63.639999389648438,63.639999389648438,65.910003662109375,75,75,75,75,75,75,75,75,75,75,75,75,75,75,76.519996643066406,76.519996643066406,75,75,75,75,75,76.519996643066406,81.05999755859375,79.550003051757813,79.550003051757813,79.550003051757813,79.550003051757813,79.550003051757813,79.550003051757813,79.550003051757813,79.550003051757813,79.550003051757813,79.550003051757813,79.550003051757813,79.550003051757813,79.550003051757813,79.550003051757813,79.550003051757813,79.550003051757813,79.550003051757813,79.550003051757813,79.550003051757813,79.550003051757813,79.550003051757813,79.550003051757813,79.550003051757813,79.550003051757813,79.550003051757813,79.550003051757813,79.550003051757813,79.550003051757813,79.550003051757813,79.550003051757813,79.550003051757813,79.550003051757813,79.550003051757813,79.550003051757813,79.550003051757813,79.550003051757813,79.550003051757813,79.550003051757813,79.550003051757813,79.550003051757813,79.550003051757813,79.550003051757813,null,null,null,null,null,null,null,null,46.872829826254595]
["Turkmenistan","EME","TKM",0,0,0,0,0,0,0,5.3000001907348633,5.3000001907348633,5.3000001907348633,5.3000001907348633,5.3000001907348633,5.3000001907348633,5.3000001907348633,5.3000001907348633,5.3000001907348633,5.3000001907348633,5.3000001907348633,5.3000001907348633,9.8500003814697266,9.8500003814697266,9.8500003814697266,9.8500003814697266,9.8500003814697266,9.8500003814697266,9.8500003814697266,9.8500003814697266,9.8500003814697266,9.8500003814697266,9.8500003814697266,9.8500003814697266,14.390000343322754,14.390000343322754,14.390000343322754,14.390000343322754,14.390000343322754,14.390000343322754,14.390000343322754,14.390000343322754,14.390000343322754,18.940000534057617,18.940000534057617,18.940000534057617,18.940000534057617,18.940000534057617,18.940000534057617,18.940000534057617,18.940000534057617,18.940000534057617,18.940000534057617,18.940000534057617,18.940000534057617,18.940000534057617,18.940000534057617,18.940000534057617,18.940000534057617,18.940000534057617,18.940000534057617,18.940000534057617,18.940000534057617,18.940000534057617,18.940000534057617,18.940000534057617,18.940000534057617,18.940000534057617,18.940000534057617,18.940000534057617,18.940000534057617,18.940000534057617,18.940000534057617,18.940000534057617,18.940000534057617,18.940000534057617,18.940000534057617,18.940000534057617,18.940000534057617,18.940000534057617,18.940000534057617,25.760000228881836,25.760000228881836,28.030000686645508,28.030000686645508,28.030000686645508,41.669998168945313,41.669998168945313,41.669998168945313,41.669998168945313,41.669998168945313,41.669998168945313,50.759998321533203,50.759998321533203,46.209999084472656,46.209999084472656,46.209999084472656,46.209999084472656,46.209999084472656,46.209999084472656,37.119998931884766,37.119998931884766,37.119998931884766,37.119998931884766,37.119998931884766,37.119998931884766,37.119998931884766,37.119998931884766,37.119998931884766,37.119998931884766,37.119998931884766,37.119998931884766,37.119998931884766,28.030000686645508,28.030000686645508,28.030000686645508,25.760000228881836,25.760000228881836,25.760000228881836,25.760000228881836,25.760000228881836,25.760000228881836,25.760000228881836,25.760000228881836,25.760000228881836,25.760000228881836,25.760000228881836,25.760000228881836,25.760000228881836,25.760000228881836,25.760000228881836,25.760000228881836,25.760000228881836,25.760000228881836,25.760000228881836,25.760000228881836,25.760000228881836,25.760000228881836,25.760000228881836,25.760000228881836,25.760000228881836,25.760000228881836,25.760000228881836,25.760000228881836,25.760000228881836,25.760000228881836,25.760000228881836,25.760000228881836,25.760000228881836,25.760000228881836,25.760000228881836,25.760000228881836,null,null,null,null,null,null,null,null,null,null,null,22.07684570030878]
["Uganda","LIDC","UGA",0,0,0,0,0,0,0,0,0,0,0,0,0,0,0,0,0,0,0,2.2699999809265137,2.2699999809265137,2.2699999809265137,2.2699999809265137,2.2699999809265137,2.2699999809265137,2.2699999809265137,2.2699999809265137,2.2699999809265137,11.359999656677246,11.359999656677246,11.359999656677246,11.359999656677246,11.359999656677246,11.359999656677246,11.359999656677246,11.359999656677246,13.640000343322754,13.640000343322754,13.640000343322754,13.640000343322754,13.640000343322754,16.670000076293945,16.670000076293945,16.670000076293945,16.670000076293945,16.670000076293945,16.670000076293945,16.670000076293945,16.670000076293945,16.670000076293945,16.670000076293945,16.670000076293945,16.670000076293945,16.670000076293945,16.670000076293945,16.670000076293945,16.670000076293945,16.670000076293945,16.670000076293945,16.670000076293945,16.670000076293945,16.670000076293945,16.670000076293945,16.670000076293945,16.670000076293945,16.670000076293945,16.670000076293945,16.670000076293945,16.670000076293945,16.670000076293945,16.670000076293945,16.670000076293945,16.670000076293945,16.670000076293945,16.670000076293945,16.670000076293945,16.670000076293945,30.299999237060547,30.299999237060547,39.389999389648438,39.389999389648438,41.669998168945313,41.669998168945313,41.669998168945313,64.389999389648438,64.389999389648438,64.389999389648438,64.389999389648438,64.389999389648438,84.089996337890625,84.089996337890625,84.089996337890625,84.089996337890625,84.089996337890625,84.089996337890625,84.089996337890625,84.089996337890625,84.089996337890625,84.089996337890625,84.089996337890625,84.089996337890625,84.089996337890625,84.089996337890625,84.089996337890625,84.089996337890625,84.089996337890625,84.089996337890625,84.089996337890625,84.089996337890625,84.089996337890625,84.089996337890625,84.089996337890625,84.089996337890625,84.089996337890625,84.089996337890625,84.089996337890625,84.089996337890625,84.089996337890625,84.089996337890625,84.089996337890625,84.089996337890625,84.089996337890625,84.089996337890625,84.089996337890625,84.089996337890625,84.089996337890625,81.05999755859375,81.05999755859375,81.05999755859375,81.05999755859375,81.05999755859375,81.05999755859375,81.05999755859375,81.05999755859375,81.05999755859375,81.05999755859375,81.05999755859375,81.05999755859375,78.029998779296875,78.029998779296875,78.029998779296875,78.029998779296875,78.029998779296875,78.029998779296875,78.029998779296875,78.029998779296875,73.480003356933594,73.480003356933594,73.480003356933594,73.480003356933594,73.480003356933594,73.480003356933594,73.480003356933594,null,null,null,null,null,null,null,42.862762077858577]
["Ukraine","EME","UKR",0,0,0,0,0,0,0,0,0,0,0,0,0,0,0,0,0,0,0,0,0,0,0,0,0,0,0,0,0,0,0,0,0,0,0,7.5799999237060547,7.5799999237060547,7.5799999237060547,7.5799999237060547,7.5799999237060547,7.5799999237060547,7.5799999237060547,7.5799999237060547,7.5799999237060547,7.5799999237060547,7.5799999237060547,7.5799999237060547,7.5799999237060547,7.5799999237060547,7.5799999237060547,7.5799999237060547,7.5799999237060547,7.5799999237060547,7.5799999237060547,7.5799999237060547,7.5799999237060547,7.5799999237060547,7.5799999237060547,7.5799999237060547,7.5799999237060547,7.5799999237060547,7.5799999237060547,16.670000076293945,16.670000076293945,16.670000076293945,16.670000076293945,16.670000076293945,16.670000076293945,16.670000076293945,16.670000076293945,16.670000076293945,48.479999542236328,53.029998779296875,53.029998779296875,53.029998779296875,65.150001525878906,75.760002136230469,84.849998474121094,84.849998474121094,84.849998474121094,84.849998474121094,84.849998474121094,84.849998474121094,84.849998474121094,84.849998474121094,84.849998474121094,84.849998474121094,84.849998474121094,84.849998474121094,84.849998474121094,84.849998474121094,84.849998474121094,84.849998474121094,84.849998474121094,84.849998474121094,84.849998474121094,84.849998474121094,84.849998474121094,84.849998474121094,84.849998474121094,84.849998474121094,84.849998474121094,84.849998474121094,84.849998474121094,80.300003051757813,80.300003051757813,80.300003051757813,80.300003051757813,80.300003051757813,80.300003051757813,80.300003051757813,80.300003051757813,80.300003051757813,80.300003051757813,80.300003051757813,80.300003051757813,80.300003051757813,80.300003051757813,80.300003051757813,80.300003051757813,80.300003051757813,80.300003051757813,80.300003051757813,80.300003051757813,80.300003051757813,80.300003051757813,80.300003051757813,80.300003051757813,80.300003051757813,80.300003051757813,80.300003051757813,80.300003051757813,80.300003051757813,80.300003051757813,80.300003051757813,80.300003051757813,80.300003051757813,80.300003051757813,80.300003051757813,80.300003051757813,80.300003051757813,80.300003051757813,75.760002136230469,75.760002136230469,75.760002136230469,72.730003356933594,72.730003356933594,72.730003356933594,72.730003356933594,null,null,null,null,null,null,null,null,null,null,null,44.051812703177433]
["United Arab Emirates","EME","ARE",0,0,0,0,0,0,0,0,0,0,0,0,0,0,0,0,0,0,0,0,0,0,2.2699999809265137,2.2699999809265137,2.2699999809265137,2.2699999809265137,2.2699999809265137,2.2699999809265137,2.2699999809265137,2.2699999809265137,2.2699999809265137,11.359999656677246,11.359999656677246,11.359999656677246,11.359999656677246,11.359999656677246,11.359999656677246,11.359999656677246,11.359999656677246,11.359999656677246,11.359999656677246,11.359999656677246,11.359999656677246,11.359999656677246,11.359999656677246,11.359999656677246,11.359999656677246,11.359999656677246,11.359999656677246,11.359999656677246,11.359999656677246,11.359999656677246,11.359999656677246,11.359999656677246,15.909999847412109,15.909999847412109,15.909999847412109,15.909999847412109,15.909999847412109,15.909999847412109,21.969999313354492,21.969999313354492,21.969999313354492,21.969999313354492,21.969999313354492,21.969999313354492,21.969999313354492,26.520000457763672,26.520000457763672,29.549999237060547,38.639999389648438,38.639999389648438,40.150001525878906,40.150001525878906,40.150001525878906,40.150001525878906,40.150001525878906,49.240001678466797,49.240001678466797,49.240001678466797,49.240001678466797,49.240001678466797,62.880001068115234,62.880001068115234,69.699996948242188,71.970001220703125,81.05999755859375,81.05999755859375,81.05999755859375,81.05999755859375,81.05999755859375,81.05999755859375,81.05999755859375,81.05999755859375,85.610000610351563,85.610000610351563,85.610000610351563,85.610000610351563,85.610000610351563,85.610000610351563,85.610000610351563,85.610000610351563,85.610000610351563,91.669998168945313,91.669998168945313,91.669998168945313,91.669998168945313,89.389999389648438,89.389999389648438,89.389999389648438,89.389999389648438,89.389999389648438,89.389999389648438,89.389999389648438,89.389999389648438,89.389999389648438,89.389999389648438,89.389999389648438,89.389999389648438,84.849998474121094,84.849998474121094,84.849998474121094,84.849998474121094,84.849998474121094,84.849998474121094,84.849998474121094,84.849998474121094,84.849998474121094,84.849998474121094,84.849998474121094,84.849998474121094,84.849998474121094,84.849998474121094,84.849998474121094,83.330001831054688,78.790000915527344,78.790000915527344,78.790000915527344,77.269996643066406,77.269996643066406,77.269996643066406,77.269996643066406,77.269996643066406,77.269996643066406,77.269996643066406,77.269996643066406,77.269996643066406,77.269996643066406,77.269996643066406,77.269996643066406,77.269996643066406,77.269996643066406,77.269996643066406,null,null,null,null,null,null,null,45.643223075490248]
["United Kingdom","AE","GBR",0,0,0,0,0,0,0,0,0,0,0,0,0,0,0,0,0,0,0,3.0299999713897705,3.0299999713897705,3.0299999713897705,3.0299999713897705,3.0299999713897705,3.0299999713897705,3.0299999713897705,3.0299999713897705,3.0299999713897705,3.0299999713897705,3.0299999713897705,12.119999885559082,12.119999885559082,21.209999084472656,21.209999084472656,21.209999084472656,21.209999084472656,21.209999084472656,21.209999084472656,21.209999084472656,21.209999084472656,21.209999084472656,21.209999084472656,21.209999084472656,21.209999084472656,21.209999084472656,21.209999084472656,21.209999084472656,21.209999084472656,21.209999084472656,21.209999084472656,21.209999084472656,21.209999084472656,21.209999084472656,21.209999084472656,21.209999084472656,21.209999084472656,21.209999084472656,21.209999084472656,21.209999084472656,21.209999084472656,21.209999084472656,21.209999084472656,21.209999084472656,21.209999084472656,21.209999084472656,21.209999084472656,21.209999084472656,21.209999084472656,21.209999084472656,21.209999084472656,21.209999084472656,12.119999885559082,12.119999885559082,12.119999885559082,12.119999885559082,15.149999618530273,19.700000762939453,19.700000762939453,19.700000762939453,19.700000762939453,27.270000457763672,31.819999694824219,60.610000610351563,60.610000610351563,60.610000610351563,65.150001525878906,65.150001525878906,65.150001525878906,65.150001525878906,65.150001525878906,65.150001525878906,65.150001525878906,65.150001525878906,65.150001525878906,65.150001525878906,65.150001525878906,65.150001525878906,65.150001525878906,65.150001525878906,65.150001525878906,65.150001525878906,65.150001525878906,65.150001525878906,65.150001525878906,65.150001525878906,65.150001525878906,65.150001525878906,65.150001525878906,65.150001525878906,65.150001525878906,65.150001525878906,65.150001525878906,65.150001525878906,65.150001525878906,65.150001525878906,65.150001525878906,65.150001525878906,65.150001525878906,65.150001525878906,65.150001525878906,65.150001525878906,65.150001525878906,65.150001525878906,65.150001525878906,65.150001525878906,65.150001525878906,65.150001525878906,65.150001525878906,65.150001525878906,65.150001525878906,65.150001525878906,65.150001525878906,65.150001525878906,57.580001831054688,57.580001831054688,57.580001831054688,57.580001831054688,57.580001831054688,57.580001831054688,57.580001831054688,57.580001831054688,57.580001831054688,57.580001831054688,57.580001831054688,57.580001831054688,57.580001831054688,57.580001831054688,62.119998931884766,62.119998931884766,62.119998931884766,62.119998931884766,62.119998931884766,60.610000610351563,60.610000610351563,60.610000610351563,null,null,null,null,null,36.263355667653833]
["United States","AE","USA",0,0,0,0,0,0,0,0,0,0,0,0,0,0,0,0,0,0,0,0,4.5500001907348633,4.5500001907348633,4.5500001907348633,4.5500001907348633,4.5500001907348633,4.5500001907348633,4.5500001907348633,4.5500001907348633,4.5500001907348633,4.5500001907348633,4.5500001907348633,4.5500001907348633,9.0900001525878906,9.0900001525878906,9.0900001525878906,9.0900001525878906,9.0900001525878906,9.0900001525878906,9.0900001525878906,9.0900001525878906,9.0900001525878906,9.0900001525878906,9.0900001525878906,9.0900001525878906,9.0900001525878906,9.0900001525878906,9.0900001525878906,9.0900001525878906,9.0900001525878906,9.0900001525878906,9.0900001525878906,9.0900001525878906,9.0900001525878906,9.0900001525878906,9.0900001525878906,9.0900001525878906,9.0900001525878906,9.0900001525878906,12.119999885559082,12.119999885559082,14.390000343322754,16.670000076293945,16.670000076293945,19.700000762939453,27.270000457763672,27.270000457763672,27.270000457763672,27.270000457763672,27.270000457763672,27.270000457763672,28.409999847412109,35.229999542236328,35.229999542236328,42.799999237060547,47.349998474121094,56.439998626708984,58.709999084472656,58.709999084472656,68.55999755859375,68.55999755859375,73.110000610351563,73.110000610351563,73.110000610351563,73.110000610351563,73.110000610351563,73.110000610351563,73.110000610351563,73.110000610351563,73.110000610351563,73.110000610351563,73.110000610351563,73.110000610351563,73.110000610351563,73.110000610351563,73.110000610351563,73.110000610351563,73.110000610351563,73.110000610351563,73.110000610351563,73.110000610351563,73.110000610351563,73.110000610351563,73.110000610351563,73.110000610351563,73.110000610351563,73.110000610351563,73.110000610351563,73.110000610351563,73.110000610351563,73.110000610351563,73.110000610351563,73.110000610351563,73.110000610351563,73.110000610351563,73.110000610351563,73.110000610351563,73.110000610351563,73.110000610351563,73.110000610351563,73.110000610351563,73.110000610351563,73.110000610351563,73.110000610351563,73.110000610351563,73.110000610351563,73.110000610351563,73.110000610351563,73.110000610351563,73.110000610351563,73.110000610351563,73.110000610351563,73.110000610351563,73.110000610351563,73.110000610351563,73.110000610351563,73.110000610351563,73.110000610351563,73.110000610351563,73.110000610351563,73.110000610351563,73.110000610351563,73.110000610351563,73.110000610351563,73.110000610351563,73.110000610351563,73.110000610351563,73.110000610351563,73.110000610351563,73.110000610351563,73.110000610351563,73.110000610351563,73.110000610351563,73.110000610351563,73.110000610351563,73.110000610351563,73.110000610351563,null,null,null,null,41.514145016670227]
["Uruguay","EME","URY",0,0,0,0,0,0,0,0,0,0,0,0,0,0,0,0,0,0,0,0,0,0,0,0,0,0,0,0,0,0,0,0,0,0,0,0,0,0,0,0,0,0,0,0,0,0,0,0,0,0,0,0,0,0,0,0,0,0,0,0,0,0,0,0,0,0,0,0,0,0,0,0,21.209999084472656,42.419998168945313,50,52.270000457763672,52.270000457763672,52.270000457763672,52.270000457763672,52.270000457763672,52.270000457763672,52.270000457763672,52.270000457763672,54.549999237060547,54.549999237060547,54.549999237060547,59.090000152587891,59.090000152587891,59.090000152587891,59.090000152587891,59.090000152587891,63.639999389648438,66.669998168945313,66.669998168945313,66.669998168945313,66.669998168945313,66.669998168945313,66.669998168945313,66.669998168945313,66.669998168945313,66.669998168945313,66.669998168945313,66.669998168945313,59.090000152587891,59.090000152587891,59.090000152587891,59.090000152587891,59.090000152587891,59.090000152587891,59.090000152587891,59.090000152587891,59.090000152587891,57.580001831054688,57.580001831054688,57.580001831054688,57.580001831054688,57.580001831054688,57.580001831054688,57.580001831054688,57.580001831054688,57.580001831054688,57.580001831054688,57.580001831054688,57.580001831054688,57.580001831054688,57.580001831054688,57.580001831054688,57.580001831054688,57.580001831054688,57.580001831054688,57.580001831054688,57.580001831054688,57.580001831054688,57.580001831054688,57.580001831054688,57.580001831054688,57.580001831054688,57.580001831054688,57.580001831054688,57.580001831054688,57.580001831054688,57.580001831054688,57.580001831054688,57.580001831054688,57.580001831054688,57.580001831054688,57.580001831054688,57.580001831054688,57.580001831054688,57.580001831054688,57.580001831054688,57.580001831054688,54.549999237060547,54.549999237060547,54.549999237060547,54.549999237060547,null,null,null,null,30.413881929297197]
["Uzbekistan","LIDC","UZB",0,0,0,0,0,0,0,0,0,0,0,0,0,0,0,0,0,0,0,0,9.0900001525878906,9.0900001525878906,9.0900001525878906,9.0900001525878906,9.0900001525878906,9.0900001525878906,9.0900001525878906,9.0900001525878906,12.119999885559082,12.119999885559082,12.119999885559082,12.119999885559082,12.119999885559082,12.119999885559082,12.119999885559082,12.119999885559082,12.119999885559082,12.119999885559082,12.119999885559082,12.119999885559082,12.119999885559082,12.119999885559082,12.119999885559082,12.119999885559082,12.119999885559082,12.119999885559082,12.119999885559082,12.119999885559082,12.119999885559082,12.119999885559082,12.119999885559082,12.119999885559082,12.119999885559082,12.119999885559082,12.119999885559082,12.119999885559082,12.119999885559082,12.119999885559082,12.119999885559082,12.119999885559082,16.670000076293945,16.670000076293945,16.670000076293945,16.670000076293945,16.670000076293945,16.670000076293945,16.670000076293945,16.670000076293945,16.670000076293945,16.670000076293945,16.670000076293945,16.670000076293945,16.670000076293945,16.670000076293945,25.760000228881836,61.360000610351563,61.360000610351563,61.360000610351563,61.360000610351563,61.360000610351563,64.389999389648438,64.389999389648438,71.209999084472656,78.029998779296875,78.029998779296875,78.029998779296875,86.360000610351563,86.360000610351563,86.360000610351563,86.360000610351563,86.360000610351563,86.360000610351563,86.360000610351563,86.360000610351563,86.360000610351563,86.360000610351563,86.360000610351563,86.360000610351563,86.360000610351563,86.360000610351563,86.360000610351563,86.360000610351563,86.360000610351563,86.360000610351563,86.360000610351563,86.360000610351563,86.360000610351563,86.360000610351563,86.360000610351563,86.360000610351563,86.360000610351563,86.360000610351563,86.360000610351563,86.360000610351563,86.360000610351563,86.360000610351563,86.360000610351563,86.360000610351563,90.910003662109375,90.910003662109375,90.910003662109375,90.910003662109375,90.910003662109375,90.910003662109375,90.910003662109375,90.910003662109375,90.910003662109375,90.910003662109375,84.849998474121094,84.849998474121094,84.849998474121094,84.849998474121094,84.849998474121094,84.849998474121094,84.849998474121094,84.849998474121094,84.849998474121094,84.849998474121094,82.580001831054688,82.580001831054688,82.580001831054688,82.580001831054688,82.580001831054688,82.580001831054688,82.580001831054688,82.580001831054688,82.580001831054688,82.580001831054688,82.580001831054688,null,null,null,null,null,null,null,null,null,null,null,46.242148034524597]
["Venezuela","EME","VEN",0,0,0,0,0,0,0,0,0,0,0,0,0,0,0,0,0,0,0,0,0,0,0,0,0,0,0,0,0,0,0,0,0,0,0,0,0,0,0,0,3.0299999713897705,3.0299999713897705,3.0299999713897705,3.0299999713897705,3.0299999713897705,3.0299999713897705,3.0299999713897705,3.0299999713897705,3.0299999713897705,3.0299999713897705,3.0299999713897705,3.0299999713897705,3.0299999713897705,3.0299999713897705,3.0299999713897705,3.0299999713897705,3.0299999713897705,3.0299999713897705,12.119999885559082,12.119999885559082,12.119999885559082,12.119999885559082,12.119999885559082,12.119999885559082,12.119999885559082,12.119999885559082,12.119999885559082,12.119999885559082,12.119999885559082,12.119999885559082,12.119999885559082,30.299999237060547,45.450000762939453,45.450000762939453,45.450000762939453,62.119998931884766,68.180000305175781,70.449996948242188,70.449996948242188,70.449996948242188,70.449996948242188,70.449996948242188,70.449996948242188,70.449996948242188,70.449996948242188,70.449996948242188,70.449996948242188,70.449996948242188,70.449996948242188,70.449996948242188,70.449996948242188,70.449996948242188,70.449996948242188,70.449996948242188,70.449996948242188,70.449996948242188,70.449996948242188,70.449996948242188,70.449996948242188,70.449996948242188,70.449996948242188,70.449996948242188,70.449996948242188,70.449996948242188,70.449996948242188,70.449996948242188,70.449996948242188,70.449996948242188,70.449996948242188,70.449996948242188,70.449996948242188,70.449996948242188,70.449996948242188,70.449996948242188,70.449996948242188,70.449996948242188,70.449996948242188,70.449996948242188,70.449996948242188,70.449996948242188,70.449996948242188,70.449996948242188,70.449996948242188,70.449996948242188,70.449996948242188,70.449996948242188,70.449996948242188,70.449996948242188,76.519996643066406,76.519996643066406,76.519996643066406,76.519996643066406,76.519996643066406,78.790000915527344,78.790000915527344,78.790000915527344,78.790000915527344,78.790000915527344,78.790000915527344,78.790000915527344,78.790000915527344,78.790000915527344,78.790000915527344,78.790000915527344,78.790000915527344,78.790000915527344,78.790000915527344,78.790000915527344,78.790000915527344,78.790000915527344,78.790000915527344,78.790000915527344,78.790000915527344,null,null,null,null,null,null,null,39.352696340335044]
["Vietnam","LIDC","VNM",0,0,0,0,0,0,0,0,0,0,0,0,0,0,0,0,0,0,0,0,0,0,0,0,2.2699999809265137,2.2699999809265137,5.3000001907348633,5.3000001907348633,21.969999313354492,24.239999771118164,24.239999771118164,26.520000457763672,26.520000457763672,26.520000457763672,26.520000457763672,26.520000457763672,26.520000457763672,34.090000152587891,40.909999847412109,40.909999847412109,40.909999847412109,40.909999847412109,40.909999847412109,47.729999542236328,47.729999542236328,49.240001678466797,49.240001678466797,49.240001678466797,49.240001678466797,49.240001678466797,49.240001678466797,49.240001678466797,49.240001678466797,49.240001678466797,49.240001678466797,49.240001678466797,49.240001678466797,49.240001678466797,49.240001678466797,49.240001678466797,49.240001678466797,49.240001678466797,49.240001678466797,49.240001678466797,49.240001678466797,49.240001678466797,53.790000915527344,53.790000915527344,53.790000915527344,53.790000915527344,53.790000915527344,53.790000915527344,53.790000915527344,53.790000915527344,53.790000915527344,53.790000915527344,53.790000915527344,53.790000915527344,53.790000915527344,53.790000915527344,53.790000915527344,56.060001373291016,56.060001373291016,56.060001373291016,60.610000610351563,65.150001525878906,69.699996948242188,83.330001831054688,83.330001831054688,83.330001831054688,83.330001831054688,93.94000244140625,93.94000244140625,93.94000244140625,93.94000244140625,93.94000244140625,93.94000244140625,93.94000244140625,93.94000244140625,96.970001220703125,96.970001220703125,96.970001220703125,96.970001220703125,96.970001220703125,96.970001220703125,89.019996643066406,89.019996643066406,89.019996643066406,89.019996643066406,89.019996643066406,89.019996643066406,89.019996643066406,81.819999694824219,81.819999694824219,81.819999694824219,77.269996643066406,79.550003051757813,79.550003051757813,79.550003051757813,79.550003051757813,79.550003051757813,79.550003051757813,79.550003051757813,79.550003051757813,71.970001220703125,71.970001220703125,71.970001220703125,71.970001220703125,71.970001220703125,71.970001220703125,71.970001220703125,71.970001220703125,71.970001220703125,71.970001220703125,71.970001220703125,71.970001220703125,71.970001220703125,71.970001220703125,71.970001220703125,71.970001220703125,71.970001220703125,71.970001220703125,71.970001220703125,71.970001220703125,71.970001220703125,71.970001220703125,71.970001220703125,71.970001220703125,71.970001220703125,71.970001220703125,71.970001220703125,71.970001220703125,71.970001220703125,71.970001220703125,71.970001220703125,71.970001220703125,null,null,null,null,52.943619194783665]
["Yemen","LIDC","YEM",0,0,0,0,0,0,0,0,0,0,0,0,0,0,0,0,0,0,0,0,0,0,0,0,0,0,0,0,0,0,0,0,0,0,0,0,0,0,0,0,0,0,0,0,0,0,0,0,0,0,0,0,0,0,0,0,0,0,0,0,0,0,0,0,0,0,0,0,0,0,0,0,0,0,9.0900001525878906,9.0900001525878906,18.180000305175781,18.180000305175781,27.270000457763672,27.270000457763672,31.819999694824219,31.819999694824219,31.819999694824219,31.819999694824219,31.819999694824219,31.819999694824219,31.819999694824219,31.819999694824219,31.819999694824219,31.819999694824219,31.819999694824219,31.819999694824219,31.819999694824219,31.819999694824219,31.819999694824219,31.819999694824219,31.819999694824219,31.819999694824219,31.819999694824219,31.819999694824219,33.330001831054688,33.330001831054688,33.330001831054688,33.330001831054688,33.330001831054688,33.330001831054688,33.330001831054688,33.330001831054688,33.330001831054688,33.330001831054688,33.330001831054688,33.330001831054688,33.330001831054688,33.330001831054688,33.330001831054688,33.330001831054688,33.330001831054688,33.330001831054688,33.330001831054688,33.330001831054688,43.180000305175781,47.729999542236328,47.729999542236328,47.729999542236328,47.729999542236328,46.209999084472656,46.209999084472656,46.209999084472656,46.209999084472656,46.209999084472656,46.209999084472656,46.209999084472656,46.209999084472656,46.209999084472656,46.209999084472656,46.209999084472656,46.209999084472656,46.209999084472656,46.209999084472656,46.209999084472656,46.209999084472656,46.209999084472656,46.209999084472656,46.209999084472656,46.209999084472656,46.209999084472656,46.209999084472656,46.209999084472656,47.729999542236328,47.729999542236328,47.729999542236328,47.729999542236328,47.729999542236328,47.729999542236328,47.729999542236328,47.729999542236328,47.729999542236328,47.729999542236328,47.729999542236328,null,19.078486894306383]
["Zambia","LIDC","ZMB",0,0,0,0,0,0,0,0,0,0,0,0,0,0,0,0,0,0,0,0,0,0,0,0,0,0,0,0,0,0,0,0,0,0,0,0,0,0,0,0,0,0,0,0,0,0,0,0,0,0,0,13.640000343322754,13.640000343322754,13.640000343322754,13.640000343322754,13.640000343322754,13.640000343322754,13.640000343322754,13.640000343322754,13.640000343322754,13.640000343322754,13.640000343322754,13.640000343322754,13.640000343322754,13.640000343322754,13.640000343322754,13.640000343322754,13.640000343322754,13.640000343322754,13.640000343322754,13.640000343322754,13.640000343322754,13.640000343322754,13.640000343322754,13.640000343322754,13.640000343322754,13.640000343322754,16.670000076293945,16.670000076293945,25.760000228881836,25.760000228881836,25.760000228881836,25.760000228881836,25.760000228881836,25.760000228881836,41.669998168945313,46.209999084472656,46.209999084472656,50.759998321533203,50.759998321533203,50.759998321533203,50.759998321533203,50.759998321533203,50.759998321533203,50.759998321533203,50.759998321533203,50.759998321533203,50.759998321533203,50.759998321533203,53.790000915527344,53.790000915527344,53.790000915527344,53.790000915527344,53.790000915527344,56.060001373291016,65.529998779296875,65.529998779296875,65.529998779296875,65.529998779296875,65.529998779296875,65.529998779296875,65.529998779296875,65.529998779296875,65.529998779296875,65.529998779296875,65.529998779296875,65.529998779296875,65.529998779296875,65.529998779296875,65.529998779296875,65.529998779296875,65.529998779296875,70.080001831054688,70.080001831054688,70.080001831054688,70.080001831054688,70.080001831054688,70.080001831054688,47.729999542236328,47.729999542236328,47.729999542236328,47.729999542236328,47.729999542236328,47.729999542236328,47.729999542236328,47.729999542236328,47.729999542236328,47.729999542236328,47.729999542236328,47.729999542236328,47.729999542236328,47.729999542236328,47.729999542236328,47.729999542236328,47.729999542236328,47.729999542236328,47.729999542236328,47.729999542236328,47.729999542236328,47.729999542236328,47.729999542236328,47.729999542236328,47.729999542236328,47.729999542236328,47.729999542236328,47.729999542236328,47.729999542236328,null,null,null,27.894802457407902]
["Zimbabwe","LIDC","ZWE",0,0,0,0,0,0,0,0,0,0,0,0,0,0,0,0,0,0,0,0,0,0,0,0,0,0,4.5500001907348633,6.820000171661377,6.820000171661377,6.820000171661377,6.820000171661377,6.820000171661377,6.820000171661377,6.820000171661377,6.820000171661377,6.820000171661377,6.820000171661377,6.820000171661377,6.820000171661377,6.820000171661377,6.820000171661377,6.820000171661377,6.820000171661377,6.820000171661377,6.820000171661377,6.820000171661377,6.820000171661377,6.820000171661377,6.820000171661377,6.820000171661377,6.820000171661377,6.820000171661377,6.820000171661377,6.820000171661377,6.820000171661377,6.820000171661377,6.820000171661377,6.820000171661377,6.820000171661377,6.820000171661377,6.820000171661377,6.820000171661377,6.820000171661377,6.820000171661377,6.820000171661377,6.820000171661377,6.820000171661377,6.820000171661377,6.820000171661377,6.820000171661377,6.820000171661377,6.820000171661377,6.820000171661377,6.820000171661377,6.820000171661377,6.820000171661377,22.729999542236328,22.729999542236328,22.729999542236328,22.729999542236328,22.729999542236328,22.729999542236328,37.119998931884766,50.759998321533203,50.759998321533203,50.759998321533203,55.299999237060547,55.299999237060547,55.299999237060547,76.519996643066406,76.519996643066406,76.519996643066406,76.519996643066406,76.519996643066406,76.519996643066406,76.519996643066406,76.519996643066406,76.519996643066406,76.519996643066406,79.550003051757813,79.550003051757813,79.550003051757813,79.550003051757813,79.550003051757813,79.550003051757813,79.550003051757813,79.550003051757813,79.550003051757813,79.550003051757813,79.550003051757813,79.550003051757813,79.550003051757813,79.550003051757813,79.550003051757813,79.550003051757813,79.550003051757813,79.550003051757813,79.550003051757813,79.550003051757813,79.550003051757813,79.550003051757813,79.550003051757813,79.550003051757813,79.550003051757813,79.550003051757813,79.550003051757813,79.550003051757813,79.550003051757813,79.550003051757813,79.550003051757813,79.550003051757813,79.550003051757813,79.550003051757813,79.550003051757813,79.550003051757813,79.550003051757813,79.550003051757813,79.550003051757813,79.550003051757813,79.550003051757813,79.550003051757813,79.550003051757813,79.550003051757813,79.550003051757813,79.550003051757813,79.550003051757813,79.550003051757813,79.550003051757813,79.550003051757813,79.550003051757813,79.550003051757813,79.550003051757813,79.550003051757813,79.550003051757813,79.550003051757813,79.550003051757813,null,null,null,null,38.235263984454306]
[null,null,null,{"$f":"+MAX(D5:D177)","v":12.119999885559082},14.390000343322754,14.390000343322754,14.390000343322754,14.390000343322754,14.390000343322754,14.390000343322754,14.390000343322754,14.390000343322754,14.390000343322754,14.390000343322754,14.390000343322754,14.390000343322754,14.390000343322754,18.940000534057617,18.940000534057617,18.940000534057617,18.940000534057617,18.940000534057617,23.479999542236328,23.479999542236328,33.709999084472656,48.860000610351563,48.860000610351563,51.139999389648438,69.319999694824219,69.319999694824219,69.319999694824219,69.319999694824219,69.319999694824219,69.319999694824219,75.379997253417969,75.379997253417969,75.379997253417969,75.379997253417969,75.379997253417969,75.379997253417969,75.379997253417969,75.379997253417969,75.379997253417969,73.860000610351563,73.860000610351563,73.860000610351563,73.860000610351563,73.860000610351563,73.860000610351563,76.889999389648438,76.889999389648438,76.889999389648438,76.889999389648438,76.889999389648438,76.889999389648438,76.889999389648438,76.889999389648438,76.889999389648438,81.44000244140625,81.44000244140625,81.44000244140625,81.44000244140625,81.44000244140625,81.44000244140625,81.44000244140625,81.44000244140625,81.44000244140625,{"$f":"+MAX(BP5:BP177)","v":81.44000244140625},81.44000244140625,81.44000244140625,81.44000244140625,81.44000244140625,82.580001831054688,84.849998474121094,84.849998474121094,84.849998474121094,84.849998474121094,84.849998474121094,84.849998474121094,84.849998474121094,94.699996948242188,94.699996948242188,94.699996948242188,96.970001220703125,96.970001220703125,96.970001220703125,96.970001220703125,96.970001220703125,96.970001220703125,96.970001220703125,96.970001220703125,96.970001220703125,96.970001220703125,96.970001220703125,96.970001220703125,96.970001220703125,96.970001220703125,96.970001220703125,96.970001220703125,96.970001220703125,96.970001220703125,96.970001220703125,100,100,100,100,100,100,100,100,100,100,100,96.970001220703125,96.970001220703125,96.970001220703125,96.970001220703125,96.970001220703125,100,100,100,100,100,100,100,100,100,100,100,100,100,{"$f":"+MAX(EB5:EB177)","v":100},100,100,96.970001220703125,96.970001220703125,96.970001220703125,96.970001220703125,96.970001220703125,96.970001220703125,96.970001220703125,96.970001220703125,96.970001220703125,96.970001220703125,96.970001220703125,96.970001220703125,96.970001220703125,96.970001220703125,95.449996948242188,95.449996948242188,95.449996948242188,95.449996948242188,95.449996948242188,95.449996948242188,95.449996948242188,95.449996948242188,88.639999389648438,88.639999389648438,88.639999389648438,88.639999389648438,88.639999389648438,88.639999389648438]
[]
[]
[]
[]
[]
[]
[]
[]
[]
[]
[]
[]
[]
[]
[]
[]
[]
[]
[]
[]
[]
[]
[]
[]
[]
[]
[]
[]
[]
[]
[]
[]
[]
[]
[]
[]
[]
[]
[]
[]
[]
[]
[]
[]
[]
[]
[]
[]
[]
[]
[]
[]
[]
[]
[]
[]
[]
[]
[]
[]
[]
[]
[]
[]
[]
[]
[]
[]
[]
[]
[]
[]
[]
[]
[]
[]
[]
[]
[]
[]
[]
[]
[]
[]
[]
[]
[]
[]
[]
[]
[]
[]
[]
[]
[]
[]
[]
[]
[]
[]
[]
[]
[]
[]
[]
[]
[]
[]
[]
[]
[]
[]
[]
[]
[]
[]
[]
[]
[]
[]
[]
[]
[]
[]
[]
[]
[]
[]
[]
[]
[]
[]
["",null,""]
["Note: Data from 07 Jun 2020. Individual countries may be several days older.",null,""]
["Source: Oxford COVID-19 Government Response Tracker. More at: github.com/OxCGRT/covid-policy-tracker or bsg.ox.ac.uk/covidtracker",null,""]
[null,null,null,"01jan2020","02jan2020","03jan2020","04jan2020","05jan2020","06jan2020","07jan2020","08jan2020","09jan2020","10jan2020","11jan2020","12jan2020","13jan2020","14jan2020","15jan2020","16jan2020","17jan2020","18jan2020","19jan2020","20jan2020","21jan2020","22jan2020","23jan2020","24jan2020","25jan2020","26jan2020","27jan2020","28jan2020","29jan2020","30jan2020","31jan2020","01feb2020","02feb2020","03feb2020","04feb2020","05feb2020","06feb2020","07feb2020","08feb2020","09feb2020","10feb2020","11feb2020","12feb2020","13feb2020","14feb2020","15feb2020","16feb2020","17feb2020","18feb2020","19feb2020","20feb2020","21feb2020","22feb2020","23feb2020","24feb2020","25feb2020","26feb2020","27feb2020","28feb2020","29feb2020","01mar2020","02mar2020","03mar2020","04mar2020","05mar2020","06mar2020","07mar2020","08mar2020","09mar2020","10mar2020","11mar2020","12mar2020","13mar2020","14mar2020","15mar2020","16mar2020","17mar2020","18mar2020","19mar2020","20mar2020","21mar2020","22mar2020","23mar2020","24mar2020","25mar2020","26mar2020","27mar2020","28mar2020","29mar2020","30mar2020","31mar2020","01apr2020","02apr2020","03apr2020","04apr2020","05apr2020","06apr2020","07apr2020","08apr2020","09apr2020","10apr2020","11apr2020","12apr2020","13apr2020","14apr2020","15apr2020","16apr2020","17apr2020","18apr2020","19apr2020","20apr2020","21apr2020","22apr2020","23apr2020","24apr2020","25apr2020","26apr2020","27apr2020","28apr2020","29apr2020","30apr2020","01may2020","02may2020","03may2020","04may2020","05may2020","06may2020","07may2020","08may2020","09may2020","10may2020","11may2020","12may2020","13may2020","14may2020","15may2020","16may2020","17may2020","18may2020","19may2020","20may2020","21may2020","22may2020","23may2020","24may2020","25may2020","26may2020","27may2020","28may2020","29may2020","30may2020","31may2020","01jun2020","02jun2020","03jun2020","04jun2020","05jun2020","06jun2020","07jun2020"]
[null,null,"All",{"$f":"+AVERAGE(D5:D177)","v":0.41606936702838521},0.52554913890155064,0.55184971803874638,0.55184971803874638,0.59121388231398742,0.6568786202138559,0.67000000738684151,0.70063584663964418,0.70063584663964418,0.70063584663964418,0.70063584663964418,0.71815030147574543,0.75317920701352159,0.81450868479778316,0.92404626146217306,1.0204046420279267,1.0204046420279267,1.0466474163738979,1.0466474163738979,1.2393063713360384,1.5721965470065959,2.1217341064717727,2.6823121743395149,3.1114451168589508,3.374277499369803,3.7858381671023507,4.2675144865333685,4.6791908024363433,5.2747399048998176,5.6513873111305895,6.5750867341984218,7.0173410528657065,7.3106358271802785,7.6302312054386032,7.7923121300735918,8.0550867036587928,8.2609248740135595,8.6856647626512995,8.7557225585672889,8.7995375870280181,8.852080963939601,9.0667052337889036,9.1893063790536349,9.2287283426075319,9.3250867245514275,9.3732370296654679,9.3557225886107869,9.4565318485215908,9.5090752020047571,9.5528324449682511,9.6097688606019656,9.9994798326767942,10.135260180930871,10.487803550124857,10.781329560142032,11.503872921012041,11.867283320840384,12.384046314768709,12.913872902103931,13.273121476862473,13.991098333645418,14.477109885629202,14.81421972010177,15.44057806930101,{"$f":"+AVERAGE(BP5:BP177)","v":16.495780389432962},17.205317986493856,17.673815108448096,18.37670528681981,19.3883238031685,21.172832523467225,22.804219809570753,25.554277588177278,29.311560830628942,31.678265958852162,34.043063607519073,40.381502755115484,43.315548968452937,47.344219406216133,50.615433194044698,52.848843784001524,55.171733969208823,56.809479650045404,59.756358419539609,61.646185072860277,63.205202353482989,64.488381664187926,66.244393241198765,67.549306734448919,68.199595751789957,69.925086917215694,70.726416568535598,71.53208126498096,71.724682364160614,72.120925068166216,72.541387513882853,72.869826818477208,73.259595606368407,73.498266131891683,74.0151446678735,74.361040578412187,74.733179345985363,74.851387398780432,74.976185087523703,75.271791998361579,75.660872171091484,75.315549188955671,75.451329523428328,75.521387386873272,75.711676371579912,75.698497121733737,75.212543443448283,75.068092588744406,74.943352759918042,74.882081070387301,74.925780500290713,74.90381523088223,74.925780566441532,74.772543493722907,74.772427884140455,74.862254501078169,74.840404753051047,74.818497277408667,74.792254497550132,74.689364350600044,73.721560858577661,73.590115718069796,73.213583951740603,73.257399029814437,{"$f":"+AVERAGE(EB5:EB177)","v":72.823873073379431},72.819479975397186,72.915838390416496,72.274162099540575,72.184451136285858,72.042138937580788,71.623930831865081,71.573699537729254,71.464277510009055,71.308843943425003,70.386878581405369,70.312485590146451,70.211676305429094,70.054046267029861,69.979595415854035,69.887687870532787,69.826416158951773,69.353859616999046,68.939583239101225,68.741130891300386,68.604363568623867,68.088102013525301,67.774736669726835,67.788702047508181,66.224561047135737,64.734749639034277,65.102337416116299,64.105522255399336,66.581289906655584,68.307916402816772,69.034374475479126]
[null,null,"AE",0.82441175685209389,1.3814705960890825,1.3814705960890825,1.3814705960890825,1.3814705960890825,1.3814705960890825,1.4482353014104508,1.4482353014104508,1.4482353014104508,1.4482353014104508,1.4482353014104508,1.4482353014104508,1.5373529686647303,1.5373529686647303,1.7602941569160013,1.7602941569160013,1.7602941569160013,1.7602941569160013,1.7602941569160013,2.3394117705962238,2.7405882232329426,3.3420587918337654,4.1888235456803269,4.6570588560665351,5.5708824746748977,6.4620588106267594,7.1747059120851402,7.5982354108025048,7.910294203197255,8.2447059785618499,9.9600000942454621,10.383235377423903,11.65294117787305,11.719705897219042,12.12088234985576,12.12088234985576,12.321176451795241,12.4550000148661,12.54411762602189,12.677941161043504,12.677941161043504,12.677941161043504,12.811470543636995,12.811470543636995,12.811470543636995,12.945294078658609,13.034411802011377,13.034411802011377,13.034411802011377,13.123529525364146,13.257353088435005,13.457941258654875,13.680588308502646,14.471764823969673,14.917353041031781,16.031470663407269,16.967353000360376,17.903529461692361,19.106470640967874,19.775588400223675,20.822647234972784,21.42411776149974,21.78029416589176,23.295588212854721,24.409411766949823,24.721764788908118,24.587941338034238,24.587941338034238,26.503823729122388,28.553823835709515,30.102941344766055,35.495588246513819,39.951470683602729,43.159705863279456,45.92294106763952,53.497940848855414,55.904411372016455,57.620293673347021,60.339117050170898,61.564411387724036,62.745587966021368,63.00176440968233,65.508235314313097,66.878529660841991,67.056470646577722,67.903235715978283,68.772059160120349,69.061470929314112,69.629706214455993,70.120000278248511,70.25382389741786,70.610588522518384,70.454411899342261,70.810882343965417,70.899999955121203,70.899999955121203,71.100882361916931,71.880882487577551,73.084117665010339,73.21794105978573,73.418235330020678,73.529705945183252,73.663529339958643,73.730588127585023,73.151176003848803,73.084411284502821,73.307058222153614,73.240293615004589,73.19558760699104,73.106469771441297,72.482646381153785,72.259999331306005,72.215587503769825,72.282352335312794,72.349117054658777,72.349117054658777,72.259999443502991,71.858823103063244,71.702646704281079,71.791764539830822,71.546764261582325,71.50205847796272,71.435293646419751,71.346176035263966,70.109705532298364,69.753235087675208,69.619411468505859,69.485882142010851,69.107058917774879,69.107058917774879,69.107058917774879,67.59147038179286,67.59147038179286,67.36882333194508,65.530588150024414,65.352352815515857,65.341470269595874,65.341470269595874,64.260000004487878,64.081764782176293,64.103823605705713,63.81441194870893,63.81441194870893,63.903529559864715,63.814411724314972,62.143235430997962,61.937272852117367,61.983030377012312,61.983030377012312,60.957142966134207,60.830000135633682,60.830000135633682,55.879524049304777,55.761052984940378,56.751176946303424,53.524615654578575,50.189999580383301,53.030000050862633,45.450000762939453]
[null,null,"EME",0.37891305011251697,0.37891305011251697,0.42836957392485248,0.42836957392485248,0.50239131761633826,0.62586957475413452,0.62586957475413452,0.68347827247951343,0.68347827247951343,0.68347827247951343,0.68347827247951343,0.71641306255174719,0.71641306255174719,0.83173914577649988,0.88119566958883533,1.0129347987796948,1.0129347987796948,1.0622826244520105,1.0622826244520105,1.1611956720766814,1.3423913276713828,2.05467391791551,2.7465217942776889,3.2076087386711785,3.3147826376168625,3.7346739432086116,4.2205435270848479,4.5910870070042815,5.1180435030356701,5.6780435080113616,6.7317391633987427,7.2586956542471182,7.3080434799194336,7.8350000018658843,7.9338043513505356,8.3126087033230327,8.4691304745881446,9.0866304713746775,9.1113043868023418,9.1442391665085498,9.2101087699765749,9.3913044022477195,9.5725000448848885,9.5725000448848885,9.7536956978880838,9.7783696159072537,9.8113043852474373,9.9020652796911151,10.000869629175767,10.050217460031094,10.107826142207436,10.560652227505393,10.684239187966222,11.054782680843187,11.318478348462477,12.117174026758775,12.454674023648966,12.981630524863368,13.434565300526826,13.862826165945634,14.620217447695525,15.18010875971421,15.558804442053257,16.044782667056374,17.568043542944867,18.350434857866038,18.81152179448501,19.75847834089528,20.755108802214913,23.279021892858587,25.420108896234762,27.98097849410513,31.785543729429659,34.218587121237881,36.927934926489122,42.646630271621369,46.212282465851828,50.234456280003421,52.770869265431941,55.356956440469496,57.258804388668224,59.181630533674486,62.100326242654219,64.398261033970371,65.9917392782543,67.045869749525323,68.676521886949956,70.068152474320456,70.50456557584846,71.628587147463918,72.666087404541344,73.53880476433298,73.859891647877902,74.489674158718273,75.057935092760175,75.263804684514582,75.642500296882957,75.663043727045476,76.182065341783613,76.585434830707058,77.095869603364363,77.153478166331411,77.190543464992359,77.194673911384911,77.23576093756634,77.235760979030445,77.359347965406329,77.524021977963656,77.840869737708047,77.947826261105746,77.56097857848458,77.371630772300392,77.363478639851451,77.198804668758228,77.239891612011448,77.132717775261924,77.215109016584307,77.03413061473681,77.042174028313681,77.178152270939037,77.10402183947356,77.095761029616639,77.021630598151162,76.754021872644842,75.864674049875006,75.963478274967358,75.782391320104182,75.94717405153358,75.757826286813483,75.749565352564275,75.996739325316057,75.634456862574041,75.457391635231346,75.552065455395237,75.543804562610134,75.515217470086142,75.284565324368685,75.198152189669401,74.432282427082896,74.325326028077498,74.127608568772033,73.93815204371576,73.839239058287248,73.715760832247526,73.682826062907338,73.552555444505487,73.007499759847462,72.611477114937529,72.362092838730916,71.975774335189598,71.706666393556461,71.851342870228322,70.50593162795245,69.980999326705927,69.949486708029724,69.275142506190704,73.265788931595651,75.656666183471685]
[null,null,"LIDC",0.19340425856569979,0.19340425856569979,0.19340425856569979,0.19340425856569979,0.19340425856569979,0.19340425856569979,0.19340425856569979,0.19340425856569979,0.19340425856569979,0.19340425856569979,0.19340425856569979,0.19340425856569979,0.25787234306335449,0.25787234306335449,0.40297872969444765,0.49978723931819835,0.49978723931819835,0.49978723931819835,0.49978723931819835,0.59638298318741167,1.1768085297117843,1.3702127882774839,1.4668085220012259,1.8051063862252743,1.901702140239959,1.9500000121745658,2.2563829929270645,2.7400000044640076,3.6748935821208546,3.7231914642009327,3.8197872080701463,4.1099999813323329,4.1744680404663086,4.2710637843355217,4.3840425166677921,4.6097872155777955,4.9161702166212367,5.1740425546118551,5.3191489310974767,5.3191489310974767,5.3836170308133386,5.8189361907066184,5.8189361907066184,5.9640425671922399,5.9640425671922399,5.9961702722184205,5.802766023798192,5.9961702722184205,5.9961702722184205,5.9961702722184205,5.9961702722184205,6.3991490069856036,6.4959575216820902,6.4959575216820902,6.7378723925732551,7.0280851556899702,7.0280851556899702,7.2214894142556698,7.4148936728213695,7.4148936728213695,7.8176595860339226,8.075531924024542,8.3174468354975932,8.5755319443154843,8.6721276881846983,9.5263830195081987,10.445106450547563,11.178723441793563,11.565531943706755,11.710638340483321,12.403829848512689,13.612553210968667,16.7719148372082,18.399999922894416,19.802127543916093,26.459148995419767,28.538510596498529,34.252978608963339,39.362127456259223,41.634467977158565,45.607446427040912,47.686595328310702,51.007233863181256,52.474042425764367,54.964680671691895,57.011914821381268,59.655106503912741,61.524894166500012,62.653191931704256,66.449574673429453,67.27148963035421,68.270638526754183,68.464042825901757,68.431915202039349,68.802766231780353,69.608723620150954,70.156808771985638,70.430851347902987,70.447021606120657,70.833830204415833,71.059574938834984,71.301277160644531,71.591277102206618,72.622766373005319,74.366087457408071,73.170851403094346,73.267659897499897,73.251489639282227,73.364042931414659,73.17063859168519,72.590425734824322,72.590425734824322,72.179362073857732,72.227872686183204,72.260000391209374,72.388936590641109,72.372979306160133,72.453404730938857,72.550213306508169,72.550213306508169,72.792128258563096,72.760000553536926,72.856809129106239,73.066383727053378,72.139362294623197,71.720000530811063,70.785319835581674,70.720638863583829,69.769574895818181,69.769574895818181,69.640425966141066,69.084042954952153,69.100426024578994,68.552340872744296,68.358936533014827,68.358936533014827,68.415532132412523,68.012553438227229,66.900425768913109,66.964893828047082,66.964893828047082,66.964893828047082,66.884468240940819,66.723404255319153,66.626808491158997,66.529999996753446,66.239574493245883,66.239574493245883,66.329130483710244,66.078684079019652,65.509999790707155,65.509999790707155,65.184705537908215,62.860951968601775,62.860951968601775,61.822105257134687,58.901249885559082,57.575000127156578,59.394000244140628]
[]
[]
[]
[]
[]
[]
[]
[]
[]
[]
[]
[]
[]
[]
[]
[]
[]
[]
[]
[]
[]
[null,null,null,null,null,null,null,null,null,null,null,null,null,null,null,null,null,null,null,null,null,null,null,null,null,null,null,null,null,null,null,null,null,null,null,null,null,null,null,null,null,null,null,null,null,null,null,null,null,null,null,null,null,null,null,null,null,null,null,null,null,null,null,null,null,null,null,null,null,null,null,null,null,null,null,null,null,null,null,null,null,null,null,null,null,null,null,null,null,null,null,null,null,null,null,null,null,null,null,null,null,null,null,null,null,null,null,null,null,null,null,null,null,null,null,null,null,null,null,null,null,null,null,null,null,null,null,null,null,null,null,null,null,null,null,null,null,null,null,null,null,null,null,null,null,null,null,null,"Containment and closure"]
[null,null,null,null,null,null,null,null,null,null,null,null,null,null,null,null,null,null,null,null,null,null,null,null,null,null,null,null,null,null,null,null,null,null,null,null,null,null,null,null,null,null,null,null,null,null,null,null,null,null,null,null,null,null,null,null,null,null,null,null,null,null,null,null,null,null,null,null,null,null,null,null,null,null,null,null,null,null,null,null,null,null,null,null,null,null,null,null,null,null,null,null,null,null,null,null,null,null,null,null,null,null,null,null,null,null,null,null,null,null,null,null,null,null,null,null,null,null,null,null,null,null,null,null,null,null,null,null,null,null,null,null,null,null,null,null,null,null,null,null,null,null,null,null,null,null,null,null,"C1 School closing Ordinal Geographic"]
[null,null,null,null,null,null,null,null,null,null,null,null,null,null,null,null,null,null,null,null,null,null,null,null,null,null,null,null,null,null,null,null,null,null,null,null,null,null,null,null,null,null,null,null,null,null,null,null,null,null,null,null,null,null,null,null,null,null,null,null,null,null,null,null,null,null,null,null,null,null,null,null,null,null,null,null,null,null,null,null,null,null,null,null,null,null,null,null,null,null,null,null,null,null,null,null,null,null,null,null,null,null,null,null,null,null,null,null,null,null,null,null,null,null,null,null,null,null,null,null,null,null,null,null,null,null,null,null,null,null,null,null,null,null,null,null,null,null,null,null,null,null,null,null,null,null,null,null,"C2 Workplace closing Ordinal Geographic"]
[null,null,null,null,null,null,null,null,null,null,null,null,null,null,null,null,null,null,null,null,null,null,null,null,null,null,null,null,null,null,null,null,null,null,null,null,null,null,null,null,null,null,null,null,null,null,null,null,null,null,null,null,null,null,null,null,null,null,null,null,null,null,null,null,null,null,null,null,null,null,null,null,null,null,null,null,null,null,null,null,null,null,null,null,null,null,null,null,null,null,null,null,null,null,null,null,null,null,null,null,null,null,null,null,null,null,null,null,null,null,null,null,null,null,null,null,null,null,null,null,null,null,null,null,null,null,null,null,null,null,null,null,null,null,null,null,null,null,null,null,null,null,null,null,null,null,null,null,"C3 Cancel public events Ordinal Geographic"]
[null,null,null,null,null,null,null,null,null,null,null,null,null,null,null,null,null,null,null,null,null,null,null,null,null,null,null,null,null,null,null,null,null,null,null,null,null,null,null,null,null,null,null,null,null,null,null,null,null,null,null,null,null,null,null,null,null,null,null,null,null,null,null,null,null,null,null,null,null,null,null,null,null,null,null,null,null,null,null,null,null,null,null,null,null,null,null,null,null,null,null,null,null,null,null,null,null,null,null,null,null,null,null,null,null,null,null,null,null,null,null,null,null,null,null,null,null,null,null,null,null,null,null,null,null,null,null,null,null,null,null,null,null,null,null,null,null,null,null,null,null,null,null,null,null,null,null,null,"C4 Restrictions on gathering size Ordinal Geographic"]
[null,null,null,null,null,null,null,null,null,null,null,null,null,null,null,null,null,null,null,null,null,null,null,null,null,null,null,null,null,null,null,null,null,null,null,null,null,null,null,null,null,null,null,null,null,null,null,null,null,null,null,null,null,null,null,null,null,null,null,null,null,null,null,null,null,null,null,null,null,null,null,null,null,null,null,null,null,null,null,null,null,null,null,null,null,null,null,null,null,null,null,null,null,null,null,null,null,null,null,null,null,null,null,null,null,null,null,null,null,null,null,null,null,null,null,null,null,null,null,null,null,null,null,null,null,null,null,null,null,null,null,null,null,null,null,null,null,null,null,null,null,null,null,null,null,null,null,null,"C5 Close public transport Ordinal Geographic"]
[null,null,null,null,null,null,null,null,null,null,null,null,null,null,null,null,null,null,null,null,null,null,null,null,null,null,null,null,null,null,null,null,null,null,null,null,null,null,null,null,null,null,null,null,null,null,null,null,null,null,null,null,null,null,null,null,null,null,null,null,null,null,null,null,null,null,null,null,null,null,null,null,null,null,null,null,null,null,null,null,null,null,null,null,null,null,null,null,null,null,null,null,null,null,null,null,null,null,null,null,null,null,null,null,null,null,null,null,null,null,null,null,null,null,null,null,null,null,null,null,null,null,null,null,null,null,null,null,null,null,null,null,null,null,null,null,null,null,null,null,null,null,null,null,null,null,null,null,"C6 Stay at home requirements Ordinal Geographic"]
[null,null,null,null,null,null,null,null,null,null,null,null,null,null,null,null,null,null,null,null,null,null,null,null,null,null,null,null,null,null,null,null,null,null,null,null,null,null,null,null,null,null,null,null,null,null,null,null,null,null,null,null,null,null,null,null,null,null,null,null,null,null,null,null,null,null,null,null,null,null,null,null,null,null,null,null,null,null,null,null,null,null,null,null,null,null,null,null,null,null,null,null,null,null,null,null,null,null,null,null,null,null,null,null,null,null,null,null,null,null,null,null,null,null,null,null,null,null,null,null,null,null,null,null,null,null,null,null,null,null,null,null,null,null,null,null,null,null,null,null,null,null,null,null,null,null,null,null,"C7 Restrictions on internal movement Ordinal Geographic"]
[null,null,null,null,null,null,null,null,null,null,null,null,null,null,null,null,null,null,null,null,null,null,null,null,null,null,null,null,null,null,null,null,null,null,null,null,null,null,null,null,null,null,null,null,null,null,null,null,null,null,null,null,null,null,null,null,null,null,null,null,null,null,null,null,null,null,null,null,null,null,null,null,null,null,null,null,null,null,null,null,null,null,null,null,null,null,null,null,null,null,null,null,null,null,null,null,null,null,null,null,null,null,null,null,null,null,null,null,null,null,null,null,null,null,null,null,null,null,null,null,null,null,null,null,null,null,null,null,null,null,null,null,null,null,null,null,null,null,null,null,null,null,null,null,null,null,null,null,"C8 Restrictions on international travel Ordinal No"]
[null,null,null,null,null,null,null,null,null,null,null,null,null,null,null,null,null,null,null,null,null,null,null,null,null,null,null,null,null,null,null,null,null,null,null,null,null,null,null,null,null,null,null,null,null,null,null,null,null,null,null,null,null,null,null,null,null,null,null,null,null,null,null,null,null,null,null,null,null,null,null,null,null,null,null,null,null,null,null,null,null,null,null,null,null,null,null,null,null,null,null,null,null,null,null,null,null,null,null,null,null,null,null,null,null,null,null,null,null,null,null,null,null,null,null,null,null,null,null,null,null,null,null,null,null,null,null,null,null,null,null,null,null,null,null,null,null,null,null,null,null,null,null,null,null,null,null,null,"Health systems"]
[null,null,null,null,null,null,null,null,null,null,null,null,null,null,null,null,null,null,null,null,null,null,null,null,null,null,null,null,null,null,null,null,null,null,null,null,null,null,null,null,null,null,null,null,null,null,null,null,null,null,null,null,null,null,null,null,null,null,null,null,null,null,null,null,null,null,null,null,null,null,null,null,null,null,null,null,null,null,null,null,null,null,null,null,null,null,null,null,null,null,null,null,null,null,null,null,null,null,null,null,null,null,null,null,null,null,null,null,null,null,null,null,null,null,null,null,null,null,null,null,null,null,null,null,null,null,null,null,null,null,null,null,null,null,null,null,null,null,null,null,null,null,null,null,null,null,null,null,"H1 Public information campaign Ordinal Geographic"]
[null,null,null,null,null,null,null,null,null,null,null,null,null,null,null,null,null,null,null,null,null,null,null,null,null,null,null,null,null,null,null,null,null,null,null,null,null,null,null,null,null,null,null,null,null,null,null,null,null,null,null,null,null,null,null,null,null,null,null,null,null,null,null,null,null,null,null,null,null,null,null,null,null,null,null,null,null,null,null,null,null,null,null,null,null,null,null,null,null,null,null,null,null,null,null,null,null,null,null,null,null,null,null,null,null,null,null,null,null,null,null,null,null,null,null,null,null,null,null,null,null,null,null,null,null,null,null,null,null,null,null,null,null,null,null,null,null,null,null,null,null,null,null,null,null,null,null,null,"H2 testing policy Ordinal No"]
[null,null,null,null,null,null,null,null,null,null,null,null,null,null,null,null,null,null,null,null,null,null,null,null,null,null,null,null,null,null,null,null,null,null,null,null,null,null,null,null,null,null,null,null,null,null,null,null,null,null,null,null,null,null,null,null,null,null,null,null,null,null,null,null,null,null,null,null,null,null,null,null,null,null,null,null,null,null,null,null,null,null,null,null,null,null,null,null,null,null,null,null,null,null,null,null,null,null,null,null,null,null,null,null,null,null,null,null,null,null,null,null,null,null,null,null,null,null,null,null,null,null,null,null,null,null,null,null,null,null,null,null,null,null,null,null,null,null,null,null,null,null,null,null,null,null,null,null,"H3 contact tracing Ordinal No"]

{"sheet":"Production Function --->","index":29,"n_rows":10,"n_cols":2,"rows_kept":10,"cut":false,"hidden":true,"merged":[]}
[]
[]
[]
[]
[]
[]
[]
[]
[]
[null,"Production Function Approach"]

{"sheet":"Instructions","index":30,"n_rows":19,"n_cols":2,"rows_kept":19,"cut":false,"hidden":true,"merged":[[14,0,14,4],[18,0,18,4],[12,0,12,4],[13,0,13,4]]}
["(May, 2020)"]
[]
["I. Color codes"]
[]
[null,"Cells to fill according to instructions (in grey)"]
[null,"Parameters that can be changed for simulating different scenarios"]
[null,"Formula "]
[]
["II. Feeding the tool with country's information"]
[]
["Go to PF-monthly estimates and fill the blue cells according to "]
[]
["Instructions I"]
["Instructions II"]
["Instructions III"]
[]
["III. Simulate different scenarios "]
[]
["Changing green cells"]

{"sheet":"Annex - conceptual framework","index":31,"n_rows":0,"n_cols":0,"rows_kept":0,"cut":false,"hidden":true,"merged":[]}